{"text_format":"1","workbook":"xlsx","n_sheets":10,"sheets":["راهنما","main","data","گروه و کل","معین","تفصیلی","کنترل روزانه","گزارش ماهانه","چاپ سند","صورت حساب"],"not_rendered":{"charts":0,"images":5,"macros":1,"external_links":0,"defined_names":3,"comments":0,"pivot_tables":0},"unopened":[],"bounds":{"document_bytes":16777216,"sheet_cells":100000,"rows_first":2000,"rows_last":500,"rows_between":2000,"halvings":0,"cell_chars":16384,"cell_head_chars":4096},"cells_cut":0,"cells_raw":0,"read":"whole","date_system":"1900"}

{"sheet":"راهنما","index":0,"n_rows":47,"n_cols":20,"rows_kept":47,"cut":false,"hidden":false,"merged":[[38,1,38,19],[39,1,39,19],[40,1,40,19],[41,1,41,19],[33,1,33,19],[34,1,34,19],[35,1,35,19],[36,1,36,19],[37,1,37,19],[9,19,10,19],[30,1,30,19],[31,1,31,19],[32,1,32,19],[18,1,18,19],[28,1,28,19],[27,1,27,19],[29,1,29,19],[26,1,26,19],[25,1,25,19],[4,6,6,8],[4,9,6,11],[4,12,6,14],[23,1,23,19],[24,1,24,19],[19,1,19,19],[20,1,20,19],[21,1,21,19],[22,1,22,19],[16,1,16,19],[17,1,17,19],[11,1,11,19],[12,1,12,19],[13,1,13,19],[14,1,14,19],[15,1,15,19],[45,1,45,17],[45,18,46,19],[46,1,46,17],[42,1,42,19],[44,1,44,19]]}
[]
[]
[]
[]
[null,null,null,null,null,null,"كد فايل :   1268",null,null,"نسخه :    1",null,null,"ويرايش :  1"]
[]
[]
[]
[]
[null,null,null,null,null,null,null,null,null,null,null,null,null,null,null,null,null,null,null,1]
[]
[null,"توضيحات عمومي برنامه ها"]
[null,"* در ابتدا اعلام می کنیم كه از همراهی با شما کاربر گرامی بسيار خرسنديم و اميدواريم بتوانيم همراه خوبي برايتان بوده و در ساير طرح ها و موارد نيز افتخار ميزباني سفارشات شما مخاطب گرامي را داشته باشيم !"]
[null,"* قبل از شروع به استفاده از برنامه، لطفا فونت هاي ضميمه فايل دريافتي را در سیستم خود نصب نمائيد و همچنين يك كپي از فايل خام تهيه كنيد تا در صورت بروز هر گونه مشكل نسخه اوليه و صحيح در اختيار شما باشد !"]
[null,"* اين فايل با اكسل 2010 طراحي شده و در آن از ماكرو نویسی و کدهای VBA  استفاده شده است ! لذا هر بار بعد از بازکردن این فایل باید ماکروها را فعال نماييد ( Enable content را بزنید ) . بدين منظور توضيحات لازم در لینک"]
[null,"\"سوالات متداول\" در بالاي همين صفحه در دسترس است. در صورت وجود هرگونه ابهام يا سوال يا مشاهده نقصي در برنامه دريافتي مي توانيد از طريق ايميل مستقيم ما كه در بالاي صفحه مشاهده می کنید یا لینک \"تماس با ما\""]
[null,"با ذكر كد فايل و شماره شماره نسخه و ویرایش آن ( که در بالای همین صفحه مشاهده می کنید ) با ما در ارتباط باشيد. در اسرع وقت و در حد توان ودانش مان پاسخگوي شما كاربر گرامي خواهيم بود !"]
[null,"* دقت داشته باشيد كه فايل ها و برنامه های منتشر شده به صورت رايگان اندکی محدود بوده و امكان انجام تغيير در تنظيمات فایل یا صفحات آن و همچنین افزودن گزینه ها و قسمت های جدید در فرمها و جداول را ندارند !"]
[null,"* در اين ویرایش از  این برنامه که به صورت رایگان منتشر شده است ، فقط تعداد محدودي ركورد در جداول قابل ثبت است ! اگر تمايل داريد كه از آن به صورت نامحدود استفاده كنيد با ما تماس بگيريد تا ویرایش اصلي و نامحدود"]
[null," این برنامه را با هزينه اي اندك برايتان ارسال نمائیم ! همچنين اگر نياز به طراحی و ویرایش اختصاصي اين برنامه متناسب با شرایط و آیتم های مد نظر خودتان داريد با ما تماس بگيريد تا براي شما طراحي سفارشي داشته باشيم !"]
[null,"* بسيار خوشحال خواهيم شد اگر نظرات و انتقادات و یا پيشنهادات خود را درباره اين برنامه و همچنين کلیه خدمات مركز ما از طريق لینک \" نظر بدهيد \" در بالاي همين صفحه اعلام بفرمائيد !"]
[null,"توجه : در همه صفحات خانه هايي كه در گوشه بالا سمت چپ آنها مثلث قرمز رنگ كوچكي مشاهده مي شود، اگر موس را بر روي آنها نگه داريد راهنمايي و توضيحات لازمه جهت نحوه ورود اطلاعات و یا تکمیل آن قسمت"]
[null,"ویا نحوه محاسبه مقدار درون آن خانه به صورت كامنت آورده شده است ! حتما همه اين كامنت ها را قبل از استفاده مطالعه كنيد تا كار با برنامه برايتان راحت تر باشد !"]
[null,"توجه : براي حذف يك رديف در جداول موجود كه با فرم یا دستی تکمیل مي شوند بايد روي ابتدای رديف مورد نظر راست كليك كرده و از قسمت Delete  گزينه Table Rows  را انتخاب كنيد ! در غير اينصورت امكان دارد کدها"]
[null,"بهم ریخته و بدرستی كار نكنند ! چراكه پر كردن اين جداول از طريق فرم ها بر اساس شمارش تعداد رديف پر شده ( ستون اول جدول ) صورت ميگيرد و بايد رديف خالي بين اطلاعات تكميل شده در جدول وجود نداشته باشد !"]
[null,"* لطفا از تغيير دادن نام صفحات و ترتيب آنها و همچنين افزودن سطر و ستون در آنها پرهيز كنيد ! همچنین برای پر کردن جداول در صورت وجود فرم برای تکمیل، هرگز به صورت دستی و مستقیم در جدول داده وارد نکنید !"]
[null,"* در هرجای برنامه که نیاز به وارد کردن تاریخ شمسی هست باید فرمت تاریخ به صورت کامل باشد ! یعنی 4 رقم برای سال و 2 رقم برای ماه و 2 رقم برای روز وارد شود ( مانند  1393/08/02  برای تاریخ 2 آذر 93 ) !"]
[null,"* در هرجای برنامه که تاریخ شمسی به صورت خودکار وارد می شود ( چه فرمها و چه صفحات ) باید تاریخ میلادی سیستم شما دقیق تنظیم شده باشد تا این تاریخ نیز واقعی باشد ( زیرا از روی تاریخ سیستم شما محاسبه میشود ) !"]
[null,"* در همه فرمهایی که در این برنامه طراحی شده در هنگام تکمیل آنها با زدن دکمه enter یا tab بر روی صفحه کلیدتان ، اشاره گر به طور خودکار به خانه بعدی فرم میرود و این مسئله کار تکمیل فرمها را راحت تر می کند !"]
[null,"* اگر می خواهید از گزارشات قابل چاپ این برنامه خروجی PDF بگیرید ، لازم است یک برنامه کمکی مانند Nitro Pdf Creator را روی سیستم خود نصب کرده و پرینتر پیش فرض سیستم خود انتخاب کنید !"]
[null,"* کلیه جداول قابلیت فیلتر کردن بر اساس یک ایتم خاص در ستون ها را دارند ! راهنمای جستجو در دیتاهای جداول و فیلتر کردن انها برای گرفتن گزارشات خاص در عکسهای ضمیمه فایل موجود است !"]
[null,"راهنمای استفاده این برنامه"]
[null,"1 - ابتدا در صفحه \"گروه و کل\" عنوان گروهها و حسابهای کل موجود خود را تعریف کنید ! ( کدینگ خودکار انجام شده و قابل تغییر نیست ) ! برای هر گروه هر تعداد حساب که دارید تعریف یا ویرایش کرده و مابقی ردیفهایش را خالی"]
[null,"بگذارید ! در صفحه \"معین\" می توانید عناوین حساب های معین خود را برای هر حساب کل تعریف کنید ! ابتدا کد حساب کل و بعد عنوان حساب معین را وارد کنید ! کدینگ حسابها خودکار انجام می شود !"]
[null,"در صفحه \"تفصیلی\" ابتدا دسته های مد نظرتان برای دسته بندی حسابهای تفصیلی را ویرایش یا تکمیل نموده و بعد حساب های تفصیلی را با تعیین دسته مربوطه تعریف کنید. کدینگ خودکار بوده و حتما باید کد دسته نیز وارد شود "]
[null,"توجه : یک فایل اکسل شامل همه حسابهای کل و معین و تفصیلی معمول جهت حسابداری عمومی ضمیمه شده که می توانید از ان به عنوان راهنما استفاده کرده و یا عناوین و کدها را کپی کنید !"]
[null,"2 - در صفحه data می توانید دفتر روزنامه خود را وارد کنید ! نامهای حسابها با زدن کد حساب خودکار نمایش داده می شود ! می توانید برای راحنی بیشتر حساب ها را از طریق فرم انتخاب کرده و در جدول ثبت کنید !"]
[null,"3 - برای مشاهده گزارش ماهانه در صفحه \"گزارش ماهانه\" در خانه های صورتی بازه تاریخ ماه مد نظر را وارد کرده و بروزرسانی را کلیک کنید ! بازه تاریخ می تواند ماهانه نیز نباشد ( هفتگی یا چند روز  یا چند ماه ) !"]
[null,"4 - در صفحه \"کنترل روزانه\" تراز بدهکار و بستانکار روزانه ثبت شده در دفتر روزنامه را مشاهده می کنید ! در خانه صورتی می بتوانید تاریخ ابتدا را ویرایش کرده و تغییر دهید !"]
[null,"5 - در صفحه \"چاپ سند\" برای پرینت گرفتن از اسناد ثبت شده با فرمت استاندارد جهت ارائه به مدیران بالا دستی با مراجع مربوطه کافیست خانه های صورتی را تکمیل کرده و کلید جستجو کن را بزنید !"]
[null,"6 - در صفحه \"صورت حساب\" می توانید گردش یک حساب خاص را در دفتر روزنامه مشاهده کنید ! خانه های صورتی را تکمیل کرده و جستجو کن را بزنید ! همه کد حسابها باید حتما وارد شده و یکی از موارد سند یا تاریخ نیز تکمیل"]
[null,"شود ( دیگری باید خالی باشد ) فرمت تاریخ ها نیز باید در اینجا ( و همه قسمتها و صفحات برنامه ) کامل باشد که در بالا توضیح داده شده است !"]
[]
[]
[null,"* * * در صورت تمايل چند صلوات جهت سلامتي و فرج امام زمان عجل الله تعالي فرجه الشريف :: عزيز و مولا و سرورمان و منجي و رهايي بخش همه ملت ها :: هديه بفرمائيد  * * *"]
[null," اي پادشه خوبان داد از غم تنهايي                      دل بي تو به جان آمد وقت است كه باز آيي"]
[null,"مشتاقي و مهجوري دور از تو چنانم كرد           كه از دست بخواهد شد پاياب شكيبايي . . ."]

{"sheet":"main","index":1,"n_rows":11,"n_cols":6,"rows_kept":11,"cut":false,"hidden":false,"merged":[[3,5,4,9],[7,5,8,9],[9,5,10,9],[5,4,6,10]]}
[]
[]
[]
[null,null,null,null,null,"بسم الله الرحمن الرحیم"]
[]
[null,null,null,null,"حسابداری عمومی ، دفتر روزنامه و کل"]
[]
[null,null,null,null,null,"مرکز دانلود کاربردی اکسل"]
[]
[null,null,null,null,null,"www.excelapps.blogfa.com"]
[null,null,null,null,null,"مرکز دانلود کاربردی اکسل"]

{"sheet":"data","index":2,"n_rows":1205,"n_cols":23,"rows_kept":1205,"cut":false,"hidden":false,"merged":[]}
[]
[null,null,null,null,null,null,null,null,null,null,null,{"$f":"IF(L3>M3,\"****\",\"\")","v":""},{"$f":"IF(L3<M3,\"****\",\"\")","v":""}]
[null,null,null,null,null,null,null,null,null,null,null,{"$f":"SUBTOTAL(9,data[بدهکار])","v":0},{"$f":"SUBTOTAL(9,data[بستانکار])","v":0}]
[null,{"$f":"COUNTA(data[ش سند])+6","v":6},null,{"$f":"J_TODAY(1)","v":"1394/03/06"},{"$f":"COUNTA(data[کل])+6","v":6}]
[null,"ش سند","سند اولیه","تاریخ","کل","شرح کل","کد معین","شرح معین","کد تفصیل","شرح تفصیلی","شرح ردیف سند","بدهکار","بستانکار","ارتیکل","ش عطف","ت عطف","وارده","صادره","واحد","توضیحات عطف",null,null,"جستجوی شماره و عنوان حساب تفصیلی"]
[null,null,null,null,null,{"$f":"IF(E6>0,VLOOKUP(E6,koli,2,FALSE),0)","v":0},null,{"$f":"IF(G6>0,VLOOKUP(G6,moein[کد معین]:moein[شرح معین],2,FALSE),0)","v":0},null,{"$f":"IF(I6>0,VLOOKUP(I6,tafseel[],3,FALSE),0)","v":0},null,null,null,null,null,null,null,null,null,null,null,null,{"$f":"تفصیلی!B4&\" -- \"&تفصیلی!D4","v":"1001 -- بانک نمونه شعبه فلان"}]
[null,null,null,null,null,0,null,{"$f":"IF(G7>0,VLOOKUP(G7,moein[کد معین]:moein[شرح معین],2,FALSE),0)","v":0},null,{"$f":"IF(I7>0,VLOOKUP(I7,tafseel[],3,FALSE),0)","v":0},null,null,null,null,null,null,null,null,null,null,null,null,{"$f":"تفصیلی!B5&\" -- \"&تفصیلی!D5","v":"2001 -- اقای رضا میرکریمی"}]
[null,null,null,null,null,0,null,{"$f":"IF(G8>0,VLOOKUP(G8,moein[کد معین]:moein[شرح معین],2,FALSE),0)","v":0},null,{"$f":"IF(I8>0,VLOOKUP(I8,tafseel[],3,FALSE),0)","v":0},null,null,null,null,null,null,null,null,null,null,null,null,{"$f":"تفصیلی!B6&\" -- \"&تفصیلی!D6","v":"3001 -- شرکت پارسا بنیان"}]
[null,null,null,null,null,0,null,{"$f":"IF(G9>0,VLOOKUP(G9,moein[کد معین]:moein[شرح معین],2,FALSE),0)","v":0},null,{"$f":"IF(I9>0,VLOOKUP(I9,tafseel[],3,FALSE),0)","v":0},null,null,null,null,null,null,null,null,null,null,null,null,{"$f":"تفصیلی!B7&\" -- \"&تفصیلی!D7","v":"4001 -- بدون تکلیف"}]
[null,null,null,null,null,0,null,{"$f":"IF(G10>0,VLOOKUP(G10,moein[کد معین]:moein[شرح معین],2,FALSE),0)","v":0},null,{"$f":"IF(I10>0,VLOOKUP(I10,tafseel[],3,FALSE),0)","v":0},null,null,null,null,null,null,null,null,null,null,null,null,{"$f":"تفصیلی!B8&\" -- \"&تفصیلی!D8","v":"0 -- "}]
[null,null,null,null,null,0,null,{"$f":"IF(G11>0,VLOOKUP(G11,moein[کد معین]:moein[شرح معین],2,FALSE),0)","v":0},null,{"$f":"IF(I11>0,VLOOKUP(I11,tafseel[],3,FALSE),0)","v":0},null,null,null,null,null,null,null,null,null,null,null,null,{"$f":"تفصیلی!B9&\" -- \"&تفصیلی!D9","v":"0 -- "}]
[null,null,null,null,null,0,null,{"$f":"IF(G12>0,VLOOKUP(G12,moein[کد معین]:moein[شرح معین],2,FALSE),0)","v":0},null,{"$f":"IF(I12>0,VLOOKUP(I12,tafseel[],3,FALSE),0)","v":0},null,null,null,null,null,null,null,null,null,null,null,null,{"$f":"تفصیلی!B10&\" -- \"&تفصیلی!D10","v":"0 -- "}]
[null,null,null,null,null,0,null,{"$f":"IF(G13>0,VLOOKUP(G13,moein[کد معین]:moein[شرح معین],2,FALSE),0)","v":0},null,{"$f":"IF(I13>0,VLOOKUP(I13,tafseel[],3,FALSE),0)","v":0},null,null,null,null,null,null,null,null,null,null,null,null,{"$f":"تفصیلی!B11&\" -- \"&تفصیلی!D11","v":"0 -- "}]
[null,null,null,null,null,0,null,{"$f":"IF(G14>0,VLOOKUP(G14,moein[کد معین]:moein[شرح معین],2,FALSE),0)","v":0},null,{"$f":"IF(I14>0,VLOOKUP(I14,tafseel[],3,FALSE),0)","v":0},null,null,null,null,null,null,null,null,null,null,null,null,{"$f":"تفصیلی!B12&\" -- \"&تفصیلی!D12","v":"0 -- "}]
[null,null,null,null,null,0,null,{"$f":"IF(G15>0,VLOOKUP(G15,moein[کد معین]:moein[شرح معین],2,FALSE),0)","v":0},null,{"$f":"IF(I15>0,VLOOKUP(I15,tafseel[],3,FALSE),0)","v":0},null,null,null,null,null,null,null,null,null,null,null,null,{"$f":"تفصیلی!B13&\" -- \"&تفصیلی!D13","v":"0 -- "}]
[null,null,null,null,null,0,null,{"$f":"IF(G16>0,VLOOKUP(G16,moein[کد معین]:moein[شرح معین],2,FALSE),0)","v":0},null,{"$f":"IF(I16>0,VLOOKUP(I16,tafseel[],3,FALSE),0)","v":0},null,null,null,null,null,null,null,null,null,null,null,null,{"$f":"تفصیلی!B14&\" -- \"&تفصیلی!D14","v":"0 -- "}]
[null,null,null,null,null,0,null,{"$f":"IF(G17>0,VLOOKUP(G17,moein[کد معین]:moein[شرح معین],2,FALSE),0)","v":0},null,{"$f":"IF(I17>0,VLOOKUP(I17,tafseel[],3,FALSE),0)","v":0},null,null,null,null,null,null,null,null,null,null,null,null,{"$f":"تفصیلی!B15&\" -- \"&تفصیلی!D15","v":"0 -- "}]
[null,null,null,null,null,0,null,{"$f":"IF(G18>0,VLOOKUP(G18,moein[کد معین]:moein[شرح معین],2,FALSE),0)","v":0},null,{"$f":"IF(I18>0,VLOOKUP(I18,tafseel[],3,FALSE),0)","v":0},null,null,null,null,null,null,null,null,null,null,null,null,{"$f":"تفصیلی!B16&\" -- \"&تفصیلی!D16","v":"0 -- "}]
[null,null,null,null,null,0,null,{"$f":"IF(G19>0,VLOOKUP(G19,moein[کد معین]:moein[شرح معین],2,FALSE),0)","v":0},null,{"$f":"IF(I19>0,VLOOKUP(I19,tafseel[],3,FALSE),0)","v":0},null,null,null,null,null,null,null,null,null,null,null,null,{"$f":"تفصیلی!B17&\" -- \"&تفصیلی!D17","v":"0 -- "}]
[null,null,null,null,null,0,null,{"$f":"IF(G20>0,VLOOKUP(G20,moein[کد معین]:moein[شرح معین],2,FALSE),0)","v":0},null,{"$f":"IF(I20>0,VLOOKUP(I20,tafseel[],3,FALSE),0)","v":0},null,null,null,null,null,null,null,null,null,null,null,null,{"$f":"تفصیلی!B18&\" -- \"&تفصیلی!D18","v":"0 -- "}]
[null,null,null,null,null,0,null,{"$f":"IF(G21>0,VLOOKUP(G21,moein[کد معین]:moein[شرح معین],2,FALSE),0)","v":0},null,{"$f":"IF(I21>0,VLOOKUP(I21,tafseel[],3,FALSE),0)","v":0},null,null,null,null,null,null,null,null,null,null,null,null,{"$f":"تفصیلی!B19&\" -- \"&تفصیلی!D19","v":"0 -- "}]
[null,null,null,null,null,0,null,{"$f":"IF(G22>0,VLOOKUP(G22,moein[کد معین]:moein[شرح معین],2,FALSE),0)","v":0},null,{"$f":"IF(I22>0,VLOOKUP(I22,tafseel[],3,FALSE),0)","v":0},null,null,null,null,null,null,null,null,null,null,null,null,{"$f":"تفصیلی!B20&\" -- \"&تفصیلی!D20","v":"0 -- "}]
[null,null,null,null,null,0,null,{"$f":"IF(G23>0,VLOOKUP(G23,moein[کد معین]:moein[شرح معین],2,FALSE),0)","v":0},null,{"$f":"IF(I23>0,VLOOKUP(I23,tafseel[],3,FALSE),0)","v":0},null,null,null,null,null,null,null,null,null,null,null,null,{"$f":"تفصیلی!B21&\" -- \"&تفصیلی!D21","v":"0 -- "}]
[null,null,null,null,null,0,null,{"$f":"IF(G24>0,VLOOKUP(G24,moein[کد معین]:moein[شرح معین],2,FALSE),0)","v":0},null,{"$f":"IF(I24>0,VLOOKUP(I24,tafseel[],3,FALSE),0)","v":0},null,null,null,null,null,null,null,null,null,null,null,null,{"$f":"تفصیلی!B22&\" -- \"&تفصیلی!D22","v":"0 -- "}]
[null,null,null,null,null,0,null,{"$f":"IF(G25>0,VLOOKUP(G25,moein[کد معین]:moein[شرح معین],2,FALSE),0)","v":0},null,{"$f":"IF(I25>0,VLOOKUP(I25,tafseel[],3,FALSE),0)","v":0},null,null,null,null,null,null,null,null,null,null,null,null,{"$f":"تفصیلی!B23&\" -- \"&تفصیلی!D23","v":"0 -- "}]
[null,null,null,null,null,0,null,{"$f":"IF(G26>0,VLOOKUP(G26,moein[کد معین]:moein[شرح معین],2,FALSE),0)","v":0},null,{"$f":"IF(I26>0,VLOOKUP(I26,tafseel[],3,FALSE),0)","v":0},null,null,null,null,null,null,null,null,null,null,null,null,{"$f":"تفصیلی!B24&\" -- \"&تفصیلی!D24","v":"0 -- "}]
[null,null,null,null,null,0,null,{"$f":"IF(G27>0,VLOOKUP(G27,moein[کد معین]:moein[شرح معین],2,FALSE),0)","v":0},null,{"$f":"IF(I27>0,VLOOKUP(I27,tafseel[],3,FALSE),0)","v":0},null,null,null,null,null,null,null,null,null,null,null,null,{"$f":"تفصیلی!B25&\" -- \"&تفصیلی!D25","v":"0 -- "}]
[null,null,null,null,null,0,null,{"$f":"IF(G28>0,VLOOKUP(G28,moein[کد معین]:moein[شرح معین],2,FALSE),0)","v":0},null,{"$f":"IF(I28>0,VLOOKUP(I28,tafseel[],3,FALSE),0)","v":0},null,null,null,null,null,null,null,null,null,null,null,null,{"$f":"تفصیلی!B26&\" -- \"&تفصیلی!D26","v":"0 -- "}]
[null,null,null,null,null,0,null,{"$f":"IF(G29>0,VLOOKUP(G29,moein[کد معین]:moein[شرح معین],2,FALSE),0)","v":0},null,{"$f":"IF(I29>0,VLOOKUP(I29,tafseel[],3,FALSE),0)","v":0},null,null,null,null,null,null,null,null,null,null,null,null,{"$f":"تفصیلی!B27&\" -- \"&تفصیلی!D27","v":"0 -- "}]
[null,null,null,null,null,0,null,{"$f":"IF(G30>0,VLOOKUP(G30,moein[کد معین]:moein[شرح معین],2,FALSE),0)","v":0},null,{"$f":"IF(I30>0,VLOOKUP(I30,tafseel[],3,FALSE),0)","v":0},null,null,null,null,null,null,null,null,null,null,null,null,{"$f":"تفصیلی!B28&\" -- \"&تفصیلی!D28","v":"0 -- "}]
[null,null,null,null,null,0,null,{"$f":"IF(G31>0,VLOOKUP(G31,moein[کد معین]:moein[شرح معین],2,FALSE),0)","v":0},null,{"$f":"IF(I31>0,VLOOKUP(I31,tafseel[],3,FALSE),0)","v":0},null,null,null,null,null,null,null,null,null,null,null,null,{"$f":"تفصیلی!B29&\" -- \"&تفصیلی!D29","v":"0 -- "}]
[null,null,null,null,null,0,null,{"$f":"IF(G32>0,VLOOKUP(G32,moein[کد معین]:moein[شرح معین],2,FALSE),0)","v":0},null,{"$f":"IF(I32>0,VLOOKUP(I32,tafseel[],3,FALSE),0)","v":0},null,null,null,null,null,null,null,null,null,null,null,null,{"$f":"تفصیلی!B30&\" -- \"&تفصیلی!D30","v":"0 -- "}]
[null,null,null,null,null,0,null,{"$f":"IF(G33>0,VLOOKUP(G33,moein[کد معین]:moein[شرح معین],2,FALSE),0)","v":0},null,{"$f":"IF(I33>0,VLOOKUP(I33,tafseel[],3,FALSE),0)","v":0},null,null,null,null,null,null,null,null,null,null,null,null,{"$f":"تفصیلی!B31&\" -- \"&تفصیلی!D31","v":"0 -- "}]
[null,null,null,null,null,0,null,{"$f":"IF(G34>0,VLOOKUP(G34,moein[کد معین]:moein[شرح معین],2,FALSE),0)","v":0},null,{"$f":"IF(I34>0,VLOOKUP(I34,tafseel[],3,FALSE),0)","v":0},null,null,null,null,null,null,null,null,null,null,null,null,{"$f":"تفصیلی!B32&\" -- \"&تفصیلی!D32","v":"0 -- "}]
[null,null,null,null,null,0,null,{"$f":"IF(G35>0,VLOOKUP(G35,moein[کد معین]:moein[شرح معین],2,FALSE),0)","v":0},null,{"$f":"IF(I35>0,VLOOKUP(I35,tafseel[],3,FALSE),0)","v":0},null,null,null,null,null,null,null,null,null,null,null,null,{"$f":"تفصیلی!B33&\" -- \"&تفصیلی!D33","v":"0 -- "}]
[null,null,null,null,null,0,null,{"$f":"IF(G36>0,VLOOKUP(G36,moein[کد معین]:moein[شرح معین],2,FALSE),0)","v":0},null,{"$f":"IF(I36>0,VLOOKUP(I36,tafseel[],3,FALSE),0)","v":0},null,null,null,null,null,null,null,null,null,null,null,null,{"$f":"تفصیلی!B34&\" -- \"&تفصیلی!D34","v":"0 -- "}]
[null,null,null,null,null,0,null,{"$f":"IF(G37>0,VLOOKUP(G37,moein[کد معین]:moein[شرح معین],2,FALSE),0)","v":0},null,{"$f":"IF(I37>0,VLOOKUP(I37,tafseel[],3,FALSE),0)","v":0},null,null,null,null,null,null,null,null,null,null,null,null,{"$f":"تفصیلی!B35&\" -- \"&تفصیلی!D35","v":"0 -- "}]
[null,null,null,null,null,0,null,{"$f":"IF(G38>0,VLOOKUP(G38,moein[کد معین]:moein[شرح معین],2,FALSE),0)","v":0},null,{"$f":"IF(I38>0,VLOOKUP(I38,tafseel[],3,FALSE),0)","v":0},null,null,null,null,null,null,null,null,null,null,null,null,{"$f":"تفصیلی!B36&\" -- \"&تفصیلی!D36","v":"0 -- "}]
[null,null,null,null,null,0,null,{"$f":"IF(G39>0,VLOOKUP(G39,moein[کد معین]:moein[شرح معین],2,FALSE),0)","v":0},null,{"$f":"IF(I39>0,VLOOKUP(I39,tafseel[],3,FALSE),0)","v":0},null,null,null,null,null,null,null,null,null,null,null,null,{"$f":"تفصیلی!B37&\" -- \"&تفصیلی!D37","v":"0 -- "}]
[null,null,null,null,null,0,null,{"$f":"IF(G40>0,VLOOKUP(G40,moein[کد معین]:moein[شرح معین],2,FALSE),0)","v":0},null,{"$f":"IF(I40>0,VLOOKUP(I40,tafseel[],3,FALSE),0)","v":0},null,null,null,null,null,null,null,null,null,null,null,null,{"$f":"تفصیلی!B38&\" -- \"&تفصیلی!D38","v":"0 -- "}]
[null,null,null,null,null,0,null,{"$f":"IF(G41>0,VLOOKUP(G41,moein[کد معین]:moein[شرح معین],2,FALSE),0)","v":0},null,{"$f":"IF(I41>0,VLOOKUP(I41,tafseel[],3,FALSE),0)","v":0},null,null,null,null,null,null,null,null,null,null,null,null,{"$f":"تفصیلی!B39&\" -- \"&تفصیلی!D39","v":"0 -- "}]
[null,null,null,null,null,0,null,{"$f":"IF(G42>0,VLOOKUP(G42,moein[کد معین]:moein[شرح معین],2,FALSE),0)","v":0},null,{"$f":"IF(I42>0,VLOOKUP(I42,tafseel[],3,FALSE),0)","v":0},null,null,null,null,null,null,null,null,null,null,null,null,{"$f":"تفصیلی!B40&\" -- \"&تفصیلی!D40","v":"0 -- "}]
[null,null,null,null,null,0,null,{"$f":"IF(G43>0,VLOOKUP(G43,moein[کد معین]:moein[شرح معین],2,FALSE),0)","v":0},null,{"$f":"IF(I43>0,VLOOKUP(I43,tafseel[],3,FALSE),0)","v":0},null,null,null,null,null,null,null,null,null,null,null,null,{"$f":"تفصیلی!B41&\" -- \"&تفصیلی!D41","v":"0 -- "}]
[null,null,null,null,null,0,null,{"$f":"IF(G44>0,VLOOKUP(G44,moein[کد معین]:moein[شرح معین],2,FALSE),0)","v":0},null,{"$f":"IF(I44>0,VLOOKUP(I44,tafseel[],3,FALSE),0)","v":0},null,null,null,null,null,null,null,null,null,null,null,null,{"$f":"تفصیلی!B42&\" -- \"&تفصیلی!D42","v":"0 -- "}]
[null,null,null,null,null,0,null,{"$f":"IF(G45>0,VLOOKUP(G45,moein[کد معین]:moein[شرح معین],2,FALSE),0)","v":0},null,{"$f":"IF(I45>0,VLOOKUP(I45,tafseel[],3,FALSE),0)","v":0},null,null,null,null,null,null,null,null,null,null,null,null,{"$f":"تفصیلی!B43&\" -- \"&تفصیلی!D43","v":"0 -- "}]
[null,null,null,null,null,0,null,{"$f":"IF(G46>0,VLOOKUP(G46,moein[کد معین]:moein[شرح معین],2,FALSE),0)","v":0},null,{"$f":"IF(I46>0,VLOOKUP(I46,tafseel[],3,FALSE),0)","v":0},null,null,null,null,null,null,null,null,null,null,null,null,{"$f":"تفصیلی!B44&\" -- \"&تفصیلی!D44","v":"0 -- "}]
[null,null,null,null,null,0,null,{"$f":"IF(G47>0,VLOOKUP(G47,moein[کد معین]:moein[شرح معین],2,FALSE),0)","v":0},null,{"$f":"IF(I47>0,VLOOKUP(I47,tafseel[],3,FALSE),0)","v":0},null,null,null,null,null,null,null,null,null,null,null,null,{"$f":"تفصیلی!B45&\" -- \"&تفصیلی!D45","v":"0 -- "}]
[null,null,null,null,null,0,null,{"$f":"IF(G48>0,VLOOKUP(G48,moein[کد معین]:moein[شرح معین],2,FALSE),0)","v":0},null,{"$f":"IF(I48>0,VLOOKUP(I48,tafseel[],3,FALSE),0)","v":0},null,null,null,null,null,null,null,null,null,null,null,null,{"$f":"تفصیلی!B46&\" -- \"&تفصیلی!D46","v":"0 -- "}]
[null,null,null,null,null,0,null,{"$f":"IF(G49>0,VLOOKUP(G49,moein[کد معین]:moein[شرح معین],2,FALSE),0)","v":0},null,{"$f":"IF(I49>0,VLOOKUP(I49,tafseel[],3,FALSE),0)","v":0},null,null,null,null,null,null,null,null,null,null,null,null,{"$f":"تفصیلی!B47&\" -- \"&تفصیلی!D47","v":"0 -- "}]
[null,null,null,null,null,0,null,{"$f":"IF(G50>0,VLOOKUP(G50,moein[کد معین]:moein[شرح معین],2,FALSE),0)","v":0},null,{"$f":"IF(I50>0,VLOOKUP(I50,tafseel[],3,FALSE),0)","v":0},null,null,null,null,null,null,null,null,null,null,null,null,{"$f":"تفصیلی!B48&\" -- \"&تفصیلی!D48","v":"0 -- "}]
[null,null,null,null,null,0,null,{"$f":"IF(G51>0,VLOOKUP(G51,moein[کد معین]:moein[شرح معین],2,FALSE),0)","v":0},null,{"$f":"IF(I51>0,VLOOKUP(I51,tafseel[],3,FALSE),0)","v":0},null,null,null,null,null,null,null,null,null,null,null,null,{"$f":"تفصیلی!B49&\" -- \"&تفصیلی!D49","v":"0 -- "}]
[null,null,null,null,null,0,null,{"$f":"IF(G52>0,VLOOKUP(G52,moein[کد معین]:moein[شرح معین],2,FALSE),0)","v":0},null,{"$f":"IF(I52>0,VLOOKUP(I52,tafseel[],3,FALSE),0)","v":0},null,null,null,null,null,null,null,null,null,null,null,null,{"$f":"تفصیلی!B50&\" -- \"&تفصیلی!D50","v":"0 -- "}]
[null,null,null,null,null,0,null,{"$f":"IF(G53>0,VLOOKUP(G53,moein[کد معین]:moein[شرح معین],2,FALSE),0)","v":0},null,{"$f":"IF(I53>0,VLOOKUP(I53,tafseel[],3,FALSE),0)","v":0},null,null,null,null,null,null,null,null,null,null,null,null,{"$f":"تفصیلی!B51&\" -- \"&تفصیلی!D51","v":"0 -- "}]
[null,null,null,null,null,0,null,{"$f":"IF(G54>0,VLOOKUP(G54,moein[کد معین]:moein[شرح معین],2,FALSE),0)","v":0},null,{"$f":"IF(I54>0,VLOOKUP(I54,tafseel[],3,FALSE),0)","v":0},null,null,null,null,null,null,null,null,null,null,null,null,{"$f":"تفصیلی!B52&\" -- \"&تفصیلی!D52","v":"0 -- "}]
[null,null,null,null,null,0,null,{"$f":"IF(G55>0,VLOOKUP(G55,moein[کد معین]:moein[شرح معین],2,FALSE),0)","v":0},null,{"$f":"IF(I55>0,VLOOKUP(I55,tafseel[],3,FALSE),0)","v":0},null,null,null,null,null,null,null,null,null,null,null,null,{"$f":"تفصیلی!B53&\" -- \"&تفصیلی!D53","v":"0 -- "}]
[null,null,null,null,null,0,null,{"$f":"IF(G56>0,VLOOKUP(G56,moein[کد معین]:moein[شرح معین],2,FALSE),0)","v":0},null,{"$f":"IF(I56>0,VLOOKUP(I56,tafseel[],3,FALSE),0)","v":0},null,null,null,null,null,null,null,null,null,null,null,null,{"$f":"تفصیلی!B54&\" -- \"&تفصیلی!D54","v":"0 -- "}]
[null,null,null,null,null,0,null,{"$f":"IF(G57>0,VLOOKUP(G57,moein[کد معین]:moein[شرح معین],2,FALSE),0)","v":0},null,{"$f":"IF(I57>0,VLOOKUP(I57,tafseel[],3,FALSE),0)","v":0},null,null,null,null,null,null,null,null,null,null,null,null,{"$f":"تفصیلی!B55&\" -- \"&تفصیلی!D55","v":"0 -- "}]
[null,null,null,null,null,0,null,{"$f":"IF(G58>0,VLOOKUP(G58,moein[کد معین]:moein[شرح معین],2,FALSE),0)","v":0},null,{"$f":"IF(I58>0,VLOOKUP(I58,tafseel[],3,FALSE),0)","v":0},null,null,null,null,null,null,null,null,null,null,null,null,{"$f":"تفصیلی!B56&\" -- \"&تفصیلی!D56","v":"0 -- "}]
[null,null,null,null,null,0,null,{"$f":"IF(G59>0,VLOOKUP(G59,moein[کد معین]:moein[شرح معین],2,FALSE),0)","v":0},null,{"$f":"IF(I59>0,VLOOKUP(I59,tafseel[],3,FALSE),0)","v":0},null,null,null,null,null,null,null,null,null,null,null,null,{"$f":"تفصیلی!B57&\" -- \"&تفصیلی!D57","v":"0 -- "}]
[null,null,null,null,null,0,null,{"$f":"IF(G60>0,VLOOKUP(G60,moein[کد معین]:moein[شرح معین],2,FALSE),0)","v":0},null,{"$f":"IF(I60>0,VLOOKUP(I60,tafseel[],3,FALSE),0)","v":0},null,null,null,null,null,null,null,null,null,null,null,null,{"$f":"تفصیلی!B58&\" -- \"&تفصیلی!D58","v":"0 -- "}]
[null,null,null,null,null,0,null,{"$f":"IF(G61>0,VLOOKUP(G61,moein[کد معین]:moein[شرح معین],2,FALSE),0)","v":0},null,{"$f":"IF(I61>0,VLOOKUP(I61,tafseel[],3,FALSE),0)","v":0},null,null,null,null,null,null,null,null,null,null,null,null,{"$f":"تفصیلی!B59&\" -- \"&تفصیلی!D59","v":"0 -- "}]
[null,null,null,null,null,0,null,{"$f":"IF(G62>0,VLOOKUP(G62,moein[کد معین]:moein[شرح معین],2,FALSE),0)","v":0},null,{"$f":"IF(I62>0,VLOOKUP(I62,tafseel[],3,FALSE),0)","v":0},null,null,null,null,null,null,null,null,null,null,null,null,{"$f":"تفصیلی!B60&\" -- \"&تفصیلی!D60","v":"0 -- "}]
[null,null,null,null,null,0,null,{"$f":"IF(G63>0,VLOOKUP(G63,moein[کد معین]:moein[شرح معین],2,FALSE),0)","v":0},null,{"$f":"IF(I63>0,VLOOKUP(I63,tafseel[],3,FALSE),0)","v":0},null,null,null,null,null,null,null,null,null,null,null,null,{"$f":"تفصیلی!B61&\" -- \"&تفصیلی!D61","v":"0 -- "}]
[null,null,null,null,null,0,null,{"$f":"IF(G64>0,VLOOKUP(G64,moein[کد معین]:moein[شرح معین],2,FALSE),0)","v":0},null,{"$f":"IF(I64>0,VLOOKUP(I64,tafseel[],3,FALSE),0)","v":0},null,null,null,null,null,null,null,null,null,null,null,null,{"$f":"تفصیلی!B62&\" -- \"&تفصیلی!D62","v":"0 -- "}]
[null,null,null,null,null,0,null,{"$f":"IF(G65>0,VLOOKUP(G65,moein[کد معین]:moein[شرح معین],2,FALSE),0)","v":0},null,{"$f":"IF(I65>0,VLOOKUP(I65,tafseel[],3,FALSE),0)","v":0},null,null,null,null,null,null,null,null,null,null,null,null,{"$f":"تفصیلی!B63&\" -- \"&تفصیلی!D63","v":"0 -- "}]
[null,null,null,null,null,0,null,{"$f":"IF(G66>0,VLOOKUP(G66,moein[کد معین]:moein[شرح معین],2,FALSE),0)","v":0},null,{"$f":"IF(I66>0,VLOOKUP(I66,tafseel[],3,FALSE),0)","v":0},null,null,null,null,null,null,null,null,null,null,null,null,{"$f":"تفصیلی!B64&\" -- \"&تفصیلی!D64","v":"0 -- "}]
[null,null,null,null,null,0,null,{"$f":"IF(G67>0,VLOOKUP(G67,moein[کد معین]:moein[شرح معین],2,FALSE),0)","v":0},null,{"$f":"IF(I67>0,VLOOKUP(I67,tafseel[],3,FALSE),0)","v":0},null,null,null,null,null,null,null,null,null,null,null,null,{"$f":"تفصیلی!B65&\" -- \"&تفصیلی!D65","v":"0 -- "}]
[null,null,null,null,null,0,null,{"$f":"IF(G68>0,VLOOKUP(G68,moein[کد معین]:moein[شرح معین],2,FALSE),0)","v":0},null,{"$f":"IF(I68>0,VLOOKUP(I68,tafseel[],3,FALSE),0)","v":0},null,null,null,null,null,null,null,null,null,null,null,null,{"$f":"تفصیلی!B66&\" -- \"&تفصیلی!D66","v":"0 -- "}]
[null,null,null,null,null,0,null,{"$f":"IF(G69>0,VLOOKUP(G69,moein[کد معین]:moein[شرح معین],2,FALSE),0)","v":0},null,{"$f":"IF(I69>0,VLOOKUP(I69,tafseel[],3,FALSE),0)","v":0},null,null,null,null,null,null,null,null,null,null,null,null,{"$f":"تفصیلی!B67&\" -- \"&تفصیلی!D67","v":"0 -- "}]
[null,null,null,null,null,{"$f":"IF(E70>0,VLOOKUP(E70,koli,2,FALSE),0)","v":0},null,{"$f":"IF(G70>0,VLOOKUP(G70,moein[کد معین]:moein[شرح معین],2,FALSE),0)","v":0},null,{"$f":"IF(I70>0,VLOOKUP(I70,tafseel[],3,FALSE),0)","v":0},null,null,null,null,null,null,null,null,null,null,null,null,{"$f":"تفصیلی!B68&\" -- \"&تفصیلی!D68","v":"0 -- "}]
[null,null,null,null,null,0,null,{"$f":"IF(G71>0,VLOOKUP(G71,moein[کد معین]:moein[شرح معین],2,FALSE),0)","v":0},null,{"$f":"IF(I71>0,VLOOKUP(I71,tafseel[],3,FALSE),0)","v":0},null,null,null,null,null,null,null,null,null,null,null,null,{"$f":"تفصیلی!B69&\" -- \"&تفصیلی!D69","v":"0 -- "}]
[null,null,null,null,null,0,null,{"$f":"IF(G72>0,VLOOKUP(G72,moein[کد معین]:moein[شرح معین],2,FALSE),0)","v":0},null,{"$f":"IF(I72>0,VLOOKUP(I72,tafseel[],3,FALSE),0)","v":0},null,null,null,null,null,null,null,null,null,null,null,null,{"$f":"تفصیلی!B70&\" -- \"&تفصیلی!D70","v":"0 -- "}]
[null,null,null,null,null,0,null,{"$f":"IF(G73>0,VLOOKUP(G73,moein[کد معین]:moein[شرح معین],2,FALSE),0)","v":0},null,{"$f":"IF(I73>0,VLOOKUP(I73,tafseel[],3,FALSE),0)","v":0},null,null,null,null,null,null,null,null,null,null,null,null,{"$f":"تفصیلی!B71&\" -- \"&تفصیلی!D71","v":"0 -- "}]
[null,null,null,null,null,0,null,{"$f":"IF(G74>0,VLOOKUP(G74,moein[کد معین]:moein[شرح معین],2,FALSE),0)","v":0},null,{"$f":"IF(I74>0,VLOOKUP(I74,tafseel[],3,FALSE),0)","v":0},null,null,null,null,null,null,null,null,null,null,null,null,{"$f":"تفصیلی!B72&\" -- \"&تفصیلی!D72","v":"0 -- "}]
[null,null,null,null,null,0,null,{"$f":"IF(G75>0,VLOOKUP(G75,moein[کد معین]:moein[شرح معین],2,FALSE),0)","v":0},null,{"$f":"IF(I75>0,VLOOKUP(I75,tafseel[],3,FALSE),0)","v":0},null,null,null,null,null,null,null,null,null,null,null,null,{"$f":"تفصیلی!B73&\" -- \"&تفصیلی!D73","v":"0 -- "}]
[null,null,null,null,null,0,null,{"$f":"IF(G76>0,VLOOKUP(G76,moein[کد معین]:moein[شرح معین],2,FALSE),0)","v":0},null,{"$f":"IF(I76>0,VLOOKUP(I76,tafseel[],3,FALSE),0)","v":0},null,null,null,null,null,null,null,null,null,null,null,null,{"$f":"تفصیلی!B74&\" -- \"&تفصیلی!D74","v":"0 -- "}]
[null,null,null,null,null,0,null,{"$f":"IF(G77>0,VLOOKUP(G77,moein[کد معین]:moein[شرح معین],2,FALSE),0)","v":0},null,{"$f":"IF(I77>0,VLOOKUP(I77,tafseel[],3,FALSE),0)","v":0},null,null,null,null,null,null,null,null,null,null,null,null,{"$f":"تفصیلی!B75&\" -- \"&تفصیلی!D75","v":"0 -- "}]
[null,null,null,null,null,0,null,{"$f":"IF(G78>0,VLOOKUP(G78,moein[کد معین]:moein[شرح معین],2,FALSE),0)","v":0},null,{"$f":"IF(I78>0,VLOOKUP(I78,tafseel[],3,FALSE),0)","v":0},null,null,null,null,null,null,null,null,null,null,null,null,{"$f":"تفصیلی!B76&\" -- \"&تفصیلی!D76","v":"0 -- "}]
[null,null,null,null,null,0,null,{"$f":"IF(G79>0,VLOOKUP(G79,moein[کد معین]:moein[شرح معین],2,FALSE),0)","v":0},null,{"$f":"IF(I79>0,VLOOKUP(I79,tafseel[],3,FALSE),0)","v":0},null,null,null,null,null,null,null,null,null,null,null,null,{"$f":"تفصیلی!B77&\" -- \"&تفصیلی!D77","v":"0 -- "}]
[null,null,null,null,null,0,null,{"$f":"IF(G80>0,VLOOKUP(G80,moein[کد معین]:moein[شرح معین],2,FALSE),0)","v":0},null,{"$f":"IF(I80>0,VLOOKUP(I80,tafseel[],3,FALSE),0)","v":0},null,null,null,null,null,null,null,null,null,null,null,null,{"$f":"تفصیلی!B78&\" -- \"&تفصیلی!D78","v":"0 -- "}]
[null,null,null,null,null,0,null,{"$f":"IF(G81>0,VLOOKUP(G81,moein[کد معین]:moein[شرح معین],2,FALSE),0)","v":0},null,{"$f":"IF(I81>0,VLOOKUP(I81,tafseel[],3,FALSE),0)","v":0},null,null,null,null,null,null,null,null,null,null,null,null,{"$f":"تفصیلی!B79&\" -- \"&تفصیلی!D79","v":"0 -- "}]
[null,null,null,null,null,0,null,{"$f":"IF(G82>0,VLOOKUP(G82,moein[کد معین]:moein[شرح معین],2,FALSE),0)","v":0},null,{"$f":"IF(I82>0,VLOOKUP(I82,tafseel[],3,FALSE),0)","v":0},null,null,null,null,null,null,null,null,null,null,null,null,{"$f":"تفصیلی!B80&\" -- \"&تفصیلی!D80","v":"0 -- "}]
[null,null,null,null,null,0,null,{"$f":"IF(G83>0,VLOOKUP(G83,moein[کد معین]:moein[شرح معین],2,FALSE),0)","v":0},null,{"$f":"IF(I83>0,VLOOKUP(I83,tafseel[],3,FALSE),0)","v":0},null,null,null,null,null,null,null,null,null,null,null,null,{"$f":"تفصیلی!B81&\" -- \"&تفصیلی!D81","v":"0 -- "}]
[null,null,null,null,null,0,null,{"$f":"IF(G84>0,VLOOKUP(G84,moein[کد معین]:moein[شرح معین],2,FALSE),0)","v":0},null,{"$f":"IF(I84>0,VLOOKUP(I84,tafseel[],3,FALSE),0)","v":0},null,null,null,null,null,null,null,null,null,null,null,null,{"$f":"تفصیلی!B82&\" -- \"&تفصیلی!D82","v":"0 -- "}]
[null,null,null,null,null,0,null,{"$f":"IF(G85>0,VLOOKUP(G85,moein[کد معین]:moein[شرح معین],2,FALSE),0)","v":0},null,{"$f":"IF(I85>0,VLOOKUP(I85,tafseel[],3,FALSE),0)","v":0},null,null,null,null,null,null,null,null,null,null,null,null,{"$f":"تفصیلی!B83&\" -- \"&تفصیلی!D83","v":"0 -- "}]
[null,null,null,null,null,0,null,{"$f":"IF(G86>0,VLOOKUP(G86,moein[کد معین]:moein[شرح معین],2,FALSE),0)","v":0},null,{"$f":"IF(I86>0,VLOOKUP(I86,tafseel[],3,FALSE),0)","v":0},null,null,null,null,null,null,null,null,null,null,null,null,{"$f":"تفصیلی!B84&\" -- \"&تفصیلی!D84","v":"0 -- "}]
[null,null,null,null,null,0,null,{"$f":"IF(G87>0,VLOOKUP(G87,moein[کد معین]:moein[شرح معین],2,FALSE),0)","v":0},null,{"$f":"IF(I87>0,VLOOKUP(I87,tafseel[],3,FALSE),0)","v":0},null,null,null,null,null,null,null,null,null,null,null,null,{"$f":"تفصیلی!B85&\" -- \"&تفصیلی!D85","v":"0 -- "}]
[null,null,null,null,null,0,null,{"$f":"IF(G88>0,VLOOKUP(G88,moein[کد معین]:moein[شرح معین],2,FALSE),0)","v":0},null,{"$f":"IF(I88>0,VLOOKUP(I88,tafseel[],3,FALSE),0)","v":0},null,null,null,null,null,null,null,null,null,null,null,null,{"$f":"تفصیلی!B86&\" -- \"&تفصیلی!D86","v":"0 -- "}]
[null,null,null,null,null,0,null,{"$f":"IF(G89>0,VLOOKUP(G89,moein[کد معین]:moein[شرح معین],2,FALSE),0)","v":0},null,{"$f":"IF(I89>0,VLOOKUP(I89,tafseel[],3,FALSE),0)","v":0},null,null,null,null,null,null,null,null,null,null,null,null,{"$f":"تفصیلی!B87&\" -- \"&تفصیلی!D87","v":"0 -- "}]
[null,null,null,null,null,0,null,{"$f":"IF(G90>0,VLOOKUP(G90,moein[کد معین]:moein[شرح معین],2,FALSE),0)","v":0},null,{"$f":"IF(I90>0,VLOOKUP(I90,tafseel[],3,FALSE),0)","v":0},null,null,null,null,null,null,null,null,null,null,null,null,{"$f":"تفصیلی!B88&\" -- \"&تفصیلی!D88","v":"0 -- "}]
[null,null,null,null,null,0,null,{"$f":"IF(G91>0,VLOOKUP(G91,moein[کد معین]:moein[شرح معین],2,FALSE),0)","v":0},null,{"$f":"IF(I91>0,VLOOKUP(I91,tafseel[],3,FALSE),0)","v":0},null,null,null,null,null,null,null,null,null,null,null,null,{"$f":"تفصیلی!B89&\" -- \"&تفصیلی!D89","v":"0 -- "}]
[null,null,null,null,null,0,null,{"$f":"IF(G92>0,VLOOKUP(G92,moein[کد معین]:moein[شرح معین],2,FALSE),0)","v":0},null,{"$f":"IF(I92>0,VLOOKUP(I92,tafseel[],3,FALSE),0)","v":0},null,null,null,null,null,null,null,null,null,null,null,null,{"$f":"تفصیلی!B90&\" -- \"&تفصیلی!D90","v":"0 -- "}]
[null,null,null,null,null,0,null,{"$f":"IF(G93>0,VLOOKUP(G93,moein[کد معین]:moein[شرح معین],2,FALSE),0)","v":0},null,{"$f":"IF(I93>0,VLOOKUP(I93,tafseel[],3,FALSE),0)","v":0},null,null,null,null,null,null,null,null,null,null,null,null,{"$f":"تفصیلی!B91&\" -- \"&تفصیلی!D91","v":"0 -- "}]
[null,null,null,null,null,0,null,{"$f":"IF(G94>0,VLOOKUP(G94,moein[کد معین]:moein[شرح معین],2,FALSE),0)","v":0},null,{"$f":"IF(I94>0,VLOOKUP(I94,tafseel[],3,FALSE),0)","v":0},null,null,null,null,null,null,null,null,null,null,null,null,{"$f":"تفصیلی!B92&\" -- \"&تفصیلی!D92","v":"0 -- "}]
[null,null,null,null,null,0,null,{"$f":"IF(G95>0,VLOOKUP(G95,moein[کد معین]:moein[شرح معین],2,FALSE),0)","v":0},null,{"$f":"IF(I95>0,VLOOKUP(I95,tafseel[],3,FALSE),0)","v":0},null,null,null,null,null,null,null,null,null,null,null,null,{"$f":"تفصیلی!B93&\" -- \"&تفصیلی!D93","v":"0 -- "}]
[null,null,null,null,null,0,null,{"$f":"IF(G96>0,VLOOKUP(G96,moein[کد معین]:moein[شرح معین],2,FALSE),0)","v":0},null,{"$f":"IF(I96>0,VLOOKUP(I96,tafseel[],3,FALSE),0)","v":0},null,null,null,null,null,null,null,null,null,null,null,null,{"$f":"تفصیلی!B94&\" -- \"&تفصیلی!D94","v":"0 -- "}]
[null,null,null,null,null,0,null,{"$f":"IF(G97>0,VLOOKUP(G97,moein[کد معین]:moein[شرح معین],2,FALSE),0)","v":0},null,{"$f":"IF(I97>0,VLOOKUP(I97,tafseel[],3,FALSE),0)","v":0},null,null,null,null,null,null,null,null,null,null,null,null,{"$f":"تفصیلی!B95&\" -- \"&تفصیلی!D95","v":"0 -- "}]
[null,null,null,null,null,0,null,{"$f":"IF(G98>0,VLOOKUP(G98,moein[کد معین]:moein[شرح معین],2,FALSE),0)","v":0},null,{"$f":"IF(I98>0,VLOOKUP(I98,tafseel[],3,FALSE),0)","v":0},null,null,null,null,null,null,null,null,null,null,null,null,{"$f":"تفصیلی!B96&\" -- \"&تفصیلی!D96","v":"0 -- "}]
[null,null,null,null,null,0,null,{"$f":"IF(G99>0,VLOOKUP(G99,moein[کد معین]:moein[شرح معین],2,FALSE),0)","v":0},null,{"$f":"IF(I99>0,VLOOKUP(I99,tafseel[],3,FALSE),0)","v":0},null,null,null,null,null,null,null,null,null,null,null,null,{"$f":"تفصیلی!B97&\" -- \"&تفصیلی!D97","v":"0 -- "}]
[null,null,null,null,null,0,null,{"$f":"IF(G100>0,VLOOKUP(G100,moein[کد معین]:moein[شرح معین],2,FALSE),0)","v":0},null,{"$f":"IF(I100>0,VLOOKUP(I100,tafseel[],3,FALSE),0)","v":0},null,null,null,null,null,null,null,null,null,null,null,null,{"$f":"تفصیلی!B98&\" -- \"&تفصیلی!D98","v":"0 -- "}]
[null,null,null,null,null,0,null,{"$f":"IF(G101>0,VLOOKUP(G101,moein[کد معین]:moein[شرح معین],2,FALSE),0)","v":0},null,{"$f":"IF(I101>0,VLOOKUP(I101,tafseel[],3,FALSE),0)","v":0},null,null,null,null,null,null,null,null,null,null,null,null,{"$f":"تفصیلی!B99&\" -- \"&تفصیلی!D99","v":"0 -- "}]
[null,null,null,null,null,0,null,{"$f":"IF(G102>0,VLOOKUP(G102,moein[کد معین]:moein[شرح معین],2,FALSE),0)","v":0},null,{"$f":"IF(I102>0,VLOOKUP(I102,tafseel[],3,FALSE),0)","v":0},null,null,null,null,null,null,null,null,null,null,null,null,{"$f":"تفصیلی!B100&\" -- \"&تفصیلی!D100","v":"0 -- "}]
[null,null,null,null,null,0,null,{"$f":"IF(G103>0,VLOOKUP(G103,moein[کد معین]:moein[شرح معین],2,FALSE),0)","v":0},null,{"$f":"IF(I103>0,VLOOKUP(I103,tafseel[],3,FALSE),0)","v":0},null,null,null,null,null,null,null,null,null,null,null,null,{"$f":"تفصیلی!B101&\" -- \"&تفصیلی!D101","v":"0 -- "}]
[null,null,null,null,null,0,null,{"$f":"IF(G104>0,VLOOKUP(G104,moein[کد معین]:moein[شرح معین],2,FALSE),0)","v":0},null,{"$f":"IF(I104>0,VLOOKUP(I104,tafseel[],3,FALSE),0)","v":0},null,null,null,null,null,null,null,null,null,null,null,null,{"$f":"تفصیلی!B102&\" -- \"&تفصیلی!D102","v":"0 -- "}]
[null,null,null,null,null,0,null,{"$f":"IF(G105>0,VLOOKUP(G105,moein[کد معین]:moein[شرح معین],2,FALSE),0)","v":0},null,{"$f":"IF(I105>0,VLOOKUP(I105,tafseel[],3,FALSE),0)","v":0},null,null,null,null,null,null,null,null,null,null,null,null,{"$f":"تفصیلی!B103&\" -- \"&تفصیلی!D103","v":"0 -- "}]
[null,null,null,null,null,0,null,{"$f":"IF(G106>0,VLOOKUP(G106,moein[کد معین]:moein[شرح معین],2,FALSE),0)","v":0},null,{"$f":"IF(I106>0,VLOOKUP(I106,tafseel[],3,FALSE),0)","v":0},null,null,null,null,null,null,null,null,null,null,null,null,{"$f":"تفصیلی!B104&\" -- \"&تفصیلی!D104","v":"0 -- "}]
[null,null,null,null,null,0,null,{"$f":"IF(G107>0,VLOOKUP(G107,moein[کد معین]:moein[شرح معین],2,FALSE),0)","v":0},null,{"$f":"IF(I107>0,VLOOKUP(I107,tafseel[],3,FALSE),0)","v":0},null,null,null,null,null,null,null,null,null,null,null,null,{"$f":"تفصیلی!B105&\" -- \"&تفصیلی!D105","v":"0 -- "}]
[null,null,null,null,null,0,null,{"$f":"IF(G108>0,VLOOKUP(G108,moein[کد معین]:moein[شرح معین],2,FALSE),0)","v":0},null,{"$f":"IF(I108>0,VLOOKUP(I108,tafseel[],3,FALSE),0)","v":0},null,null,null,null,null,null,null,null,null,null,null,null,{"$f":"تفصیلی!B106&\" -- \"&تفصیلی!D106","v":"0 -- "}]
[null,null,null,null,null,0,null,{"$f":"IF(G109>0,VLOOKUP(G109,moein[کد معین]:moein[شرح معین],2,FALSE),0)","v":0},null,{"$f":"IF(I109>0,VLOOKUP(I109,tafseel[],3,FALSE),0)","v":0},null,null,null,null,null,null,null,null,null,null,null,null,{"$f":"تفصیلی!B107&\" -- \"&تفصیلی!D107","v":"0 -- "}]
[null,null,null,null,null,0,null,{"$f":"IF(G110>0,VLOOKUP(G110,moein[کد معین]:moein[شرح معین],2,FALSE),0)","v":0},null,{"$f":"IF(I110>0,VLOOKUP(I110,tafseel[],3,FALSE),0)","v":0},null,null,null,null,null,null,null,null,null,null,null,null,{"$f":"تفصیلی!B108&\" -- \"&تفصیلی!D108","v":"0 -- "}]
[null,null,null,null,null,0,null,{"$f":"IF(G111>0,VLOOKUP(G111,moein[کد معین]:moein[شرح معین],2,FALSE),0)","v":0},null,{"$f":"IF(I111>0,VLOOKUP(I111,tafseel[],3,FALSE),0)","v":0},null,null,null,null,null,null,null,null,null,null,null,null,{"$f":"تفصیلی!B109&\" -- \"&تفصیلی!D109","v":"0 -- "}]
[null,null,null,null,null,0,null,{"$f":"IF(G112>0,VLOOKUP(G112,moein[کد معین]:moein[شرح معین],2,FALSE),0)","v":0},null,{"$f":"IF(I112>0,VLOOKUP(I112,tafseel[],3,FALSE),0)","v":0},null,null,null,null,null,null,null,null,null,null,null,null,{"$f":"تفصیلی!B110&\" -- \"&تفصیلی!D110","v":"0 -- "}]
[null,null,null,null,null,0,null,{"$f":"IF(G113>0,VLOOKUP(G113,moein[کد معین]:moein[شرح معین],2,FALSE),0)","v":0},null,{"$f":"IF(I113>0,VLOOKUP(I113,tafseel[],3,FALSE),0)","v":0},null,null,null,null,null,null,null,null,null,null,null,null,{"$f":"تفصیلی!B111&\" -- \"&تفصیلی!D111","v":"0 -- "}]
[null,null,null,null,null,0,null,{"$f":"IF(G114>0,VLOOKUP(G114,moein[کد معین]:moein[شرح معین],2,FALSE),0)","v":0},null,{"$f":"IF(I114>0,VLOOKUP(I114,tafseel[],3,FALSE),0)","v":0},null,null,null,null,null,null,null,null,null,null,null,null,{"$f":"تفصیلی!B112&\" -- \"&تفصیلی!D112","v":"0 -- "}]
[null,null,null,null,null,0,null,{"$f":"IF(G115>0,VLOOKUP(G115,moein[کد معین]:moein[شرح معین],2,FALSE),0)","v":0},null,{"$f":"IF(I115>0,VLOOKUP(I115,tafseel[],3,FALSE),0)","v":0},null,null,null,null,null,null,null,null,null,null,null,null,{"$f":"تفصیلی!B113&\" -- \"&تفصیلی!D113","v":"0 -- "}]
[null,null,null,null,null,0,null,{"$f":"IF(G116>0,VLOOKUP(G116,moein[کد معین]:moein[شرح معین],2,FALSE),0)","v":0},null,{"$f":"IF(I116>0,VLOOKUP(I116,tafseel[],3,FALSE),0)","v":0},null,null,null,null,null,null,null,null,null,null,null,null,{"$f":"تفصیلی!B114&\" -- \"&تفصیلی!D114","v":"0 -- "}]
[null,null,null,null,null,0,null,{"$f":"IF(G117>0,VLOOKUP(G117,moein[کد معین]:moein[شرح معین],2,FALSE),0)","v":0},null,{"$f":"IF(I117>0,VLOOKUP(I117,tafseel[],3,FALSE),0)","v":0},null,null,null,null,null,null,null,null,null,null,null,null,{"$f":"تفصیلی!B115&\" -- \"&تفصیلی!D115","v":"0 -- "}]
[null,null,null,null,null,0,null,{"$f":"IF(G118>0,VLOOKUP(G118,moein[کد معین]:moein[شرح معین],2,FALSE),0)","v":0},null,{"$f":"IF(I118>0,VLOOKUP(I118,tafseel[],3,FALSE),0)","v":0},null,null,null,null,null,null,null,null,null,null,null,null,{"$f":"تفصیلی!B116&\" -- \"&تفصیلی!D116","v":"0 -- "}]
[null,null,null,null,null,0,null,{"$f":"IF(G119>0,VLOOKUP(G119,moein[کد معین]:moein[شرح معین],2,FALSE),0)","v":0},null,{"$f":"IF(I119>0,VLOOKUP(I119,tafseel[],3,FALSE),0)","v":0},null,null,null,null,null,null,null,null,null,null,null,null,{"$f":"تفصیلی!B117&\" -- \"&تفصیلی!D117","v":"0 -- "}]
[null,null,null,null,null,0,null,{"$f":"IF(G120>0,VLOOKUP(G120,moein[کد معین]:moein[شرح معین],2,FALSE),0)","v":0},null,{"$f":"IF(I120>0,VLOOKUP(I120,tafseel[],3,FALSE),0)","v":0},null,null,null,null,null,null,null,null,null,null,null,null,{"$f":"تفصیلی!B118&\" -- \"&تفصیلی!D118","v":"0 -- "}]
[null,null,null,null,null,0,null,{"$f":"IF(G121>0,VLOOKUP(G121,moein[کد معین]:moein[شرح معین],2,FALSE),0)","v":0},null,{"$f":"IF(I121>0,VLOOKUP(I121,tafseel[],3,FALSE),0)","v":0},null,null,null,null,null,null,null,null,null,null,null,null,{"$f":"تفصیلی!B119&\" -- \"&تفصیلی!D119","v":"0 -- "}]
[null,null,null,null,null,0,null,{"$f":"IF(G122>0,VLOOKUP(G122,moein[کد معین]:moein[شرح معین],2,FALSE),0)","v":0},null,{"$f":"IF(I122>0,VLOOKUP(I122,tafseel[],3,FALSE),0)","v":0},null,null,null,null,null,null,null,null,null,null,null,null,{"$f":"تفصیلی!B120&\" -- \"&تفصیلی!D120","v":"0 -- "}]
[null,null,null,null,null,0,null,{"$f":"IF(G123>0,VLOOKUP(G123,moein[کد معین]:moein[شرح معین],2,FALSE),0)","v":0},null,{"$f":"IF(I123>0,VLOOKUP(I123,tafseel[],3,FALSE),0)","v":0},null,null,null,null,null,null,null,null,null,null,null,null,{"$f":"تفصیلی!B121&\" -- \"&تفصیلی!D121","v":"0 -- "}]
[null,null,null,null,null,0,null,{"$f":"IF(G124>0,VLOOKUP(G124,moein[کد معین]:moein[شرح معین],2,FALSE),0)","v":0},null,{"$f":"IF(I124>0,VLOOKUP(I124,tafseel[],3,FALSE),0)","v":0},null,null,null,null,null,null,null,null,null,null,null,null,{"$f":"تفصیلی!B122&\" -- \"&تفصیلی!D122","v":"0 -- "}]
[null,null,null,null,null,0,null,{"$f":"IF(G125>0,VLOOKUP(G125,moein[کد معین]:moein[شرح معین],2,FALSE),0)","v":0},null,{"$f":"IF(I125>0,VLOOKUP(I125,tafseel[],3,FALSE),0)","v":0},null,null,null,null,null,null,null,null,null,null,null,null,{"$f":"تفصیلی!B123&\" -- \"&تفصیلی!D123","v":"0 -- "}]
[null,null,null,null,null,0,null,{"$f":"IF(G126>0,VLOOKUP(G126,moein[کد معین]:moein[شرح معین],2,FALSE),0)","v":0},null,{"$f":"IF(I126>0,VLOOKUP(I126,tafseel[],3,FALSE),0)","v":0},null,null,null,null,null,null,null,null,null,null,null,null,{"$f":"تفصیلی!B124&\" -- \"&تفصیلی!D124","v":"0 -- "}]
[null,null,null,null,null,0,null,{"$f":"IF(G127>0,VLOOKUP(G127,moein[کد معین]:moein[شرح معین],2,FALSE),0)","v":0},null,{"$f":"IF(I127>0,VLOOKUP(I127,tafseel[],3,FALSE),0)","v":0},null,null,null,null,null,null,null,null,null,null,null,null,{"$f":"تفصیلی!B125&\" -- \"&تفصیلی!D125","v":"0 -- "}]
[null,null,null,null,null,0,null,{"$f":"IF(G128>0,VLOOKUP(G128,moein[کد معین]:moein[شرح معین],2,FALSE),0)","v":0},null,{"$f":"IF(I128>0,VLOOKUP(I128,tafseel[],3,FALSE),0)","v":0},null,null,null,null,null,null,null,null,null,null,null,null,{"$f":"تفصیلی!B126&\" -- \"&تفصیلی!D126","v":"0 -- "}]
[null,null,null,null,null,0,null,{"$f":"IF(G129>0,VLOOKUP(G129,moein[کد معین]:moein[شرح معین],2,FALSE),0)","v":0},null,{"$f":"IF(I129>0,VLOOKUP(I129,tafseel[],3,FALSE),0)","v":0},null,null,null,null,null,null,null,null,null,null,null,null,{"$f":"تفصیلی!B127&\" -- \"&تفصیلی!D127","v":"0 -- "}]
[null,null,null,null,null,0,null,{"$f":"IF(G130>0,VLOOKUP(G130,moein[کد معین]:moein[شرح معین],2,FALSE),0)","v":0},null,{"$f":"IF(I130>0,VLOOKUP(I130,tafseel[],3,FALSE),0)","v":0},null,null,null,null,null,null,null,null,null,null,null,null,{"$f":"تفصیلی!B128&\" -- \"&تفصیلی!D128","v":"0 -- "}]
[null,null,null,null,null,0,null,{"$f":"IF(G131>0,VLOOKUP(G131,moein[کد معین]:moein[شرح معین],2,FALSE),0)","v":0},null,{"$f":"IF(I131>0,VLOOKUP(I131,tafseel[],3,FALSE),0)","v":0},null,null,null,null,null,null,null,null,null,null,null,null,{"$f":"تفصیلی!B129&\" -- \"&تفصیلی!D129","v":"0 -- "}]
[null,null,null,null,null,0,null,{"$f":"IF(G132>0,VLOOKUP(G132,moein[کد معین]:moein[شرح معین],2,FALSE),0)","v":0},null,{"$f":"IF(I132>0,VLOOKUP(I132,tafseel[],3,FALSE),0)","v":0},null,null,null,null,null,null,null,null,null,null,null,null,{"$f":"تفصیلی!B130&\" -- \"&تفصیلی!D130","v":"0 -- "}]
[null,null,null,null,null,0,null,{"$f":"IF(G133>0,VLOOKUP(G133,moein[کد معین]:moein[شرح معین],2,FALSE),0)","v":0},null,{"$f":"IF(I133>0,VLOOKUP(I133,tafseel[],3,FALSE),0)","v":0},null,null,null,null,null,null,null,null,null,null,null,null,{"$f":"تفصیلی!B131&\" -- \"&تفصیلی!D131","v":"0 -- "}]
[null,null,null,null,null,{"$f":"IF(E134>0,VLOOKUP(E134,koli,2,FALSE),0)","v":0},null,{"$f":"IF(G134>0,VLOOKUP(G134,moein[کد معین]:moein[شرح معین],2,FALSE),0)","v":0},null,{"$f":"IF(I134>0,VLOOKUP(I134,tafseel[],3,FALSE),0)","v":0},null,null,null,null,null,null,null,null,null,null,null,null,{"$f":"تفصیلی!B132&\" -- \"&تفصیلی!D132","v":"0 -- "}]
[null,null,null,null,null,0,null,{"$f":"IF(G135>0,VLOOKUP(G135,moein[کد معین]:moein[شرح معین],2,FALSE),0)","v":0},null,{"$f":"IF(I135>0,VLOOKUP(I135,tafseel[],3,FALSE),0)","v":0},null,null,null,null,null,null,null,null,null,null,null,null,{"$f":"تفصیلی!B133&\" -- \"&تفصیلی!D133","v":"0 -- "}]
[null,null,null,null,null,0,null,{"$f":"IF(G136>0,VLOOKUP(G136,moein[کد معین]:moein[شرح معین],2,FALSE),0)","v":0},null,{"$f":"IF(I136>0,VLOOKUP(I136,tafseel[],3,FALSE),0)","v":0},null,null,null,null,null,null,null,null,null,null,null,null,{"$f":"تفصیلی!B134&\" -- \"&تفصیلی!D134","v":"0 -- "}]
[null,null,null,null,null,0,null,{"$f":"IF(G137>0,VLOOKUP(G137,moein[کد معین]:moein[شرح معین],2,FALSE),0)","v":0},null,{"$f":"IF(I137>0,VLOOKUP(I137,tafseel[],3,FALSE),0)","v":0},null,null,null,null,null,null,null,null,null,null,null,null,{"$f":"تفصیلی!B135&\" -- \"&تفصیلی!D135","v":"0 -- "}]
[null,null,null,null,null,0,null,{"$f":"IF(G138>0,VLOOKUP(G138,moein[کد معین]:moein[شرح معین],2,FALSE),0)","v":0},null,{"$f":"IF(I138>0,VLOOKUP(I138,tafseel[],3,FALSE),0)","v":0},null,null,null,null,null,null,null,null,null,null,null,null,{"$f":"تفصیلی!B136&\" -- \"&تفصیلی!D136","v":"0 -- "}]
[null,null,null,null,null,0,null,{"$f":"IF(G139>0,VLOOKUP(G139,moein[کد معین]:moein[شرح معین],2,FALSE),0)","v":0},null,{"$f":"IF(I139>0,VLOOKUP(I139,tafseel[],3,FALSE),0)","v":0},null,null,null,null,null,null,null,null,null,null,null,null,{"$f":"تفصیلی!B137&\" -- \"&تفصیلی!D137","v":"0 -- "}]
[null,null,null,null,null,0,null,{"$f":"IF(G140>0,VLOOKUP(G140,moein[کد معین]:moein[شرح معین],2,FALSE),0)","v":0},null,{"$f":"IF(I140>0,VLOOKUP(I140,tafseel[],3,FALSE),0)","v":0},null,null,null,null,null,null,null,null,null,null,null,null,{"$f":"تفصیلی!B138&\" -- \"&تفصیلی!D138","v":"0 -- "}]
[null,null,null,null,null,0,null,{"$f":"IF(G141>0,VLOOKUP(G141,moein[کد معین]:moein[شرح معین],2,FALSE),0)","v":0},null,{"$f":"IF(I141>0,VLOOKUP(I141,tafseel[],3,FALSE),0)","v":0},null,null,null,null,null,null,null,null,null,null,null,null,{"$f":"تفصیلی!B139&\" -- \"&تفصیلی!D139","v":"0 -- "}]
[null,null,null,null,null,0,null,{"$f":"IF(G142>0,VLOOKUP(G142,moein[کد معین]:moein[شرح معین],2,FALSE),0)","v":0},null,{"$f":"IF(I142>0,VLOOKUP(I142,tafseel[],3,FALSE),0)","v":0},null,null,null,null,null,null,null,null,null,null,null,null,{"$f":"تفصیلی!B140&\" -- \"&تفصیلی!D140","v":"0 -- "}]
[null,null,null,null,null,0,null,{"$f":"IF(G143>0,VLOOKUP(G143,moein[کد معین]:moein[شرح معین],2,FALSE),0)","v":0},null,{"$f":"IF(I143>0,VLOOKUP(I143,tafseel[],3,FALSE),0)","v":0},null,null,null,null,null,null,null,null,null,null,null,null,{"$f":"تفصیلی!B141&\" -- \"&تفصیلی!D141","v":"0 -- "}]
[null,null,null,null,null,0,null,{"$f":"IF(G144>0,VLOOKUP(G144,moein[کد معین]:moein[شرح معین],2,FALSE),0)","v":0},null,{"$f":"IF(I144>0,VLOOKUP(I144,tafseel[],3,FALSE),0)","v":0},null,null,null,null,null,null,null,null,null,null,null,null,{"$f":"تفصیلی!B142&\" -- \"&تفصیلی!D142","v":"0 -- "}]
[null,null,null,null,null,0,null,{"$f":"IF(G145>0,VLOOKUP(G145,moein[کد معین]:moein[شرح معین],2,FALSE),0)","v":0},null,{"$f":"IF(I145>0,VLOOKUP(I145,tafseel[],3,FALSE),0)","v":0},null,null,null,null,null,null,null,null,null,null,null,null,{"$f":"تفصیلی!B143&\" -- \"&تفصیلی!D143","v":"0 -- "}]
[null,null,null,null,null,0,null,{"$f":"IF(G146>0,VLOOKUP(G146,moein[کد معین]:moein[شرح معین],2,FALSE),0)","v":0},null,{"$f":"IF(I146>0,VLOOKUP(I146,tafseel[],3,FALSE),0)","v":0},null,null,null,null,null,null,null,null,null,null,null,null,{"$f":"تفصیلی!B144&\" -- \"&تفصیلی!D144","v":"0 -- "}]
[null,null,null,null,null,0,null,{"$f":"IF(G147>0,VLOOKUP(G147,moein[کد معین]:moein[شرح معین],2,FALSE),0)","v":0},null,{"$f":"IF(I147>0,VLOOKUP(I147,tafseel[],3,FALSE),0)","v":0},null,null,null,null,null,null,null,null,null,null,null,null,{"$f":"تفصیلی!B145&\" -- \"&تفصیلی!D145","v":"0 -- "}]
[null,null,null,null,null,0,null,{"$f":"IF(G148>0,VLOOKUP(G148,moein[کد معین]:moein[شرح معین],2,FALSE),0)","v":0},null,{"$f":"IF(I148>0,VLOOKUP(I148,tafseel[],3,FALSE),0)","v":0},null,null,null,null,null,null,null,null,null,null,null,null,{"$f":"تفصیلی!B146&\" -- \"&تفصیلی!D146","v":"0 -- "}]
[null,null,null,null,null,0,null,{"$f":"IF(G149>0,VLOOKUP(G149,moein[کد معین]:moein[شرح معین],2,FALSE),0)","v":0},null,{"$f":"IF(I149>0,VLOOKUP(I149,tafseel[],3,FALSE),0)","v":0},null,null,null,null,null,null,null,null,null,null,null,null,{"$f":"تفصیلی!B147&\" -- \"&تفصیلی!D147","v":"0 -- "}]
[null,null,null,null,null,0,null,{"$f":"IF(G150>0,VLOOKUP(G150,moein[کد معین]:moein[شرح معین],2,FALSE),0)","v":0},null,{"$f":"IF(I150>0,VLOOKUP(I150,tafseel[],3,FALSE),0)","v":0},null,null,null,null,null,null,null,null,null,null,null,null,{"$f":"تفصیلی!B148&\" -- \"&تفصیلی!D148","v":"0 -- "}]
[null,null,null,null,null,0,null,{"$f":"IF(G151>0,VLOOKUP(G151,moein[کد معین]:moein[شرح معین],2,FALSE),0)","v":0},null,{"$f":"IF(I151>0,VLOOKUP(I151,tafseel[],3,FALSE),0)","v":0},null,null,null,null,null,null,null,null,null,null,null,null,{"$f":"تفصیلی!B149&\" -- \"&تفصیلی!D149","v":"0 -- "}]
[null,null,null,null,null,0,null,{"$f":"IF(G152>0,VLOOKUP(G152,moein[کد معین]:moein[شرح معین],2,FALSE),0)","v":0},null,{"$f":"IF(I152>0,VLOOKUP(I152,tafseel[],3,FALSE),0)","v":0},null,null,null,null,null,null,null,null,null,null,null,null,{"$f":"تفصیلی!B150&\" -- \"&تفصیلی!D150","v":"0 -- "}]
[null,null,null,null,null,0,null,{"$f":"IF(G153>0,VLOOKUP(G153,moein[کد معین]:moein[شرح معین],2,FALSE),0)","v":0},null,{"$f":"IF(I153>0,VLOOKUP(I153,tafseel[],3,FALSE),0)","v":0},null,null,null,null,null,null,null,null,null,null,null,null,{"$f":"تفصیلی!B151&\" -- \"&تفصیلی!D151","v":"0 -- "}]
[null,null,null,null,null,0,null,{"$f":"IF(G154>0,VLOOKUP(G154,moein[کد معین]:moein[شرح معین],2,FALSE),0)","v":0},null,{"$f":"IF(I154>0,VLOOKUP(I154,tafseel[],3,FALSE),0)","v":0},null,null,null,null,null,null,null,null,null,null,null,null,{"$f":"تفصیلی!B152&\" -- \"&تفصیلی!D152","v":"0 -- "}]
[null,null,null,null,null,0,null,{"$f":"IF(G155>0,VLOOKUP(G155,moein[کد معین]:moein[شرح معین],2,FALSE),0)","v":0},null,{"$f":"IF(I155>0,VLOOKUP(I155,tafseel[],3,FALSE),0)","v":0},null,null,null,null,null,null,null,null,null,null,null,null,{"$f":"تفصیلی!B153&\" -- \"&تفصیلی!D153","v":"0 -- "}]
[null,null,null,null,null,0,null,{"$f":"IF(G156>0,VLOOKUP(G156,moein[کد معین]:moein[شرح معین],2,FALSE),0)","v":0},null,{"$f":"IF(I156>0,VLOOKUP(I156,tafseel[],3,FALSE),0)","v":0},null,null,null,null,null,null,null,null,null,null,null,null,{"$f":"تفصیلی!B154&\" -- \"&تفصیلی!D154","v":"0 -- "}]
[null,null,null,null,null,0,null,{"$f":"IF(G157>0,VLOOKUP(G157,moein[کد معین]:moein[شرح معین],2,FALSE),0)","v":0},null,{"$f":"IF(I157>0,VLOOKUP(I157,tafseel[],3,FALSE),0)","v":0},null,null,null,null,null,null,null,null,null,null,null,null,{"$f":"تفصیلی!B155&\" -- \"&تفصیلی!D155","v":"0 -- "}]
[null,null,null,null,null,0,null,{"$f":"IF(G158>0,VLOOKUP(G158,moein[کد معین]:moein[شرح معین],2,FALSE),0)","v":0},null,{"$f":"IF(I158>0,VLOOKUP(I158,tafseel[],3,FALSE),0)","v":0},null,null,null,null,null,null,null,null,null,null,null,null,{"$f":"تفصیلی!B156&\" -- \"&تفصیلی!D156","v":"0 -- "}]
[null,null,null,null,null,0,null,{"$f":"IF(G159>0,VLOOKUP(G159,moein[کد معین]:moein[شرح معین],2,FALSE),0)","v":0},null,{"$f":"IF(I159>0,VLOOKUP(I159,tafseel[],3,FALSE),0)","v":0},null,null,null,null,null,null,null,null,null,null,null,null,{"$f":"تفصیلی!B157&\" -- \"&تفصیلی!D157","v":"0 -- "}]
[null,null,null,null,null,0,null,{"$f":"IF(G160>0,VLOOKUP(G160,moein[کد معین]:moein[شرح معین],2,FALSE),0)","v":0},null,{"$f":"IF(I160>0,VLOOKUP(I160,tafseel[],3,FALSE),0)","v":0},null,null,null,null,null,null,null,null,null,null,null,null,{"$f":"تفصیلی!B158&\" -- \"&تفصیلی!D158","v":"0 -- "}]
[null,null,null,null,null,0,null,{"$f":"IF(G161>0,VLOOKUP(G161,moein[کد معین]:moein[شرح معین],2,FALSE),0)","v":0},null,{"$f":"IF(I161>0,VLOOKUP(I161,tafseel[],3,FALSE),0)","v":0},null,null,null,null,null,null,null,null,null,null,null,null,{"$f":"تفصیلی!B159&\" -- \"&تفصیلی!D159","v":"0 -- "}]
[null,null,null,null,null,0,null,{"$f":"IF(G162>0,VLOOKUP(G162,moein[کد معین]:moein[شرح معین],2,FALSE),0)","v":0},null,{"$f":"IF(I162>0,VLOOKUP(I162,tafseel[],3,FALSE),0)","v":0},null,null,null,null,null,null,null,null,null,null,null,null,{"$f":"تفصیلی!B160&\" -- \"&تفصیلی!D160","v":"0 -- "}]
[null,null,null,null,null,0,null,{"$f":"IF(G163>0,VLOOKUP(G163,moein[کد معین]:moein[شرح معین],2,FALSE),0)","v":0},null,{"$f":"IF(I163>0,VLOOKUP(I163,tafseel[],3,FALSE),0)","v":0},null,null,null,null,null,null,null,null,null,null,null,null,{"$f":"تفصیلی!B161&\" -- \"&تفصیلی!D161","v":"0 -- "}]
[null,null,null,null,null,0,null,{"$f":"IF(G164>0,VLOOKUP(G164,moein[کد معین]:moein[شرح معین],2,FALSE),0)","v":0},null,{"$f":"IF(I164>0,VLOOKUP(I164,tafseel[],3,FALSE),0)","v":0},null,null,null,null,null,null,null,null,null,null,null,null,{"$f":"تفصیلی!B162&\" -- \"&تفصیلی!D162","v":"0 -- "}]
[null,null,null,null,null,0,null,{"$f":"IF(G165>0,VLOOKUP(G165,moein[کد معین]:moein[شرح معین],2,FALSE),0)","v":0},null,{"$f":"IF(I165>0,VLOOKUP(I165,tafseel[],3,FALSE),0)","v":0},null,null,null,null,null,null,null,null,null,null,null,null,{"$f":"تفصیلی!B163&\" -- \"&تفصیلی!D163","v":"0 -- "}]
[null,null,null,null,null,0,null,{"$f":"IF(G166>0,VLOOKUP(G166,moein[کد معین]:moein[شرح معین],2,FALSE),0)","v":0},null,{"$f":"IF(I166>0,VLOOKUP(I166,tafseel[],3,FALSE),0)","v":0},null,null,null,null,null,null,null,null,null,null,null,null,{"$f":"تفصیلی!B164&\" -- \"&تفصیلی!D164","v":"0 -- "}]
[null,null,null,null,null,0,null,{"$f":"IF(G167>0,VLOOKUP(G167,moein[کد معین]:moein[شرح معین],2,FALSE),0)","v":0},null,{"$f":"IF(I167>0,VLOOKUP(I167,tafseel[],3,FALSE),0)","v":0},null,null,null,null,null,null,null,null,null,null,null,null,{"$f":"تفصیلی!B165&\" -- \"&تفصیلی!D165","v":"0 -- "}]
[null,null,null,null,null,0,null,{"$f":"IF(G168>0,VLOOKUP(G168,moein[کد معین]:moein[شرح معین],2,FALSE),0)","v":0},null,{"$f":"IF(I168>0,VLOOKUP(I168,tafseel[],3,FALSE),0)","v":0},null,null,null,null,null,null,null,null,null,null,null,null,{"$f":"تفصیلی!B166&\" -- \"&تفصیلی!D166","v":"0 -- "}]
[null,null,null,null,null,0,null,{"$f":"IF(G169>0,VLOOKUP(G169,moein[کد معین]:moein[شرح معین],2,FALSE),0)","v":0},null,{"$f":"IF(I169>0,VLOOKUP(I169,tafseel[],3,FALSE),0)","v":0},null,null,null,null,null,null,null,null,null,null,null,null,{"$f":"تفصیلی!B167&\" -- \"&تفصیلی!D167","v":"0 -- "}]
[null,null,null,null,null,0,null,{"$f":"IF(G170>0,VLOOKUP(G170,moein[کد معین]:moein[شرح معین],2,FALSE),0)","v":0},null,{"$f":"IF(I170>0,VLOOKUP(I170,tafseel[],3,FALSE),0)","v":0},null,null,null,null,null,null,null,null,null,null,null,null,{"$f":"تفصیلی!B168&\" -- \"&تفصیلی!D168","v":"0 -- "}]
[null,null,null,null,null,0,null,{"$f":"IF(G171>0,VLOOKUP(G171,moein[کد معین]:moein[شرح معین],2,FALSE),0)","v":0},null,{"$f":"IF(I171>0,VLOOKUP(I171,tafseel[],3,FALSE),0)","v":0},null,null,null,null,null,null,null,null,null,null,null,null,{"$f":"تفصیلی!B169&\" -- \"&تفصیلی!D169","v":"0 -- "}]
[null,null,null,null,null,0,null,{"$f":"IF(G172>0,VLOOKUP(G172,moein[کد معین]:moein[شرح معین],2,FALSE),0)","v":0},null,{"$f":"IF(I172>0,VLOOKUP(I172,tafseel[],3,FALSE),0)","v":0},null,null,null,null,null,null,null,null,null,null,null,null,{"$f":"تفصیلی!B170&\" -- \"&تفصیلی!D170","v":"0 -- "}]
[null,null,null,null,null,0,null,{"$f":"IF(G173>0,VLOOKUP(G173,moein[کد معین]:moein[شرح معین],2,FALSE),0)","v":0},null,{"$f":"IF(I173>0,VLOOKUP(I173,tafseel[],3,FALSE),0)","v":0},null,null,null,null,null,null,null,null,null,null,null,null,{"$f":"تفصیلی!B171&\" -- \"&تفصیلی!D171","v":"0 -- "}]
[null,null,null,null,null,0,null,{"$f":"IF(G174>0,VLOOKUP(G174,moein[کد معین]:moein[شرح معین],2,FALSE),0)","v":0},null,{"$f":"IF(I174>0,VLOOKUP(I174,tafseel[],3,FALSE),0)","v":0},null,null,null,null,null,null,null,null,null,null,null,null,{"$f":"تفصیلی!B172&\" -- \"&تفصیلی!D172","v":"0 -- "}]
[null,null,null,null,null,0,null,{"$f":"IF(G175>0,VLOOKUP(G175,moein[کد معین]:moein[شرح معین],2,FALSE),0)","v":0},null,{"$f":"IF(I175>0,VLOOKUP(I175,tafseel[],3,FALSE),0)","v":0},null,null,null,null,null,null,null,null,null,null,null,null,{"$f":"تفصیلی!B173&\" -- \"&تفصیلی!D173","v":"0 -- "}]
[null,null,null,null,null,0,null,{"$f":"IF(G176>0,VLOOKUP(G176,moein[کد معین]:moein[شرح معین],2,FALSE),0)","v":0},null,{"$f":"IF(I176>0,VLOOKUP(I176,tafseel[],3,FALSE),0)","v":0},null,null,null,null,null,null,null,null,null,null,null,null,{"$f":"تفصیلی!B174&\" -- \"&تفصیلی!D174","v":"0 -- "}]
[null,null,null,null,null,0,null,{"$f":"IF(G177>0,VLOOKUP(G177,moein[کد معین]:moein[شرح معین],2,FALSE),0)","v":0},null,{"$f":"IF(I177>0,VLOOKUP(I177,tafseel[],3,FALSE),0)","v":0},null,null,null,null,null,null,null,null,null,null,null,null,{"$f":"تفصیلی!B175&\" -- \"&تفصیلی!D175","v":"0 -- "}]
[null,null,null,null,null,0,null,{"$f":"IF(G178>0,VLOOKUP(G178,moein[کد معین]:moein[شرح معین],2,FALSE),0)","v":0},null,{"$f":"IF(I178>0,VLOOKUP(I178,tafseel[],3,FALSE),0)","v":0},null,null,null,null,null,null,null,null,null,null,null,null,{"$f":"تفصیلی!B176&\" -- \"&تفصیلی!D176","v":"0 -- "}]
[null,null,null,null,null,0,null,{"$f":"IF(G179>0,VLOOKUP(G179,moein[کد معین]:moein[شرح معین],2,FALSE),0)","v":0},null,{"$f":"IF(I179>0,VLOOKUP(I179,tafseel[],3,FALSE),0)","v":0},null,null,null,null,null,null,null,null,null,null,null,null,{"$f":"تفصیلی!B177&\" -- \"&تفصیلی!D177","v":"0 -- "}]
[null,null,null,null,null,0,null,{"$f":"IF(G180>0,VLOOKUP(G180,moein[کد معین]:moein[شرح معین],2,FALSE),0)","v":0},null,{"$f":"IF(I180>0,VLOOKUP(I180,tafseel[],3,FALSE),0)","v":0},null,null,null,null,null,null,null,null,null,null,null,null,{"$f":"تفصیلی!B178&\" -- \"&تفصیلی!D178","v":"0 -- "}]
[null,null,null,null,null,0,null,{"$f":"IF(G181>0,VLOOKUP(G181,moein[کد معین]:moein[شرح معین],2,FALSE),0)","v":0},null,{"$f":"IF(I181>0,VLOOKUP(I181,tafseel[],3,FALSE),0)","v":0},null,null,null,null,null,null,null,null,null,null,null,null,{"$f":"تفصیلی!B179&\" -- \"&تفصیلی!D179","v":"0 -- "}]
[null,null,null,null,null,0,null,{"$f":"IF(G182>0,VLOOKUP(G182,moein[کد معین]:moein[شرح معین],2,FALSE),0)","v":0},null,{"$f":"IF(I182>0,VLOOKUP(I182,tafseel[],3,FALSE),0)","v":0},null,null,null,null,null,null,null,null,null,null,null,null,{"$f":"تفصیلی!B180&\" -- \"&تفصیلی!D180","v":"0 -- "}]
[null,null,null,null,null,0,null,{"$f":"IF(G183>0,VLOOKUP(G183,moein[کد معین]:moein[شرح معین],2,FALSE),0)","v":0},null,{"$f":"IF(I183>0,VLOOKUP(I183,tafseel[],3,FALSE),0)","v":0},null,null,null,null,null,null,null,null,null,null,null,null,{"$f":"تفصیلی!B181&\" -- \"&تفصیلی!D181","v":"0 -- "}]
[null,null,null,null,null,0,null,{"$f":"IF(G184>0,VLOOKUP(G184,moein[کد معین]:moein[شرح معین],2,FALSE),0)","v":0},null,{"$f":"IF(I184>0,VLOOKUP(I184,tafseel[],3,FALSE),0)","v":0},null,null,null,null,null,null,null,null,null,null,null,null,{"$f":"تفصیلی!B182&\" -- \"&تفصیلی!D182","v":"0 -- "}]
[null,null,null,null,null,0,null,{"$f":"IF(G185>0,VLOOKUP(G185,moein[کد معین]:moein[شرح معین],2,FALSE),0)","v":0},null,{"$f":"IF(I185>0,VLOOKUP(I185,tafseel[],3,FALSE),0)","v":0},null,null,null,null,null,null,null,null,null,null,null,null,{"$f":"تفصیلی!B183&\" -- \"&تفصیلی!D183","v":"0 -- "}]
[null,null,null,null,null,0,null,{"$f":"IF(G186>0,VLOOKUP(G186,moein[کد معین]:moein[شرح معین],2,FALSE),0)","v":0},null,{"$f":"IF(I186>0,VLOOKUP(I186,tafseel[],3,FALSE),0)","v":0},null,null,null,null,null,null,null,null,null,null,null,null,{"$f":"تفصیلی!B184&\" -- \"&تفصیلی!D184","v":"0 -- "}]
[null,null,null,null,null,0,null,{"$f":"IF(G187>0,VLOOKUP(G187,moein[کد معین]:moein[شرح معین],2,FALSE),0)","v":0},null,{"$f":"IF(I187>0,VLOOKUP(I187,tafseel[],3,FALSE),0)","v":0},null,null,null,null,null,null,null,null,null,null,null,null,{"$f":"تفصیلی!B185&\" -- \"&تفصیلی!D185","v":"0 -- "}]
[null,null,null,null,null,0,null,{"$f":"IF(G188>0,VLOOKUP(G188,moein[کد معین]:moein[شرح معین],2,FALSE),0)","v":0},null,{"$f":"IF(I188>0,VLOOKUP(I188,tafseel[],3,FALSE),0)","v":0},null,null,null,null,null,null,null,null,null,null,null,null,{"$f":"تفصیلی!B186&\" -- \"&تفصیلی!D186","v":"0 -- "}]
[null,null,null,null,null,0,null,{"$f":"IF(G189>0,VLOOKUP(G189,moein[کد معین]:moein[شرح معین],2,FALSE),0)","v":0},null,{"$f":"IF(I189>0,VLOOKUP(I189,tafseel[],3,FALSE),0)","v":0},null,null,null,null,null,null,null,null,null,null,null,null,{"$f":"تفصیلی!B187&\" -- \"&تفصیلی!D187","v":"0 -- "}]
[null,null,null,null,null,0,null,{"$f":"IF(G190>0,VLOOKUP(G190,moein[کد معین]:moein[شرح معین],2,FALSE),0)","v":0},null,{"$f":"IF(I190>0,VLOOKUP(I190,tafseel[],3,FALSE),0)","v":0},null,null,null,null,null,null,null,null,null,null,null,null,{"$f":"تفصیلی!B188&\" -- \"&تفصیلی!D188","v":"0 -- "}]
[null,null,null,null,null,0,null,{"$f":"IF(G191>0,VLOOKUP(G191,moein[کد معین]:moein[شرح معین],2,FALSE),0)","v":0},null,{"$f":"IF(I191>0,VLOOKUP(I191,tafseel[],3,FALSE),0)","v":0},null,null,null,null,null,null,null,null,null,null,null,null,{"$f":"تفصیلی!B189&\" -- \"&تفصیلی!D189","v":"0 -- "}]
[null,null,null,null,null,0,null,{"$f":"IF(G192>0,VLOOKUP(G192,moein[کد معین]:moein[شرح معین],2,FALSE),0)","v":0},null,{"$f":"IF(I192>0,VLOOKUP(I192,tafseel[],3,FALSE),0)","v":0},null,null,null,null,null,null,null,null,null,null,null,null,{"$f":"تفصیلی!B190&\" -- \"&تفصیلی!D190","v":"0 -- "}]
[null,null,null,null,null,0,null,{"$f":"IF(G193>0,VLOOKUP(G193,moein[کد معین]:moein[شرح معین],2,FALSE),0)","v":0},null,{"$f":"IF(I193>0,VLOOKUP(I193,tafseel[],3,FALSE),0)","v":0},null,null,null,null,null,null,null,null,null,null,null,null,{"$f":"تفصیلی!B191&\" -- \"&تفصیلی!D191","v":"0 -- "}]
[null,null,null,null,null,0,null,{"$f":"IF(G194>0,VLOOKUP(G194,moein[کد معین]:moein[شرح معین],2,FALSE),0)","v":0},null,{"$f":"IF(I194>0,VLOOKUP(I194,tafseel[],3,FALSE),0)","v":0},null,null,null,null,null,null,null,null,null,null,null,null,{"$f":"تفصیلی!B192&\" -- \"&تفصیلی!D192","v":"0 -- "}]
[null,null,null,null,null,0,null,{"$f":"IF(G195>0,VLOOKUP(G195,moein[کد معین]:moein[شرح معین],2,FALSE),0)","v":0},null,{"$f":"IF(I195>0,VLOOKUP(I195,tafseel[],3,FALSE),0)","v":0},null,null,null,null,null,null,null,null,null,null,null,null,{"$f":"تفصیلی!B193&\" -- \"&تفصیلی!D193","v":"0 -- "}]
[null,null,null,null,null,0,null,{"$f":"IF(G196>0,VLOOKUP(G196,moein[کد معین]:moein[شرح معین],2,FALSE),0)","v":0},null,{"$f":"IF(I196>0,VLOOKUP(I196,tafseel[],3,FALSE),0)","v":0},null,null,null,null,null,null,null,null,null,null,null,null,{"$f":"تفصیلی!B194&\" -- \"&تفصیلی!D194","v":"0 -- "}]
[null,null,null,null,null,0,null,{"$f":"IF(G197>0,VLOOKUP(G197,moein[کد معین]:moein[شرح معین],2,FALSE),0)","v":0},null,{"$f":"IF(I197>0,VLOOKUP(I197,tafseel[],3,FALSE),0)","v":0},null,null,null,null,null,null,null,null,null,null,null,null,{"$f":"تفصیلی!B195&\" -- \"&تفصیلی!D195","v":"0 -- "}]
[null,null,null,null,null,{"$f":"IF(E198>0,VLOOKUP(E198,koli,2,FALSE),0)","v":0},null,{"$f":"IF(G198>0,VLOOKUP(G198,moein[کد معین]:moein[شرح معین],2,FALSE),0)","v":0},null,{"$f":"IF(I198>0,VLOOKUP(I198,tafseel[],3,FALSE),0)","v":0},null,null,null,null,null,null,null,null,null,null,null,null,{"$f":"تفصیلی!B196&\" -- \"&تفصیلی!D196","v":"0 -- "}]
[null,null,null,null,null,0,null,{"$f":"IF(G199>0,VLOOKUP(G199,moein[کد معین]:moein[شرح معین],2,FALSE),0)","v":0},null,{"$f":"IF(I199>0,VLOOKUP(I199,tafseel[],3,FALSE),0)","v":0},null,null,null,null,null,null,null,null,null,null,null,null,{"$f":"تفصیلی!B197&\" -- \"&تفصیلی!D197","v":"0 -- "}]
[null,null,null,null,null,0,null,{"$f":"IF(G200>0,VLOOKUP(G200,moein[کد معین]:moein[شرح معین],2,FALSE),0)","v":0},null,{"$f":"IF(I200>0,VLOOKUP(I200,tafseel[],3,FALSE),0)","v":0},null,null,null,null,null,null,null,null,null,null,null,null,{"$f":"تفصیلی!B198&\" -- \"&تفصیلی!D198","v":"0 -- "}]
[null,null,null,null,null,0,null,{"$f":"IF(G201>0,VLOOKUP(G201,moein[کد معین]:moein[شرح معین],2,FALSE),0)","v":0},null,{"$f":"IF(I201>0,VLOOKUP(I201,tafseel[],3,FALSE),0)","v":0},null,null,null,null,null,null,null,null,null,null,null,null,{"$f":"تفصیلی!B199&\" -- \"&تفصیلی!D199","v":"0 -- "}]
[null,null,null,null,null,0,null,{"$f":"IF(G202>0,VLOOKUP(G202,moein[کد معین]:moein[شرح معین],2,FALSE),0)","v":0},null,{"$f":"IF(I202>0,VLOOKUP(I202,tafseel[],3,FALSE),0)","v":0},null,null,null,null,null,null,null,null,null,null,null,null,{"$f":"تفصیلی!B200&\" -- \"&تفصیلی!D200","v":"0 -- "}]
[null,null,null,null,null,0,null,{"$f":"IF(G203>0,VLOOKUP(G203,moein[کد معین]:moein[شرح معین],2,FALSE),0)","v":0},null,{"$f":"IF(I203>0,VLOOKUP(I203,tafseel[],3,FALSE),0)","v":0},null,null,null,null,null,null,null,null,null,null,null,null,{"$f":"تفصیلی!B201&\" -- \"&تفصیلی!D201","v":"0 -- "}]
[null,null,null,null,null,0,null,{"$f":"IF(G204>0,VLOOKUP(G204,moein[کد معین]:moein[شرح معین],2,FALSE),0)","v":0},null,{"$f":"IF(I204>0,VLOOKUP(I204,tafseel[],3,FALSE),0)","v":0},null,null,null,null,null,null,null,null,null,null,null,null,{"$f":"تفصیلی!B202&\" -- \"&تفصیلی!D202","v":"0 -- "}]
[null,null,null,null,null,0,null,{"$f":"IF(G205>0,VLOOKUP(G205,moein[کد معین]:moein[شرح معین],2,FALSE),0)","v":0},null,{"$f":"IF(I205>0,VLOOKUP(I205,tafseel[],3,FALSE),0)","v":0},null,null,null,null,null,null,null,null,null,null,null,null,{"$f":"تفصیلی!B203&\" -- \"&تفصیلی!D203","v":"0 -- "}]
[null,null,null,null,null,0,null,{"$f":"IF(G206>0,VLOOKUP(G206,moein[کد معین]:moein[شرح معین],2,FALSE),0)","v":0},null,{"$f":"IF(I206>0,VLOOKUP(I206,tafseel[],3,FALSE),0)","v":0},null,null,null,null,null,null,null,null,null,null,null,null,{"$f":"تفصیلی!B204&\" -- \"&تفصیلی!D204","v":"0 -- "}]
[null,null,null,null,null,0,null,{"$f":"IF(G207>0,VLOOKUP(G207,moein[کد معین]:moein[شرح معین],2,FALSE),0)","v":0},null,{"$f":"IF(I207>0,VLOOKUP(I207,tafseel[],3,FALSE),0)","v":0},null,null,null,null,null,null,null,null,null,null,null,null,{"$f":"تفصیلی!B205&\" -- \"&تفصیلی!D205","v":"0 -- "}]
[null,null,null,null,null,0,null,{"$f":"IF(G208>0,VLOOKUP(G208,moein[کد معین]:moein[شرح معین],2,FALSE),0)","v":0},null,{"$f":"IF(I208>0,VLOOKUP(I208,tafseel[],3,FALSE),0)","v":0},null,null,null,null,null,null,null,null,null,null,null,null,{"$f":"تفصیلی!B206&\" -- \"&تفصیلی!D206","v":"0 -- "}]
[null,null,null,null,null,0,null,{"$f":"IF(G209>0,VLOOKUP(G209,moein[کد معین]:moein[شرح معین],2,FALSE),0)","v":0},null,{"$f":"IF(I209>0,VLOOKUP(I209,tafseel[],3,FALSE),0)","v":0},null,null,null,null,null,null,null,null,null,null,null,null,{"$f":"تفصیلی!B207&\" -- \"&تفصیلی!D207","v":"0 -- "}]
[null,null,null,null,null,0,null,{"$f":"IF(G210>0,VLOOKUP(G210,moein[کد معین]:moein[شرح معین],2,FALSE),0)","v":0},null,{"$f":"IF(I210>0,VLOOKUP(I210,tafseel[],3,FALSE),0)","v":0},null,null,null,null,null,null,null,null,null,null,null,null,{"$f":"تفصیلی!B208&\" -- \"&تفصیلی!D208","v":"0 -- "}]
[null,null,null,null,null,0,null,{"$f":"IF(G211>0,VLOOKUP(G211,moein[کد معین]:moein[شرح معین],2,FALSE),0)","v":0},null,{"$f":"IF(I211>0,VLOOKUP(I211,tafseel[],3,FALSE),0)","v":0},null,null,null,null,null,null,null,null,null,null,null,null,{"$f":"تفصیلی!B209&\" -- \"&تفصیلی!D209","v":"0 -- "}]
[null,null,null,null,null,0,null,{"$f":"IF(G212>0,VLOOKUP(G212,moein[کد معین]:moein[شرح معین],2,FALSE),0)","v":0},null,{"$f":"IF(I212>0,VLOOKUP(I212,tafseel[],3,FALSE),0)","v":0},null,null,null,null,null,null,null,null,null,null,null,null,{"$f":"تفصیلی!B210&\" -- \"&تفصیلی!D210","v":"0 -- "}]
[null,null,null,null,null,0,null,{"$f":"IF(G213>0,VLOOKUP(G213,moein[کد معین]:moein[شرح معین],2,FALSE),0)","v":0},null,{"$f":"IF(I213>0,VLOOKUP(I213,tafseel[],3,FALSE),0)","v":0},null,null,null,null,null,null,null,null,null,null,null,null,{"$f":"تفصیلی!B211&\" -- \"&تفصیلی!D211","v":"0 -- "}]
[null,null,null,null,null,0,null,{"$f":"IF(G214>0,VLOOKUP(G214,moein[کد معین]:moein[شرح معین],2,FALSE),0)","v":0},null,{"$f":"IF(I214>0,VLOOKUP(I214,tafseel[],3,FALSE),0)","v":0},null,null,null,null,null,null,null,null,null,null,null,null,{"$f":"تفصیلی!B212&\" -- \"&تفصیلی!D212","v":"0 -- "}]
[null,null,null,null,null,0,null,{"$f":"IF(G215>0,VLOOKUP(G215,moein[کد معین]:moein[شرح معین],2,FALSE),0)","v":0},null,{"$f":"IF(I215>0,VLOOKUP(I215,tafseel[],3,FALSE),0)","v":0},null,null,null,null,null,null,null,null,null,null,null,null,{"$f":"تفصیلی!B213&\" -- \"&تفصیلی!D213","v":"0 -- "}]
[null,null,null,null,null,0,null,{"$f":"IF(G216>0,VLOOKUP(G216,moein[کد معین]:moein[شرح معین],2,FALSE),0)","v":0},null,{"$f":"IF(I216>0,VLOOKUP(I216,tafseel[],3,FALSE),0)","v":0},null,null,null,null,null,null,null,null,null,null,null,null,{"$f":"تفصیلی!B214&\" -- \"&تفصیلی!D214","v":"0 -- "}]
[null,null,null,null,null,0,null,{"$f":"IF(G217>0,VLOOKUP(G217,moein[کد معین]:moein[شرح معین],2,FALSE),0)","v":0},null,{"$f":"IF(I217>0,VLOOKUP(I217,tafseel[],3,FALSE),0)","v":0},null,null,null,null,null,null,null,null,null,null,null,null,{"$f":"تفصیلی!B215&\" -- \"&تفصیلی!D215","v":"0 -- "}]
[null,null,null,null,null,0,null,{"$f":"IF(G218>0,VLOOKUP(G218,moein[کد معین]:moein[شرح معین],2,FALSE),0)","v":0},null,{"$f":"IF(I218>0,VLOOKUP(I218,tafseel[],3,FALSE),0)","v":0},null,null,null,null,null,null,null,null,null,null,null,null,{"$f":"تفصیلی!B216&\" -- \"&تفصیلی!D216","v":"0 -- "}]
[null,null,null,null,null,0,null,{"$f":"IF(G219>0,VLOOKUP(G219,moein[کد معین]:moein[شرح معین],2,FALSE),0)","v":0},null,{"$f":"IF(I219>0,VLOOKUP(I219,tafseel[],3,FALSE),0)","v":0},null,null,null,null,null,null,null,null,null,null,null,null,{"$f":"تفصیلی!B217&\" -- \"&تفصیلی!D217","v":"0 -- "}]
[null,null,null,null,null,0,null,{"$f":"IF(G220>0,VLOOKUP(G220,moein[کد معین]:moein[شرح معین],2,FALSE),0)","v":0},null,{"$f":"IF(I220>0,VLOOKUP(I220,tafseel[],3,FALSE),0)","v":0},null,null,null,null,null,null,null,null,null,null,null,null,{"$f":"تفصیلی!B218&\" -- \"&تفصیلی!D218","v":"0 -- "}]
[null,null,null,null,null,0,null,{"$f":"IF(G221>0,VLOOKUP(G221,moein[کد معین]:moein[شرح معین],2,FALSE),0)","v":0},null,{"$f":"IF(I221>0,VLOOKUP(I221,tafseel[],3,FALSE),0)","v":0},null,null,null,null,null,null,null,null,null,null,null,null,{"$f":"تفصیلی!B219&\" -- \"&تفصیلی!D219","v":"0 -- "}]
[null,null,null,null,null,0,null,{"$f":"IF(G222>0,VLOOKUP(G222,moein[کد معین]:moein[شرح معین],2,FALSE),0)","v":0},null,{"$f":"IF(I222>0,VLOOKUP(I222,tafseel[],3,FALSE),0)","v":0},null,null,null,null,null,null,null,null,null,null,null,null,{"$f":"تفصیلی!B220&\" -- \"&تفصیلی!D220","v":"0 -- "}]
[null,null,null,null,null,0,null,{"$f":"IF(G223>0,VLOOKUP(G223,moein[کد معین]:moein[شرح معین],2,FALSE),0)","v":0},null,{"$f":"IF(I223>0,VLOOKUP(I223,tafseel[],3,FALSE),0)","v":0},null,null,null,null,null,null,null,null,null,null,null,null,{"$f":"تفصیلی!B221&\" -- \"&تفصیلی!D221","v":"0 -- "}]
[null,null,null,null,null,0,null,{"$f":"IF(G224>0,VLOOKUP(G224,moein[کد معین]:moein[شرح معین],2,FALSE),0)","v":0},null,{"$f":"IF(I224>0,VLOOKUP(I224,tafseel[],3,FALSE),0)","v":0},null,null,null,null,null,null,null,null,null,null,null,null,{"$f":"تفصیلی!B222&\" -- \"&تفصیلی!D222","v":"0 -- "}]
[null,null,null,null,null,0,null,{"$f":"IF(G225>0,VLOOKUP(G225,moein[کد معین]:moein[شرح معین],2,FALSE),0)","v":0},null,{"$f":"IF(I225>0,VLOOKUP(I225,tafseel[],3,FALSE),0)","v":0},null,null,null,null,null,null,null,null,null,null,null,null,{"$f":"تفصیلی!B223&\" -- \"&تفصیلی!D223","v":"0 -- "}]
[null,null,null,null,null,0,null,{"$f":"IF(G226>0,VLOOKUP(G226,moein[کد معین]:moein[شرح معین],2,FALSE),0)","v":0},null,{"$f":"IF(I226>0,VLOOKUP(I226,tafseel[],3,FALSE),0)","v":0},null,null,null,null,null,null,null,null,null,null,null,null,{"$f":"تفصیلی!B224&\" -- \"&تفصیلی!D224","v":"0 -- "}]
[null,null,null,null,null,0,null,{"$f":"IF(G227>0,VLOOKUP(G227,moein[کد معین]:moein[شرح معین],2,FALSE),0)","v":0},null,{"$f":"IF(I227>0,VLOOKUP(I227,tafseel[],3,FALSE),0)","v":0},null,null,null,null,null,null,null,null,null,null,null,null,{"$f":"تفصیلی!B225&\" -- \"&تفصیلی!D225","v":"0 -- "}]
[null,null,null,null,null,0,null,{"$f":"IF(G228>0,VLOOKUP(G228,moein[کد معین]:moein[شرح معین],2,FALSE),0)","v":0},null,{"$f":"IF(I228>0,VLOOKUP(I228,tafseel[],3,FALSE),0)","v":0},null,null,null,null,null,null,null,null,null,null,null,null,{"$f":"تفصیلی!B226&\" -- \"&تفصیلی!D226","v":"0 -- "}]
[null,null,null,null,null,0,null,{"$f":"IF(G229>0,VLOOKUP(G229,moein[کد معین]:moein[شرح معین],2,FALSE),0)","v":0},null,{"$f":"IF(I229>0,VLOOKUP(I229,tafseel[],3,FALSE),0)","v":0},null,null,null,null,null,null,null,null,null,null,null,null,{"$f":"تفصیلی!B227&\" -- \"&تفصیلی!D227","v":"0 -- "}]
[null,null,null,null,null,0,null,{"$f":"IF(G230>0,VLOOKUP(G230,moein[کد معین]:moein[شرح معین],2,FALSE),0)","v":0},null,{"$f":"IF(I230>0,VLOOKUP(I230,tafseel[],3,FALSE),0)","v":0},null,null,null,null,null,null,null,null,null,null,null,null,{"$f":"تفصیلی!B228&\" -- \"&تفصیلی!D228","v":"0 -- "}]
[null,null,null,null,null,0,null,{"$f":"IF(G231>0,VLOOKUP(G231,moein[کد معین]:moein[شرح معین],2,FALSE),0)","v":0},null,{"$f":"IF(I231>0,VLOOKUP(I231,tafseel[],3,FALSE),0)","v":0},null,null,null,null,null,null,null,null,null,null,null,null,{"$f":"تفصیلی!B229&\" -- \"&تفصیلی!D229","v":"0 -- "}]
[null,null,null,null,null,0,null,{"$f":"IF(G232>0,VLOOKUP(G232,moein[کد معین]:moein[شرح معین],2,FALSE),0)","v":0},null,{"$f":"IF(I232>0,VLOOKUP(I232,tafseel[],3,FALSE),0)","v":0},null,null,null,null,null,null,null,null,null,null,null,null,{"$f":"تفصیلی!B230&\" -- \"&تفصیلی!D230","v":"0 -- "}]
[null,null,null,null,null,0,null,{"$f":"IF(G233>0,VLOOKUP(G233,moein[کد معین]:moein[شرح معین],2,FALSE),0)","v":0},null,{"$f":"IF(I233>0,VLOOKUP(I233,tafseel[],3,FALSE),0)","v":0},null,null,null,null,null,null,null,null,null,null,null,null,{"$f":"تفصیلی!B231&\" -- \"&تفصیلی!D231","v":"0 -- "}]
[null,null,null,null,null,0,null,{"$f":"IF(G234>0,VLOOKUP(G234,moein[کد معین]:moein[شرح معین],2,FALSE),0)","v":0},null,{"$f":"IF(I234>0,VLOOKUP(I234,tafseel[],3,FALSE),0)","v":0},null,null,null,null,null,null,null,null,null,null,null,null,{"$f":"تفصیلی!B232&\" -- \"&تفصیلی!D232","v":"0 -- "}]
[null,null,null,null,null,0,null,{"$f":"IF(G235>0,VLOOKUP(G235,moein[کد معین]:moein[شرح معین],2,FALSE),0)","v":0},null,{"$f":"IF(I235>0,VLOOKUP(I235,tafseel[],3,FALSE),0)","v":0},null,null,null,null,null,null,null,null,null,null,null,null,{"$f":"تفصیلی!B233&\" -- \"&تفصیلی!D233","v":"0 -- "}]
[null,null,null,null,null,0,null,{"$f":"IF(G236>0,VLOOKUP(G236,moein[کد معین]:moein[شرح معین],2,FALSE),0)","v":0},null,{"$f":"IF(I236>0,VLOOKUP(I236,tafseel[],3,FALSE),0)","v":0},null,null,null,null,null,null,null,null,null,null,null,null,{"$f":"تفصیلی!B234&\" -- \"&تفصیلی!D234","v":"0 -- "}]
[null,null,null,null,null,0,null,{"$f":"IF(G237>0,VLOOKUP(G237,moein[کد معین]:moein[شرح معین],2,FALSE),0)","v":0},null,{"$f":"IF(I237>0,VLOOKUP(I237,tafseel[],3,FALSE),0)","v":0},null,null,null,null,null,null,null,null,null,null,null,null,{"$f":"تفصیلی!B235&\" -- \"&تفصیلی!D235","v":"0 -- "}]
[null,null,null,null,null,0,null,{"$f":"IF(G238>0,VLOOKUP(G238,moein[کد معین]:moein[شرح معین],2,FALSE),0)","v":0},null,{"$f":"IF(I238>0,VLOOKUP(I238,tafseel[],3,FALSE),0)","v":0},null,null,null,null,null,null,null,null,null,null,null,null,{"$f":"تفصیلی!B236&\" -- \"&تفصیلی!D236","v":"0 -- "}]
[null,null,null,null,null,0,null,{"$f":"IF(G239>0,VLOOKUP(G239,moein[کد معین]:moein[شرح معین],2,FALSE),0)","v":0},null,{"$f":"IF(I239>0,VLOOKUP(I239,tafseel[],3,FALSE),0)","v":0},null,null,null,null,null,null,null,null,null,null,null,null,{"$f":"تفصیلی!B237&\" -- \"&تفصیلی!D237","v":"0 -- "}]
[null,null,null,null,null,0,null,{"$f":"IF(G240>0,VLOOKUP(G240,moein[کد معین]:moein[شرح معین],2,FALSE),0)","v":0},null,{"$f":"IF(I240>0,VLOOKUP(I240,tafseel[],3,FALSE),0)","v":0},null,null,null,null,null,null,null,null,null,null,null,null,{"$f":"تفصیلی!B238&\" -- \"&تفصیلی!D238","v":"0 -- "}]
[null,null,null,null,null,0,null,{"$f":"IF(G241>0,VLOOKUP(G241,moein[کد معین]:moein[شرح معین],2,FALSE),0)","v":0},null,{"$f":"IF(I241>0,VLOOKUP(I241,tafseel[],3,FALSE),0)","v":0},null,null,null,null,null,null,null,null,null,null,null,null,{"$f":"تفصیلی!B239&\" -- \"&تفصیلی!D239","v":"0 -- "}]
[null,null,null,null,null,0,null,{"$f":"IF(G242>0,VLOOKUP(G242,moein[کد معین]:moein[شرح معین],2,FALSE),0)","v":0},null,{"$f":"IF(I242>0,VLOOKUP(I242,tafseel[],3,FALSE),0)","v":0},null,null,null,null,null,null,null,null,null,null,null,null,{"$f":"تفصیلی!B240&\" -- \"&تفصیلی!D240","v":"0 -- "}]
[null,null,null,null,null,0,null,{"$f":"IF(G243>0,VLOOKUP(G243,moein[کد معین]:moein[شرح معین],2,FALSE),0)","v":0},null,{"$f":"IF(I243>0,VLOOKUP(I243,tafseel[],3,FALSE),0)","v":0},null,null,null,null,null,null,null,null,null,null,null,null,{"$f":"تفصیلی!B241&\" -- \"&تفصیلی!D241","v":"0 -- "}]
[null,null,null,null,null,0,null,{"$f":"IF(G244>0,VLOOKUP(G244,moein[کد معین]:moein[شرح معین],2,FALSE),0)","v":0},null,{"$f":"IF(I244>0,VLOOKUP(I244,tafseel[],3,FALSE),0)","v":0},null,null,null,null,null,null,null,null,null,null,null,null,{"$f":"تفصیلی!B242&\" -- \"&تفصیلی!D242","v":"0 -- "}]
[null,null,null,null,null,0,null,{"$f":"IF(G245>0,VLOOKUP(G245,moein[کد معین]:moein[شرح معین],2,FALSE),0)","v":0},null,{"$f":"IF(I245>0,VLOOKUP(I245,tafseel[],3,FALSE),0)","v":0},null,null,null,null,null,null,null,null,null,null,null,null,{"$f":"تفصیلی!B243&\" -- \"&تفصیلی!D243","v":"0 -- "}]
[null,null,null,null,null,0,null,{"$f":"IF(G246>0,VLOOKUP(G246,moein[کد معین]:moein[شرح معین],2,FALSE),0)","v":0},null,{"$f":"IF(I246>0,VLOOKUP(I246,tafseel[],3,FALSE),0)","v":0},null,null,null,null,null,null,null,null,null,null,null,null,{"$f":"تفصیلی!B244&\" -- \"&تفصیلی!D244","v":"0 -- "}]
[null,null,null,null,null,0,null,{"$f":"IF(G247>0,VLOOKUP(G247,moein[کد معین]:moein[شرح معین],2,FALSE),0)","v":0},null,{"$f":"IF(I247>0,VLOOKUP(I247,tafseel[],3,FALSE),0)","v":0},null,null,null,null,null,null,null,null,null,null,null,null,{"$f":"تفصیلی!B245&\" -- \"&تفصیلی!D245","v":"0 -- "}]
[null,null,null,null,null,0,null,{"$f":"IF(G248>0,VLOOKUP(G248,moein[کد معین]:moein[شرح معین],2,FALSE),0)","v":0},null,{"$f":"IF(I248>0,VLOOKUP(I248,tafseel[],3,FALSE),0)","v":0},null,null,null,null,null,null,null,null,null,null,null,null,{"$f":"تفصیلی!B246&\" -- \"&تفصیلی!D246","v":"0 -- "}]
[null,null,null,null,null,0,null,{"$f":"IF(G249>0,VLOOKUP(G249,moein[کد معین]:moein[شرح معین],2,FALSE),0)","v":0},null,{"$f":"IF(I249>0,VLOOKUP(I249,tafseel[],3,FALSE),0)","v":0},null,null,null,null,null,null,null,null,null,null,null,null,{"$f":"تفصیلی!B247&\" -- \"&تفصیلی!D247","v":"0 -- "}]
[null,null,null,null,null,0,null,{"$f":"IF(G250>0,VLOOKUP(G250,moein[کد معین]:moein[شرح معین],2,FALSE),0)","v":0},null,{"$f":"IF(I250>0,VLOOKUP(I250,tafseel[],3,FALSE),0)","v":0},null,null,null,null,null,null,null,null,null,null,null,null,{"$f":"تفصیلی!B248&\" -- \"&تفصیلی!D248","v":"0 -- "}]
[null,null,null,null,null,0,null,{"$f":"IF(G251>0,VLOOKUP(G251,moein[کد معین]:moein[شرح معین],2,FALSE),0)","v":0},null,{"$f":"IF(I251>0,VLOOKUP(I251,tafseel[],3,FALSE),0)","v":0},null,null,null,null,null,null,null,null,null,null,null,null,{"$f":"تفصیلی!B249&\" -- \"&تفصیلی!D249","v":"0 -- "}]
[null,null,null,null,null,0,null,{"$f":"IF(G252>0,VLOOKUP(G252,moein[کد معین]:moein[شرح معین],2,FALSE),0)","v":0},null,{"$f":"IF(I252>0,VLOOKUP(I252,tafseel[],3,FALSE),0)","v":0},null,null,null,null,null,null,null,null,null,null,null,null,{"$f":"تفصیلی!B250&\" -- \"&تفصیلی!D250","v":"0 -- "}]
[null,null,null,null,null,0,null,{"$f":"IF(G253>0,VLOOKUP(G253,moein[کد معین]:moein[شرح معین],2,FALSE),0)","v":0},null,{"$f":"IF(I253>0,VLOOKUP(I253,tafseel[],3,FALSE),0)","v":0},null,null,null,null,null,null,null,null,null,null,null,null,{"$f":"تفصیلی!B251&\" -- \"&تفصیلی!D251","v":"0 -- "}]
[null,null,null,null,null,0,null,{"$f":"IF(G254>0,VLOOKUP(G254,moein[کد معین]:moein[شرح معین],2,FALSE),0)","v":0},null,{"$f":"IF(I254>0,VLOOKUP(I254,tafseel[],3,FALSE),0)","v":0},null,null,null,null,null,null,null,null,null,null,null,null,{"$f":"تفصیلی!B252&\" -- \"&تفصیلی!D252","v":"0 -- "}]
[null,null,null,null,null,0,null,{"$f":"IF(G255>0,VLOOKUP(G255,moein[کد معین]:moein[شرح معین],2,FALSE),0)","v":0},null,{"$f":"IF(I255>0,VLOOKUP(I255,tafseel[],3,FALSE),0)","v":0},null,null,null,null,null,null,null,null,null,null,null,null,{"$f":"تفصیلی!B253&\" -- \"&تفصیلی!D253","v":"0 -- "}]
[null,null,null,null,null,0,null,{"$f":"IF(G256>0,VLOOKUP(G256,moein[کد معین]:moein[شرح معین],2,FALSE),0)","v":0},null,{"$f":"IF(I256>0,VLOOKUP(I256,tafseel[],3,FALSE),0)","v":0},null,null,null,null,null,null,null,null,null,null,null,null,{"$f":"تفصیلی!B254&\" -- \"&تفصیلی!D254","v":"0 -- "}]
[null,null,null,null,null,0,null,{"$f":"IF(G257>0,VLOOKUP(G257,moein[کد معین]:moein[شرح معین],2,FALSE),0)","v":0},null,{"$f":"IF(I257>0,VLOOKUP(I257,tafseel[],3,FALSE),0)","v":0},null,null,null,null,null,null,null,null,null,null,null,null,{"$f":"تفصیلی!B255&\" -- \"&تفصیلی!D255","v":"0 -- "}]
[null,null,null,null,null,0,null,{"$f":"IF(G258>0,VLOOKUP(G258,moein[کد معین]:moein[شرح معین],2,FALSE),0)","v":0},null,{"$f":"IF(I258>0,VLOOKUP(I258,tafseel[],3,FALSE),0)","v":0},null,null,null,null,null,null,null,null,null,null,null,null,{"$f":"تفصیلی!B256&\" -- \"&تفصیلی!D256","v":"0 -- "}]
[null,null,null,null,null,0,null,{"$f":"IF(G259>0,VLOOKUP(G259,moein[کد معین]:moein[شرح معین],2,FALSE),0)","v":0},null,{"$f":"IF(I259>0,VLOOKUP(I259,tafseel[],3,FALSE),0)","v":0},null,null,null,null,null,null,null,null,null,null,null,null,{"$f":"تفصیلی!B257&\" -- \"&تفصیلی!D257","v":"0 -- "}]
[null,null,null,null,null,0,null,{"$f":"IF(G260>0,VLOOKUP(G260,moein[کد معین]:moein[شرح معین],2,FALSE),0)","v":0},null,{"$f":"IF(I260>0,VLOOKUP(I260,tafseel[],3,FALSE),0)","v":0},null,null,null,null,null,null,null,null,null,null,null,null,{"$f":"تفصیلی!B258&\" -- \"&تفصیلی!D258","v":"0 -- "}]
[null,null,null,null,null,0,null,{"$f":"IF(G261>0,VLOOKUP(G261,moein[کد معین]:moein[شرح معین],2,FALSE),0)","v":0},null,{"$f":"IF(I261>0,VLOOKUP(I261,tafseel[],3,FALSE),0)","v":0},null,null,null,null,null,null,null,null,null,null,null,null,{"$f":"تفصیلی!B259&\" -- \"&تفصیلی!D259","v":"0 -- "}]
[null,null,null,null,null,{"$f":"IF(E262>0,VLOOKUP(E262,koli,2,FALSE),0)","v":0},null,{"$f":"IF(G262>0,VLOOKUP(G262,moein[کد معین]:moein[شرح معین],2,FALSE),0)","v":0},null,{"$f":"IF(I262>0,VLOOKUP(I262,tafseel[],3,FALSE),0)","v":0},null,null,null,null,null,null,null,null,null,null,null,null,{"$f":"تفصیلی!B260&\" -- \"&تفصیلی!D260","v":"0 -- "}]
[null,null,null,null,null,0,null,{"$f":"IF(G263>0,VLOOKUP(G263,moein[کد معین]:moein[شرح معین],2,FALSE),0)","v":0},null,{"$f":"IF(I263>0,VLOOKUP(I263,tafseel[],3,FALSE),0)","v":0},null,null,null,null,null,null,null,null,null,null,null,null,{"$f":"تفصیلی!B261&\" -- \"&تفصیلی!D261","v":"0 -- "}]
[null,null,null,null,null,0,null,{"$f":"IF(G264>0,VLOOKUP(G264,moein[کد معین]:moein[شرح معین],2,FALSE),0)","v":0},null,{"$f":"IF(I264>0,VLOOKUP(I264,tafseel[],3,FALSE),0)","v":0},null,null,null,null,null,null,null,null,null,null,null,null,{"$f":"تفصیلی!B262&\" -- \"&تفصیلی!D262","v":"0 -- "}]
[null,null,null,null,null,0,null,{"$f":"IF(G265>0,VLOOKUP(G265,moein[کد معین]:moein[شرح معین],2,FALSE),0)","v":0},null,{"$f":"IF(I265>0,VLOOKUP(I265,tafseel[],3,FALSE),0)","v":0},null,null,null,null,null,null,null,null,null,null,null,null,{"$f":"تفصیلی!B263&\" -- \"&تفصیلی!D263","v":"0 -- "}]
[null,null,null,null,null,0,null,{"$f":"IF(G266>0,VLOOKUP(G266,moein[کد معین]:moein[شرح معین],2,FALSE),0)","v":0},null,{"$f":"IF(I266>0,VLOOKUP(I266,tafseel[],3,FALSE),0)","v":0},null,null,null,null,null,null,null,null,null,null,null,null,{"$f":"تفصیلی!B264&\" -- \"&تفصیلی!D264","v":"0 -- "}]
[null,null,null,null,null,0,null,{"$f":"IF(G267>0,VLOOKUP(G267,moein[کد معین]:moein[شرح معین],2,FALSE),0)","v":0},null,{"$f":"IF(I267>0,VLOOKUP(I267,tafseel[],3,FALSE),0)","v":0},null,null,null,null,null,null,null,null,null,null,null,null,{"$f":"تفصیلی!B265&\" -- \"&تفصیلی!D265","v":"0 -- "}]
[null,null,null,null,null,0,null,{"$f":"IF(G268>0,VLOOKUP(G268,moein[کد معین]:moein[شرح معین],2,FALSE),0)","v":0},null,{"$f":"IF(I268>0,VLOOKUP(I268,tafseel[],3,FALSE),0)","v":0},null,null,null,null,null,null,null,null,null,null,null,null,{"$f":"تفصیلی!B266&\" -- \"&تفصیلی!D266","v":"0 -- "}]
[null,null,null,null,null,0,null,{"$f":"IF(G269>0,VLOOKUP(G269,moein[کد معین]:moein[شرح معین],2,FALSE),0)","v":0},null,{"$f":"IF(I269>0,VLOOKUP(I269,tafseel[],3,FALSE),0)","v":0},null,null,null,null,null,null,null,null,null,null,null,null,{"$f":"تفصیلی!B267&\" -- \"&تفصیلی!D267","v":"0 -- "}]
[null,null,null,null,null,0,null,{"$f":"IF(G270>0,VLOOKUP(G270,moein[کد معین]:moein[شرح معین],2,FALSE),0)","v":0},null,{"$f":"IF(I270>0,VLOOKUP(I270,tafseel[],3,FALSE),0)","v":0},null,null,null,null,null,null,null,null,null,null,null,null,{"$f":"تفصیلی!B268&\" -- \"&تفصیلی!D268","v":"0 -- "}]
[null,null,null,null,null,0,null,{"$f":"IF(G271>0,VLOOKUP(G271,moein[کد معین]:moein[شرح معین],2,FALSE),0)","v":0},null,{"$f":"IF(I271>0,VLOOKUP(I271,tafseel[],3,FALSE),0)","v":0},null,null,null,null,null,null,null,null,null,null,null,null,{"$f":"تفصیلی!B269&\" -- \"&تفصیلی!D269","v":"0 -- "}]
[null,null,null,null,null,0,null,{"$f":"IF(G272>0,VLOOKUP(G272,moein[کد معین]:moein[شرح معین],2,FALSE),0)","v":0},null,{"$f":"IF(I272>0,VLOOKUP(I272,tafseel[],3,FALSE),0)","v":0},null,null,null,null,null,null,null,null,null,null,null,null,{"$f":"تفصیلی!B270&\" -- \"&تفصیلی!D270","v":"0 -- "}]
[null,null,null,null,null,0,null,{"$f":"IF(G273>0,VLOOKUP(G273,moein[کد معین]:moein[شرح معین],2,FALSE),0)","v":0},null,{"$f":"IF(I273>0,VLOOKUP(I273,tafseel[],3,FALSE),0)","v":0},null,null,null,null,null,null,null,null,null,null,null,null,{"$f":"تفصیلی!B271&\" -- \"&تفصیلی!D271","v":"0 -- "}]
[null,null,null,null,null,0,null,{"$f":"IF(G274>0,VLOOKUP(G274,moein[کد معین]:moein[شرح معین],2,FALSE),0)","v":0},null,{"$f":"IF(I274>0,VLOOKUP(I274,tafseel[],3,FALSE),0)","v":0},null,null,null,null,null,null,null,null,null,null,null,null,{"$f":"تفصیلی!B272&\" -- \"&تفصیلی!D272","v":"0 -- "}]
[null,null,null,null,null,0,null,{"$f":"IF(G275>0,VLOOKUP(G275,moein[کد معین]:moein[شرح معین],2,FALSE),0)","v":0},null,{"$f":"IF(I275>0,VLOOKUP(I275,tafseel[],3,FALSE),0)","v":0},null,null,null,null,null,null,null,null,null,null,null,null,{"$f":"تفصیلی!B273&\" -- \"&تفصیلی!D273","v":"0 -- "}]
[null,null,null,null,null,0,null,{"$f":"IF(G276>0,VLOOKUP(G276,moein[کد معین]:moein[شرح معین],2,FALSE),0)","v":0},null,{"$f":"IF(I276>0,VLOOKUP(I276,tafseel[],3,FALSE),0)","v":0},null,null,null,null,null,null,null,null,null,null,null,null,{"$f":"تفصیلی!B274&\" -- \"&تفصیلی!D274","v":"0 -- "}]
[null,null,null,null,null,0,null,{"$f":"IF(G277>0,VLOOKUP(G277,moein[کد معین]:moein[شرح معین],2,FALSE),0)","v":0},null,{"$f":"IF(I277>0,VLOOKUP(I277,tafseel[],3,FALSE),0)","v":0},null,null,null,null,null,null,null,null,null,null,null,null,{"$f":"تفصیلی!B275&\" -- \"&تفصیلی!D275","v":"0 -- "}]
[null,null,null,null,null,0,null,{"$f":"IF(G278>0,VLOOKUP(G278,moein[کد معین]:moein[شرح معین],2,FALSE),0)","v":0},null,{"$f":"IF(I278>0,VLOOKUP(I278,tafseel[],3,FALSE),0)","v":0},null,null,null,null,null,null,null,null,null,null,null,null,{"$f":"تفصیلی!B276&\" -- \"&تفصیلی!D276","v":"0 -- "}]
[null,null,null,null,null,0,null,{"$f":"IF(G279>0,VLOOKUP(G279,moein[کد معین]:moein[شرح معین],2,FALSE),0)","v":0},null,{"$f":"IF(I279>0,VLOOKUP(I279,tafseel[],3,FALSE),0)","v":0},null,null,null,null,null,null,null,null,null,null,null,null,{"$f":"تفصیلی!B277&\" -- \"&تفصیلی!D277","v":"0 -- "}]
[null,null,null,null,null,0,null,{"$f":"IF(G280>0,VLOOKUP(G280,moein[کد معین]:moein[شرح معین],2,FALSE),0)","v":0},null,{"$f":"IF(I280>0,VLOOKUP(I280,tafseel[],3,FALSE),0)","v":0},null,null,null,null,null,null,null,null,null,null,null,null,{"$f":"تفصیلی!B278&\" -- \"&تفصیلی!D278","v":"0 -- "}]
[null,null,null,null,null,0,null,{"$f":"IF(G281>0,VLOOKUP(G281,moein[کد معین]:moein[شرح معین],2,FALSE),0)","v":0},null,{"$f":"IF(I281>0,VLOOKUP(I281,tafseel[],3,FALSE),0)","v":0},null,null,null,null,null,null,null,null,null,null,null,null,{"$f":"تفصیلی!B279&\" -- \"&تفصیلی!D279","v":"0 -- "}]
[null,null,null,null,null,0,null,{"$f":"IF(G282>0,VLOOKUP(G282,moein[کد معین]:moein[شرح معین],2,FALSE),0)","v":0},null,{"$f":"IF(I282>0,VLOOKUP(I282,tafseel[],3,FALSE),0)","v":0},null,null,null,null,null,null,null,null,null,null,null,null,{"$f":"تفصیلی!B280&\" -- \"&تفصیلی!D280","v":"0 -- "}]
[null,null,null,null,null,0,null,{"$f":"IF(G283>0,VLOOKUP(G283,moein[کد معین]:moein[شرح معین],2,FALSE),0)","v":0},null,{"$f":"IF(I283>0,VLOOKUP(I283,tafseel[],3,FALSE),0)","v":0},null,null,null,null,null,null,null,null,null,null,null,null,{"$f":"تفصیلی!B281&\" -- \"&تفصیلی!D281","v":"0 -- "}]
[null,null,null,null,null,0,null,{"$f":"IF(G284>0,VLOOKUP(G284,moein[کد معین]:moein[شرح معین],2,FALSE),0)","v":0},null,{"$f":"IF(I284>0,VLOOKUP(I284,tafseel[],3,FALSE),0)","v":0},null,null,null,null,null,null,null,null,null,null,null,null,{"$f":"تفصیلی!B282&\" -- \"&تفصیلی!D282","v":"0 -- "}]
[null,null,null,null,null,0,null,{"$f":"IF(G285>0,VLOOKUP(G285,moein[کد معین]:moein[شرح معین],2,FALSE),0)","v":0},null,{"$f":"IF(I285>0,VLOOKUP(I285,tafseel[],3,FALSE),0)","v":0},null,null,null,null,null,null,null,null,null,null,null,null,{"$f":"تفصیلی!B283&\" -- \"&تفصیلی!D283","v":"0 -- "}]
[null,null,null,null,null,0,null,{"$f":"IF(G286>0,VLOOKUP(G286,moein[کد معین]:moein[شرح معین],2,FALSE),0)","v":0},null,{"$f":"IF(I286>0,VLOOKUP(I286,tafseel[],3,FALSE),0)","v":0},null,null,null,null,null,null,null,null,null,null,null,null,{"$f":"تفصیلی!B284&\" -- \"&تفصیلی!D284","v":"0 -- "}]
[null,null,null,null,null,0,null,{"$f":"IF(G287>0,VLOOKUP(G287,moein[کد معین]:moein[شرح معین],2,FALSE),0)","v":0},null,{"$f":"IF(I287>0,VLOOKUP(I287,tafseel[],3,FALSE),0)","v":0},null,null,null,null,null,null,null,null,null,null,null,null,{"$f":"تفصیلی!B285&\" -- \"&تفصیلی!D285","v":"0 -- "}]
[null,null,null,null,null,0,null,{"$f":"IF(G288>0,VLOOKUP(G288,moein[کد معین]:moein[شرح معین],2,FALSE),0)","v":0},null,{"$f":"IF(I288>0,VLOOKUP(I288,tafseel[],3,FALSE),0)","v":0},null,null,null,null,null,null,null,null,null,null,null,null,{"$f":"تفصیلی!B286&\" -- \"&تفصیلی!D286","v":"0 -- "}]
[null,null,null,null,null,0,null,{"$f":"IF(G289>0,VLOOKUP(G289,moein[کد معین]:moein[شرح معین],2,FALSE),0)","v":0},null,{"$f":"IF(I289>0,VLOOKUP(I289,tafseel[],3,FALSE),0)","v":0},null,null,null,null,null,null,null,null,null,null,null,null,{"$f":"تفصیلی!B287&\" -- \"&تفصیلی!D287","v":"0 -- "}]
[null,null,null,null,null,0,null,{"$f":"IF(G290>0,VLOOKUP(G290,moein[کد معین]:moein[شرح معین],2,FALSE),0)","v":0},null,{"$f":"IF(I290>0,VLOOKUP(I290,tafseel[],3,FALSE),0)","v":0},null,null,null,null,null,null,null,null,null,null,null,null,{"$f":"تفصیلی!B288&\" -- \"&تفصیلی!D288","v":"0 -- "}]
[null,null,null,null,null,0,null,{"$f":"IF(G291>0,VLOOKUP(G291,moein[کد معین]:moein[شرح معین],2,FALSE),0)","v":0},null,{"$f":"IF(I291>0,VLOOKUP(I291,tafseel[],3,FALSE),0)","v":0},null,null,null,null,null,null,null,null,null,null,null,null,{"$f":"تفصیلی!B289&\" -- \"&تفصیلی!D289","v":"0 -- "}]
[null,null,null,null,null,0,null,{"$f":"IF(G292>0,VLOOKUP(G292,moein[کد معین]:moein[شرح معین],2,FALSE),0)","v":0},null,{"$f":"IF(I292>0,VLOOKUP(I292,tafseel[],3,FALSE),0)","v":0},null,null,null,null,null,null,null,null,null,null,null,null,{"$f":"تفصیلی!B290&\" -- \"&تفصیلی!D290","v":"0 -- "}]
[null,null,null,null,null,0,null,{"$f":"IF(G293>0,VLOOKUP(G293,moein[کد معین]:moein[شرح معین],2,FALSE),0)","v":0},null,{"$f":"IF(I293>0,VLOOKUP(I293,tafseel[],3,FALSE),0)","v":0},null,null,null,null,null,null,null,null,null,null,null,null,{"$f":"تفصیلی!B291&\" -- \"&تفصیلی!D291","v":"0 -- "}]
[null,null,null,null,null,0,null,{"$f":"IF(G294>0,VLOOKUP(G294,moein[کد معین]:moein[شرح معین],2,FALSE),0)","v":0},null,{"$f":"IF(I294>0,VLOOKUP(I294,tafseel[],3,FALSE),0)","v":0},null,null,null,null,null,null,null,null,null,null,null,null,{"$f":"تفصیلی!B292&\" -- \"&تفصیلی!D292","v":"0 -- "}]
[null,null,null,null,null,0,null,{"$f":"IF(G295>0,VLOOKUP(G295,moein[کد معین]:moein[شرح معین],2,FALSE),0)","v":0},null,{"$f":"IF(I295>0,VLOOKUP(I295,tafseel[],3,FALSE),0)","v":0},null,null,null,null,null,null,null,null,null,null,null,null,{"$f":"تفصیلی!B293&\" -- \"&تفصیلی!D293","v":"0 -- "}]
[null,null,null,null,null,0,null,{"$f":"IF(G296>0,VLOOKUP(G296,moein[کد معین]:moein[شرح معین],2,FALSE),0)","v":0},null,{"$f":"IF(I296>0,VLOOKUP(I296,tafseel[],3,FALSE),0)","v":0},null,null,null,null,null,null,null,null,null,null,null,null,{"$f":"تفصیلی!B294&\" -- \"&تفصیلی!D294","v":"0 -- "}]
[null,null,null,null,null,0,null,{"$f":"IF(G297>0,VLOOKUP(G297,moein[کد معین]:moein[شرح معین],2,FALSE),0)","v":0},null,{"$f":"IF(I297>0,VLOOKUP(I297,tafseel[],3,FALSE),0)","v":0},null,null,null,null,null,null,null,null,null,null,null,null,{"$f":"تفصیلی!B295&\" -- \"&تفصیلی!D295","v":"0 -- "}]
[null,null,null,null,null,0,null,{"$f":"IF(G298>0,VLOOKUP(G298,moein[کد معین]:moein[شرح معین],2,FALSE),0)","v":0},null,{"$f":"IF(I298>0,VLOOKUP(I298,tafseel[],3,FALSE),0)","v":0},null,null,null,null,null,null,null,null,null,null,null,null,{"$f":"تفصیلی!B296&\" -- \"&تفصیلی!D296","v":"0 -- "}]
[null,null,null,null,null,0,null,{"$f":"IF(G299>0,VLOOKUP(G299,moein[کد معین]:moein[شرح معین],2,FALSE),0)","v":0},null,{"$f":"IF(I299>0,VLOOKUP(I299,tafseel[],3,FALSE),0)","v":0},null,null,null,null,null,null,null,null,null,null,null,null,{"$f":"تفصیلی!B297&\" -- \"&تفصیلی!D297","v":"0 -- "}]
[null,null,null,null,null,0,null,{"$f":"IF(G300>0,VLOOKUP(G300,moein[کد معین]:moein[شرح معین],2,FALSE),0)","v":0},null,{"$f":"IF(I300>0,VLOOKUP(I300,tafseel[],3,FALSE),0)","v":0},null,null,null,null,null,null,null,null,null,null,null,null,{"$f":"تفصیلی!B298&\" -- \"&تفصیلی!D298","v":"0 -- "}]
[null,null,null,null,null,0,null,{"$f":"IF(G301>0,VLOOKUP(G301,moein[کد معین]:moein[شرح معین],2,FALSE),0)","v":0},null,{"$f":"IF(I301>0,VLOOKUP(I301,tafseel[],3,FALSE),0)","v":0},null,null,null,null,null,null,null,null,null,null,null,null,{"$f":"تفصیلی!B299&\" -- \"&تفصیلی!D299","v":"0 -- "}]
[null,null,null,null,null,0,null,{"$f":"IF(G302>0,VLOOKUP(G302,moein[کد معین]:moein[شرح معین],2,FALSE),0)","v":0},null,{"$f":"IF(I302>0,VLOOKUP(I302,tafseel[],3,FALSE),0)","v":0},null,null,null,null,null,null,null,null,null,null,null,null,{"$f":"تفصیلی!B300&\" -- \"&تفصیلی!D300","v":"0 -- "}]
[null,null,null,null,null,0,null,{"$f":"IF(G303>0,VLOOKUP(G303,moein[کد معین]:moein[شرح معین],2,FALSE),0)","v":0},null,{"$f":"IF(I303>0,VLOOKUP(I303,tafseel[],3,FALSE),0)","v":0},null,null,null,null,null,null,null,null,null,null,null,null,{"$f":"تفصیلی!B301&\" -- \"&تفصیلی!D301","v":"0 -- "}]
[null,null,null,null,null,0,null,{"$f":"IF(G304>0,VLOOKUP(G304,moein[کد معین]:moein[شرح معین],2,FALSE),0)","v":0},null,{"$f":"IF(I304>0,VLOOKUP(I304,tafseel[],3,FALSE),0)","v":0},null,null,null,null,null,null,null,null,null,null,null,null,{"$f":"تفصیلی!B302&\" -- \"&تفصیلی!D302","v":"0 -- "}]
[null,null,null,null,null,0,null,{"$f":"IF(G305>0,VLOOKUP(G305,moein[کد معین]:moein[شرح معین],2,FALSE),0)","v":0},null,{"$f":"IF(I305>0,VLOOKUP(I305,tafseel[],3,FALSE),0)","v":0},null,null,null,null,null,null,null,null,null,null,null,null,{"$f":"تفصیلی!B303&\" -- \"&تفصیلی!D303","v":"0 -- "}]
[null,null,null,null,null,0,null,{"$f":"IF(G306>0,VLOOKUP(G306,moein[کد معین]:moein[شرح معین],2,FALSE),0)","v":0},null,{"$f":"IF(I306>0,VLOOKUP(I306,tafseel[],3,FALSE),0)","v":0},null,null,null,null,null,null,null,null,null,null,null,null,{"$f":"تفصیلی!B304&\" -- \"&تفصیلی!D304","v":" -- "}]
[null,null,null,null,null,0,null,{"$f":"IF(G307>0,VLOOKUP(G307,moein[کد معین]:moein[شرح معین],2,FALSE),0)","v":0},null,{"$f":"IF(I307>0,VLOOKUP(I307,tafseel[],3,FALSE),0)","v":0},null,null,null,null,null,null,null,null,null,null,null,null,{"$f":"تفصیلی!B305&\" -- \"&تفصیلی!D305","v":" -- "}]
[null,null,null,null,null,0,null,{"$f":"IF(G308>0,VLOOKUP(G308,moein[کد معین]:moein[شرح معین],2,FALSE),0)","v":0},null,{"$f":"IF(I308>0,VLOOKUP(I308,tafseel[],3,FALSE),0)","v":0},null,null,null,null,null,null,null,null,null,null,null,null,{"$f":"تفصیلی!B306&\" -- \"&تفصیلی!D306","v":" -- "}]
[null,null,null,null,null,0,null,{"$f":"IF(G309>0,VLOOKUP(G309,moein[کد معین]:moein[شرح معین],2,FALSE),0)","v":0},null,{"$f":"IF(I309>0,VLOOKUP(I309,tafseel[],3,FALSE),0)","v":0},null,null,null,null,null,null,null,null,null,null,null,null,{"$f":"تفصیلی!B307&\" -- \"&تفصیلی!D307","v":" -- "}]
[null,null,null,null,null,0,null,{"$f":"IF(G310>0,VLOOKUP(G310,moein[کد معین]:moein[شرح معین],2,FALSE),0)","v":0},null,{"$f":"IF(I310>0,VLOOKUP(I310,tafseel[],3,FALSE),0)","v":0},null,null,null,null,null,null,null,null,null,null,null,null,{"$f":"تفصیلی!B308&\" -- \"&تفصیلی!D308","v":" -- "}]
[null,null,null,null,null,0,null,{"$f":"IF(G311>0,VLOOKUP(G311,moein[کد معین]:moein[شرح معین],2,FALSE),0)","v":0},null,{"$f":"IF(I311>0,VLOOKUP(I311,tafseel[],3,FALSE),0)","v":0},null,null,null,null,null,null,null,null,null,null,null,null,{"$f":"تفصیلی!B309&\" -- \"&تفصیلی!D309","v":" -- "}]
[null,null,null,null,null,0,null,{"$f":"IF(G312>0,VLOOKUP(G312,moein[کد معین]:moein[شرح معین],2,FALSE),0)","v":0},null,{"$f":"IF(I312>0,VLOOKUP(I312,tafseel[],3,FALSE),0)","v":0},null,null,null,null,null,null,null,null,null,null,null,null,{"$f":"تفصیلی!B310&\" -- \"&تفصیلی!D310","v":" -- "}]
[null,null,null,null,null,0,null,{"$f":"IF(G313>0,VLOOKUP(G313,moein[کد معین]:moein[شرح معین],2,FALSE),0)","v":0},null,{"$f":"IF(I313>0,VLOOKUP(I313,tafseel[],3,FALSE),0)","v":0},null,null,null,null,null,null,null,null,null,null,null,null,{"$f":"تفصیلی!B311&\" -- \"&تفصیلی!D311","v":" -- "}]
[null,null,null,null,null,0,null,{"$f":"IF(G314>0,VLOOKUP(G314,moein[کد معین]:moein[شرح معین],2,FALSE),0)","v":0},null,{"$f":"IF(I314>0,VLOOKUP(I314,tafseel[],3,FALSE),0)","v":0},null,null,null,null,null,null,null,null,null,null,null,null,{"$f":"تفصیلی!B312&\" -- \"&تفصیلی!D312","v":" -- "}]
[null,null,null,null,null,0,null,{"$f":"IF(G315>0,VLOOKUP(G315,moein[کد معین]:moein[شرح معین],2,FALSE),0)","v":0},null,{"$f":"IF(I315>0,VLOOKUP(I315,tafseel[],3,FALSE),0)","v":0},null,null,null,null,null,null,null,null,null,null,null,null,{"$f":"تفصیلی!B313&\" -- \"&تفصیلی!D313","v":" -- "}]
[null,null,null,null,null,0,null,{"$f":"IF(G316>0,VLOOKUP(G316,moein[کد معین]:moein[شرح معین],2,FALSE),0)","v":0},null,{"$f":"IF(I316>0,VLOOKUP(I316,tafseel[],3,FALSE),0)","v":0},null,null,null,null,null,null,null,null,null,null,null,null,{"$f":"تفصیلی!B314&\" -- \"&تفصیلی!D314","v":" -- "}]
[null,null,null,null,null,0,null,{"$f":"IF(G317>0,VLOOKUP(G317,moein[کد معین]:moein[شرح معین],2,FALSE),0)","v":0},null,{"$f":"IF(I317>0,VLOOKUP(I317,tafseel[],3,FALSE),0)","v":0},null,null,null,null,null,null,null,null,null,null,null,null,{"$f":"تفصیلی!B315&\" -- \"&تفصیلی!D315","v":" -- "}]
[null,null,null,null,null,0,null,{"$f":"IF(G318>0,VLOOKUP(G318,moein[کد معین]:moein[شرح معین],2,FALSE),0)","v":0},null,{"$f":"IF(I318>0,VLOOKUP(I318,tafseel[],3,FALSE),0)","v":0},null,null,null,null,null,null,null,null,null,null,null,null,{"$f":"تفصیلی!B316&\" -- \"&تفصیلی!D316","v":" -- "}]
[null,null,null,null,null,0,null,{"$f":"IF(G319>0,VLOOKUP(G319,moein[کد معین]:moein[شرح معین],2,FALSE),0)","v":0},null,{"$f":"IF(I319>0,VLOOKUP(I319,tafseel[],3,FALSE),0)","v":0},null,null,null,null,null,null,null,null,null,null,null,null,{"$f":"تفصیلی!B317&\" -- \"&تفصیلی!D317","v":" -- "}]
[null,null,null,null,null,0,null,{"$f":"IF(G320>0,VLOOKUP(G320,moein[کد معین]:moein[شرح معین],2,FALSE),0)","v":0},null,{"$f":"IF(I320>0,VLOOKUP(I320,tafseel[],3,FALSE),0)","v":0},null,null,null,null,null,null,null,null,null,null,null,null,{"$f":"تفصیلی!B318&\" -- \"&تفصیلی!D318","v":" -- "}]
[null,null,null,null,null,0,null,{"$f":"IF(G321>0,VLOOKUP(G321,moein[کد معین]:moein[شرح معین],2,FALSE),0)","v":0},null,{"$f":"IF(I321>0,VLOOKUP(I321,tafseel[],3,FALSE),0)","v":0},null,null,null,null,null,null,null,null,null,null,null,null,{"$f":"تفصیلی!B319&\" -- \"&تفصیلی!D319","v":" -- "}]
[null,null,null,null,null,0,null,{"$f":"IF(G322>0,VLOOKUP(G322,moein[کد معین]:moein[شرح معین],2,FALSE),0)","v":0},null,{"$f":"IF(I322>0,VLOOKUP(I322,tafseel[],3,FALSE),0)","v":0},null,null,null,null,null,null,null,null,null,null,null,null,{"$f":"تفصیلی!B320&\" -- \"&تفصیلی!D320","v":" -- "}]
[null,null,null,null,null,0,null,{"$f":"IF(G323>0,VLOOKUP(G323,moein[کد معین]:moein[شرح معین],2,FALSE),0)","v":0},null,{"$f":"IF(I323>0,VLOOKUP(I323,tafseel[],3,FALSE),0)","v":0},null,null,null,null,null,null,null,null,null,null,null,null,{"$f":"تفصیلی!B321&\" -- \"&تفصیلی!D321","v":" -- "}]
[null,null,null,null,null,0,null,{"$f":"IF(G324>0,VLOOKUP(G324,moein[کد معین]:moein[شرح معین],2,FALSE),0)","v":0},null,{"$f":"IF(I324>0,VLOOKUP(I324,tafseel[],3,FALSE),0)","v":0},null,null,null,null,null,null,null,null,null,null,null,null,{"$f":"تفصیلی!B322&\" -- \"&تفصیلی!D322","v":" -- "}]
[null,null,null,null,null,0,null,{"$f":"IF(G325>0,VLOOKUP(G325,moein[کد معین]:moein[شرح معین],2,FALSE),0)","v":0},null,{"$f":"IF(I325>0,VLOOKUP(I325,tafseel[],3,FALSE),0)","v":0},null,null,null,null,null,null,null,null,null,null,null,null,{"$f":"تفصیلی!B323&\" -- \"&تفصیلی!D323","v":" -- "}]
[null,null,null,null,null,{"$f":"IF(E326>0,VLOOKUP(E326,koli,2,FALSE),0)","v":0},null,{"$f":"IF(G326>0,VLOOKUP(G326,moein[کد معین]:moein[شرح معین],2,FALSE),0)","v":0},null,{"$f":"IF(I326>0,VLOOKUP(I326,tafseel[],3,FALSE),0)","v":0},null,null,null,null,null,null,null,null,null,null,null,null,{"$f":"تفصیلی!B324&\" -- \"&تفصیلی!D324","v":" -- "}]
[null,null,null,null,null,0,null,{"$f":"IF(G327>0,VLOOKUP(G327,moein[کد معین]:moein[شرح معین],2,FALSE),0)","v":0},null,{"$f":"IF(I327>0,VLOOKUP(I327,tafseel[],3,FALSE),0)","v":0},null,null,null,null,null,null,null,null,null,null,null,null,{"$f":"تفصیلی!B325&\" -- \"&تفصیلی!D325","v":" -- "}]
[null,null,null,null,null,0,null,{"$f":"IF(G328>0,VLOOKUP(G328,moein[کد معین]:moein[شرح معین],2,FALSE),0)","v":0},null,{"$f":"IF(I328>0,VLOOKUP(I328,tafseel[],3,FALSE),0)","v":0},null,null,null,null,null,null,null,null,null,null,null,null,{"$f":"تفصیلی!B326&\" -- \"&تفصیلی!D326","v":" -- "}]
[null,null,null,null,null,0,null,{"$f":"IF(G329>0,VLOOKUP(G329,moein[کد معین]:moein[شرح معین],2,FALSE),0)","v":0},null,{"$f":"IF(I329>0,VLOOKUP(I329,tafseel[],3,FALSE),0)","v":0},null,null,null,null,null,null,null,null,null,null,null,null,{"$f":"تفصیلی!B327&\" -- \"&تفصیلی!D327","v":" -- "}]
[null,null,null,null,null,0,null,{"$f":"IF(G330>0,VLOOKUP(G330,moein[کد معین]:moein[شرح معین],2,FALSE),0)","v":0},null,{"$f":"IF(I330>0,VLOOKUP(I330,tafseel[],3,FALSE),0)","v":0},null,null,null,null,null,null,null,null,null,null,null,null,{"$f":"تفصیلی!B328&\" -- \"&تفصیلی!D328","v":" -- "}]
[null,null,null,null,null,0,null,{"$f":"IF(G331>0,VLOOKUP(G331,moein[کد معین]:moein[شرح معین],2,FALSE),0)","v":0},null,{"$f":"IF(I331>0,VLOOKUP(I331,tafseel[],3,FALSE),0)","v":0},null,null,null,null,null,null,null,null,null,null,null,null,{"$f":"تفصیلی!B329&\" -- \"&تفصیلی!D329","v":" -- "}]
[null,null,null,null,null,0,null,{"$f":"IF(G332>0,VLOOKUP(G332,moein[کد معین]:moein[شرح معین],2,FALSE),0)","v":0},null,{"$f":"IF(I332>0,VLOOKUP(I332,tafseel[],3,FALSE),0)","v":0},null,null,null,null,null,null,null,null,null,null,null,null,{"$f":"تفصیلی!B330&\" -- \"&تفصیلی!D330","v":" -- "}]
[null,null,null,null,null,0,null,{"$f":"IF(G333>0,VLOOKUP(G333,moein[کد معین]:moein[شرح معین],2,FALSE),0)","v":0},null,{"$f":"IF(I333>0,VLOOKUP(I333,tafseel[],3,FALSE),0)","v":0},null,null,null,null,null,null,null,null,null,null,null,null,{"$f":"تفصیلی!B331&\" -- \"&تفصیلی!D331","v":" -- "}]
[null,null,null,null,null,0,null,{"$f":"IF(G334>0,VLOOKUP(G334,moein[کد معین]:moein[شرح معین],2,FALSE),0)","v":0},null,{"$f":"IF(I334>0,VLOOKUP(I334,tafseel[],3,FALSE),0)","v":0},null,null,null,null,null,null,null,null,null,null,null,null,{"$f":"تفصیلی!B332&\" -- \"&تفصیلی!D332","v":" -- "}]
[null,null,null,null,null,0,null,{"$f":"IF(G335>0,VLOOKUP(G335,moein[کد معین]:moein[شرح معین],2,FALSE),0)","v":0},null,{"$f":"IF(I335>0,VLOOKUP(I335,tafseel[],3,FALSE),0)","v":0},null,null,null,null,null,null,null,null,null,null,null,null,{"$f":"تفصیلی!B333&\" -- \"&تفصیلی!D333","v":" -- "}]
[null,null,null,null,null,0,null,{"$f":"IF(G336>0,VLOOKUP(G336,moein[کد معین]:moein[شرح معین],2,FALSE),0)","v":0},null,{"$f":"IF(I336>0,VLOOKUP(I336,tafseel[],3,FALSE),0)","v":0},null,null,null,null,null,null,null,null,null,null,null,null,{"$f":"تفصیلی!B334&\" -- \"&تفصیلی!D334","v":" -- "}]
[null,null,null,null,null,0,null,{"$f":"IF(G337>0,VLOOKUP(G337,moein[کد معین]:moein[شرح معین],2,FALSE),0)","v":0},null,{"$f":"IF(I337>0,VLOOKUP(I337,tafseel[],3,FALSE),0)","v":0},null,null,null,null,null,null,null,null,null,null,null,null,{"$f":"تفصیلی!B335&\" -- \"&تفصیلی!D335","v":" -- "}]
[null,null,null,null,null,0,null,{"$f":"IF(G338>0,VLOOKUP(G338,moein[کد معین]:moein[شرح معین],2,FALSE),0)","v":0},null,{"$f":"IF(I338>0,VLOOKUP(I338,tafseel[],3,FALSE),0)","v":0},null,null,null,null,null,null,null,null,null,null,null,null,{"$f":"تفصیلی!B336&\" -- \"&تفصیلی!D336","v":" -- "}]
[null,null,null,null,null,0,null,{"$f":"IF(G339>0,VLOOKUP(G339,moein[کد معین]:moein[شرح معین],2,FALSE),0)","v":0},null,{"$f":"IF(I339>0,VLOOKUP(I339,tafseel[],3,FALSE),0)","v":0},null,null,null,null,null,null,null,null,null,null,null,null,{"$f":"تفصیلی!B337&\" -- \"&تفصیلی!D337","v":" -- "}]
[null,null,null,null,null,0,null,{"$f":"IF(G340>0,VLOOKUP(G340,moein[کد معین]:moein[شرح معین],2,FALSE),0)","v":0},null,{"$f":"IF(I340>0,VLOOKUP(I340,tafseel[],3,FALSE),0)","v":0},null,null,null,null,null,null,null,null,null,null,null,null,{"$f":"تفصیلی!B338&\" -- \"&تفصیلی!D338","v":" -- "}]
[null,null,null,null,null,0,null,{"$f":"IF(G341>0,VLOOKUP(G341,moein[کد معین]:moein[شرح معین],2,FALSE),0)","v":0},null,{"$f":"IF(I341>0,VLOOKUP(I341,tafseel[],3,FALSE),0)","v":0},null,null,null,null,null,null,null,null,null,null,null,null,{"$f":"تفصیلی!B339&\" -- \"&تفصیلی!D339","v":" -- "}]
[null,null,null,null,null,0,null,{"$f":"IF(G342>0,VLOOKUP(G342,moein[کد معین]:moein[شرح معین],2,FALSE),0)","v":0},null,{"$f":"IF(I342>0,VLOOKUP(I342,tafseel[],3,FALSE),0)","v":0},null,null,null,null,null,null,null,null,null,null,null,null,{"$f":"تفصیلی!B340&\" -- \"&تفصیلی!D340","v":" -- "}]
[null,null,null,null,null,0,null,{"$f":"IF(G343>0,VLOOKUP(G343,moein[کد معین]:moein[شرح معین],2,FALSE),0)","v":0},null,{"$f":"IF(I343>0,VLOOKUP(I343,tafseel[],3,FALSE),0)","v":0},null,null,null,null,null,null,null,null,null,null,null,null,{"$f":"تفصیلی!B341&\" -- \"&تفصیلی!D341","v":" -- "}]
[null,null,null,null,null,0,null,{"$f":"IF(G344>0,VLOOKUP(G344,moein[کد معین]:moein[شرح معین],2,FALSE),0)","v":0},null,{"$f":"IF(I344>0,VLOOKUP(I344,tafseel[],3,FALSE),0)","v":0},null,null,null,null,null,null,null,null,null,null,null,null,{"$f":"تفصیلی!B342&\" -- \"&تفصیلی!D342","v":" -- "}]
[null,null,null,null,null,0,null,{"$f":"IF(G345>0,VLOOKUP(G345,moein[کد معین]:moein[شرح معین],2,FALSE),0)","v":0},null,{"$f":"IF(I345>0,VLOOKUP(I345,tafseel[],3,FALSE),0)","v":0},null,null,null,null,null,null,null,null,null,null,null,null,{"$f":"تفصیلی!B343&\" -- \"&تفصیلی!D343","v":" -- "}]
[null,null,null,null,null,0,null,{"$f":"IF(G346>0,VLOOKUP(G346,moein[کد معین]:moein[شرح معین],2,FALSE),0)","v":0},null,{"$f":"IF(I346>0,VLOOKUP(I346,tafseel[],3,FALSE),0)","v":0},null,null,null,null,null,null,null,null,null,null,null,null,{"$f":"تفصیلی!B344&\" -- \"&تفصیلی!D344","v":" -- "}]
[null,null,null,null,null,0,null,{"$f":"IF(G347>0,VLOOKUP(G347,moein[کد معین]:moein[شرح معین],2,FALSE),0)","v":0},null,{"$f":"IF(I347>0,VLOOKUP(I347,tafseel[],3,FALSE),0)","v":0},null,null,null,null,null,null,null,null,null,null,null,null,{"$f":"تفصیلی!B345&\" -- \"&تفصیلی!D345","v":" -- "}]
[null,null,null,null,null,0,null,{"$f":"IF(G348>0,VLOOKUP(G348,moein[کد معین]:moein[شرح معین],2,FALSE),0)","v":0},null,{"$f":"IF(I348>0,VLOOKUP(I348,tafseel[],3,FALSE),0)","v":0},null,null,null,null,null,null,null,null,null,null,null,null,{"$f":"تفصیلی!B346&\" -- \"&تفصیلی!D346","v":" -- "}]
[null,null,null,null,null,0,null,{"$f":"IF(G349>0,VLOOKUP(G349,moein[کد معین]:moein[شرح معین],2,FALSE),0)","v":0},null,{"$f":"IF(I349>0,VLOOKUP(I349,tafseel[],3,FALSE),0)","v":0},null,null,null,null,null,null,null,null,null,null,null,null,{"$f":"تفصیلی!B347&\" -- \"&تفصیلی!D347","v":" -- "}]
[null,null,null,null,null,0,null,{"$f":"IF(G350>0,VLOOKUP(G350,moein[کد معین]:moein[شرح معین],2,FALSE),0)","v":0},null,{"$f":"IF(I350>0,VLOOKUP(I350,tafseel[],3,FALSE),0)","v":0},null,null,null,null,null,null,null,null,null,null,null,null,{"$f":"تفصیلی!B348&\" -- \"&تفصیلی!D348","v":" -- "}]
[null,null,null,null,null,0,null,{"$f":"IF(G351>0,VLOOKUP(G351,moein[کد معین]:moein[شرح معین],2,FALSE),0)","v":0},null,{"$f":"IF(I351>0,VLOOKUP(I351,tafseel[],3,FALSE),0)","v":0},null,null,null,null,null,null,null,null,null,null,null,null,{"$f":"تفصیلی!B349&\" -- \"&تفصیلی!D349","v":" -- "}]
[null,null,null,null,null,0,null,{"$f":"IF(G352>0,VLOOKUP(G352,moein[کد معین]:moein[شرح معین],2,FALSE),0)","v":0},null,{"$f":"IF(I352>0,VLOOKUP(I352,tafseel[],3,FALSE),0)","v":0},null,null,null,null,null,null,null,null,null,null,null,null,{"$f":"تفصیلی!B350&\" -- \"&تفصیلی!D350","v":" -- "}]
[null,null,null,null,null,0,null,{"$f":"IF(G353>0,VLOOKUP(G353,moein[کد معین]:moein[شرح معین],2,FALSE),0)","v":0},null,{"$f":"IF(I353>0,VLOOKUP(I353,tafseel[],3,FALSE),0)","v":0},null,null,null,null,null,null,null,null,null,null,null,null,{"$f":"تفصیلی!B351&\" -- \"&تفصیلی!D351","v":" -- "}]
[null,null,null,null,null,0,null,{"$f":"IF(G354>0,VLOOKUP(G354,moein[کد معین]:moein[شرح معین],2,FALSE),0)","v":0},null,{"$f":"IF(I354>0,VLOOKUP(I354,tafseel[],3,FALSE),0)","v":0},null,null,null,null,null,null,null,null,null,null,null,null,{"$f":"تفصیلی!B352&\" -- \"&تفصیلی!D352","v":" -- "}]
[null,null,null,null,null,0,null,{"$f":"IF(G355>0,VLOOKUP(G355,moein[کد معین]:moein[شرح معین],2,FALSE),0)","v":0},null,{"$f":"IF(I355>0,VLOOKUP(I355,tafseel[],3,FALSE),0)","v":0},null,null,null,null,null,null,null,null,null,null,null,null,{"$f":"تفصیلی!B353&\" -- \"&تفصیلی!D353","v":" -- "}]
[null,null,null,null,null,0,null,{"$f":"IF(G356>0,VLOOKUP(G356,moein[کد معین]:moein[شرح معین],2,FALSE),0)","v":0},null,{"$f":"IF(I356>0,VLOOKUP(I356,tafseel[],3,FALSE),0)","v":0},null,null,null,null,null,null,null,null,null,null,null,null,{"$f":"تفصیلی!B354&\" -- \"&تفصیلی!D354","v":" -- "}]
[null,null,null,null,null,0,null,{"$f":"IF(G357>0,VLOOKUP(G357,moein[کد معین]:moein[شرح معین],2,FALSE),0)","v":0},null,{"$f":"IF(I357>0,VLOOKUP(I357,tafseel[],3,FALSE),0)","v":0},null,null,null,null,null,null,null,null,null,null,null,null,{"$f":"تفصیلی!B355&\" -- \"&تفصیلی!D355","v":" -- "}]
[null,null,null,null,null,0,null,{"$f":"IF(G358>0,VLOOKUP(G358,moein[کد معین]:moein[شرح معین],2,FALSE),0)","v":0},null,{"$f":"IF(I358>0,VLOOKUP(I358,tafseel[],3,FALSE),0)","v":0},null,null,null,null,null,null,null,null,null,null,null,null,{"$f":"تفصیلی!B356&\" -- \"&تفصیلی!D356","v":" -- "}]
[null,null,null,null,null,0,null,{"$f":"IF(G359>0,VLOOKUP(G359,moein[کد معین]:moein[شرح معین],2,FALSE),0)","v":0},null,{"$f":"IF(I359>0,VLOOKUP(I359,tafseel[],3,FALSE),0)","v":0},null,null,null,null,null,null,null,null,null,null,null,null,{"$f":"تفصیلی!B357&\" -- \"&تفصیلی!D357","v":" -- "}]
[null,null,null,null,null,0,null,{"$f":"IF(G360>0,VLOOKUP(G360,moein[کد معین]:moein[شرح معین],2,FALSE),0)","v":0},null,{"$f":"IF(I360>0,VLOOKUP(I360,tafseel[],3,FALSE),0)","v":0},null,null,null,null,null,null,null,null,null,null,null,null,{"$f":"تفصیلی!B358&\" -- \"&تفصیلی!D358","v":" -- "}]
[null,null,null,null,null,0,null,{"$f":"IF(G361>0,VLOOKUP(G361,moein[کد معین]:moein[شرح معین],2,FALSE),0)","v":0},null,{"$f":"IF(I361>0,VLOOKUP(I361,tafseel[],3,FALSE),0)","v":0},null,null,null,null,null,null,null,null,null,null,null,null,{"$f":"تفصیلی!B359&\" -- \"&تفصیلی!D359","v":" -- "}]
[null,null,null,null,null,0,null,{"$f":"IF(G362>0,VLOOKUP(G362,moein[کد معین]:moein[شرح معین],2,FALSE),0)","v":0},null,{"$f":"IF(I362>0,VLOOKUP(I362,tafseel[],3,FALSE),0)","v":0},null,null,null,null,null,null,null,null,null,null,null,null,{"$f":"تفصیلی!B360&\" -- \"&تفصیلی!D360","v":" -- "}]
[null,null,null,null,null,0,null,{"$f":"IF(G363>0,VLOOKUP(G363,moein[کد معین]:moein[شرح معین],2,FALSE),0)","v":0},null,{"$f":"IF(I363>0,VLOOKUP(I363,tafseel[],3,FALSE),0)","v":0},null,null,null,null,null,null,null,null,null,null,null,null,{"$f":"تفصیلی!B361&\" -- \"&تفصیلی!D361","v":" -- "}]
[null,null,null,null,null,0,null,{"$f":"IF(G364>0,VLOOKUP(G364,moein[کد معین]:moein[شرح معین],2,FALSE),0)","v":0},null,{"$f":"IF(I364>0,VLOOKUP(I364,tafseel[],3,FALSE),0)","v":0},null,null,null,null,null,null,null,null,null,null,null,null,{"$f":"تفصیلی!B362&\" -- \"&تفصیلی!D362","v":" -- "}]
[null,null,null,null,null,0,null,{"$f":"IF(G365>0,VLOOKUP(G365,moein[کد معین]:moein[شرح معین],2,FALSE),0)","v":0},null,{"$f":"IF(I365>0,VLOOKUP(I365,tafseel[],3,FALSE),0)","v":0},null,null,null,null,null,null,null,null,null,null,null,null,{"$f":"تفصیلی!B363&\" -- \"&تفصیلی!D363","v":" -- "}]
[null,null,null,null,null,0,null,{"$f":"IF(G366>0,VLOOKUP(G366,moein[کد معین]:moein[شرح معین],2,FALSE),0)","v":0},null,{"$f":"IF(I366>0,VLOOKUP(I366,tafseel[],3,FALSE),0)","v":0},null,null,null,null,null,null,null,null,null,null,null,null,{"$f":"تفصیلی!B364&\" -- \"&تفصیلی!D364","v":" -- "}]
[null,null,null,null,null,0,null,{"$f":"IF(G367>0,VLOOKUP(G367,moein[کد معین]:moein[شرح معین],2,FALSE),0)","v":0},null,{"$f":"IF(I367>0,VLOOKUP(I367,tafseel[],3,FALSE),0)","v":0},null,null,null,null,null,null,null,null,null,null,null,null,{"$f":"تفصیلی!B365&\" -- \"&تفصیلی!D365","v":" -- "}]
[null,null,null,null,null,0,null,{"$f":"IF(G368>0,VLOOKUP(G368,moein[کد معین]:moein[شرح معین],2,FALSE),0)","v":0},null,{"$f":"IF(I368>0,VLOOKUP(I368,tafseel[],3,FALSE),0)","v":0},null,null,null,null,null,null,null,null,null,null,null,null,{"$f":"تفصیلی!B366&\" -- \"&تفصیلی!D366","v":" -- "}]
[null,null,null,null,null,0,null,{"$f":"IF(G369>0,VLOOKUP(G369,moein[کد معین]:moein[شرح معین],2,FALSE),0)","v":0},null,{"$f":"IF(I369>0,VLOOKUP(I369,tafseel[],3,FALSE),0)","v":0},null,null,null,null,null,null,null,null,null,null,null,null,{"$f":"تفصیلی!B367&\" -- \"&تفصیلی!D367","v":" -- "}]
[null,null,null,null,null,0,null,{"$f":"IF(G370>0,VLOOKUP(G370,moein[کد معین]:moein[شرح معین],2,FALSE),0)","v":0},null,{"$f":"IF(I370>0,VLOOKUP(I370,tafseel[],3,FALSE),0)","v":0},null,null,null,null,null,null,null,null,null,null,null,null,{"$f":"تفصیلی!B368&\" -- \"&تفصیلی!D368","v":" -- "}]
[null,null,null,null,null,0,null,{"$f":"IF(G371>0,VLOOKUP(G371,moein[کد معین]:moein[شرح معین],2,FALSE),0)","v":0},null,{"$f":"IF(I371>0,VLOOKUP(I371,tafseel[],3,FALSE),0)","v":0},null,null,null,null,null,null,null,null,null,null,null,null,{"$f":"تفصیلی!B369&\" -- \"&تفصیلی!D369","v":" -- "}]
[null,null,null,null,null,0,null,{"$f":"IF(G372>0,VLOOKUP(G372,moein[کد معین]:moein[شرح معین],2,FALSE),0)","v":0},null,{"$f":"IF(I372>0,VLOOKUP(I372,tafseel[],3,FALSE),0)","v":0},null,null,null,null,null,null,null,null,null,null,null,null,{"$f":"تفصیلی!B370&\" -- \"&تفصیلی!D370","v":" -- "}]
[null,null,null,null,null,0,null,{"$f":"IF(G373>0,VLOOKUP(G373,moein[کد معین]:moein[شرح معین],2,FALSE),0)","v":0},null,{"$f":"IF(I373>0,VLOOKUP(I373,tafseel[],3,FALSE),0)","v":0},null,null,null,null,null,null,null,null,null,null,null,null,{"$f":"تفصیلی!B371&\" -- \"&تفصیلی!D371","v":" -- "}]
[null,null,null,null,null,0,null,{"$f":"IF(G374>0,VLOOKUP(G374,moein[کد معین]:moein[شرح معین],2,FALSE),0)","v":0},null,{"$f":"IF(I374>0,VLOOKUP(I374,tafseel[],3,FALSE),0)","v":0},null,null,null,null,null,null,null,null,null,null,null,null,{"$f":"تفصیلی!B372&\" -- \"&تفصیلی!D372","v":" -- "}]
[null,null,null,null,null,0,null,{"$f":"IF(G375>0,VLOOKUP(G375,moein[کد معین]:moein[شرح معین],2,FALSE),0)","v":0},null,{"$f":"IF(I375>0,VLOOKUP(I375,tafseel[],3,FALSE),0)","v":0},null,null,null,null,null,null,null,null,null,null,null,null,{"$f":"تفصیلی!B373&\" -- \"&تفصیلی!D373","v":" -- "}]
[null,null,null,null,null,0,null,{"$f":"IF(G376>0,VLOOKUP(G376,moein[کد معین]:moein[شرح معین],2,FALSE),0)","v":0},null,{"$f":"IF(I376>0,VLOOKUP(I376,tafseel[],3,FALSE),0)","v":0},null,null,null,null,null,null,null,null,null,null,null,null,{"$f":"تفصیلی!B374&\" -- \"&تفصیلی!D374","v":" -- "}]
[null,null,null,null,null,0,null,{"$f":"IF(G377>0,VLOOKUP(G377,moein[کد معین]:moein[شرح معین],2,FALSE),0)","v":0},null,{"$f":"IF(I377>0,VLOOKUP(I377,tafseel[],3,FALSE),0)","v":0},null,null,null,null,null,null,null,null,null,null,null,null,{"$f":"تفصیلی!B375&\" -- \"&تفصیلی!D375","v":" -- "}]
[null,null,null,null,null,0,null,{"$f":"IF(G378>0,VLOOKUP(G378,moein[کد معین]:moein[شرح معین],2,FALSE),0)","v":0},null,{"$f":"IF(I378>0,VLOOKUP(I378,tafseel[],3,FALSE),0)","v":0},null,null,null,null,null,null,null,null,null,null,null,null,{"$f":"تفصیلی!B376&\" -- \"&تفصیلی!D376","v":" -- "}]
[null,null,null,null,null,0,null,{"$f":"IF(G379>0,VLOOKUP(G379,moein[کد معین]:moein[شرح معین],2,FALSE),0)","v":0},null,{"$f":"IF(I379>0,VLOOKUP(I379,tafseel[],3,FALSE),0)","v":0},null,null,null,null,null,null,null,null,null,null,null,null,{"$f":"تفصیلی!B377&\" -- \"&تفصیلی!D377","v":" -- "}]
[null,null,null,null,null,0,null,{"$f":"IF(G380>0,VLOOKUP(G380,moein[کد معین]:moein[شرح معین],2,FALSE),0)","v":0},null,{"$f":"IF(I380>0,VLOOKUP(I380,tafseel[],3,FALSE),0)","v":0},null,null,null,null,null,null,null,null,null,null,null,null,{"$f":"تفصیلی!B378&\" -- \"&تفصیلی!D378","v":" -- "}]
[null,null,null,null,null,0,null,{"$f":"IF(G381>0,VLOOKUP(G381,moein[کد معین]:moein[شرح معین],2,FALSE),0)","v":0},null,{"$f":"IF(I381>0,VLOOKUP(I381,tafseel[],3,FALSE),0)","v":0},null,null,null,null,null,null,null,null,null,null,null,null,{"$f":"تفصیلی!B379&\" -- \"&تفصیلی!D379","v":" -- "}]
[null,null,null,null,null,0,null,{"$f":"IF(G382>0,VLOOKUP(G382,moein[کد معین]:moein[شرح معین],2,FALSE),0)","v":0},null,{"$f":"IF(I382>0,VLOOKUP(I382,tafseel[],3,FALSE),0)","v":0},null,null,null,null,null,null,null,null,null,null,null,null,{"$f":"تفصیلی!B380&\" -- \"&تفصیلی!D380","v":" -- "}]
[null,null,null,null,null,0,null,{"$f":"IF(G383>0,VLOOKUP(G383,moein[کد معین]:moein[شرح معین],2,FALSE),0)","v":0},null,{"$f":"IF(I383>0,VLOOKUP(I383,tafseel[],3,FALSE),0)","v":0},null,null,null,null,null,null,null,null,null,null,null,null,{"$f":"تفصیلی!B381&\" -- \"&تفصیلی!D381","v":" -- "}]
[null,null,null,null,null,0,null,{"$f":"IF(G384>0,VLOOKUP(G384,moein[کد معین]:moein[شرح معین],2,FALSE),0)","v":0},null,{"$f":"IF(I384>0,VLOOKUP(I384,tafseel[],3,FALSE),0)","v":0},null,null,null,null,null,null,null,null,null,null,null,null,{"$f":"تفصیلی!B382&\" -- \"&تفصیلی!D382","v":" -- "}]
[null,null,null,null,null,0,null,{"$f":"IF(G385>0,VLOOKUP(G385,moein[کد معین]:moein[شرح معین],2,FALSE),0)","v":0},null,{"$f":"IF(I385>0,VLOOKUP(I385,tafseel[],3,FALSE),0)","v":0},null,null,null,null,null,null,null,null,null,null,null,null,{"$f":"تفصیلی!B383&\" -- \"&تفصیلی!D383","v":" -- "}]
[null,null,null,null,null,0,null,{"$f":"IF(G386>0,VLOOKUP(G386,moein[کد معین]:moein[شرح معین],2,FALSE),0)","v":0},null,{"$f":"IF(I386>0,VLOOKUP(I386,tafseel[],3,FALSE),0)","v":0},null,null,null,null,null,null,null,null,null,null,null,null,{"$f":"تفصیلی!B384&\" -- \"&تفصیلی!D384","v":" -- "}]
[null,null,null,null,null,0,null,{"$f":"IF(G387>0,VLOOKUP(G387,moein[کد معین]:moein[شرح معین],2,FALSE),0)","v":0},null,{"$f":"IF(I387>0,VLOOKUP(I387,tafseel[],3,FALSE),0)","v":0},null,null,null,null,null,null,null,null,null,null,null,null,{"$f":"تفصیلی!B385&\" -- \"&تفصیلی!D385","v":" -- "}]
[null,null,null,null,null,0,null,{"$f":"IF(G388>0,VLOOKUP(G388,moein[کد معین]:moein[شرح معین],2,FALSE),0)","v":0},null,{"$f":"IF(I388>0,VLOOKUP(I388,tafseel[],3,FALSE),0)","v":0},null,null,null,null,null,null,null,null,null,null,null,null,{"$f":"تفصیلی!B386&\" -- \"&تفصیلی!D386","v":" -- "}]
[null,null,null,null,null,0,null,{"$f":"IF(G389>0,VLOOKUP(G389,moein[کد معین]:moein[شرح معین],2,FALSE),0)","v":0},null,{"$f":"IF(I389>0,VLOOKUP(I389,tafseel[],3,FALSE),0)","v":0},null,null,null,null,null,null,null,null,null,null,null,null,{"$f":"تفصیلی!B387&\" -- \"&تفصیلی!D387","v":" -- "}]
[null,null,null,null,null,{"$f":"IF(E390>0,VLOOKUP(E390,koli,2,FALSE),0)","v":0},null,{"$f":"IF(G390>0,VLOOKUP(G390,moein[کد معین]:moein[شرح معین],2,FALSE),0)","v":0},null,{"$f":"IF(I390>0,VLOOKUP(I390,tafseel[],3,FALSE),0)","v":0},null,null,null,null,null,null,null,null,null,null,null,null,{"$f":"تفصیلی!B388&\" -- \"&تفصیلی!D388","v":" -- "}]
[null,null,null,null,null,0,null,{"$f":"IF(G391>0,VLOOKUP(G391,moein[کد معین]:moein[شرح معین],2,FALSE),0)","v":0},null,{"$f":"IF(I391>0,VLOOKUP(I391,tafseel[],3,FALSE),0)","v":0},null,null,null,null,null,null,null,null,null,null,null,null,{"$f":"تفصیلی!B389&\" -- \"&تفصیلی!D389","v":" -- "}]
[null,null,null,null,null,0,null,{"$f":"IF(G392>0,VLOOKUP(G392,moein[کد معین]:moein[شرح معین],2,FALSE),0)","v":0},null,{"$f":"IF(I392>0,VLOOKUP(I392,tafseel[],3,FALSE),0)","v":0},null,null,null,null,null,null,null,null,null,null,null,null,{"$f":"تفصیلی!B390&\" -- \"&تفصیلی!D390","v":" -- "}]
[null,null,null,null,null,0,null,{"$f":"IF(G393>0,VLOOKUP(G393,moein[کد معین]:moein[شرح معین],2,FALSE),0)","v":0},null,{"$f":"IF(I393>0,VLOOKUP(I393,tafseel[],3,FALSE),0)","v":0},null,null,null,null,null,null,null,null,null,null,null,null,{"$f":"تفصیلی!B391&\" -- \"&تفصیلی!D391","v":" -- "}]
[null,null,null,null,null,0,null,{"$f":"IF(G394>0,VLOOKUP(G394,moein[کد معین]:moein[شرح معین],2,FALSE),0)","v":0},null,{"$f":"IF(I394>0,VLOOKUP(I394,tafseel[],3,FALSE),0)","v":0},null,null,null,null,null,null,null,null,null,null,null,null,{"$f":"تفصیلی!B392&\" -- \"&تفصیلی!D392","v":" -- "}]
[null,null,null,null,null,0,null,{"$f":"IF(G395>0,VLOOKUP(G395,moein[کد معین]:moein[شرح معین],2,FALSE),0)","v":0},null,{"$f":"IF(I395>0,VLOOKUP(I395,tafseel[],3,FALSE),0)","v":0},null,null,null,null,null,null,null,null,null,null,null,null,{"$f":"تفصیلی!B393&\" -- \"&تفصیلی!D393","v":" -- "}]
[null,null,null,null,null,0,null,{"$f":"IF(G396>0,VLOOKUP(G396,moein[کد معین]:moein[شرح معین],2,FALSE),0)","v":0},null,{"$f":"IF(I396>0,VLOOKUP(I396,tafseel[],3,FALSE),0)","v":0},null,null,null,null,null,null,null,null,null,null,null,null,{"$f":"تفصیلی!B394&\" -- \"&تفصیلی!D394","v":" -- "}]
[null,null,null,null,null,0,null,{"$f":"IF(G397>0,VLOOKUP(G397,moein[کد معین]:moein[شرح معین],2,FALSE),0)","v":0},null,{"$f":"IF(I397>0,VLOOKUP(I397,tafseel[],3,FALSE),0)","v":0},null,null,null,null,null,null,null,null,null,null,null,null,{"$f":"تفصیلی!B395&\" -- \"&تفصیلی!D395","v":" -- "}]
[null,null,null,null,null,0,null,{"$f":"IF(G398>0,VLOOKUP(G398,moein[کد معین]:moein[شرح معین],2,FALSE),0)","v":0},null,{"$f":"IF(I398>0,VLOOKUP(I398,tafseel[],3,FALSE),0)","v":0},null,null,null,null,null,null,null,null,null,null,null,null,{"$f":"تفصیلی!B396&\" -- \"&تفصیلی!D396","v":" -- "}]
[null,null,null,null,null,0,null,{"$f":"IF(G399>0,VLOOKUP(G399,moein[کد معین]:moein[شرح معین],2,FALSE),0)","v":0},null,{"$f":"IF(I399>0,VLOOKUP(I399,tafseel[],3,FALSE),0)","v":0},null,null,null,null,null,null,null,null,null,null,null,null,{"$f":"تفصیلی!B397&\" -- \"&تفصیلی!D397","v":" -- "}]
[null,null,null,null,null,0,null,{"$f":"IF(G400>0,VLOOKUP(G400,moein[کد معین]:moein[شرح معین],2,FALSE),0)","v":0},null,{"$f":"IF(I400>0,VLOOKUP(I400,tafseel[],3,FALSE),0)","v":0},null,null,null,null,null,null,null,null,null,null,null,null,{"$f":"تفصیلی!B398&\" -- \"&تفصیلی!D398","v":" -- "}]
[null,null,null,null,null,0,null,{"$f":"IF(G401>0,VLOOKUP(G401,moein[کد معین]:moein[شرح معین],2,FALSE),0)","v":0},null,{"$f":"IF(I401>0,VLOOKUP(I401,tafseel[],3,FALSE),0)","v":0},null,null,null,null,null,null,null,null,null,null,null,null,{"$f":"تفصیلی!B399&\" -- \"&تفصیلی!D399","v":" -- "}]
[null,null,null,null,null,0,null,{"$f":"IF(G402>0,VLOOKUP(G402,moein[کد معین]:moein[شرح معین],2,FALSE),0)","v":0},null,{"$f":"IF(I402>0,VLOOKUP(I402,tafseel[],3,FALSE),0)","v":0},null,null,null,null,null,null,null,null,null,null,null,null,{"$f":"تفصیلی!B400&\" -- \"&تفصیلی!D400","v":" -- "}]
[null,null,null,null,null,0,null,{"$f":"IF(G403>0,VLOOKUP(G403,moein[کد معین]:moein[شرح معین],2,FALSE),0)","v":0},null,{"$f":"IF(I403>0,VLOOKUP(I403,tafseel[],3,FALSE),0)","v":0},null,null,null,null,null,null,null,null,null,null,null,null,{"$f":"تفصیلی!B401&\" -- \"&تفصیلی!D401","v":" -- "}]
[null,null,null,null,null,0,null,{"$f":"IF(G404>0,VLOOKUP(G404,moein[کد معین]:moein[شرح معین],2,FALSE),0)","v":0},null,{"$f":"IF(I404>0,VLOOKUP(I404,tafseel[],3,FALSE),0)","v":0},null,null,null,null,null,null,null,null,null,null,null,null,{"$f":"تفصیلی!B402&\" -- \"&تفصیلی!D402","v":" -- "}]
[null,null,null,null,null,0,null,{"$f":"IF(G405>0,VLOOKUP(G405,moein[کد معین]:moein[شرح معین],2,FALSE),0)","v":0},null,{"$f":"IF(I405>0,VLOOKUP(I405,tafseel[],3,FALSE),0)","v":0},null,null,null,null,null,null,null,null,null,null,null,null,{"$f":"تفصیلی!B403&\" -- \"&تفصیلی!D403","v":" -- "}]
[null,null,null,null,null,0,null,{"$f":"IF(G406>0,VLOOKUP(G406,moein[کد معین]:moein[شرح معین],2,FALSE),0)","v":0},null,{"$f":"IF(I406>0,VLOOKUP(I406,tafseel[],3,FALSE),0)","v":0},null,null,null,null,null,null,null,null,null,null,null,null,{"$f":"تفصیلی!B404&\" -- \"&تفصیلی!D404","v":" -- "}]
[null,null,null,null,null,0,null,{"$f":"IF(G407>0,VLOOKUP(G407,moein[کد معین]:moein[شرح معین],2,FALSE),0)","v":0},null,{"$f":"IF(I407>0,VLOOKUP(I407,tafseel[],3,FALSE),0)","v":0},null,null,null,null,null,null,null,null,null,null,null,null,{"$f":"تفصیلی!B405&\" -- \"&تفصیلی!D405","v":" -- "}]
[null,null,null,null,null,0,null,{"$f":"IF(G408>0,VLOOKUP(G408,moein[کد معین]:moein[شرح معین],2,FALSE),0)","v":0},null,{"$f":"IF(I408>0,VLOOKUP(I408,tafseel[],3,FALSE),0)","v":0},null,null,null,null,null,null,null,null,null,null,null,null,{"$f":"تفصیلی!B406&\" -- \"&تفصیلی!D406","v":" -- "}]
[null,null,null,null,null,0,null,{"$f":"IF(G409>0,VLOOKUP(G409,moein[کد معین]:moein[شرح معین],2,FALSE),0)","v":0},null,{"$f":"IF(I409>0,VLOOKUP(I409,tafseel[],3,FALSE),0)","v":0},null,null,null,null,null,null,null,null,null,null,null,null,{"$f":"تفصیلی!B407&\" -- \"&تفصیلی!D407","v":" -- "}]
[null,null,null,null,null,0,null,{"$f":"IF(G410>0,VLOOKUP(G410,moein[کد معین]:moein[شرح معین],2,FALSE),0)","v":0},null,{"$f":"IF(I410>0,VLOOKUP(I410,tafseel[],3,FALSE),0)","v":0},null,null,null,null,null,null,null,null,null,null,null,null,{"$f":"تفصیلی!B408&\" -- \"&تفصیلی!D408","v":" -- "}]
[null,null,null,null,null,0,null,{"$f":"IF(G411>0,VLOOKUP(G411,moein[کد معین]:moein[شرح معین],2,FALSE),0)","v":0},null,{"$f":"IF(I411>0,VLOOKUP(I411,tafseel[],3,FALSE),0)","v":0},null,null,null,null,null,null,null,null,null,null,null,null,{"$f":"تفصیلی!B409&\" -- \"&تفصیلی!D409","v":" -- "}]
[null,null,null,null,null,0,null,{"$f":"IF(G412>0,VLOOKUP(G412,moein[کد معین]:moein[شرح معین],2,FALSE),0)","v":0},null,{"$f":"IF(I412>0,VLOOKUP(I412,tafseel[],3,FALSE),0)","v":0},null,null,null,null,null,null,null,null,null,null,null,null,{"$f":"تفصیلی!B410&\" -- \"&تفصیلی!D410","v":" -- "}]
[null,null,null,null,null,0,null,{"$f":"IF(G413>0,VLOOKUP(G413,moein[کد معین]:moein[شرح معین],2,FALSE),0)","v":0},null,{"$f":"IF(I413>0,VLOOKUP(I413,tafseel[],3,FALSE),0)","v":0},null,null,null,null,null,null,null,null,null,null,null,null,{"$f":"تفصیلی!B411&\" -- \"&تفصیلی!D411","v":" -- "}]
[null,null,null,null,null,0,null,{"$f":"IF(G414>0,VLOOKUP(G414,moein[کد معین]:moein[شرح معین],2,FALSE),0)","v":0},null,{"$f":"IF(I414>0,VLOOKUP(I414,tafseel[],3,FALSE),0)","v":0},null,null,null,null,null,null,null,null,null,null,null,null,{"$f":"تفصیلی!B412&\" -- \"&تفصیلی!D412","v":" -- "}]
[null,null,null,null,null,0,null,{"$f":"IF(G415>0,VLOOKUP(G415,moein[کد معین]:moein[شرح معین],2,FALSE),0)","v":0},null,{"$f":"IF(I415>0,VLOOKUP(I415,tafseel[],3,FALSE),0)","v":0},null,null,null,null,null,null,null,null,null,null,null,null,{"$f":"تفصیلی!B413&\" -- \"&تفصیلی!D413","v":" -- "}]
[null,null,null,null,null,0,null,{"$f":"IF(G416>0,VLOOKUP(G416,moein[کد معین]:moein[شرح معین],2,FALSE),0)","v":0},null,{"$f":"IF(I416>0,VLOOKUP(I416,tafseel[],3,FALSE),0)","v":0},null,null,null,null,null,null,null,null,null,null,null,null,{"$f":"تفصیلی!B414&\" -- \"&تفصیلی!D414","v":" -- "}]
[null,null,null,null,null,0,null,{"$f":"IF(G417>0,VLOOKUP(G417,moein[کد معین]:moein[شرح معین],2,FALSE),0)","v":0},null,{"$f":"IF(I417>0,VLOOKUP(I417,tafseel[],3,FALSE),0)","v":0},null,null,null,null,null,null,null,null,null,null,null,null,{"$f":"تفصیلی!B415&\" -- \"&تفصیلی!D415","v":" -- "}]
[null,null,null,null,null,0,null,{"$f":"IF(G418>0,VLOOKUP(G418,moein[کد معین]:moein[شرح معین],2,FALSE),0)","v":0},null,{"$f":"IF(I418>0,VLOOKUP(I418,tafseel[],3,FALSE),0)","v":0},null,null,null,null,null,null,null,null,null,null,null,null,{"$f":"تفصیلی!B416&\" -- \"&تفصیلی!D416","v":" -- "}]
[null,null,null,null,null,0,null,{"$f":"IF(G419>0,VLOOKUP(G419,moein[کد معین]:moein[شرح معین],2,FALSE),0)","v":0},null,{"$f":"IF(I419>0,VLOOKUP(I419,tafseel[],3,FALSE),0)","v":0},null,null,null,null,null,null,null,null,null,null,null,null,{"$f":"تفصیلی!B417&\" -- \"&تفصیلی!D417","v":" -- "}]
[null,null,null,null,null,0,null,{"$f":"IF(G420>0,VLOOKUP(G420,moein[کد معین]:moein[شرح معین],2,FALSE),0)","v":0},null,{"$f":"IF(I420>0,VLOOKUP(I420,tafseel[],3,FALSE),0)","v":0},null,null,null,null,null,null,null,null,null,null,null,null,{"$f":"تفصیلی!B418&\" -- \"&تفصیلی!D418","v":" -- "}]
[null,null,null,null,null,0,null,{"$f":"IF(G421>0,VLOOKUP(G421,moein[کد معین]:moein[شرح معین],2,FALSE),0)","v":0},null,{"$f":"IF(I421>0,VLOOKUP(I421,tafseel[],3,FALSE),0)","v":0},null,null,null,null,null,null,null,null,null,null,null,null,{"$f":"تفصیلی!B419&\" -- \"&تفصیلی!D419","v":" -- "}]
[null,null,null,null,null,0,null,{"$f":"IF(G422>0,VLOOKUP(G422,moein[کد معین]:moein[شرح معین],2,FALSE),0)","v":0},null,{"$f":"IF(I422>0,VLOOKUP(I422,tafseel[],3,FALSE),0)","v":0},null,null,null,null,null,null,null,null,null,null,null,null,{"$f":"تفصیلی!B420&\" -- \"&تفصیلی!D420","v":" -- "}]
[null,null,null,null,null,0,null,{"$f":"IF(G423>0,VLOOKUP(G423,moein[کد معین]:moein[شرح معین],2,FALSE),0)","v":0},null,{"$f":"IF(I423>0,VLOOKUP(I423,tafseel[],3,FALSE),0)","v":0},null,null,null,null,null,null,null,null,null,null,null,null,{"$f":"تفصیلی!B421&\" -- \"&تفصیلی!D421","v":" -- "}]
[null,null,null,null,null,0,null,{"$f":"IF(G424>0,VLOOKUP(G424,moein[کد معین]:moein[شرح معین],2,FALSE),0)","v":0},null,{"$f":"IF(I424>0,VLOOKUP(I424,tafseel[],3,FALSE),0)","v":0},null,null,null,null,null,null,null,null,null,null,null,null,{"$f":"تفصیلی!B422&\" -- \"&تفصیلی!D422","v":" -- "}]
[null,null,null,null,null,0,null,{"$f":"IF(G425>0,VLOOKUP(G425,moein[کد معین]:moein[شرح معین],2,FALSE),0)","v":0},null,{"$f":"IF(I425>0,VLOOKUP(I425,tafseel[],3,FALSE),0)","v":0},null,null,null,null,null,null,null,null,null,null,null,null,{"$f":"تفصیلی!B423&\" -- \"&تفصیلی!D423","v":" -- "}]
[null,null,null,null,null,0,null,{"$f":"IF(G426>0,VLOOKUP(G426,moein[کد معین]:moein[شرح معین],2,FALSE),0)","v":0},null,{"$f":"IF(I426>0,VLOOKUP(I426,tafseel[],3,FALSE),0)","v":0},null,null,null,null,null,null,null,null,null,null,null,null,{"$f":"تفصیلی!B424&\" -- \"&تفصیلی!D424","v":" -- "}]
[null,null,null,null,null,0,null,{"$f":"IF(G427>0,VLOOKUP(G427,moein[کد معین]:moein[شرح معین],2,FALSE),0)","v":0},null,{"$f":"IF(I427>0,VLOOKUP(I427,tafseel[],3,FALSE),0)","v":0},null,null,null,null,null,null,null,null,null,null,null,null,{"$f":"تفصیلی!B425&\" -- \"&تفصیلی!D425","v":" -- "}]
[null,null,null,null,null,0,null,{"$f":"IF(G428>0,VLOOKUP(G428,moein[کد معین]:moein[شرح معین],2,FALSE),0)","v":0},null,{"$f":"IF(I428>0,VLOOKUP(I428,tafseel[],3,FALSE),0)","v":0},null,null,null,null,null,null,null,null,null,null,null,null,{"$f":"تفصیلی!B426&\" -- \"&تفصیلی!D426","v":" -- "}]
[null,null,null,null,null,0,null,{"$f":"IF(G429>0,VLOOKUP(G429,moein[کد معین]:moein[شرح معین],2,FALSE),0)","v":0},null,{"$f":"IF(I429>0,VLOOKUP(I429,tafseel[],3,FALSE),0)","v":0},null,null,null,null,null,null,null,null,null,null,null,null,{"$f":"تفصیلی!B427&\" -- \"&تفصیلی!D427","v":" -- "}]
[null,null,null,null,null,0,null,{"$f":"IF(G430>0,VLOOKUP(G430,moein[کد معین]:moein[شرح معین],2,FALSE),0)","v":0},null,{"$f":"IF(I430>0,VLOOKUP(I430,tafseel[],3,FALSE),0)","v":0},null,null,null,null,null,null,null,null,null,null,null,null,{"$f":"تفصیلی!B428&\" -- \"&تفصیلی!D428","v":" -- "}]
[null,null,null,null,null,0,null,{"$f":"IF(G431>0,VLOOKUP(G431,moein[کد معین]:moein[شرح معین],2,FALSE),0)","v":0},null,{"$f":"IF(I431>0,VLOOKUP(I431,tafseel[],3,FALSE),0)","v":0},null,null,null,null,null,null,null,null,null,null,null,null,{"$f":"تفصیلی!B429&\" -- \"&تفصیلی!D429","v":" -- "}]
[null,null,null,null,null,0,null,{"$f":"IF(G432>0,VLOOKUP(G432,moein[کد معین]:moein[شرح معین],2,FALSE),0)","v":0},null,{"$f":"IF(I432>0,VLOOKUP(I432,tafseel[],3,FALSE),0)","v":0},null,null,null,null,null,null,null,null,null,null,null,null,{"$f":"تفصیلی!B430&\" -- \"&تفصیلی!D430","v":" -- "}]
[null,null,null,null,null,0,null,{"$f":"IF(G433>0,VLOOKUP(G433,moein[کد معین]:moein[شرح معین],2,FALSE),0)","v":0},null,{"$f":"IF(I433>0,VLOOKUP(I433,tafseel[],3,FALSE),0)","v":0},null,null,null,null,null,null,null,null,null,null,null,null,{"$f":"تفصیلی!B431&\" -- \"&تفصیلی!D431","v":" -- "}]
[null,null,null,null,null,0,null,{"$f":"IF(G434>0,VLOOKUP(G434,moein[کد معین]:moein[شرح معین],2,FALSE),0)","v":0},null,{"$f":"IF(I434>0,VLOOKUP(I434,tafseel[],3,FALSE),0)","v":0},null,null,null,null,null,null,null,null,null,null,null,null,{"$f":"تفصیلی!B432&\" -- \"&تفصیلی!D432","v":" -- "}]
[null,null,null,null,null,0,null,{"$f":"IF(G435>0,VLOOKUP(G435,moein[کد معین]:moein[شرح معین],2,FALSE),0)","v":0},null,{"$f":"IF(I435>0,VLOOKUP(I435,tafseel[],3,FALSE),0)","v":0},null,null,null,null,null,null,null,null,null,null,null,null,{"$f":"تفصیلی!B433&\" -- \"&تفصیلی!D433","v":" -- "}]
[null,null,null,null,null,0,null,{"$f":"IF(G436>0,VLOOKUP(G436,moein[کد معین]:moein[شرح معین],2,FALSE),0)","v":0},null,{"$f":"IF(I436>0,VLOOKUP(I436,tafseel[],3,FALSE),0)","v":0},null,null,null,null,null,null,null,null,null,null,null,null,{"$f":"تفصیلی!B434&\" -- \"&تفصیلی!D434","v":" -- "}]
[null,null,null,null,null,0,null,{"$f":"IF(G437>0,VLOOKUP(G437,moein[کد معین]:moein[شرح معین],2,FALSE),0)","v":0},null,{"$f":"IF(I437>0,VLOOKUP(I437,tafseel[],3,FALSE),0)","v":0},null,null,null,null,null,null,null,null,null,null,null,null,{"$f":"تفصیلی!B435&\" -- \"&تفصیلی!D435","v":" -- "}]
[null,null,null,null,null,0,null,{"$f":"IF(G438>0,VLOOKUP(G438,moein[کد معین]:moein[شرح معین],2,FALSE),0)","v":0},null,{"$f":"IF(I438>0,VLOOKUP(I438,tafseel[],3,FALSE),0)","v":0},null,null,null,null,null,null,null,null,null,null,null,null,{"$f":"تفصیلی!B436&\" -- \"&تفصیلی!D436","v":" -- "}]
[null,null,null,null,null,0,null,{"$f":"IF(G439>0,VLOOKUP(G439,moein[کد معین]:moein[شرح معین],2,FALSE),0)","v":0},null,{"$f":"IF(I439>0,VLOOKUP(I439,tafseel[],3,FALSE),0)","v":0},null,null,null,null,null,null,null,null,null,null,null,null,{"$f":"تفصیلی!B437&\" -- \"&تفصیلی!D437","v":" -- "}]
[null,null,null,null,null,0,null,{"$f":"IF(G440>0,VLOOKUP(G440,moein[کد معین]:moein[شرح معین],2,FALSE),0)","v":0},null,{"$f":"IF(I440>0,VLOOKUP(I440,tafseel[],3,FALSE),0)","v":0},null,null,null,null,null,null,null,null,null,null,null,null,{"$f":"تفصیلی!B438&\" -- \"&تفصیلی!D438","v":" -- "}]
[null,null,null,null,null,0,null,{"$f":"IF(G441>0,VLOOKUP(G441,moein[کد معین]:moein[شرح معین],2,FALSE),0)","v":0},null,{"$f":"IF(I441>0,VLOOKUP(I441,tafseel[],3,FALSE),0)","v":0},null,null,null,null,null,null,null,null,null,null,null,null,{"$f":"تفصیلی!B439&\" -- \"&تفصیلی!D439","v":" -- "}]
[null,null,null,null,null,0,null,{"$f":"IF(G442>0,VLOOKUP(G442,moein[کد معین]:moein[شرح معین],2,FALSE),0)","v":0},null,{"$f":"IF(I442>0,VLOOKUP(I442,tafseel[],3,FALSE),0)","v":0},null,null,null,null,null,null,null,null,null,null,null,null,{"$f":"تفصیلی!B440&\" -- \"&تفصیلی!D440","v":" -- "}]
[null,null,null,null,null,0,null,{"$f":"IF(G443>0,VLOOKUP(G443,moein[کد معین]:moein[شرح معین],2,FALSE),0)","v":0},null,{"$f":"IF(I443>0,VLOOKUP(I443,tafseel[],3,FALSE),0)","v":0},null,null,null,null,null,null,null,null,null,null,null,null,{"$f":"تفصیلی!B441&\" -- \"&تفصیلی!D441","v":" -- "}]
[null,null,null,null,null,0,null,{"$f":"IF(G444>0,VLOOKUP(G444,moein[کد معین]:moein[شرح معین],2,FALSE),0)","v":0},null,{"$f":"IF(I444>0,VLOOKUP(I444,tafseel[],3,FALSE),0)","v":0},null,null,null,null,null,null,null,null,null,null,null,null,{"$f":"تفصیلی!B442&\" -- \"&تفصیلی!D442","v":" -- "}]
[null,null,null,null,null,0,null,{"$f":"IF(G445>0,VLOOKUP(G445,moein[کد معین]:moein[شرح معین],2,FALSE),0)","v":0},null,{"$f":"IF(I445>0,VLOOKUP(I445,tafseel[],3,FALSE),0)","v":0},null,null,null,null,null,null,null,null,null,null,null,null,{"$f":"تفصیلی!B443&\" -- \"&تفصیلی!D443","v":" -- "}]
[null,null,null,null,null,0,null,{"$f":"IF(G446>0,VLOOKUP(G446,moein[کد معین]:moein[شرح معین],2,FALSE),0)","v":0},null,{"$f":"IF(I446>0,VLOOKUP(I446,tafseel[],3,FALSE),0)","v":0},null,null,null,null,null,null,null,null,null,null,null,null,{"$f":"تفصیلی!B444&\" -- \"&تفصیلی!D444","v":" -- "}]
[null,null,null,null,null,0,null,{"$f":"IF(G447>0,VLOOKUP(G447,moein[کد معین]:moein[شرح معین],2,FALSE),0)","v":0},null,{"$f":"IF(I447>0,VLOOKUP(I447,tafseel[],3,FALSE),0)","v":0},null,null,null,null,null,null,null,null,null,null,null,null,{"$f":"تفصیلی!B445&\" -- \"&تفصیلی!D445","v":" -- "}]
[null,null,null,null,null,0,null,{"$f":"IF(G448>0,VLOOKUP(G448,moein[کد معین]:moein[شرح معین],2,FALSE),0)","v":0},null,{"$f":"IF(I448>0,VLOOKUP(I448,tafseel[],3,FALSE),0)","v":0},null,null,null,null,null,null,null,null,null,null,null,null,{"$f":"تفصیلی!B446&\" -- \"&تفصیلی!D446","v":" -- "}]
[null,null,null,null,null,0,null,{"$f":"IF(G449>0,VLOOKUP(G449,moein[کد معین]:moein[شرح معین],2,FALSE),0)","v":0},null,{"$f":"IF(I449>0,VLOOKUP(I449,tafseel[],3,FALSE),0)","v":0},null,null,null,null,null,null,null,null,null,null,null,null,{"$f":"تفصیلی!B447&\" -- \"&تفصیلی!D447","v":" -- "}]
[null,null,null,null,null,0,null,{"$f":"IF(G450>0,VLOOKUP(G450,moein[کد معین]:moein[شرح معین],2,FALSE),0)","v":0},null,{"$f":"IF(I450>0,VLOOKUP(I450,tafseel[],3,FALSE),0)","v":0},null,null,null,null,null,null,null,null,null,null,null,null,{"$f":"تفصیلی!B448&\" -- \"&تفصیلی!D448","v":" -- "}]
[null,null,null,null,null,0,null,{"$f":"IF(G451>0,VLOOKUP(G451,moein[کد معین]:moein[شرح معین],2,FALSE),0)","v":0},null,{"$f":"IF(I451>0,VLOOKUP(I451,tafseel[],3,FALSE),0)","v":0},null,null,null,null,null,null,null,null,null,null,null,null,{"$f":"تفصیلی!B449&\" -- \"&تفصیلی!D449","v":" -- "}]
[null,null,null,null,null,0,null,{"$f":"IF(G452>0,VLOOKUP(G452,moein[کد معین]:moein[شرح معین],2,FALSE),0)","v":0},null,{"$f":"IF(I452>0,VLOOKUP(I452,tafseel[],3,FALSE),0)","v":0},null,null,null,null,null,null,null,null,null,null,null,null,{"$f":"تفصیلی!B450&\" -- \"&تفصیلی!D450","v":" -- "}]
[null,null,null,null,null,0,null,{"$f":"IF(G453>0,VLOOKUP(G453,moein[کد معین]:moein[شرح معین],2,FALSE),0)","v":0},null,{"$f":"IF(I453>0,VLOOKUP(I453,tafseel[],3,FALSE),0)","v":0},null,null,null,null,null,null,null,null,null,null,null,null,{"$f":"تفصیلی!B451&\" -- \"&تفصیلی!D451","v":" -- "}]
[null,null,null,null,null,{"$f":"IF(E454>0,VLOOKUP(E454,koli,2,FALSE),0)","v":0},null,{"$f":"IF(G454>0,VLOOKUP(G454,moein[کد معین]:moein[شرح معین],2,FALSE),0)","v":0},null,{"$f":"IF(I454>0,VLOOKUP(I454,tafseel[],3,FALSE),0)","v":0},null,null,null,null,null,null,null,null,null,null,null,null,{"$f":"تفصیلی!B452&\" -- \"&تفصیلی!D452","v":" -- "}]
[null,null,null,null,null,0,null,{"$f":"IF(G455>0,VLOOKUP(G455,moein[کد معین]:moein[شرح معین],2,FALSE),0)","v":0},null,{"$f":"IF(I455>0,VLOOKUP(I455,tafseel[],3,FALSE),0)","v":0},null,null,null,null,null,null,null,null,null,null,null,null,{"$f":"تفصیلی!B453&\" -- \"&تفصیلی!D453","v":" -- "}]
[null,null,null,null,null,0,null,{"$f":"IF(G456>0,VLOOKUP(G456,moein[کد معین]:moein[شرح معین],2,FALSE),0)","v":0},null,{"$f":"IF(I456>0,VLOOKUP(I456,tafseel[],3,FALSE),0)","v":0},null,null,null,null,null,null,null,null,null,null,null,null,{"$f":"تفصیلی!B454&\" -- \"&تفصیلی!D454","v":" -- "}]
[null,null,null,null,null,0,null,{"$f":"IF(G457>0,VLOOKUP(G457,moein[کد معین]:moein[شرح معین],2,FALSE),0)","v":0},null,{"$f":"IF(I457>0,VLOOKUP(I457,tafseel[],3,FALSE),0)","v":0},null,null,null,null,null,null,null,null,null,null,null,null,{"$f":"تفصیلی!B455&\" -- \"&تفصیلی!D455","v":" -- "}]
[null,null,null,null,null,0,null,{"$f":"IF(G458>0,VLOOKUP(G458,moein[کد معین]:moein[شرح معین],2,FALSE),0)","v":0},null,{"$f":"IF(I458>0,VLOOKUP(I458,tafseel[],3,FALSE),0)","v":0},null,null,null,null,null,null,null,null,null,null,null,null,{"$f":"تفصیلی!B456&\" -- \"&تفصیلی!D456","v":" -- "}]
[null,null,null,null,null,0,null,{"$f":"IF(G459>0,VLOOKUP(G459,moein[کد معین]:moein[شرح معین],2,FALSE),0)","v":0},null,{"$f":"IF(I459>0,VLOOKUP(I459,tafseel[],3,FALSE),0)","v":0},null,null,null,null,null,null,null,null,null,null,null,null,{"$f":"تفصیلی!B457&\" -- \"&تفصیلی!D457","v":" -- "}]
[null,null,null,null,null,0,null,{"$f":"IF(G460>0,VLOOKUP(G460,moein[کد معین]:moein[شرح معین],2,FALSE),0)","v":0},null,{"$f":"IF(I460>0,VLOOKUP(I460,tafseel[],3,FALSE),0)","v":0},null,null,null,null,null,null,null,null,null,null,null,null,{"$f":"تفصیلی!B458&\" -- \"&تفصیلی!D458","v":" -- "}]
[null,null,null,null,null,0,null,{"$f":"IF(G461>0,VLOOKUP(G461,moein[کد معین]:moein[شرح معین],2,FALSE),0)","v":0},null,{"$f":"IF(I461>0,VLOOKUP(I461,tafseel[],3,FALSE),0)","v":0},null,null,null,null,null,null,null,null,null,null,null,null,{"$f":"تفصیلی!B459&\" -- \"&تفصیلی!D459","v":" -- "}]
[null,null,null,null,null,0,null,{"$f":"IF(G462>0,VLOOKUP(G462,moein[کد معین]:moein[شرح معین],2,FALSE),0)","v":0},null,{"$f":"IF(I462>0,VLOOKUP(I462,tafseel[],3,FALSE),0)","v":0},null,null,null,null,null,null,null,null,null,null,null,null,{"$f":"تفصیلی!B460&\" -- \"&تفصیلی!D460","v":" -- "}]
[null,null,null,null,null,0,null,{"$f":"IF(G463>0,VLOOKUP(G463,moein[کد معین]:moein[شرح معین],2,FALSE),0)","v":0},null,{"$f":"IF(I463>0,VLOOKUP(I463,tafseel[],3,FALSE),0)","v":0},null,null,null,null,null,null,null,null,null,null,null,null,{"$f":"تفصیلی!B461&\" -- \"&تفصیلی!D461","v":" -- "}]
[null,null,null,null,null,0,null,{"$f":"IF(G464>0,VLOOKUP(G464,moein[کد معین]:moein[شرح معین],2,FALSE),0)","v":0},null,{"$f":"IF(I464>0,VLOOKUP(I464,tafseel[],3,FALSE),0)","v":0},null,null,null,null,null,null,null,null,null,null,null,null,{"$f":"تفصیلی!B462&\" -- \"&تفصیلی!D462","v":" -- "}]
[null,null,null,null,null,0,null,{"$f":"IF(G465>0,VLOOKUP(G465,moein[کد معین]:moein[شرح معین],2,FALSE),0)","v":0},null,{"$f":"IF(I465>0,VLOOKUP(I465,tafseel[],3,FALSE),0)","v":0},null,null,null,null,null,null,null,null,null,null,null,null,{"$f":"تفصیلی!B463&\" -- \"&تفصیلی!D463","v":" -- "}]
[null,null,null,null,null,0,null,{"$f":"IF(G466>0,VLOOKUP(G466,moein[کد معین]:moein[شرح معین],2,FALSE),0)","v":0},null,{"$f":"IF(I466>0,VLOOKUP(I466,tafseel[],3,FALSE),0)","v":0},null,null,null,null,null,null,null,null,null,null,null,null,{"$f":"تفصیلی!B464&\" -- \"&تفصیلی!D464","v":" -- "}]
[null,null,null,null,null,0,null,{"$f":"IF(G467>0,VLOOKUP(G467,moein[کد معین]:moein[شرح معین],2,FALSE),0)","v":0},null,{"$f":"IF(I467>0,VLOOKUP(I467,tafseel[],3,FALSE),0)","v":0},null,null,null,null,null,null,null,null,null,null,null,null,{"$f":"تفصیلی!B465&\" -- \"&تفصیلی!D465","v":" -- "}]
[null,null,null,null,null,0,null,{"$f":"IF(G468>0,VLOOKUP(G468,moein[کد معین]:moein[شرح معین],2,FALSE),0)","v":0},null,{"$f":"IF(I468>0,VLOOKUP(I468,tafseel[],3,FALSE),0)","v":0},null,null,null,null,null,null,null,null,null,null,null,null,{"$f":"تفصیلی!B466&\" -- \"&تفصیلی!D466","v":" -- "}]
[null,null,null,null,null,0,null,{"$f":"IF(G469>0,VLOOKUP(G469,moein[کد معین]:moein[شرح معین],2,FALSE),0)","v":0},null,{"$f":"IF(I469>0,VLOOKUP(I469,tafseel[],3,FALSE),0)","v":0},null,null,null,null,null,null,null,null,null,null,null,null,{"$f":"تفصیلی!B467&\" -- \"&تفصیلی!D467","v":" -- "}]
[null,null,null,null,null,0,null,{"$f":"IF(G470>0,VLOOKUP(G470,moein[کد معین]:moein[شرح معین],2,FALSE),0)","v":0},null,{"$f":"IF(I470>0,VLOOKUP(I470,tafseel[],3,FALSE),0)","v":0},null,null,null,null,null,null,null,null,null,null,null,null,{"$f":"تفصیلی!B468&\" -- \"&تفصیلی!D468","v":" -- "}]
[null,null,null,null,null,0,null,{"$f":"IF(G471>0,VLOOKUP(G471,moein[کد معین]:moein[شرح معین],2,FALSE),0)","v":0},null,{"$f":"IF(I471>0,VLOOKUP(I471,tafseel[],3,FALSE),0)","v":0},null,null,null,null,null,null,null,null,null,null,null,null,{"$f":"تفصیلی!B469&\" -- \"&تفصیلی!D469","v":" -- "}]
[null,null,null,null,null,0,null,{"$f":"IF(G472>0,VLOOKUP(G472,moein[کد معین]:moein[شرح معین],2,FALSE),0)","v":0},null,{"$f":"IF(I472>0,VLOOKUP(I472,tafseel[],3,FALSE),0)","v":0},null,null,null,null,null,null,null,null,null,null,null,null,{"$f":"تفصیلی!B470&\" -- \"&تفصیلی!D470","v":" -- "}]
[null,null,null,null,null,0,null,{"$f":"IF(G473>0,VLOOKUP(G473,moein[کد معین]:moein[شرح معین],2,FALSE),0)","v":0},null,{"$f":"IF(I473>0,VLOOKUP(I473,tafseel[],3,FALSE),0)","v":0},null,null,null,null,null,null,null,null,null,null,null,null,{"$f":"تفصیلی!B471&\" -- \"&تفصیلی!D471","v":" -- "}]
[null,null,null,null,null,0,null,{"$f":"IF(G474>0,VLOOKUP(G474,moein[کد معین]:moein[شرح معین],2,FALSE),0)","v":0},null,{"$f":"IF(I474>0,VLOOKUP(I474,tafseel[],3,FALSE),0)","v":0},null,null,null,null,null,null,null,null,null,null,null,null,{"$f":"تفصیلی!B472&\" -- \"&تفصیلی!D472","v":" -- "}]
[null,null,null,null,null,0,null,{"$f":"IF(G475>0,VLOOKUP(G475,moein[کد معین]:moein[شرح معین],2,FALSE),0)","v":0},null,{"$f":"IF(I475>0,VLOOKUP(I475,tafseel[],3,FALSE),0)","v":0},null,null,null,null,null,null,null,null,null,null,null,null,{"$f":"تفصیلی!B473&\" -- \"&تفصیلی!D473","v":" -- "}]
[null,null,null,null,null,0,null,{"$f":"IF(G476>0,VLOOKUP(G476,moein[کد معین]:moein[شرح معین],2,FALSE),0)","v":0},null,{"$f":"IF(I476>0,VLOOKUP(I476,tafseel[],3,FALSE),0)","v":0},null,null,null,null,null,null,null,null,null,null,null,null,{"$f":"تفصیلی!B474&\" -- \"&تفصیلی!D474","v":" -- "}]
[null,null,null,null,null,0,null,{"$f":"IF(G477>0,VLOOKUP(G477,moein[کد معین]:moein[شرح معین],2,FALSE),0)","v":0},null,{"$f":"IF(I477>0,VLOOKUP(I477,tafseel[],3,FALSE),0)","v":0},null,null,null,null,null,null,null,null,null,null,null,null,{"$f":"تفصیلی!B475&\" -- \"&تفصیلی!D475","v":" -- "}]
[null,null,null,null,null,0,null,{"$f":"IF(G478>0,VLOOKUP(G478,moein[کد معین]:moein[شرح معین],2,FALSE),0)","v":0},null,{"$f":"IF(I478>0,VLOOKUP(I478,tafseel[],3,FALSE),0)","v":0},null,null,null,null,null,null,null,null,null,null,null,null,{"$f":"تفصیلی!B476&\" -- \"&تفصیلی!D476","v":" -- "}]
[null,null,null,null,null,0,null,{"$f":"IF(G479>0,VLOOKUP(G479,moein[کد معین]:moein[شرح معین],2,FALSE),0)","v":0},null,{"$f":"IF(I479>0,VLOOKUP(I479,tafseel[],3,FALSE),0)","v":0},null,null,null,null,null,null,null,null,null,null,null,null,{"$f":"تفصیلی!B477&\" -- \"&تفصیلی!D477","v":" -- "}]
[null,null,null,null,null,0,null,{"$f":"IF(G480>0,VLOOKUP(G480,moein[کد معین]:moein[شرح معین],2,FALSE),0)","v":0},null,{"$f":"IF(I480>0,VLOOKUP(I480,tafseel[],3,FALSE),0)","v":0},null,null,null,null,null,null,null,null,null,null,null,null,{"$f":"تفصیلی!B478&\" -- \"&تفصیلی!D478","v":" -- "}]
[null,null,null,null,null,0,null,{"$f":"IF(G481>0,VLOOKUP(G481,moein[کد معین]:moein[شرح معین],2,FALSE),0)","v":0},null,{"$f":"IF(I481>0,VLOOKUP(I481,tafseel[],3,FALSE),0)","v":0},null,null,null,null,null,null,null,null,null,null,null,null,{"$f":"تفصیلی!B479&\" -- \"&تفصیلی!D479","v":" -- "}]
[null,null,null,null,null,0,null,{"$f":"IF(G482>0,VLOOKUP(G482,moein[کد معین]:moein[شرح معین],2,FALSE),0)","v":0},null,{"$f":"IF(I482>0,VLOOKUP(I482,tafseel[],3,FALSE),0)","v":0},null,null,null,null,null,null,null,null,null,null,null,null,{"$f":"تفصیلی!B480&\" -- \"&تفصیلی!D480","v":" -- "}]
[null,null,null,null,null,0,null,{"$f":"IF(G483>0,VLOOKUP(G483,moein[کد معین]:moein[شرح معین],2,FALSE),0)","v":0},null,{"$f":"IF(I483>0,VLOOKUP(I483,tafseel[],3,FALSE),0)","v":0},null,null,null,null,null,null,null,null,null,null,null,null,{"$f":"تفصیلی!B481&\" -- \"&تفصیلی!D481","v":" -- "}]
[null,null,null,null,null,0,null,{"$f":"IF(G484>0,VLOOKUP(G484,moein[کد معین]:moein[شرح معین],2,FALSE),0)","v":0},null,{"$f":"IF(I484>0,VLOOKUP(I484,tafseel[],3,FALSE),0)","v":0},null,null,null,null,null,null,null,null,null,null,null,null,{"$f":"تفصیلی!B482&\" -- \"&تفصیلی!D482","v":" -- "}]
[null,null,null,null,null,0,null,{"$f":"IF(G485>0,VLOOKUP(G485,moein[کد معین]:moein[شرح معین],2,FALSE),0)","v":0},null,{"$f":"IF(I485>0,VLOOKUP(I485,tafseel[],3,FALSE),0)","v":0},null,null,null,null,null,null,null,null,null,null,null,null,{"$f":"تفصیلی!B483&\" -- \"&تفصیلی!D483","v":" -- "}]
[null,null,null,null,null,0,null,{"$f":"IF(G486>0,VLOOKUP(G486,moein[کد معین]:moein[شرح معین],2,FALSE),0)","v":0},null,{"$f":"IF(I486>0,VLOOKUP(I486,tafseel[],3,FALSE),0)","v":0},null,null,null,null,null,null,null,null,null,null,null,null,{"$f":"تفصیلی!B484&\" -- \"&تفصیلی!D484","v":" -- "}]
[null,null,null,null,null,0,null,{"$f":"IF(G487>0,VLOOKUP(G487,moein[کد معین]:moein[شرح معین],2,FALSE),0)","v":0},null,{"$f":"IF(I487>0,VLOOKUP(I487,tafseel[],3,FALSE),0)","v":0},null,null,null,null,null,null,null,null,null,null,null,null,{"$f":"تفصیلی!B485&\" -- \"&تفصیلی!D485","v":" -- "}]
[null,null,null,null,null,0,null,{"$f":"IF(G488>0,VLOOKUP(G488,moein[کد معین]:moein[شرح معین],2,FALSE),0)","v":0},null,{"$f":"IF(I488>0,VLOOKUP(I488,tafseel[],3,FALSE),0)","v":0},null,null,null,null,null,null,null,null,null,null,null,null,{"$f":"تفصیلی!B486&\" -- \"&تفصیلی!D486","v":" -- "}]
[null,null,null,null,null,0,null,{"$f":"IF(G489>0,VLOOKUP(G489,moein[کد معین]:moein[شرح معین],2,FALSE),0)","v":0},null,{"$f":"IF(I489>0,VLOOKUP(I489,tafseel[],3,FALSE),0)","v":0},null,null,null,null,null,null,null,null,null,null,null,null,{"$f":"تفصیلی!B487&\" -- \"&تفصیلی!D487","v":" -- "}]
[null,null,null,null,null,0,null,{"$f":"IF(G490>0,VLOOKUP(G490,moein[کد معین]:moein[شرح معین],2,FALSE),0)","v":0},null,{"$f":"IF(I490>0,VLOOKUP(I490,tafseel[],3,FALSE),0)","v":0},null,null,null,null,null,null,null,null,null,null,null,null,{"$f":"تفصیلی!B488&\" -- \"&تفصیلی!D488","v":" -- "}]
[null,null,null,null,null,0,null,{"$f":"IF(G491>0,VLOOKUP(G491,moein[کد معین]:moein[شرح معین],2,FALSE),0)","v":0},null,{"$f":"IF(I491>0,VLOOKUP(I491,tafseel[],3,FALSE),0)","v":0},null,null,null,null,null,null,null,null,null,null,null,null,{"$f":"تفصیلی!B489&\" -- \"&تفصیلی!D489","v":" -- "}]
[null,null,null,null,null,0,null,{"$f":"IF(G492>0,VLOOKUP(G492,moein[کد معین]:moein[شرح معین],2,FALSE),0)","v":0},null,{"$f":"IF(I492>0,VLOOKUP(I492,tafseel[],3,FALSE),0)","v":0},null,null,null,null,null,null,null,null,null,null,null,null,{"$f":"تفصیلی!B490&\" -- \"&تفصیلی!D490","v":" -- "}]
[null,null,null,null,null,0,null,{"$f":"IF(G493>0,VLOOKUP(G493,moein[کد معین]:moein[شرح معین],2,FALSE),0)","v":0},null,{"$f":"IF(I493>0,VLOOKUP(I493,tafseel[],3,FALSE),0)","v":0},null,null,null,null,null,null,null,null,null,null,null,null,{"$f":"تفصیلی!B491&\" -- \"&تفصیلی!D491","v":" -- "}]
[null,null,null,null,null,0,null,{"$f":"IF(G494>0,VLOOKUP(G494,moein[کد معین]:moein[شرح معین],2,FALSE),0)","v":0},null,{"$f":"IF(I494>0,VLOOKUP(I494,tafseel[],3,FALSE),0)","v":0},null,null,null,null,null,null,null,null,null,null,null,null,{"$f":"تفصیلی!B492&\" -- \"&تفصیلی!D492","v":" -- "}]
[null,null,null,null,null,0,null,{"$f":"IF(G495>0,VLOOKUP(G495,moein[کد معین]:moein[شرح معین],2,FALSE),0)","v":0},null,{"$f":"IF(I495>0,VLOOKUP(I495,tafseel[],3,FALSE),0)","v":0},null,null,null,null,null,null,null,null,null,null,null,null,{"$f":"تفصیلی!B493&\" -- \"&تفصیلی!D493","v":" -- "}]
[null,null,null,null,null,0,null,{"$f":"IF(G496>0,VLOOKUP(G496,moein[کد معین]:moein[شرح معین],2,FALSE),0)","v":0},null,{"$f":"IF(I496>0,VLOOKUP(I496,tafseel[],3,FALSE),0)","v":0},null,null,null,null,null,null,null,null,null,null,null,null,{"$f":"تفصیلی!B494&\" -- \"&تفصیلی!D494","v":" -- "}]
[null,null,null,null,null,0,null,{"$f":"IF(G497>0,VLOOKUP(G497,moein[کد معین]:moein[شرح معین],2,FALSE),0)","v":0},null,{"$f":"IF(I497>0,VLOOKUP(I497,tafseel[],3,FALSE),0)","v":0},null,null,null,null,null,null,null,null,null,null,null,null,{"$f":"تفصیلی!B495&\" -- \"&تفصیلی!D495","v":" -- "}]
[null,null,null,null,null,0,null,{"$f":"IF(G498>0,VLOOKUP(G498,moein[کد معین]:moein[شرح معین],2,FALSE),0)","v":0},null,{"$f":"IF(I498>0,VLOOKUP(I498,tafseel[],3,FALSE),0)","v":0},null,null,null,null,null,null,null,null,null,null,null,null,{"$f":"تفصیلی!B496&\" -- \"&تفصیلی!D496","v":" -- "}]
[null,null,null,null,null,0,null,{"$f":"IF(G499>0,VLOOKUP(G499,moein[کد معین]:moein[شرح معین],2,FALSE),0)","v":0},null,{"$f":"IF(I499>0,VLOOKUP(I499,tafseel[],3,FALSE),0)","v":0},null,null,null,null,null,null,null,null,null,null,null,null,{"$f":"تفصیلی!B497&\" -- \"&تفصیلی!D497","v":" -- "}]
[null,null,null,null,null,0,null,{"$f":"IF(G500>0,VLOOKUP(G500,moein[کد معین]:moein[شرح معین],2,FALSE),0)","v":0},null,{"$f":"IF(I500>0,VLOOKUP(I500,tafseel[],3,FALSE),0)","v":0},null,null,null,null,null,null,null,null,null,null,null,null,{"$f":"تفصیلی!B498&\" -- \"&تفصیلی!D498","v":" -- "}]
[null,null,null,null,null,0,null,{"$f":"IF(G501>0,VLOOKUP(G501,moein[کد معین]:moein[شرح معین],2,FALSE),0)","v":0},null,{"$f":"IF(I501>0,VLOOKUP(I501,tafseel[],3,FALSE),0)","v":0},null,null,null,null,null,null,null,null,null,null,null,null,{"$f":"تفصیلی!B499&\" -- \"&تفصیلی!D499","v":" -- "}]
[null,null,null,null,null,0,null,{"$f":"IF(G502>0,VLOOKUP(G502,moein[کد معین]:moein[شرح معین],2,FALSE),0)","v":0},null,{"$f":"IF(I502>0,VLOOKUP(I502,tafseel[],3,FALSE),0)","v":0},null,null,null,null,null,null,null,null,null,null,null,null,{"$f":"تفصیلی!B500&\" -- \"&تفصیلی!D500","v":" -- "}]
[null,null,null,null,null,0,null,{"$f":"IF(G503>0,VLOOKUP(G503,moein[کد معین]:moein[شرح معین],2,FALSE),0)","v":0},null,{"$f":"IF(I503>0,VLOOKUP(I503,tafseel[],3,FALSE),0)","v":0},null,null,null,null,null,null,null,null,null,null,null,null,{"$f":"تفصیلی!B501&\" -- \"&تفصیلی!D501","v":" -- "}]
[null,null,null,null,null,0,null,{"$f":"IF(G504>0,VLOOKUP(G504,moein[کد معین]:moein[شرح معین],2,FALSE),0)","v":0},null,{"$f":"IF(I504>0,VLOOKUP(I504,tafseel[],3,FALSE),0)","v":0},null,null,null,null,null,null,null,null,null,null,null,null,{"$f":"تفصیلی!B502&\" -- \"&تفصیلی!D502","v":" -- "}]
[null,null,null,null,null,0,null,{"$f":"IF(G505>0,VLOOKUP(G505,moein[کد معین]:moein[شرح معین],2,FALSE),0)","v":0},null,{"$f":"IF(I505>0,VLOOKUP(I505,tafseel[],3,FALSE),0)","v":0},null,null,null,null,null,null,null,null,null,null,null,null,{"$f":"تفصیلی!B503&\" -- \"&تفصیلی!D503","v":" -- "}]
[null,null,null,null,null,0,null,{"$f":"IF(G506>0,VLOOKUP(G506,moein[کد معین]:moein[شرح معین],2,FALSE),0)","v":0},null,{"$f":"IF(I506>0,VLOOKUP(I506,tafseel[],3,FALSE),0)","v":0},null,null,null,null,null,null,null,null,null,null,null,null,{"$f":"تفصیلی!B504&\" -- \"&تفصیلی!D504","v":" -- "}]
[null,null,null,null,null,0,null,{"$f":"IF(G507>0,VLOOKUP(G507,moein[کد معین]:moein[شرح معین],2,FALSE),0)","v":0},null,{"$f":"IF(I507>0,VLOOKUP(I507,tafseel[],3,FALSE),0)","v":0},null,null,null,null,null,null,null,null,null,null,null,null,{"$f":"تفصیلی!B505&\" -- \"&تفصیلی!D505","v":" -- "}]
[null,null,null,null,null,0,null,{"$f":"IF(G508>0,VLOOKUP(G508,moein[کد معین]:moein[شرح معین],2,FALSE),0)","v":0},null,{"$f":"IF(I508>0,VLOOKUP(I508,tafseel[],3,FALSE),0)","v":0},null,null,null,null,null,null,null,null,null,null,null,null,{"$f":"تفصیلی!B506&\" -- \"&تفصیلی!D506","v":" -- "}]
[null,null,null,null,null,0,null,{"$f":"IF(G509>0,VLOOKUP(G509,moein[کد معین]:moein[شرح معین],2,FALSE),0)","v":0},null,{"$f":"IF(I509>0,VLOOKUP(I509,tafseel[],3,FALSE),0)","v":0},null,null,null,null,null,null,null,null,null,null,null,null,{"$f":"تفصیلی!B507&\" -- \"&تفصیلی!D507","v":" -- "}]
[null,null,null,null,null,0,null,{"$f":"IF(G510>0,VLOOKUP(G510,moein[کد معین]:moein[شرح معین],2,FALSE),0)","v":0},null,{"$f":"IF(I510>0,VLOOKUP(I510,tafseel[],3,FALSE),0)","v":0},null,null,null,null,null,null,null,null,null,null,null,null,{"$f":"تفصیلی!B508&\" -- \"&تفصیلی!D508","v":" -- "}]
[null,null,null,null,null,0,null,{"$f":"IF(G511>0,VLOOKUP(G511,moein[کد معین]:moein[شرح معین],2,FALSE),0)","v":0},null,{"$f":"IF(I511>0,VLOOKUP(I511,tafseel[],3,FALSE),0)","v":0},null,null,null,null,null,null,null,null,null,null,null,null,{"$f":"تفصیلی!B509&\" -- \"&تفصیلی!D509","v":" -- "}]
[null,null,null,null,null,0,null,{"$f":"IF(G512>0,VLOOKUP(G512,moein[کد معین]:moein[شرح معین],2,FALSE),0)","v":0},null,{"$f":"IF(I512>0,VLOOKUP(I512,tafseel[],3,FALSE),0)","v":0},null,null,null,null,null,null,null,null,null,null,null,null,{"$f":"تفصیلی!B510&\" -- \"&تفصیلی!D510","v":" -- "}]
[null,null,null,null,null,0,null,{"$f":"IF(G513>0,VLOOKUP(G513,moein[کد معین]:moein[شرح معین],2,FALSE),0)","v":0},null,{"$f":"IF(I513>0,VLOOKUP(I513,tafseel[],3,FALSE),0)","v":0},null,null,null,null,null,null,null,null,null,null,null,null,{"$f":"تفصیلی!B511&\" -- \"&تفصیلی!D511","v":" -- "}]
[null,null,null,null,null,0,null,{"$f":"IF(G514>0,VLOOKUP(G514,moein[کد معین]:moein[شرح معین],2,FALSE),0)","v":0},null,{"$f":"IF(I514>0,VLOOKUP(I514,tafseel[],3,FALSE),0)","v":0},null,null,null,null,null,null,null,null,null,null,null,null,{"$f":"تفصیلی!B512&\" -- \"&تفصیلی!D512","v":" -- "}]
[null,null,null,null,null,0,null,{"$f":"IF(G515>0,VLOOKUP(G515,moein[کد معین]:moein[شرح معین],2,FALSE),0)","v":0},null,{"$f":"IF(I515>0,VLOOKUP(I515,tafseel[],3,FALSE),0)","v":0},null,null,null,null,null,null,null,null,null,null,null,null,{"$f":"تفصیلی!B513&\" -- \"&تفصیلی!D513","v":" -- "}]
[null,null,null,null,null,0,null,{"$f":"IF(G516>0,VLOOKUP(G516,moein[کد معین]:moein[شرح معین],2,FALSE),0)","v":0},null,{"$f":"IF(I516>0,VLOOKUP(I516,tafseel[],3,FALSE),0)","v":0},null,null,null,null,null,null,null,null,null,null,null,null,{"$f":"تفصیلی!B514&\" -- \"&تفصیلی!D514","v":" -- "}]
[null,null,null,null,null,0,null,{"$f":"IF(G517>0,VLOOKUP(G517,moein[کد معین]:moein[شرح معین],2,FALSE),0)","v":0},null,{"$f":"IF(I517>0,VLOOKUP(I517,tafseel[],3,FALSE),0)","v":0},null,null,null,null,null,null,null,null,null,null,null,null,{"$f":"تفصیلی!B515&\" -- \"&تفصیلی!D515","v":" -- "}]
[null,null,null,null,null,{"$f":"IF(E518>0,VLOOKUP(E518,koli,2,FALSE),0)","v":0},null,{"$f":"IF(G518>0,VLOOKUP(G518,moein[کد معین]:moein[شرح معین],2,FALSE),0)","v":0},null,{"$f":"IF(I518>0,VLOOKUP(I518,tafseel[],3,FALSE),0)","v":0},null,null,null,null,null,null,null,null,null,null,null,null,{"$f":"تفصیلی!B516&\" -- \"&تفصیلی!D516","v":" -- "}]
[null,null,null,null,null,0,null,{"$f":"IF(G519>0,VLOOKUP(G519,moein[کد معین]:moein[شرح معین],2,FALSE),0)","v":0},null,{"$f":"IF(I519>0,VLOOKUP(I519,tafseel[],3,FALSE),0)","v":0},null,null,null,null,null,null,null,null,null,null,null,null,{"$f":"تفصیلی!B517&\" -- \"&تفصیلی!D517","v":" -- "}]
[null,null,null,null,null,0,null,{"$f":"IF(G520>0,VLOOKUP(G520,moein[کد معین]:moein[شرح معین],2,FALSE),0)","v":0},null,{"$f":"IF(I520>0,VLOOKUP(I520,tafseel[],3,FALSE),0)","v":0},null,null,null,null,null,null,null,null,null,null,null,null,{"$f":"تفصیلی!B518&\" -- \"&تفصیلی!D518","v":" -- "}]
[null,null,null,null,null,0,null,{"$f":"IF(G521>0,VLOOKUP(G521,moein[کد معین]:moein[شرح معین],2,FALSE),0)","v":0},null,{"$f":"IF(I521>0,VLOOKUP(I521,tafseel[],3,FALSE),0)","v":0},null,null,null,null,null,null,null,null,null,null,null,null,{"$f":"تفصیلی!B519&\" -- \"&تفصیلی!D519","v":" -- "}]
[null,null,null,null,null,0,null,{"$f":"IF(G522>0,VLOOKUP(G522,moein[کد معین]:moein[شرح معین],2,FALSE),0)","v":0},null,{"$f":"IF(I522>0,VLOOKUP(I522,tafseel[],3,FALSE),0)","v":0},null,null,null,null,null,null,null,null,null,null,null,null,{"$f":"تفصیلی!B520&\" -- \"&تفصیلی!D520","v":" -- "}]
[null,null,null,null,null,0,null,{"$f":"IF(G523>0,VLOOKUP(G523,moein[کد معین]:moein[شرح معین],2,FALSE),0)","v":0},null,{"$f":"IF(I523>0,VLOOKUP(I523,tafseel[],3,FALSE),0)","v":0},null,null,null,null,null,null,null,null,null,null,null,null,{"$f":"تفصیلی!B521&\" -- \"&تفصیلی!D521","v":" -- "}]
[null,null,null,null,null,0,null,{"$f":"IF(G524>0,VLOOKUP(G524,moein[کد معین]:moein[شرح معین],2,FALSE),0)","v":0},null,{"$f":"IF(I524>0,VLOOKUP(I524,tafseel[],3,FALSE),0)","v":0},null,null,null,null,null,null,null,null,null,null,null,null,{"$f":"تفصیلی!B522&\" -- \"&تفصیلی!D522","v":" -- "}]
[null,null,null,null,null,0,null,{"$f":"IF(G525>0,VLOOKUP(G525,moein[کد معین]:moein[شرح معین],2,FALSE),0)","v":0},null,{"$f":"IF(I525>0,VLOOKUP(I525,tafseel[],3,FALSE),0)","v":0},null,null,null,null,null,null,null,null,null,null,null,null,{"$f":"تفصیلی!B523&\" -- \"&تفصیلی!D523","v":" -- "}]
[null,null,null,null,null,0,null,{"$f":"IF(G526>0,VLOOKUP(G526,moein[کد معین]:moein[شرح معین],2,FALSE),0)","v":0},null,{"$f":"IF(I526>0,VLOOKUP(I526,tafseel[],3,FALSE),0)","v":0},null,null,null,null,null,null,null,null,null,null,null,null,{"$f":"تفصیلی!B524&\" -- \"&تفصیلی!D524","v":" -- "}]
[null,null,null,null,null,0,null,{"$f":"IF(G527>0,VLOOKUP(G527,moein[کد معین]:moein[شرح معین],2,FALSE),0)","v":0},null,{"$f":"IF(I527>0,VLOOKUP(I527,tafseel[],3,FALSE),0)","v":0},null,null,null,null,null,null,null,null,null,null,null,null,{"$f":"تفصیلی!B525&\" -- \"&تفصیلی!D525","v":" -- "}]
[null,null,null,null,null,0,null,{"$f":"IF(G528>0,VLOOKUP(G528,moein[کد معین]:moein[شرح معین],2,FALSE),0)","v":0},null,{"$f":"IF(I528>0,VLOOKUP(I528,tafseel[],3,FALSE),0)","v":0},null,null,null,null,null,null,null,null,null,null,null,null,{"$f":"تفصیلی!B526&\" -- \"&تفصیلی!D526","v":" -- "}]
[null,null,null,null,null,0,null,{"$f":"IF(G529>0,VLOOKUP(G529,moein[کد معین]:moein[شرح معین],2,FALSE),0)","v":0},null,{"$f":"IF(I529>0,VLOOKUP(I529,tafseel[],3,FALSE),0)","v":0},null,null,null,null,null,null,null,null,null,null,null,null,{"$f":"تفصیلی!B527&\" -- \"&تفصیلی!D527","v":" -- "}]
[null,null,null,null,null,0,null,{"$f":"IF(G530>0,VLOOKUP(G530,moein[کد معین]:moein[شرح معین],2,FALSE),0)","v":0},null,{"$f":"IF(I530>0,VLOOKUP(I530,tafseel[],3,FALSE),0)","v":0},null,null,null,null,null,null,null,null,null,null,null,null,{"$f":"تفصیلی!B528&\" -- \"&تفصیلی!D528","v":" -- "}]
[null,null,null,null,null,0,null,{"$f":"IF(G531>0,VLOOKUP(G531,moein[کد معین]:moein[شرح معین],2,FALSE),0)","v":0},null,{"$f":"IF(I531>0,VLOOKUP(I531,tafseel[],3,FALSE),0)","v":0},null,null,null,null,null,null,null,null,null,null,null,null,{"$f":"تفصیلی!B529&\" -- \"&تفصیلی!D529","v":" -- "}]
[null,null,null,null,null,0,null,{"$f":"IF(G532>0,VLOOKUP(G532,moein[کد معین]:moein[شرح معین],2,FALSE),0)","v":0},null,{"$f":"IF(I532>0,VLOOKUP(I532,tafseel[],3,FALSE),0)","v":0},null,null,null,null,null,null,null,null,null,null,null,null,{"$f":"تفصیلی!B530&\" -- \"&تفصیلی!D530","v":" -- "}]
[null,null,null,null,null,0,null,{"$f":"IF(G533>0,VLOOKUP(G533,moein[کد معین]:moein[شرح معین],2,FALSE),0)","v":0},null,{"$f":"IF(I533>0,VLOOKUP(I533,tafseel[],3,FALSE),0)","v":0},null,null,null,null,null,null,null,null,null,null,null,null,{"$f":"تفصیلی!B531&\" -- \"&تفصیلی!D531","v":" -- "}]
[null,null,null,null,null,0,null,{"$f":"IF(G534>0,VLOOKUP(G534,moein[کد معین]:moein[شرح معین],2,FALSE),0)","v":0},null,{"$f":"IF(I534>0,VLOOKUP(I534,tafseel[],3,FALSE),0)","v":0},null,null,null,null,null,null,null,null,null,null,null,null,{"$f":"تفصیلی!B532&\" -- \"&تفصیلی!D532","v":" -- "}]
[null,null,null,null,null,0,null,{"$f":"IF(G535>0,VLOOKUP(G535,moein[کد معین]:moein[شرح معین],2,FALSE),0)","v":0},null,{"$f":"IF(I535>0,VLOOKUP(I535,tafseel[],3,FALSE),0)","v":0},null,null,null,null,null,null,null,null,null,null,null,null,{"$f":"تفصیلی!B533&\" -- \"&تفصیلی!D533","v":" -- "}]
[null,null,null,null,null,0,null,{"$f":"IF(G536>0,VLOOKUP(G536,moein[کد معین]:moein[شرح معین],2,FALSE),0)","v":0},null,{"$f":"IF(I536>0,VLOOKUP(I536,tafseel[],3,FALSE),0)","v":0},null,null,null,null,null,null,null,null,null,null,null,null,{"$f":"تفصیلی!B534&\" -- \"&تفصیلی!D534","v":" -- "}]
[null,null,null,null,null,0,null,{"$f":"IF(G537>0,VLOOKUP(G537,moein[کد معین]:moein[شرح معین],2,FALSE),0)","v":0},null,{"$f":"IF(I537>0,VLOOKUP(I537,tafseel[],3,FALSE),0)","v":0},null,null,null,null,null,null,null,null,null,null,null,null,{"$f":"تفصیلی!B535&\" -- \"&تفصیلی!D535","v":" -- "}]
[null,null,null,null,null,0,null,{"$f":"IF(G538>0,VLOOKUP(G538,moein[کد معین]:moein[شرح معین],2,FALSE),0)","v":0},null,{"$f":"IF(I538>0,VLOOKUP(I538,tafseel[],3,FALSE),0)","v":0},null,null,null,null,null,null,null,null,null,null,null,null,{"$f":"تفصیلی!B536&\" -- \"&تفصیلی!D536","v":" -- "}]
[null,null,null,null,null,0,null,{"$f":"IF(G539>0,VLOOKUP(G539,moein[کد معین]:moein[شرح معین],2,FALSE),0)","v":0},null,{"$f":"IF(I539>0,VLOOKUP(I539,tafseel[],3,FALSE),0)","v":0},null,null,null,null,null,null,null,null,null,null,null,null,{"$f":"تفصیلی!B537&\" -- \"&تفصیلی!D537","v":" -- "}]
[null,null,null,null,null,0,null,{"$f":"IF(G540>0,VLOOKUP(G540,moein[کد معین]:moein[شرح معین],2,FALSE),0)","v":0},null,{"$f":"IF(I540>0,VLOOKUP(I540,tafseel[],3,FALSE),0)","v":0},null,null,null,null,null,null,null,null,null,null,null,null,{"$f":"تفصیلی!B538&\" -- \"&تفصیلی!D538","v":" -- "}]
[null,null,null,null,null,0,null,{"$f":"IF(G541>0,VLOOKUP(G541,moein[کد معین]:moein[شرح معین],2,FALSE),0)","v":0},null,{"$f":"IF(I541>0,VLOOKUP(I541,tafseel[],3,FALSE),0)","v":0},null,null,null,null,null,null,null,null,null,null,null,null,{"$f":"تفصیلی!B539&\" -- \"&تفصیلی!D539","v":" -- "}]
[null,null,null,null,null,0,null,{"$f":"IF(G542>0,VLOOKUP(G542,moein[کد معین]:moein[شرح معین],2,FALSE),0)","v":0},null,{"$f":"IF(I542>0,VLOOKUP(I542,tafseel[],3,FALSE),0)","v":0},null,null,null,null,null,null,null,null,null,null,null,null,{"$f":"تفصیلی!B540&\" -- \"&تفصیلی!D540","v":" -- "}]
[null,null,null,null,null,0,null,{"$f":"IF(G543>0,VLOOKUP(G543,moein[کد معین]:moein[شرح معین],2,FALSE),0)","v":0},null,{"$f":"IF(I543>0,VLOOKUP(I543,tafseel[],3,FALSE),0)","v":0},null,null,null,null,null,null,null,null,null,null,null,null,{"$f":"تفصیلی!B541&\" -- \"&تفصیلی!D541","v":" -- "}]
[null,null,null,null,null,0,null,{"$f":"IF(G544>0,VLOOKUP(G544,moein[کد معین]:moein[شرح معین],2,FALSE),0)","v":0},null,{"$f":"IF(I544>0,VLOOKUP(I544,tafseel[],3,FALSE),0)","v":0},null,null,null,null,null,null,null,null,null,null,null,null,{"$f":"تفصیلی!B542&\" -- \"&تفصیلی!D542","v":" -- "}]
[null,null,null,null,null,0,null,{"$f":"IF(G545>0,VLOOKUP(G545,moein[کد معین]:moein[شرح معین],2,FALSE),0)","v":0},null,{"$f":"IF(I545>0,VLOOKUP(I545,tafseel[],3,FALSE),0)","v":0},null,null,null,null,null,null,null,null,null,null,null,null,{"$f":"تفصیلی!B543&\" -- \"&تفصیلی!D543","v":" -- "}]
[null,null,null,null,null,0,null,{"$f":"IF(G546>0,VLOOKUP(G546,moein[کد معین]:moein[شرح معین],2,FALSE),0)","v":0},null,{"$f":"IF(I546>0,VLOOKUP(I546,tafseel[],3,FALSE),0)","v":0},null,null,null,null,null,null,null,null,null,null,null,null,{"$f":"تفصیلی!B544&\" -- \"&تفصیلی!D544","v":" -- "}]
[null,null,null,null,null,0,null,{"$f":"IF(G547>0,VLOOKUP(G547,moein[کد معین]:moein[شرح معین],2,FALSE),0)","v":0},null,{"$f":"IF(I547>0,VLOOKUP(I547,tafseel[],3,FALSE),0)","v":0},null,null,null,null,null,null,null,null,null,null,null,null,{"$f":"تفصیلی!B545&\" -- \"&تفصیلی!D545","v":" -- "}]
[null,null,null,null,null,0,null,{"$f":"IF(G548>0,VLOOKUP(G548,moein[کد معین]:moein[شرح معین],2,FALSE),0)","v":0},null,{"$f":"IF(I548>0,VLOOKUP(I548,tafseel[],3,FALSE),0)","v":0},null,null,null,null,null,null,null,null,null,null,null,null,{"$f":"تفصیلی!B546&\" -- \"&تفصیلی!D546","v":" -- "}]
[null,null,null,null,null,0,null,{"$f":"IF(G549>0,VLOOKUP(G549,moein[کد معین]:moein[شرح معین],2,FALSE),0)","v":0},null,{"$f":"IF(I549>0,VLOOKUP(I549,tafseel[],3,FALSE),0)","v":0},null,null,null,null,null,null,null,null,null,null,null,null,{"$f":"تفصیلی!B547&\" -- \"&تفصیلی!D547","v":" -- "}]
[null,null,null,null,null,0,null,{"$f":"IF(G550>0,VLOOKUP(G550,moein[کد معین]:moein[شرح معین],2,FALSE),0)","v":0},null,{"$f":"IF(I550>0,VLOOKUP(I550,tafseel[],3,FALSE),0)","v":0},null,null,null,null,null,null,null,null,null,null,null,null,{"$f":"تفصیلی!B548&\" -- \"&تفصیلی!D548","v":" -- "}]
[null,null,null,null,null,0,null,{"$f":"IF(G551>0,VLOOKUP(G551,moein[کد معین]:moein[شرح معین],2,FALSE),0)","v":0},null,{"$f":"IF(I551>0,VLOOKUP(I551,tafseel[],3,FALSE),0)","v":0},null,null,null,null,null,null,null,null,null,null,null,null,{"$f":"تفصیلی!B549&\" -- \"&تفصیلی!D549","v":" -- "}]
[null,null,null,null,null,0,null,{"$f":"IF(G552>0,VLOOKUP(G552,moein[کد معین]:moein[شرح معین],2,FALSE),0)","v":0},null,{"$f":"IF(I552>0,VLOOKUP(I552,tafseel[],3,FALSE),0)","v":0},null,null,null,null,null,null,null,null,null,null,null,null,{"$f":"تفصیلی!B550&\" -- \"&تفصیلی!D550","v":" -- "}]
[null,null,null,null,null,0,null,{"$f":"IF(G553>0,VLOOKUP(G553,moein[کد معین]:moein[شرح معین],2,FALSE),0)","v":0},null,{"$f":"IF(I553>0,VLOOKUP(I553,tafseel[],3,FALSE),0)","v":0},null,null,null,null,null,null,null,null,null,null,null,null,{"$f":"تفصیلی!B551&\" -- \"&تفصیلی!D551","v":" -- "}]
[null,null,null,null,null,0,null,{"$f":"IF(G554>0,VLOOKUP(G554,moein[کد معین]:moein[شرح معین],2,FALSE),0)","v":0},null,{"$f":"IF(I554>0,VLOOKUP(I554,tafseel[],3,FALSE),0)","v":0},null,null,null,null,null,null,null,null,null,null,null,null,{"$f":"تفصیلی!B552&\" -- \"&تفصیلی!D552","v":" -- "}]
[null,null,null,null,null,0,null,{"$f":"IF(G555>0,VLOOKUP(G555,moein[کد معین]:moein[شرح معین],2,FALSE),0)","v":0},null,{"$f":"IF(I555>0,VLOOKUP(I555,tafseel[],3,FALSE),0)","v":0},null,null,null,null,null,null,null,null,null,null,null,null,{"$f":"تفصیلی!B553&\" -- \"&تفصیلی!D553","v":" -- "}]
[null,null,null,null,null,0,null,{"$f":"IF(G556>0,VLOOKUP(G556,moein[کد معین]:moein[شرح معین],2,FALSE),0)","v":0},null,{"$f":"IF(I556>0,VLOOKUP(I556,tafseel[],3,FALSE),0)","v":0},null,null,null,null,null,null,null,null,null,null,null,null,{"$f":"تفصیلی!B554&\" -- \"&تفصیلی!D554","v":" -- "}]
[null,null,null,null,null,0,null,{"$f":"IF(G557>0,VLOOKUP(G557,moein[کد معین]:moein[شرح معین],2,FALSE),0)","v":0},null,{"$f":"IF(I557>0,VLOOKUP(I557,tafseel[],3,FALSE),0)","v":0},null,null,null,null,null,null,null,null,null,null,null,null,{"$f":"تفصیلی!B555&\" -- \"&تفصیلی!D555","v":" -- "}]
[null,null,null,null,null,0,null,{"$f":"IF(G558>0,VLOOKUP(G558,moein[کد معین]:moein[شرح معین],2,FALSE),0)","v":0},null,{"$f":"IF(I558>0,VLOOKUP(I558,tafseel[],3,FALSE),0)","v":0},null,null,null,null,null,null,null,null,null,null,null,null,{"$f":"تفصیلی!B556&\" -- \"&تفصیلی!D556","v":" -- "}]
[null,null,null,null,null,0,null,{"$f":"IF(G559>0,VLOOKUP(G559,moein[کد معین]:moein[شرح معین],2,FALSE),0)","v":0},null,{"$f":"IF(I559>0,VLOOKUP(I559,tafseel[],3,FALSE),0)","v":0},null,null,null,null,null,null,null,null,null,null,null,null,{"$f":"تفصیلی!B557&\" -- \"&تفصیلی!D557","v":" -- "}]
[null,null,null,null,null,0,null,{"$f":"IF(G560>0,VLOOKUP(G560,moein[کد معین]:moein[شرح معین],2,FALSE),0)","v":0},null,{"$f":"IF(I560>0,VLOOKUP(I560,tafseel[],3,FALSE),0)","v":0},null,null,null,null,null,null,null,null,null,null,null,null,{"$f":"تفصیلی!B558&\" -- \"&تفصیلی!D558","v":" -- "}]
[null,null,null,null,null,0,null,{"$f":"IF(G561>0,VLOOKUP(G561,moein[کد معین]:moein[شرح معین],2,FALSE),0)","v":0},null,{"$f":"IF(I561>0,VLOOKUP(I561,tafseel[],3,FALSE),0)","v":0},null,null,null,null,null,null,null,null,null,null,null,null,{"$f":"تفصیلی!B559&\" -- \"&تفصیلی!D559","v":" -- "}]
[null,null,null,null,null,0,null,{"$f":"IF(G562>0,VLOOKUP(G562,moein[کد معین]:moein[شرح معین],2,FALSE),0)","v":0},null,{"$f":"IF(I562>0,VLOOKUP(I562,tafseel[],3,FALSE),0)","v":0},null,null,null,null,null,null,null,null,null,null,null,null,{"$f":"تفصیلی!B560&\" -- \"&تفصیلی!D560","v":" -- "}]
[null,null,null,null,null,0,null,{"$f":"IF(G563>0,VLOOKUP(G563,moein[کد معین]:moein[شرح معین],2,FALSE),0)","v":0},null,{"$f":"IF(I563>0,VLOOKUP(I563,tafseel[],3,FALSE),0)","v":0},null,null,null,null,null,null,null,null,null,null,null,null,{"$f":"تفصیلی!B561&\" -- \"&تفصیلی!D561","v":" -- "}]
[null,null,null,null,null,0,null,{"$f":"IF(G564>0,VLOOKUP(G564,moein[کد معین]:moein[شرح معین],2,FALSE),0)","v":0},null,{"$f":"IF(I564>0,VLOOKUP(I564,tafseel[],3,FALSE),0)","v":0},null,null,null,null,null,null,null,null,null,null,null,null,{"$f":"تفصیلی!B562&\" -- \"&تفصیلی!D562","v":" -- "}]
[null,null,null,null,null,0,null,{"$f":"IF(G565>0,VLOOKUP(G565,moein[کد معین]:moein[شرح معین],2,FALSE),0)","v":0},null,{"$f":"IF(I565>0,VLOOKUP(I565,tafseel[],3,FALSE),0)","v":0},null,null,null,null,null,null,null,null,null,null,null,null,{"$f":"تفصیلی!B563&\" -- \"&تفصیلی!D563","v":" -- "}]
[null,null,null,null,null,0,null,{"$f":"IF(G566>0,VLOOKUP(G566,moein[کد معین]:moein[شرح معین],2,FALSE),0)","v":0},null,{"$f":"IF(I566>0,VLOOKUP(I566,tafseel[],3,FALSE),0)","v":0},null,null,null,null,null,null,null,null,null,null,null,null,{"$f":"تفصیلی!B564&\" -- \"&تفصیلی!D564","v":" -- "}]
[null,null,null,null,null,0,null,{"$f":"IF(G567>0,VLOOKUP(G567,moein[کد معین]:moein[شرح معین],2,FALSE),0)","v":0},null,{"$f":"IF(I567>0,VLOOKUP(I567,tafseel[],3,FALSE),0)","v":0},null,null,null,null,null,null,null,null,null,null,null,null,{"$f":"تفصیلی!B565&\" -- \"&تفصیلی!D565","v":" -- "}]
[null,null,null,null,null,0,null,{"$f":"IF(G568>0,VLOOKUP(G568,moein[کد معین]:moein[شرح معین],2,FALSE),0)","v":0},null,{"$f":"IF(I568>0,VLOOKUP(I568,tafseel[],3,FALSE),0)","v":0},null,null,null,null,null,null,null,null,null,null,null,null,{"$f":"تفصیلی!B566&\" -- \"&تفصیلی!D566","v":" -- "}]
[null,null,null,null,null,0,null,{"$f":"IF(G569>0,VLOOKUP(G569,moein[کد معین]:moein[شرح معین],2,FALSE),0)","v":0},null,{"$f":"IF(I569>0,VLOOKUP(I569,tafseel[],3,FALSE),0)","v":0},null,null,null,null,null,null,null,null,null,null,null,null,{"$f":"تفصیلی!B567&\" -- \"&تفصیلی!D567","v":" -- "}]
[null,null,null,null,null,0,null,{"$f":"IF(G570>0,VLOOKUP(G570,moein[کد معین]:moein[شرح معین],2,FALSE),0)","v":0},null,{"$f":"IF(I570>0,VLOOKUP(I570,tafseel[],3,FALSE),0)","v":0},null,null,null,null,null,null,null,null,null,null,null,null,{"$f":"تفصیلی!B568&\" -- \"&تفصیلی!D568","v":" -- "}]
[null,null,null,null,null,0,null,{"$f":"IF(G571>0,VLOOKUP(G571,moein[کد معین]:moein[شرح معین],2,FALSE),0)","v":0},null,{"$f":"IF(I571>0,VLOOKUP(I571,tafseel[],3,FALSE),0)","v":0},null,null,null,null,null,null,null,null,null,null,null,null,{"$f":"تفصیلی!B569&\" -- \"&تفصیلی!D569","v":" -- "}]
[null,null,null,null,null,0,null,{"$f":"IF(G572>0,VLOOKUP(G572,moein[کد معین]:moein[شرح معین],2,FALSE),0)","v":0},null,{"$f":"IF(I572>0,VLOOKUP(I572,tafseel[],3,FALSE),0)","v":0},null,null,null,null,null,null,null,null,null,null,null,null,{"$f":"تفصیلی!B570&\" -- \"&تفصیلی!D570","v":" -- "}]
[null,null,null,null,null,0,null,{"$f":"IF(G573>0,VLOOKUP(G573,moein[کد معین]:moein[شرح معین],2,FALSE),0)","v":0},null,{"$f":"IF(I573>0,VLOOKUP(I573,tafseel[],3,FALSE),0)","v":0},null,null,null,null,null,null,null,null,null,null,null,null,{"$f":"تفصیلی!B571&\" -- \"&تفصیلی!D571","v":" -- "}]
[null,null,null,null,null,0,null,{"$f":"IF(G574>0,VLOOKUP(G574,moein[کد معین]:moein[شرح معین],2,FALSE),0)","v":0},null,{"$f":"IF(I574>0,VLOOKUP(I574,tafseel[],3,FALSE),0)","v":0},null,null,null,null,null,null,null,null,null,null,null,null,{"$f":"تفصیلی!B572&\" -- \"&تفصیلی!D572","v":" -- "}]
[null,null,null,null,null,0,null,{"$f":"IF(G575>0,VLOOKUP(G575,moein[کد معین]:moein[شرح معین],2,FALSE),0)","v":0},null,{"$f":"IF(I575>0,VLOOKUP(I575,tafseel[],3,FALSE),0)","v":0},null,null,null,null,null,null,null,null,null,null,null,null,{"$f":"تفصیلی!B573&\" -- \"&تفصیلی!D573","v":" -- "}]
[null,null,null,null,null,0,null,{"$f":"IF(G576>0,VLOOKUP(G576,moein[کد معین]:moein[شرح معین],2,FALSE),0)","v":0},null,{"$f":"IF(I576>0,VLOOKUP(I576,tafseel[],3,FALSE),0)","v":0},null,null,null,null,null,null,null,null,null,null,null,null,{"$f":"تفصیلی!B574&\" -- \"&تفصیلی!D574","v":" -- "}]
[null,null,null,null,null,0,null,{"$f":"IF(G577>0,VLOOKUP(G577,moein[کد معین]:moein[شرح معین],2,FALSE),0)","v":0},null,{"$f":"IF(I577>0,VLOOKUP(I577,tafseel[],3,FALSE),0)","v":0},null,null,null,null,null,null,null,null,null,null,null,null,{"$f":"تفصیلی!B575&\" -- \"&تفصیلی!D575","v":" -- "}]
[null,null,null,null,null,0,null,{"$f":"IF(G578>0,VLOOKUP(G578,moein[کد معین]:moein[شرح معین],2,FALSE),0)","v":0},null,{"$f":"IF(I578>0,VLOOKUP(I578,tafseel[],3,FALSE),0)","v":0},null,null,null,null,null,null,null,null,null,null,null,null,{"$f":"تفصیلی!B576&\" -- \"&تفصیلی!D576","v":" -- "}]
[null,null,null,null,null,0,null,{"$f":"IF(G579>0,VLOOKUP(G579,moein[کد معین]:moein[شرح معین],2,FALSE),0)","v":0},null,{"$f":"IF(I579>0,VLOOKUP(I579,tafseel[],3,FALSE),0)","v":0},null,null,null,null,null,null,null,null,null,null,null,null,{"$f":"تفصیلی!B577&\" -- \"&تفصیلی!D577","v":" -- "}]
[null,null,null,null,null,0,null,{"$f":"IF(G580>0,VLOOKUP(G580,moein[کد معین]:moein[شرح معین],2,FALSE),0)","v":0},null,{"$f":"IF(I580>0,VLOOKUP(I580,tafseel[],3,FALSE),0)","v":0},null,null,null,null,null,null,null,null,null,null,null,null,{"$f":"تفصیلی!B578&\" -- \"&تفصیلی!D578","v":" -- "}]
[null,null,null,null,null,0,null,{"$f":"IF(G581>0,VLOOKUP(G581,moein[کد معین]:moein[شرح معین],2,FALSE),0)","v":0},null,{"$f":"IF(I581>0,VLOOKUP(I581,tafseel[],3,FALSE),0)","v":0},null,null,null,null,null,null,null,null,null,null,null,null,{"$f":"تفصیلی!B579&\" -- \"&تفصیلی!D579","v":" -- "}]
[null,null,null,null,null,{"$f":"IF(E582>0,VLOOKUP(E582,koli,2,FALSE),0)","v":0},null,{"$f":"IF(G582>0,VLOOKUP(G582,moein[کد معین]:moein[شرح معین],2,FALSE),0)","v":0},null,{"$f":"IF(I582>0,VLOOKUP(I582,tafseel[],3,FALSE),0)","v":0},null,null,null,null,null,null,null,null,null,null,null,null,{"$f":"تفصیلی!B580&\" -- \"&تفصیلی!D580","v":" -- "}]
[null,null,null,null,null,0,null,{"$f":"IF(G583>0,VLOOKUP(G583,moein[کد معین]:moein[شرح معین],2,FALSE),0)","v":0},null,{"$f":"IF(I583>0,VLOOKUP(I583,tafseel[],3,FALSE),0)","v":0},null,null,null,null,null,null,null,null,null,null,null,null,{"$f":"تفصیلی!B581&\" -- \"&تفصیلی!D581","v":" -- "}]
[null,null,null,null,null,0,null,{"$f":"IF(G584>0,VLOOKUP(G584,moein[کد معین]:moein[شرح معین],2,FALSE),0)","v":0},null,{"$f":"IF(I584>0,VLOOKUP(I584,tafseel[],3,FALSE),0)","v":0},null,null,null,null,null,null,null,null,null,null,null,null,{"$f":"تفصیلی!B582&\" -- \"&تفصیلی!D582","v":" -- "}]
[null,null,null,null,null,0,null,{"$f":"IF(G585>0,VLOOKUP(G585,moein[کد معین]:moein[شرح معین],2,FALSE),0)","v":0},null,{"$f":"IF(I585>0,VLOOKUP(I585,tafseel[],3,FALSE),0)","v":0},null,null,null,null,null,null,null,null,null,null,null,null,{"$f":"تفصیلی!B583&\" -- \"&تفصیلی!D583","v":" -- "}]
[null,null,null,null,null,0,null,{"$f":"IF(G586>0,VLOOKUP(G586,moein[کد معین]:moein[شرح معین],2,FALSE),0)","v":0},null,{"$f":"IF(I586>0,VLOOKUP(I586,tafseel[],3,FALSE),0)","v":0},null,null,null,null,null,null,null,null,null,null,null,null,{"$f":"تفصیلی!B584&\" -- \"&تفصیلی!D584","v":" -- "}]
[null,null,null,null,null,0,null,{"$f":"IF(G587>0,VLOOKUP(G587,moein[کد معین]:moein[شرح معین],2,FALSE),0)","v":0},null,{"$f":"IF(I587>0,VLOOKUP(I587,tafseel[],3,FALSE),0)","v":0},null,null,null,null,null,null,null,null,null,null,null,null,{"$f":"تفصیلی!B585&\" -- \"&تفصیلی!D585","v":" -- "}]
[null,null,null,null,null,0,null,{"$f":"IF(G588>0,VLOOKUP(G588,moein[کد معین]:moein[شرح معین],2,FALSE),0)","v":0},null,{"$f":"IF(I588>0,VLOOKUP(I588,tafseel[],3,FALSE),0)","v":0},null,null,null,null,null,null,null,null,null,null,null,null,{"$f":"تفصیلی!B586&\" -- \"&تفصیلی!D586","v":" -- "}]
[null,null,null,null,null,0,null,{"$f":"IF(G589>0,VLOOKUP(G589,moein[کد معین]:moein[شرح معین],2,FALSE),0)","v":0},null,{"$f":"IF(I589>0,VLOOKUP(I589,tafseel[],3,FALSE),0)","v":0},null,null,null,null,null,null,null,null,null,null,null,null,{"$f":"تفصیلی!B587&\" -- \"&تفصیلی!D587","v":" -- "}]
[null,null,null,null,null,0,null,{"$f":"IF(G590>0,VLOOKUP(G590,moein[کد معین]:moein[شرح معین],2,FALSE),0)","v":0},null,{"$f":"IF(I590>0,VLOOKUP(I590,tafseel[],3,FALSE),0)","v":0},null,null,null,null,null,null,null,null,null,null,null,null,{"$f":"تفصیلی!B588&\" -- \"&تفصیلی!D588","v":" -- "}]
[null,null,null,null,null,0,null,{"$f":"IF(G591>0,VLOOKUP(G591,moein[کد معین]:moein[شرح معین],2,FALSE),0)","v":0},null,{"$f":"IF(I591>0,VLOOKUP(I591,tafseel[],3,FALSE),0)","v":0},null,null,null,null,null,null,null,null,null,null,null,null,{"$f":"تفصیلی!B589&\" -- \"&تفصیلی!D589","v":" -- "}]
[null,null,null,null,null,0,null,{"$f":"IF(G592>0,VLOOKUP(G592,moein[کد معین]:moein[شرح معین],2,FALSE),0)","v":0},null,{"$f":"IF(I592>0,VLOOKUP(I592,tafseel[],3,FALSE),0)","v":0},null,null,null,null,null,null,null,null,null,null,null,null,{"$f":"تفصیلی!B590&\" -- \"&تفصیلی!D590","v":" -- "}]
[null,null,null,null,null,0,null,{"$f":"IF(G593>0,VLOOKUP(G593,moein[کد معین]:moein[شرح معین],2,FALSE),0)","v":0},null,{"$f":"IF(I593>0,VLOOKUP(I593,tafseel[],3,FALSE),0)","v":0},null,null,null,null,null,null,null,null,null,null,null,null,{"$f":"تفصیلی!B591&\" -- \"&تفصیلی!D591","v":" -- "}]
[null,null,null,null,null,0,null,{"$f":"IF(G594>0,VLOOKUP(G594,moein[کد معین]:moein[شرح معین],2,FALSE),0)","v":0},null,{"$f":"IF(I594>0,VLOOKUP(I594,tafseel[],3,FALSE),0)","v":0},null,null,null,null,null,null,null,null,null,null,null,null,{"$f":"تفصیلی!B592&\" -- \"&تفصیلی!D592","v":" -- "}]
[null,null,null,null,null,0,null,{"$f":"IF(G595>0,VLOOKUP(G595,moein[کد معین]:moein[شرح معین],2,FALSE),0)","v":0},null,{"$f":"IF(I595>0,VLOOKUP(I595,tafseel[],3,FALSE),0)","v":0},null,null,null,null,null,null,null,null,null,null,null,null,{"$f":"تفصیلی!B593&\" -- \"&تفصیلی!D593","v":" -- "}]
[null,null,null,null,null,0,null,{"$f":"IF(G596>0,VLOOKUP(G596,moein[کد معین]:moein[شرح معین],2,FALSE),0)","v":0},null,{"$f":"IF(I596>0,VLOOKUP(I596,tafseel[],3,FALSE),0)","v":0},null,null,null,null,null,null,null,null,null,null,null,null,{"$f":"تفصیلی!B594&\" -- \"&تفصیلی!D594","v":" -- "}]
[null,null,null,null,null,0,null,{"$f":"IF(G597>0,VLOOKUP(G597,moein[کد معین]:moein[شرح معین],2,FALSE),0)","v":0},null,{"$f":"IF(I597>0,VLOOKUP(I597,tafseel[],3,FALSE),0)","v":0},null,null,null,null,null,null,null,null,null,null,null,null,{"$f":"تفصیلی!B595&\" -- \"&تفصیلی!D595","v":" -- "}]
[null,null,null,null,null,0,null,{"$f":"IF(G598>0,VLOOKUP(G598,moein[کد معین]:moein[شرح معین],2,FALSE),0)","v":0},null,{"$f":"IF(I598>0,VLOOKUP(I598,tafseel[],3,FALSE),0)","v":0},null,null,null,null,null,null,null,null,null,null,null,null,{"$f":"تفصیلی!B596&\" -- \"&تفصیلی!D596","v":" -- "}]
[null,null,null,null,null,0,null,{"$f":"IF(G599>0,VLOOKUP(G599,moein[کد معین]:moein[شرح معین],2,FALSE),0)","v":0},null,{"$f":"IF(I599>0,VLOOKUP(I599,tafseel[],3,FALSE),0)","v":0},null,null,null,null,null,null,null,null,null,null,null,null,{"$f":"تفصیلی!B597&\" -- \"&تفصیلی!D597","v":" -- "}]
[null,null,null,null,null,0,null,{"$f":"IF(G600>0,VLOOKUP(G600,moein[کد معین]:moein[شرح معین],2,FALSE),0)","v":0},null,{"$f":"IF(I600>0,VLOOKUP(I600,tafseel[],3,FALSE),0)","v":0},null,null,null,null,null,null,null,null,null,null,null,null,{"$f":"تفصیلی!B598&\" -- \"&تفصیلی!D598","v":" -- "}]
[null,null,null,null,null,0,null,{"$f":"IF(G601>0,VLOOKUP(G601,moein[کد معین]:moein[شرح معین],2,FALSE),0)","v":0},null,{"$f":"IF(I601>0,VLOOKUP(I601,tafseel[],3,FALSE),0)","v":0},null,null,null,null,null,null,null,null,null,null,null,null,{"$f":"تفصیلی!B599&\" -- \"&تفصیلی!D599","v":" -- "}]
[null,null,null,null,null,0,null,{"$f":"IF(G602>0,VLOOKUP(G602,moein[کد معین]:moein[شرح معین],2,FALSE),0)","v":0},null,{"$f":"IF(I602>0,VLOOKUP(I602,tafseel[],3,FALSE),0)","v":0},null,null,null,null,null,null,null,null,null,null,null,null,{"$f":"تفصیلی!B600&\" -- \"&تفصیلی!D600","v":" -- "}]
[null,null,null,null,null,0,null,{"$f":"IF(G603>0,VLOOKUP(G603,moein[کد معین]:moein[شرح معین],2,FALSE),0)","v":0},null,{"$f":"IF(I603>0,VLOOKUP(I603,tafseel[],3,FALSE),0)","v":0},null,null,null,null,null,null,null,null,null,null,null,null,{"$f":"تفصیلی!B601&\" -- \"&تفصیلی!D601","v":" -- "}]
[null,null,null,null,null,0,null,{"$f":"IF(G604>0,VLOOKUP(G604,moein[کد معین]:moein[شرح معین],2,FALSE),0)","v":0},null,{"$f":"IF(I604>0,VLOOKUP(I604,tafseel[],3,FALSE),0)","v":0},null,null,null,null,null,null,null,null,null,null,null,null,{"$f":"تفصیلی!B602&\" -- \"&تفصیلی!D602","v":" -- "}]
[null,null,null,null,null,0,null,{"$f":"IF(G605>0,VLOOKUP(G605,moein[کد معین]:moein[شرح معین],2,FALSE),0)","v":0},null,{"$f":"IF(I605>0,VLOOKUP(I605,tafseel[],3,FALSE),0)","v":0},null,null,null,null,null,null,null,null,null,null,null,null,{"$f":"تفصیلی!B603&\" -- \"&تفصیلی!D603","v":" -- "}]
[null,null,null,null,null,0,null,{"$f":"IF(G606>0,VLOOKUP(G606,moein[کد معین]:moein[شرح معین],2,FALSE),0)","v":0},null,{"$f":"IF(I606>0,VLOOKUP(I606,tafseel[],3,FALSE),0)","v":0},null,null,null,null,null,null,null,null,null,null,null,null,{"$f":"تفصیلی!B604&\" -- \"&تفصیلی!D604","v":" -- "}]
[null,null,null,null,null,0,null,{"$f":"IF(G607>0,VLOOKUP(G607,moein[کد معین]:moein[شرح معین],2,FALSE),0)","v":0},null,{"$f":"IF(I607>0,VLOOKUP(I607,tafseel[],3,FALSE),0)","v":0},null,null,null,null,null,null,null,null,null,null,null,null,{"$f":"تفصیلی!B605&\" -- \"&تفصیلی!D605","v":" -- "}]
[null,null,null,null,null,0,null,{"$f":"IF(G608>0,VLOOKUP(G608,moein[کد معین]:moein[شرح معین],2,FALSE),0)","v":0},null,{"$f":"IF(I608>0,VLOOKUP(I608,tafseel[],3,FALSE),0)","v":0},null,null,null,null,null,null,null,null,null,null,null,null,{"$f":"تفصیلی!B606&\" -- \"&تفصیلی!D606","v":" -- "}]
[null,null,null,null,null,0,null,{"$f":"IF(G609>0,VLOOKUP(G609,moein[کد معین]:moein[شرح معین],2,FALSE),0)","v":0},null,{"$f":"IF(I609>0,VLOOKUP(I609,tafseel[],3,FALSE),0)","v":0},null,null,null,null,null,null,null,null,null,null,null,null,{"$f":"تفصیلی!B607&\" -- \"&تفصیلی!D607","v":" -- "}]
[null,null,null,null,null,0,null,{"$f":"IF(G610>0,VLOOKUP(G610,moein[کد معین]:moein[شرح معین],2,FALSE),0)","v":0},null,{"$f":"IF(I610>0,VLOOKUP(I610,tafseel[],3,FALSE),0)","v":0},null,null,null,null,null,null,null,null,null,null,null,null,{"$f":"تفصیلی!B608&\" -- \"&تفصیلی!D608","v":" -- "}]
[null,null,null,null,null,0,null,{"$f":"IF(G611>0,VLOOKUP(G611,moein[کد معین]:moein[شرح معین],2,FALSE),0)","v":0},null,{"$f":"IF(I611>0,VLOOKUP(I611,tafseel[],3,FALSE),0)","v":0},null,null,null,null,null,null,null,null,null,null,null,null,{"$f":"تفصیلی!B609&\" -- \"&تفصیلی!D609","v":" -- "}]
[null,null,null,null,null,0,null,{"$f":"IF(G612>0,VLOOKUP(G612,moein[کد معین]:moein[شرح معین],2,FALSE),0)","v":0},null,{"$f":"IF(I612>0,VLOOKUP(I612,tafseel[],3,FALSE),0)","v":0},null,null,null,null,null,null,null,null,null,null,null,null,{"$f":"تفصیلی!B610&\" -- \"&تفصیلی!D610","v":" -- "}]
[null,null,null,null,null,0,null,{"$f":"IF(G613>0,VLOOKUP(G613,moein[کد معین]:moein[شرح معین],2,FALSE),0)","v":0},null,{"$f":"IF(I613>0,VLOOKUP(I613,tafseel[],3,FALSE),0)","v":0},null,null,null,null,null,null,null,null,null,null,null,null,{"$f":"تفصیلی!B611&\" -- \"&تفصیلی!D611","v":" -- "}]
[null,null,null,null,null,0,null,{"$f":"IF(G614>0,VLOOKUP(G614,moein[کد معین]:moein[شرح معین],2,FALSE),0)","v":0},null,{"$f":"IF(I614>0,VLOOKUP(I614,tafseel[],3,FALSE),0)","v":0},null,null,null,null,null,null,null,null,null,null,null,null,{"$f":"تفصیلی!B612&\" -- \"&تفصیلی!D612","v":" -- "}]
[null,null,null,null,null,0,null,{"$f":"IF(G615>0,VLOOKUP(G615,moein[کد معین]:moein[شرح معین],2,FALSE),0)","v":0},null,{"$f":"IF(I615>0,VLOOKUP(I615,tafseel[],3,FALSE),0)","v":0},null,null,null,null,null,null,null,null,null,null,null,null,{"$f":"تفصیلی!B613&\" -- \"&تفصیلی!D613","v":" -- "}]
[null,null,null,null,null,0,null,{"$f":"IF(G616>0,VLOOKUP(G616,moein[کد معین]:moein[شرح معین],2,FALSE),0)","v":0},null,{"$f":"IF(I616>0,VLOOKUP(I616,tafseel[],3,FALSE),0)","v":0},null,null,null,null,null,null,null,null,null,null,null,null,{"$f":"تفصیلی!B614&\" -- \"&تفصیلی!D614","v":" -- "}]
[null,null,null,null,null,0,null,{"$f":"IF(G617>0,VLOOKUP(G617,moein[کد معین]:moein[شرح معین],2,FALSE),0)","v":0},null,{"$f":"IF(I617>0,VLOOKUP(I617,tafseel[],3,FALSE),0)","v":0},null,null,null,null,null,null,null,null,null,null,null,null,{"$f":"تفصیلی!B615&\" -- \"&تفصیلی!D615","v":" -- "}]
[null,null,null,null,null,0,null,{"$f":"IF(G618>0,VLOOKUP(G618,moein[کد معین]:moein[شرح معین],2,FALSE),0)","v":0},null,{"$f":"IF(I618>0,VLOOKUP(I618,tafseel[],3,FALSE),0)","v":0},null,null,null,null,null,null,null,null,null,null,null,null,{"$f":"تفصیلی!B616&\" -- \"&تفصیلی!D616","v":" -- "}]
[null,null,null,null,null,0,null,{"$f":"IF(G619>0,VLOOKUP(G619,moein[کد معین]:moein[شرح معین],2,FALSE),0)","v":0},null,{"$f":"IF(I619>0,VLOOKUP(I619,tafseel[],3,FALSE),0)","v":0},null,null,null,null,null,null,null,null,null,null,null,null,{"$f":"تفصیلی!B617&\" -- \"&تفصیلی!D617","v":" -- "}]
[null,null,null,null,null,0,null,{"$f":"IF(G620>0,VLOOKUP(G620,moein[کد معین]:moein[شرح معین],2,FALSE),0)","v":0},null,{"$f":"IF(I620>0,VLOOKUP(I620,tafseel[],3,FALSE),0)","v":0},null,null,null,null,null,null,null,null,null,null,null,null,{"$f":"تفصیلی!B618&\" -- \"&تفصیلی!D618","v":" -- "}]
[null,null,null,null,null,0,null,{"$f":"IF(G621>0,VLOOKUP(G621,moein[کد معین]:moein[شرح معین],2,FALSE),0)","v":0},null,{"$f":"IF(I621>0,VLOOKUP(I621,tafseel[],3,FALSE),0)","v":0},null,null,null,null,null,null,null,null,null,null,null,null,{"$f":"تفصیلی!B619&\" -- \"&تفصیلی!D619","v":" -- "}]
[null,null,null,null,null,0,null,{"$f":"IF(G622>0,VLOOKUP(G622,moein[کد معین]:moein[شرح معین],2,FALSE),0)","v":0},null,{"$f":"IF(I622>0,VLOOKUP(I622,tafseel[],3,FALSE),0)","v":0},null,null,null,null,null,null,null,null,null,null,null,null,{"$f":"تفصیلی!B620&\" -- \"&تفصیلی!D620","v":" -- "}]
[null,null,null,null,null,0,null,{"$f":"IF(G623>0,VLOOKUP(G623,moein[کد معین]:moein[شرح معین],2,FALSE),0)","v":0},null,{"$f":"IF(I623>0,VLOOKUP(I623,tafseel[],3,FALSE),0)","v":0},null,null,null,null,null,null,null,null,null,null,null,null,{"$f":"تفصیلی!B621&\" -- \"&تفصیلی!D621","v":" -- "}]
[null,null,null,null,null,0,null,{"$f":"IF(G624>0,VLOOKUP(G624,moein[کد معین]:moein[شرح معین],2,FALSE),0)","v":0},null,{"$f":"IF(I624>0,VLOOKUP(I624,tafseel[],3,FALSE),0)","v":0},null,null,null,null,null,null,null,null,null,null,null,null,{"$f":"تفصیلی!B622&\" -- \"&تفصیلی!D622","v":" -- "}]
[null,null,null,null,null,0,null,{"$f":"IF(G625>0,VLOOKUP(G625,moein[کد معین]:moein[شرح معین],2,FALSE),0)","v":0},null,{"$f":"IF(I625>0,VLOOKUP(I625,tafseel[],3,FALSE),0)","v":0},null,null,null,null,null,null,null,null,null,null,null,null,{"$f":"تفصیلی!B623&\" -- \"&تفصیلی!D623","v":" -- "}]
[null,null,null,null,null,0,null,{"$f":"IF(G626>0,VLOOKUP(G626,moein[کد معین]:moein[شرح معین],2,FALSE),0)","v":0},null,{"$f":"IF(I626>0,VLOOKUP(I626,tafseel[],3,FALSE),0)","v":0},null,null,null,null,null,null,null,null,null,null,null,null,{"$f":"تفصیلی!B624&\" -- \"&تفصیلی!D624","v":" -- "}]
[null,null,null,null,null,0,null,{"$f":"IF(G627>0,VLOOKUP(G627,moein[کد معین]:moein[شرح معین],2,FALSE),0)","v":0},null,{"$f":"IF(I627>0,VLOOKUP(I627,tafseel[],3,FALSE),0)","v":0},null,null,null,null,null,null,null,null,null,null,null,null,{"$f":"تفصیلی!B625&\" -- \"&تفصیلی!D625","v":" -- "}]
[null,null,null,null,null,0,null,{"$f":"IF(G628>0,VLOOKUP(G628,moein[کد معین]:moein[شرح معین],2,FALSE),0)","v":0},null,{"$f":"IF(I628>0,VLOOKUP(I628,tafseel[],3,FALSE),0)","v":0},null,null,null,null,null,null,null,null,null,null,null,null,{"$f":"تفصیلی!B626&\" -- \"&تفصیلی!D626","v":" -- "}]
[null,null,null,null,null,0,null,{"$f":"IF(G629>0,VLOOKUP(G629,moein[کد معین]:moein[شرح معین],2,FALSE),0)","v":0},null,{"$f":"IF(I629>0,VLOOKUP(I629,tafseel[],3,FALSE),0)","v":0},null,null,null,null,null,null,null,null,null,null,null,null,{"$f":"تفصیلی!B627&\" -- \"&تفصیلی!D627","v":" -- "}]
[null,null,null,null,null,0,null,{"$f":"IF(G630>0,VLOOKUP(G630,moein[کد معین]:moein[شرح معین],2,FALSE),0)","v":0},null,{"$f":"IF(I630>0,VLOOKUP(I630,tafseel[],3,FALSE),0)","v":0},null,null,null,null,null,null,null,null,null,null,null,null,{"$f":"تفصیلی!B628&\" -- \"&تفصیلی!D628","v":" -- "}]
[null,null,null,null,null,0,null,{"$f":"IF(G631>0,VLOOKUP(G631,moein[کد معین]:moein[شرح معین],2,FALSE),0)","v":0},null,{"$f":"IF(I631>0,VLOOKUP(I631,tafseel[],3,FALSE),0)","v":0},null,null,null,null,null,null,null,null,null,null,null,null,{"$f":"تفصیلی!B629&\" -- \"&تفصیلی!D629","v":" -- "}]
[null,null,null,null,null,0,null,{"$f":"IF(G632>0,VLOOKUP(G632,moein[کد معین]:moein[شرح معین],2,FALSE),0)","v":0},null,{"$f":"IF(I632>0,VLOOKUP(I632,tafseel[],3,FALSE),0)","v":0},null,null,null,null,null,null,null,null,null,null,null,null,{"$f":"تفصیلی!B630&\" -- \"&تفصیلی!D630","v":" -- "}]
[null,null,null,null,null,0,null,{"$f":"IF(G633>0,VLOOKUP(G633,moein[کد معین]:moein[شرح معین],2,FALSE),0)","v":0},null,{"$f":"IF(I633>0,VLOOKUP(I633,tafseel[],3,FALSE),0)","v":0},null,null,null,null,null,null,null,null,null,null,null,null,{"$f":"تفصیلی!B631&\" -- \"&تفصیلی!D631","v":" -- "}]
[null,null,null,null,null,0,null,{"$f":"IF(G634>0,VLOOKUP(G634,moein[کد معین]:moein[شرح معین],2,FALSE),0)","v":0},null,{"$f":"IF(I634>0,VLOOKUP(I634,tafseel[],3,FALSE),0)","v":0},null,null,null,null,null,null,null,null,null,null,null,null,{"$f":"تفصیلی!B632&\" -- \"&تفصیلی!D632","v":" -- "}]
[null,null,null,null,null,0,null,{"$f":"IF(G635>0,VLOOKUP(G635,moein[کد معین]:moein[شرح معین],2,FALSE),0)","v":0},null,{"$f":"IF(I635>0,VLOOKUP(I635,tafseel[],3,FALSE),0)","v":0},null,null,null,null,null,null,null,null,null,null,null,null,{"$f":"تفصیلی!B633&\" -- \"&تفصیلی!D633","v":" -- "}]
[null,null,null,null,null,0,null,{"$f":"IF(G636>0,VLOOKUP(G636,moein[کد معین]:moein[شرح معین],2,FALSE),0)","v":0},null,{"$f":"IF(I636>0,VLOOKUP(I636,tafseel[],3,FALSE),0)","v":0},null,null,null,null,null,null,null,null,null,null,null,null,{"$f":"تفصیلی!B634&\" -- \"&تفصیلی!D634","v":" -- "}]
[null,null,null,null,null,0,null,{"$f":"IF(G637>0,VLOOKUP(G637,moein[کد معین]:moein[شرح معین],2,FALSE),0)","v":0},null,{"$f":"IF(I637>0,VLOOKUP(I637,tafseel[],3,FALSE),0)","v":0},null,null,null,null,null,null,null,null,null,null,null,null,{"$f":"تفصیلی!B635&\" -- \"&تفصیلی!D635","v":" -- "}]
[null,null,null,null,null,0,null,{"$f":"IF(G638>0,VLOOKUP(G638,moein[کد معین]:moein[شرح معین],2,FALSE),0)","v":0},null,{"$f":"IF(I638>0,VLOOKUP(I638,tafseel[],3,FALSE),0)","v":0},null,null,null,null,null,null,null,null,null,null,null,null,{"$f":"تفصیلی!B636&\" -- \"&تفصیلی!D636","v":" -- "}]
[null,null,null,null,null,0,null,{"$f":"IF(G639>0,VLOOKUP(G639,moein[کد معین]:moein[شرح معین],2,FALSE),0)","v":0},null,{"$f":"IF(I639>0,VLOOKUP(I639,tafseel[],3,FALSE),0)","v":0},null,null,null,null,null,null,null,null,null,null,null,null,{"$f":"تفصیلی!B637&\" -- \"&تفصیلی!D637","v":" -- "}]
[null,null,null,null,null,0,null,{"$f":"IF(G640>0,VLOOKUP(G640,moein[کد معین]:moein[شرح معین],2,FALSE),0)","v":0},null,{"$f":"IF(I640>0,VLOOKUP(I640,tafseel[],3,FALSE),0)","v":0},null,null,null,null,null,null,null,null,null,null,null,null,{"$f":"تفصیلی!B638&\" -- \"&تفصیلی!D638","v":" -- "}]
[null,null,null,null,null,0,null,{"$f":"IF(G641>0,VLOOKUP(G641,moein[کد معین]:moein[شرح معین],2,FALSE),0)","v":0},null,{"$f":"IF(I641>0,VLOOKUP(I641,tafseel[],3,FALSE),0)","v":0},null,null,null,null,null,null,null,null,null,null,null,null,{"$f":"تفصیلی!B639&\" -- \"&تفصیلی!D639","v":" -- "}]
[null,null,null,null,null,0,null,{"$f":"IF(G642>0,VLOOKUP(G642,moein[کد معین]:moein[شرح معین],2,FALSE),0)","v":0},null,{"$f":"IF(I642>0,VLOOKUP(I642,tafseel[],3,FALSE),0)","v":0},null,null,null,null,null,null,null,null,null,null,null,null,{"$f":"تفصیلی!B640&\" -- \"&تفصیلی!D640","v":" -- "}]
[null,null,null,null,null,0,null,{"$f":"IF(G643>0,VLOOKUP(G643,moein[کد معین]:moein[شرح معین],2,FALSE),0)","v":0},null,{"$f":"IF(I643>0,VLOOKUP(I643,tafseel[],3,FALSE),0)","v":0},null,null,null,null,null,null,null,null,null,null,null,null,{"$f":"تفصیلی!B641&\" -- \"&تفصیلی!D641","v":" -- "}]
[null,null,null,null,null,0,null,{"$f":"IF(G644>0,VLOOKUP(G644,moein[کد معین]:moein[شرح معین],2,FALSE),0)","v":0},null,{"$f":"IF(I644>0,VLOOKUP(I644,tafseel[],3,FALSE),0)","v":0},null,null,null,null,null,null,null,null,null,null,null,null,{"$f":"تفصیلی!B642&\" -- \"&تفصیلی!D642","v":" -- "}]
[null,null,null,null,null,0,null,{"$f":"IF(G645>0,VLOOKUP(G645,moein[کد معین]:moein[شرح معین],2,FALSE),0)","v":0},null,{"$f":"IF(I645>0,VLOOKUP(I645,tafseel[],3,FALSE),0)","v":0},null,null,null,null,null,null,null,null,null,null,null,null,{"$f":"تفصیلی!B643&\" -- \"&تفصیلی!D643","v":" -- "}]
[null,null,null,null,null,{"$f":"IF(E646>0,VLOOKUP(E646,koli,2,FALSE),0)","v":0},null,{"$f":"IF(G646>0,VLOOKUP(G646,moein[کد معین]:moein[شرح معین],2,FALSE),0)","v":0},null,{"$f":"IF(I646>0,VLOOKUP(I646,tafseel[],3,FALSE),0)","v":0},null,null,null,null,null,null,null,null,null,null,null,null,{"$f":"تفصیلی!B644&\" -- \"&تفصیلی!D644","v":" -- "}]
[null,null,null,null,null,0,null,{"$f":"IF(G647>0,VLOOKUP(G647,moein[کد معین]:moein[شرح معین],2,FALSE),0)","v":0},null,{"$f":"IF(I647>0,VLOOKUP(I647,tafseel[],3,FALSE),0)","v":0},null,null,null,null,null,null,null,null,null,null,null,null,{"$f":"تفصیلی!B645&\" -- \"&تفصیلی!D645","v":" -- "}]
[null,null,null,null,null,0,null,{"$f":"IF(G648>0,VLOOKUP(G648,moein[کد معین]:moein[شرح معین],2,FALSE),0)","v":0},null,{"$f":"IF(I648>0,VLOOKUP(I648,tafseel[],3,FALSE),0)","v":0},null,null,null,null,null,null,null,null,null,null,null,null,{"$f":"تفصیلی!B646&\" -- \"&تفصیلی!D646","v":" -- "}]
[null,null,null,null,null,0,null,{"$f":"IF(G649>0,VLOOKUP(G649,moein[کد معین]:moein[شرح معین],2,FALSE),0)","v":0},null,{"$f":"IF(I649>0,VLOOKUP(I649,tafseel[],3,FALSE),0)","v":0},null,null,null,null,null,null,null,null,null,null,null,null,{"$f":"تفصیلی!B647&\" -- \"&تفصیلی!D647","v":" -- "}]
[null,null,null,null,null,0,null,{"$f":"IF(G650>0,VLOOKUP(G650,moein[کد معین]:moein[شرح معین],2,FALSE),0)","v":0},null,{"$f":"IF(I650>0,VLOOKUP(I650,tafseel[],3,FALSE),0)","v":0},null,null,null,null,null,null,null,null,null,null,null,null,{"$f":"تفصیلی!B648&\" -- \"&تفصیلی!D648","v":" -- "}]
[null,null,null,null,null,0,null,{"$f":"IF(G651>0,VLOOKUP(G651,moein[کد معین]:moein[شرح معین],2,FALSE),0)","v":0},null,{"$f":"IF(I651>0,VLOOKUP(I651,tafseel[],3,FALSE),0)","v":0},null,null,null,null,null,null,null,null,null,null,null,null,{"$f":"تفصیلی!B649&\" -- \"&تفصیلی!D649","v":" -- "}]
[null,null,null,null,null,0,null,{"$f":"IF(G652>0,VLOOKUP(G652,moein[کد معین]:moein[شرح معین],2,FALSE),0)","v":0},null,{"$f":"IF(I652>0,VLOOKUP(I652,tafseel[],3,FALSE),0)","v":0},null,null,null,null,null,null,null,null,null,null,null,null,{"$f":"تفصیلی!B650&\" -- \"&تفصیلی!D650","v":" -- "}]
[null,null,null,null,null,0,null,{"$f":"IF(G653>0,VLOOKUP(G653,moein[کد معین]:moein[شرح معین],2,FALSE),0)","v":0},null,{"$f":"IF(I653>0,VLOOKUP(I653,tafseel[],3,FALSE),0)","v":0},null,null,null,null,null,null,null,null,null,null,null,null,{"$f":"تفصیلی!B651&\" -- \"&تفصیلی!D651","v":" -- "}]
[null,null,null,null,null,0,null,{"$f":"IF(G654>0,VLOOKUP(G654,moein[کد معین]:moein[شرح معین],2,FALSE),0)","v":0},null,{"$f":"IF(I654>0,VLOOKUP(I654,tafseel[],3,FALSE),0)","v":0},null,null,null,null,null,null,null,null,null,null,null,null,{"$f":"تفصیلی!B652&\" -- \"&تفصیلی!D652","v":" -- "}]
[null,null,null,null,null,0,null,{"$f":"IF(G655>0,VLOOKUP(G655,moein[کد معین]:moein[شرح معین],2,FALSE),0)","v":0},null,{"$f":"IF(I655>0,VLOOKUP(I655,tafseel[],3,FALSE),0)","v":0},null,null,null,null,null,null,null,null,null,null,null,null,{"$f":"تفصیلی!B653&\" -- \"&تفصیلی!D653","v":" -- "}]
[null,null,null,null,null,0,null,{"$f":"IF(G656>0,VLOOKUP(G656,moein[کد معین]:moein[شرح معین],2,FALSE),0)","v":0},null,{"$f":"IF(I656>0,VLOOKUP(I656,tafseel[],3,FALSE),0)","v":0},null,null,null,null,null,null,null,null,null,null,null,null,{"$f":"تفصیلی!B654&\" -- \"&تفصیلی!D654","v":" -- "}]
[null,null,null,null,null,0,null,{"$f":"IF(G657>0,VLOOKUP(G657,moein[کد معین]:moein[شرح معین],2,FALSE),0)","v":0},null,{"$f":"IF(I657>0,VLOOKUP(I657,tafseel[],3,FALSE),0)","v":0},null,null,null,null,null,null,null,null,null,null,null,null,{"$f":"تفصیلی!B655&\" -- \"&تفصیلی!D655","v":" -- "}]
[null,null,null,null,null,0,null,{"$f":"IF(G658>0,VLOOKUP(G658,moein[کد معین]:moein[شرح معین],2,FALSE),0)","v":0},null,{"$f":"IF(I658>0,VLOOKUP(I658,tafseel[],3,FALSE),0)","v":0},null,null,null,null,null,null,null,null,null,null,null,null,{"$f":"تفصیلی!B656&\" -- \"&تفصیلی!D656","v":" -- "}]
[null,null,null,null,null,0,null,{"$f":"IF(G659>0,VLOOKUP(G659,moein[کد معین]:moein[شرح معین],2,FALSE),0)","v":0},null,{"$f":"IF(I659>0,VLOOKUP(I659,tafseel[],3,FALSE),0)","v":0},null,null,null,null,null,null,null,null,null,null,null,null,{"$f":"تفصیلی!B657&\" -- \"&تفصیلی!D657","v":" -- "}]
[null,null,null,null,null,0,null,{"$f":"IF(G660>0,VLOOKUP(G660,moein[کد معین]:moein[شرح معین],2,FALSE),0)","v":0},null,{"$f":"IF(I660>0,VLOOKUP(I660,tafseel[],3,FALSE),0)","v":0},null,null,null,null,null,null,null,null,null,null,null,null,{"$f":"تفصیلی!B658&\" -- \"&تفصیلی!D658","v":" -- "}]
[null,null,null,null,null,0,null,{"$f":"IF(G661>0,VLOOKUP(G661,moein[کد معین]:moein[شرح معین],2,FALSE),0)","v":0},null,{"$f":"IF(I661>0,VLOOKUP(I661,tafseel[],3,FALSE),0)","v":0},null,null,null,null,null,null,null,null,null,null,null,null,{"$f":"تفصیلی!B659&\" -- \"&تفصیلی!D659","v":" -- "}]
[null,null,null,null,null,0,null,{"$f":"IF(G662>0,VLOOKUP(G662,moein[کد معین]:moein[شرح معین],2,FALSE),0)","v":0},null,{"$f":"IF(I662>0,VLOOKUP(I662,tafseel[],3,FALSE),0)","v":0},null,null,null,null,null,null,null,null,null,null,null,null,{"$f":"تفصیلی!B660&\" -- \"&تفصیلی!D660","v":" -- "}]
[null,null,null,null,null,0,null,{"$f":"IF(G663>0,VLOOKUP(G663,moein[کد معین]:moein[شرح معین],2,FALSE),0)","v":0},null,{"$f":"IF(I663>0,VLOOKUP(I663,tafseel[],3,FALSE),0)","v":0},null,null,null,null,null,null,null,null,null,null,null,null,{"$f":"تفصیلی!B661&\" -- \"&تفصیلی!D661","v":" -- "}]
[null,null,null,null,null,0,null,{"$f":"IF(G664>0,VLOOKUP(G664,moein[کد معین]:moein[شرح معین],2,FALSE),0)","v":0},null,{"$f":"IF(I664>0,VLOOKUP(I664,tafseel[],3,FALSE),0)","v":0},null,null,null,null,null,null,null,null,null,null,null,null,{"$f":"تفصیلی!B662&\" -- \"&تفصیلی!D662","v":" -- "}]
[null,null,null,null,null,0,null,{"$f":"IF(G665>0,VLOOKUP(G665,moein[کد معین]:moein[شرح معین],2,FALSE),0)","v":0},null,{"$f":"IF(I665>0,VLOOKUP(I665,tafseel[],3,FALSE),0)","v":0},null,null,null,null,null,null,null,null,null,null,null,null,{"$f":"تفصیلی!B663&\" -- \"&تفصیلی!D663","v":" -- "}]
[null,null,null,null,null,0,null,{"$f":"IF(G666>0,VLOOKUP(G666,moein[کد معین]:moein[شرح معین],2,FALSE),0)","v":0},null,{"$f":"IF(I666>0,VLOOKUP(I666,tafseel[],3,FALSE),0)","v":0},null,null,null,null,null,null,null,null,null,null,null,null,{"$f":"تفصیلی!B664&\" -- \"&تفصیلی!D664","v":" -- "}]
[null,null,null,null,null,0,null,{"$f":"IF(G667>0,VLOOKUP(G667,moein[کد معین]:moein[شرح معین],2,FALSE),0)","v":0},null,{"$f":"IF(I667>0,VLOOKUP(I667,tafseel[],3,FALSE),0)","v":0},null,null,null,null,null,null,null,null,null,null,null,null,{"$f":"تفصیلی!B665&\" -- \"&تفصیلی!D665","v":" -- "}]
[null,null,null,null,null,0,null,{"$f":"IF(G668>0,VLOOKUP(G668,moein[کد معین]:moein[شرح معین],2,FALSE),0)","v":0},null,{"$f":"IF(I668>0,VLOOKUP(I668,tafseel[],3,FALSE),0)","v":0},null,null,null,null,null,null,null,null,null,null,null,null,{"$f":"تفصیلی!B666&\" -- \"&تفصیلی!D666","v":" -- "}]
[null,null,null,null,null,0,null,{"$f":"IF(G669>0,VLOOKUP(G669,moein[کد معین]:moein[شرح معین],2,FALSE),0)","v":0},null,{"$f":"IF(I669>0,VLOOKUP(I669,tafseel[],3,FALSE),0)","v":0},null,null,null,null,null,null,null,null,null,null,null,null,{"$f":"تفصیلی!B667&\" -- \"&تفصیلی!D667","v":" -- "}]
[null,null,null,null,null,0,null,{"$f":"IF(G670>0,VLOOKUP(G670,moein[کد معین]:moein[شرح معین],2,FALSE),0)","v":0},null,{"$f":"IF(I670>0,VLOOKUP(I670,tafseel[],3,FALSE),0)","v":0},null,null,null,null,null,null,null,null,null,null,null,null,{"$f":"تفصیلی!B668&\" -- \"&تفصیلی!D668","v":" -- "}]
[null,null,null,null,null,0,null,{"$f":"IF(G671>0,VLOOKUP(G671,moein[کد معین]:moein[شرح معین],2,FALSE),0)","v":0},null,{"$f":"IF(I671>0,VLOOKUP(I671,tafseel[],3,FALSE),0)","v":0},null,null,null,null,null,null,null,null,null,null,null,null,{"$f":"تفصیلی!B669&\" -- \"&تفصیلی!D669","v":" -- "}]
[null,null,null,null,null,0,null,{"$f":"IF(G672>0,VLOOKUP(G672,moein[کد معین]:moein[شرح معین],2,FALSE),0)","v":0},null,{"$f":"IF(I672>0,VLOOKUP(I672,tafseel[],3,FALSE),0)","v":0},null,null,null,null,null,null,null,null,null,null,null,null,{"$f":"تفصیلی!B670&\" -- \"&تفصیلی!D670","v":" -- "}]
[null,null,null,null,null,0,null,{"$f":"IF(G673>0,VLOOKUP(G673,moein[کد معین]:moein[شرح معین],2,FALSE),0)","v":0},null,{"$f":"IF(I673>0,VLOOKUP(I673,tafseel[],3,FALSE),0)","v":0},null,null,null,null,null,null,null,null,null,null,null,null,{"$f":"تفصیلی!B671&\" -- \"&تفصیلی!D671","v":" -- "}]
[null,null,null,null,null,0,null,{"$f":"IF(G674>0,VLOOKUP(G674,moein[کد معین]:moein[شرح معین],2,FALSE),0)","v":0},null,{"$f":"IF(I674>0,VLOOKUP(I674,tafseel[],3,FALSE),0)","v":0},null,null,null,null,null,null,null,null,null,null,null,null,{"$f":"تفصیلی!B672&\" -- \"&تفصیلی!D672","v":" -- "}]
[null,null,null,null,null,0,null,{"$f":"IF(G675>0,VLOOKUP(G675,moein[کد معین]:moein[شرح معین],2,FALSE),0)","v":0},null,{"$f":"IF(I675>0,VLOOKUP(I675,tafseel[],3,FALSE),0)","v":0},null,null,null,null,null,null,null,null,null,null,null,null,{"$f":"تفصیلی!B673&\" -- \"&تفصیلی!D673","v":" -- "}]
[null,null,null,null,null,0,null,{"$f":"IF(G676>0,VLOOKUP(G676,moein[کد معین]:moein[شرح معین],2,FALSE),0)","v":0},null,{"$f":"IF(I676>0,VLOOKUP(I676,tafseel[],3,FALSE),0)","v":0},null,null,null,null,null,null,null,null,null,null,null,null,{"$f":"تفصیلی!B674&\" -- \"&تفصیلی!D674","v":" -- "}]
[null,null,null,null,null,0,null,{"$f":"IF(G677>0,VLOOKUP(G677,moein[کد معین]:moein[شرح معین],2,FALSE),0)","v":0},null,{"$f":"IF(I677>0,VLOOKUP(I677,tafseel[],3,FALSE),0)","v":0},null,null,null,null,null,null,null,null,null,null,null,null,{"$f":"تفصیلی!B675&\" -- \"&تفصیلی!D675","v":" -- "}]
[null,null,null,null,null,0,null,{"$f":"IF(G678>0,VLOOKUP(G678,moein[کد معین]:moein[شرح معین],2,FALSE),0)","v":0},null,{"$f":"IF(I678>0,VLOOKUP(I678,tafseel[],3,FALSE),0)","v":0},null,null,null,null,null,null,null,null,null,null,null,null,{"$f":"تفصیلی!B676&\" -- \"&تفصیلی!D676","v":" -- "}]
[null,null,null,null,null,0,null,{"$f":"IF(G679>0,VLOOKUP(G679,moein[کد معین]:moein[شرح معین],2,FALSE),0)","v":0},null,{"$f":"IF(I679>0,VLOOKUP(I679,tafseel[],3,FALSE),0)","v":0},null,null,null,null,null,null,null,null,null,null,null,null,{"$f":"تفصیلی!B677&\" -- \"&تفصیلی!D677","v":" -- "}]
[null,null,null,null,null,0,null,{"$f":"IF(G680>0,VLOOKUP(G680,moein[کد معین]:moein[شرح معین],2,FALSE),0)","v":0},null,{"$f":"IF(I680>0,VLOOKUP(I680,tafseel[],3,FALSE),0)","v":0},null,null,null,null,null,null,null,null,null,null,null,null,{"$f":"تفصیلی!B678&\" -- \"&تفصیلی!D678","v":" -- "}]
[null,null,null,null,null,0,null,{"$f":"IF(G681>0,VLOOKUP(G681,moein[کد معین]:moein[شرح معین],2,FALSE),0)","v":0},null,{"$f":"IF(I681>0,VLOOKUP(I681,tafseel[],3,FALSE),0)","v":0},null,null,null,null,null,null,null,null,null,null,null,null,{"$f":"تفصیلی!B679&\" -- \"&تفصیلی!D679","v":" -- "}]
[null,null,null,null,null,0,null,{"$f":"IF(G682>0,VLOOKUP(G682,moein[کد معین]:moein[شرح معین],2,FALSE),0)","v":0},null,{"$f":"IF(I682>0,VLOOKUP(I682,tafseel[],3,FALSE),0)","v":0},null,null,null,null,null,null,null,null,null,null,null,null,{"$f":"تفصیلی!B680&\" -- \"&تفصیلی!D680","v":" -- "}]
[null,null,null,null,null,0,null,{"$f":"IF(G683>0,VLOOKUP(G683,moein[کد معین]:moein[شرح معین],2,FALSE),0)","v":0},null,{"$f":"IF(I683>0,VLOOKUP(I683,tafseel[],3,FALSE),0)","v":0},null,null,null,null,null,null,null,null,null,null,null,null,{"$f":"تفصیلی!B681&\" -- \"&تفصیلی!D681","v":" -- "}]
[null,null,null,null,null,0,null,{"$f":"IF(G684>0,VLOOKUP(G684,moein[کد معین]:moein[شرح معین],2,FALSE),0)","v":0},null,{"$f":"IF(I684>0,VLOOKUP(I684,tafseel[],3,FALSE),0)","v":0},null,null,null,null,null,null,null,null,null,null,null,null,{"$f":"تفصیلی!B682&\" -- \"&تفصیلی!D682","v":" -- "}]
[null,null,null,null,null,0,null,{"$f":"IF(G685>0,VLOOKUP(G685,moein[کد معین]:moein[شرح معین],2,FALSE),0)","v":0},null,{"$f":"IF(I685>0,VLOOKUP(I685,tafseel[],3,FALSE),0)","v":0},null,null,null,null,null,null,null,null,null,null,null,null,{"$f":"تفصیلی!B683&\" -- \"&تفصیلی!D683","v":" -- "}]
[null,null,null,null,null,0,null,{"$f":"IF(G686>0,VLOOKUP(G686,moein[کد معین]:moein[شرح معین],2,FALSE),0)","v":0},null,{"$f":"IF(I686>0,VLOOKUP(I686,tafseel[],3,FALSE),0)","v":0},null,null,null,null,null,null,null,null,null,null,null,null,{"$f":"تفصیلی!B684&\" -- \"&تفصیلی!D684","v":" -- "}]
[null,null,null,null,null,0,null,{"$f":"IF(G687>0,VLOOKUP(G687,moein[کد معین]:moein[شرح معین],2,FALSE),0)","v":0},null,{"$f":"IF(I687>0,VLOOKUP(I687,tafseel[],3,FALSE),0)","v":0},null,null,null,null,null,null,null,null,null,null,null,null,{"$f":"تفصیلی!B685&\" -- \"&تفصیلی!D685","v":" -- "}]
[null,null,null,null,null,0,null,{"$f":"IF(G688>0,VLOOKUP(G688,moein[کد معین]:moein[شرح معین],2,FALSE),0)","v":0},null,{"$f":"IF(I688>0,VLOOKUP(I688,tafseel[],3,FALSE),0)","v":0},null,null,null,null,null,null,null,null,null,null,null,null,{"$f":"تفصیلی!B686&\" -- \"&تفصیلی!D686","v":" -- "}]
[null,null,null,null,null,0,null,{"$f":"IF(G689>0,VLOOKUP(G689,moein[کد معین]:moein[شرح معین],2,FALSE),0)","v":0},null,{"$f":"IF(I689>0,VLOOKUP(I689,tafseel[],3,FALSE),0)","v":0},null,null,null,null,null,null,null,null,null,null,null,null,{"$f":"تفصیلی!B687&\" -- \"&تفصیلی!D687","v":" -- "}]
[null,null,null,null,null,0,null,{"$f":"IF(G690>0,VLOOKUP(G690,moein[کد معین]:moein[شرح معین],2,FALSE),0)","v":0},null,{"$f":"IF(I690>0,VLOOKUP(I690,tafseel[],3,FALSE),0)","v":0},null,null,null,null,null,null,null,null,null,null,null,null,{"$f":"تفصیلی!B688&\" -- \"&تفصیلی!D688","v":" -- "}]
[null,null,null,null,null,0,null,{"$f":"IF(G691>0,VLOOKUP(G691,moein[کد معین]:moein[شرح معین],2,FALSE),0)","v":0},null,{"$f":"IF(I691>0,VLOOKUP(I691,tafseel[],3,FALSE),0)","v":0},null,null,null,null,null,null,null,null,null,null,null,null,{"$f":"تفصیلی!B689&\" -- \"&تفصیلی!D689","v":" -- "}]
[null,null,null,null,null,0,null,{"$f":"IF(G692>0,VLOOKUP(G692,moein[کد معین]:moein[شرح معین],2,FALSE),0)","v":0},null,{"$f":"IF(I692>0,VLOOKUP(I692,tafseel[],3,FALSE),0)","v":0},null,null,null,null,null,null,null,null,null,null,null,null,{"$f":"تفصیلی!B690&\" -- \"&تفصیلی!D690","v":" -- "}]
[null,null,null,null,null,0,null,{"$f":"IF(G693>0,VLOOKUP(G693,moein[کد معین]:moein[شرح معین],2,FALSE),0)","v":0},null,{"$f":"IF(I693>0,VLOOKUP(I693,tafseel[],3,FALSE),0)","v":0},null,null,null,null,null,null,null,null,null,null,null,null,{"$f":"تفصیلی!B691&\" -- \"&تفصیلی!D691","v":" -- "}]
[null,null,null,null,null,0,null,{"$f":"IF(G694>0,VLOOKUP(G694,moein[کد معین]:moein[شرح معین],2,FALSE),0)","v":0},null,{"$f":"IF(I694>0,VLOOKUP(I694,tafseel[],3,FALSE),0)","v":0},null,null,null,null,null,null,null,null,null,null,null,null,{"$f":"تفصیلی!B692&\" -- \"&تفصیلی!D692","v":" -- "}]
[null,null,null,null,null,0,null,{"$f":"IF(G695>0,VLOOKUP(G695,moein[کد معین]:moein[شرح معین],2,FALSE),0)","v":0},null,{"$f":"IF(I695>0,VLOOKUP(I695,tafseel[],3,FALSE),0)","v":0},null,null,null,null,null,null,null,null,null,null,null,null,{"$f":"تفصیلی!B693&\" -- \"&تفصیلی!D693","v":" -- "}]
[null,null,null,null,null,0,null,{"$f":"IF(G696>0,VLOOKUP(G696,moein[کد معین]:moein[شرح معین],2,FALSE),0)","v":0},null,{"$f":"IF(I696>0,VLOOKUP(I696,tafseel[],3,FALSE),0)","v":0},null,null,null,null,null,null,null,null,null,null,null,null,{"$f":"تفصیلی!B694&\" -- \"&تفصیلی!D694","v":" -- "}]
[null,null,null,null,null,0,null,{"$f":"IF(G697>0,VLOOKUP(G697,moein[کد معین]:moein[شرح معین],2,FALSE),0)","v":0},null,{"$f":"IF(I697>0,VLOOKUP(I697,tafseel[],3,FALSE),0)","v":0},null,null,null,null,null,null,null,null,null,null,null,null,{"$f":"تفصیلی!B695&\" -- \"&تفصیلی!D695","v":" -- "}]
[null,null,null,null,null,0,null,{"$f":"IF(G698>0,VLOOKUP(G698,moein[کد معین]:moein[شرح معین],2,FALSE),0)","v":0},null,{"$f":"IF(I698>0,VLOOKUP(I698,tafseel[],3,FALSE),0)","v":0},null,null,null,null,null,null,null,null,null,null,null,null,{"$f":"تفصیلی!B696&\" -- \"&تفصیلی!D696","v":" -- "}]
[null,null,null,null,null,0,null,{"$f":"IF(G699>0,VLOOKUP(G699,moein[کد معین]:moein[شرح معین],2,FALSE),0)","v":0},null,{"$f":"IF(I699>0,VLOOKUP(I699,tafseel[],3,FALSE),0)","v":0},null,null,null,null,null,null,null,null,null,null,null,null,{"$f":"تفصیلی!B697&\" -- \"&تفصیلی!D697","v":" -- "}]
[null,null,null,null,null,0,null,{"$f":"IF(G700>0,VLOOKUP(G700,moein[کد معین]:moein[شرح معین],2,FALSE),0)","v":0},null,{"$f":"IF(I700>0,VLOOKUP(I700,tafseel[],3,FALSE),0)","v":0},null,null,null,null,null,null,null,null,null,null,null,null,{"$f":"تفصیلی!B698&\" -- \"&تفصیلی!D698","v":" -- "}]
[null,null,null,null,null,0,null,{"$f":"IF(G701>0,VLOOKUP(G701,moein[کد معین]:moein[شرح معین],2,FALSE),0)","v":0},null,{"$f":"IF(I701>0,VLOOKUP(I701,tafseel[],3,FALSE),0)","v":0},null,null,null,null,null,null,null,null,null,null,null,null,{"$f":"تفصیلی!B699&\" -- \"&تفصیلی!D699","v":" -- "}]
[null,null,null,null,null,0,null,{"$f":"IF(G702>0,VLOOKUP(G702,moein[کد معین]:moein[شرح معین],2,FALSE),0)","v":0},null,{"$f":"IF(I702>0,VLOOKUP(I702,tafseel[],3,FALSE),0)","v":0},null,null,null,null,null,null,null,null,null,null,null,null,{"$f":"تفصیلی!B700&\" -- \"&تفصیلی!D700","v":" -- "}]
[null,null,null,null,null,0,null,{"$f":"IF(G703>0,VLOOKUP(G703,moein[کد معین]:moein[شرح معین],2,FALSE),0)","v":0},null,{"$f":"IF(I703>0,VLOOKUP(I703,tafseel[],3,FALSE),0)","v":0},null,null,null,null,null,null,null,null,null,null,null,null,{"$f":"تفصیلی!B701&\" -- \"&تفصیلی!D701","v":" -- "}]
[null,null,null,null,null,0,null,{"$f":"IF(G704>0,VLOOKUP(G704,moein[کد معین]:moein[شرح معین],2,FALSE),0)","v":0},null,{"$f":"IF(I704>0,VLOOKUP(I704,tafseel[],3,FALSE),0)","v":0},null,null,null,null,null,null,null,null,null,null,null,null,{"$f":"تفصیلی!B702&\" -- \"&تفصیلی!D702","v":" -- "}]
[null,null,null,null,null,0,null,{"$f":"IF(G705>0,VLOOKUP(G705,moein[کد معین]:moein[شرح معین],2,FALSE),0)","v":0},null,{"$f":"IF(I705>0,VLOOKUP(I705,tafseel[],3,FALSE),0)","v":0},null,null,null,null,null,null,null,null,null,null,null,null,{"$f":"تفصیلی!B703&\" -- \"&تفصیلی!D703","v":" -- "}]
[null,null,null,null,null,0,null,{"$f":"IF(G706>0,VLOOKUP(G706,moein[کد معین]:moein[شرح معین],2,FALSE),0)","v":0},null,{"$f":"IF(I706>0,VLOOKUP(I706,tafseel[],3,FALSE),0)","v":0},null,null,null,null,null,null,null,null,null,null,null,null,{"$f":"تفصیلی!B704&\" -- \"&تفصیلی!D704","v":" -- "}]
[null,null,null,null,null,0,null,{"$f":"IF(G707>0,VLOOKUP(G707,moein[کد معین]:moein[شرح معین],2,FALSE),0)","v":0},null,{"$f":"IF(I707>0,VLOOKUP(I707,tafseel[],3,FALSE),0)","v":0},null,null,null,null,null,null,null,null,null,null,null,null,{"$f":"تفصیلی!B705&\" -- \"&تفصیلی!D705","v":" -- "}]
[null,null,null,null,null,0,null,{"$f":"IF(G708>0,VLOOKUP(G708,moein[کد معین]:moein[شرح معین],2,FALSE),0)","v":0},null,{"$f":"IF(I708>0,VLOOKUP(I708,tafseel[],3,FALSE),0)","v":0},null,null,null,null,null,null,null,null,null,null,null,null,{"$f":"تفصیلی!B706&\" -- \"&تفصیلی!D706","v":" -- "}]
[null,null,null,null,null,0,null,{"$f":"IF(G709>0,VLOOKUP(G709,moein[کد معین]:moein[شرح معین],2,FALSE),0)","v":0},null,{"$f":"IF(I709>0,VLOOKUP(I709,tafseel[],3,FALSE),0)","v":0},null,null,null,null,null,null,null,null,null,null,null,null,{"$f":"تفصیلی!B707&\" -- \"&تفصیلی!D707","v":" -- "}]
[null,null,null,null,null,{"$f":"IF(E710>0,VLOOKUP(E710,koli,2,FALSE),0)","v":0},null,{"$f":"IF(G710>0,VLOOKUP(G710,moein[کد معین]:moein[شرح معین],2,FALSE),0)","v":0},null,{"$f":"IF(I710>0,VLOOKUP(I710,tafseel[],3,FALSE),0)","v":0},null,null,null,null,null,null,null,null,null,null,null,null,{"$f":"تفصیلی!B708&\" -- \"&تفصیلی!D708","v":" -- "}]
[null,null,null,null,null,0,null,{"$f":"IF(G711>0,VLOOKUP(G711,moein[کد معین]:moein[شرح معین],2,FALSE),0)","v":0},null,{"$f":"IF(I711>0,VLOOKUP(I711,tafseel[],3,FALSE),0)","v":0},null,null,null,null,null,null,null,null,null,null,null,null,{"$f":"تفصیلی!B709&\" -- \"&تفصیلی!D709","v":" -- "}]
[null,null,null,null,null,0,null,{"$f":"IF(G712>0,VLOOKUP(G712,moein[کد معین]:moein[شرح معین],2,FALSE),0)","v":0},null,{"$f":"IF(I712>0,VLOOKUP(I712,tafseel[],3,FALSE),0)","v":0},null,null,null,null,null,null,null,null,null,null,null,null,{"$f":"تفصیلی!B710&\" -- \"&تفصیلی!D710","v":" -- "}]
[null,null,null,null,null,0,null,{"$f":"IF(G713>0,VLOOKUP(G713,moein[کد معین]:moein[شرح معین],2,FALSE),0)","v":0},null,{"$f":"IF(I713>0,VLOOKUP(I713,tafseel[],3,FALSE),0)","v":0},null,null,null,null,null,null,null,null,null,null,null,null,{"$f":"تفصیلی!B711&\" -- \"&تفصیلی!D711","v":" -- "}]
[null,null,null,null,null,0,null,{"$f":"IF(G714>0,VLOOKUP(G714,moein[کد معین]:moein[شرح معین],2,FALSE),0)","v":0},null,{"$f":"IF(I714>0,VLOOKUP(I714,tafseel[],3,FALSE),0)","v":0},null,null,null,null,null,null,null,null,null,null,null,null,{"$f":"تفصیلی!B712&\" -- \"&تفصیلی!D712","v":" -- "}]
[null,null,null,null,null,0,null,{"$f":"IF(G715>0,VLOOKUP(G715,moein[کد معین]:moein[شرح معین],2,FALSE),0)","v":0},null,{"$f":"IF(I715>0,VLOOKUP(I715,tafseel[],3,FALSE),0)","v":0},null,null,null,null,null,null,null,null,null,null,null,null,{"$f":"تفصیلی!B713&\" -- \"&تفصیلی!D713","v":" -- "}]
[null,null,null,null,null,0,null,{"$f":"IF(G716>0,VLOOKUP(G716,moein[کد معین]:moein[شرح معین],2,FALSE),0)","v":0},null,{"$f":"IF(I716>0,VLOOKUP(I716,tafseel[],3,FALSE),0)","v":0},null,null,null,null,null,null,null,null,null,null,null,null,{"$f":"تفصیلی!B714&\" -- \"&تفصیلی!D714","v":" -- "}]
[null,null,null,null,null,0,null,{"$f":"IF(G717>0,VLOOKUP(G717,moein[کد معین]:moein[شرح معین],2,FALSE),0)","v":0},null,{"$f":"IF(I717>0,VLOOKUP(I717,tafseel[],3,FALSE),0)","v":0},null,null,null,null,null,null,null,null,null,null,null,null,{"$f":"تفصیلی!B715&\" -- \"&تفصیلی!D715","v":" -- "}]
[null,null,null,null,null,0,null,{"$f":"IF(G718>0,VLOOKUP(G718,moein[کد معین]:moein[شرح معین],2,FALSE),0)","v":0},null,{"$f":"IF(I718>0,VLOOKUP(I718,tafseel[],3,FALSE),0)","v":0},null,null,null,null,null,null,null,null,null,null,null,null,{"$f":"تفصیلی!B716&\" -- \"&تفصیلی!D716","v":" -- "}]
[null,null,null,null,null,0,null,{"$f":"IF(G719>0,VLOOKUP(G719,moein[کد معین]:moein[شرح معین],2,FALSE),0)","v":0},null,{"$f":"IF(I719>0,VLOOKUP(I719,tafseel[],3,FALSE),0)","v":0},null,null,null,null,null,null,null,null,null,null,null,null,{"$f":"تفصیلی!B717&\" -- \"&تفصیلی!D717","v":" -- "}]
[null,null,null,null,null,0,null,{"$f":"IF(G720>0,VLOOKUP(G720,moein[کد معین]:moein[شرح معین],2,FALSE),0)","v":0},null,{"$f":"IF(I720>0,VLOOKUP(I720,tafseel[],3,FALSE),0)","v":0},null,null,null,null,null,null,null,null,null,null,null,null,{"$f":"تفصیلی!B718&\" -- \"&تفصیلی!D718","v":" -- "}]
[null,null,null,null,null,0,null,{"$f":"IF(G721>0,VLOOKUP(G721,moein[کد معین]:moein[شرح معین],2,FALSE),0)","v":0},null,{"$f":"IF(I721>0,VLOOKUP(I721,tafseel[],3,FALSE),0)","v":0},null,null,null,null,null,null,null,null,null,null,null,null,{"$f":"تفصیلی!B719&\" -- \"&تفصیلی!D719","v":" -- "}]
[null,null,null,null,null,0,null,{"$f":"IF(G722>0,VLOOKUP(G722,moein[کد معین]:moein[شرح معین],2,FALSE),0)","v":0},null,{"$f":"IF(I722>0,VLOOKUP(I722,tafseel[],3,FALSE),0)","v":0},null,null,null,null,null,null,null,null,null,null,null,null,{"$f":"تفصیلی!B720&\" -- \"&تفصیلی!D720","v":" -- "}]
[null,null,null,null,null,0,null,{"$f":"IF(G723>0,VLOOKUP(G723,moein[کد معین]:moein[شرح معین],2,FALSE),0)","v":0},null,{"$f":"IF(I723>0,VLOOKUP(I723,tafseel[],3,FALSE),0)","v":0},null,null,null,null,null,null,null,null,null,null,null,null,{"$f":"تفصیلی!B721&\" -- \"&تفصیلی!D721","v":" -- "}]
[null,null,null,null,null,0,null,{"$f":"IF(G724>0,VLOOKUP(G724,moein[کد معین]:moein[شرح معین],2,FALSE),0)","v":0},null,{"$f":"IF(I724>0,VLOOKUP(I724,tafseel[],3,FALSE),0)","v":0},null,null,null,null,null,null,null,null,null,null,null,null,{"$f":"تفصیلی!B722&\" -- \"&تفصیلی!D722","v":" -- "}]
[null,null,null,null,null,0,null,{"$f":"IF(G725>0,VLOOKUP(G725,moein[کد معین]:moein[شرح معین],2,FALSE),0)","v":0},null,{"$f":"IF(I725>0,VLOOKUP(I725,tafseel[],3,FALSE),0)","v":0},null,null,null,null,null,null,null,null,null,null,null,null,{"$f":"تفصیلی!B723&\" -- \"&تفصیلی!D723","v":" -- "}]
[null,null,null,null,null,0,null,{"$f":"IF(G726>0,VLOOKUP(G726,moein[کد معین]:moein[شرح معین],2,FALSE),0)","v":0},null,{"$f":"IF(I726>0,VLOOKUP(I726,tafseel[],3,FALSE),0)","v":0},null,null,null,null,null,null,null,null,null,null,null,null,{"$f":"تفصیلی!B724&\" -- \"&تفصیلی!D724","v":" -- "}]
[null,null,null,null,null,0,null,{"$f":"IF(G727>0,VLOOKUP(G727,moein[کد معین]:moein[شرح معین],2,FALSE),0)","v":0},null,{"$f":"IF(I727>0,VLOOKUP(I727,tafseel[],3,FALSE),0)","v":0},null,null,null,null,null,null,null,null,null,null,null,null,{"$f":"تفصیلی!B725&\" -- \"&تفصیلی!D725","v":" -- "}]
[null,null,null,null,null,0,null,{"$f":"IF(G728>0,VLOOKUP(G728,moein[کد معین]:moein[شرح معین],2,FALSE),0)","v":0},null,{"$f":"IF(I728>0,VLOOKUP(I728,tafseel[],3,FALSE),0)","v":0},null,null,null,null,null,null,null,null,null,null,null,null,{"$f":"تفصیلی!B726&\" -- \"&تفصیلی!D726","v":" -- "}]
[null,null,null,null,null,0,null,{"$f":"IF(G729>0,VLOOKUP(G729,moein[کد معین]:moein[شرح معین],2,FALSE),0)","v":0},null,{"$f":"IF(I729>0,VLOOKUP(I729,tafseel[],3,FALSE),0)","v":0},null,null,null,null,null,null,null,null,null,null,null,null,{"$f":"تفصیلی!B727&\" -- \"&تفصیلی!D727","v":" -- "}]
[null,null,null,null,null,0,null,{"$f":"IF(G730>0,VLOOKUP(G730,moein[کد معین]:moein[شرح معین],2,FALSE),0)","v":0},null,{"$f":"IF(I730>0,VLOOKUP(I730,tafseel[],3,FALSE),0)","v":0},null,null,null,null,null,null,null,null,null,null,null,null,{"$f":"تفصیلی!B728&\" -- \"&تفصیلی!D728","v":" -- "}]
[null,null,null,null,null,0,null,{"$f":"IF(G731>0,VLOOKUP(G731,moein[کد معین]:moein[شرح معین],2,FALSE),0)","v":0},null,{"$f":"IF(I731>0,VLOOKUP(I731,tafseel[],3,FALSE),0)","v":0},null,null,null,null,null,null,null,null,null,null,null,null,{"$f":"تفصیلی!B729&\" -- \"&تفصیلی!D729","v":" -- "}]
[null,null,null,null,null,0,null,{"$f":"IF(G732>0,VLOOKUP(G732,moein[کد معین]:moein[شرح معین],2,FALSE),0)","v":0},null,{"$f":"IF(I732>0,VLOOKUP(I732,tafseel[],3,FALSE),0)","v":0},null,null,null,null,null,null,null,null,null,null,null,null,{"$f":"تفصیلی!B730&\" -- \"&تفصیلی!D730","v":" -- "}]
[null,null,null,null,null,0,null,{"$f":"IF(G733>0,VLOOKUP(G733,moein[کد معین]:moein[شرح معین],2,FALSE),0)","v":0},null,{"$f":"IF(I733>0,VLOOKUP(I733,tafseel[],3,FALSE),0)","v":0},null,null,null,null,null,null,null,null,null,null,null,null,{"$f":"تفصیلی!B731&\" -- \"&تفصیلی!D731","v":" -- "}]
[null,null,null,null,null,0,null,{"$f":"IF(G734>0,VLOOKUP(G734,moein[کد معین]:moein[شرح معین],2,FALSE),0)","v":0},null,{"$f":"IF(I734>0,VLOOKUP(I734,tafseel[],3,FALSE),0)","v":0},null,null,null,null,null,null,null,null,null,null,null,null,{"$f":"تفصیلی!B732&\" -- \"&تفصیلی!D732","v":" -- "}]
[null,null,null,null,null,0,null,{"$f":"IF(G735>0,VLOOKUP(G735,moein[کد معین]:moein[شرح معین],2,FALSE),0)","v":0},null,{"$f":"IF(I735>0,VLOOKUP(I735,tafseel[],3,FALSE),0)","v":0},null,null,null,null,null,null,null,null,null,null,null,null,{"$f":"تفصیلی!B733&\" -- \"&تفصیلی!D733","v":" -- "}]
[null,null,null,null,null,0,null,{"$f":"IF(G736>0,VLOOKUP(G736,moein[کد معین]:moein[شرح معین],2,FALSE),0)","v":0},null,{"$f":"IF(I736>0,VLOOKUP(I736,tafseel[],3,FALSE),0)","v":0},null,null,null,null,null,null,null,null,null,null,null,null,{"$f":"تفصیلی!B734&\" -- \"&تفصیلی!D734","v":" -- "}]
[null,null,null,null,null,0,null,{"$f":"IF(G737>0,VLOOKUP(G737,moein[کد معین]:moein[شرح معین],2,FALSE),0)","v":0},null,{"$f":"IF(I737>0,VLOOKUP(I737,tafseel[],3,FALSE),0)","v":0},null,null,null,null,null,null,null,null,null,null,null,null,{"$f":"تفصیلی!B735&\" -- \"&تفصیلی!D735","v":" -- "}]
[null,null,null,null,null,0,null,{"$f":"IF(G738>0,VLOOKUP(G738,moein[کد معین]:moein[شرح معین],2,FALSE),0)","v":0},null,{"$f":"IF(I738>0,VLOOKUP(I738,tafseel[],3,FALSE),0)","v":0},null,null,null,null,null,null,null,null,null,null,null,null,{"$f":"تفصیلی!B736&\" -- \"&تفصیلی!D736","v":" -- "}]
[null,null,null,null,null,0,null,{"$f":"IF(G739>0,VLOOKUP(G739,moein[کد معین]:moein[شرح معین],2,FALSE),0)","v":0},null,{"$f":"IF(I739>0,VLOOKUP(I739,tafseel[],3,FALSE),0)","v":0},null,null,null,null,null,null,null,null,null,null,null,null,{"$f":"تفصیلی!B737&\" -- \"&تفصیلی!D737","v":" -- "}]
[null,null,null,null,null,0,null,{"$f":"IF(G740>0,VLOOKUP(G740,moein[کد معین]:moein[شرح معین],2,FALSE),0)","v":0},null,{"$f":"IF(I740>0,VLOOKUP(I740,tafseel[],3,FALSE),0)","v":0},null,null,null,null,null,null,null,null,null,null,null,null,{"$f":"تفصیلی!B738&\" -- \"&تفصیلی!D738","v":" -- "}]
[null,null,null,null,null,0,null,{"$f":"IF(G741>0,VLOOKUP(G741,moein[کد معین]:moein[شرح معین],2,FALSE),0)","v":0},null,{"$f":"IF(I741>0,VLOOKUP(I741,tafseel[],3,FALSE),0)","v":0},null,null,null,null,null,null,null,null,null,null,null,null,{"$f":"تفصیلی!B739&\" -- \"&تفصیلی!D739","v":" -- "}]
[null,null,null,null,null,0,null,{"$f":"IF(G742>0,VLOOKUP(G742,moein[کد معین]:moein[شرح معین],2,FALSE),0)","v":0},null,{"$f":"IF(I742>0,VLOOKUP(I742,tafseel[],3,FALSE),0)","v":0},null,null,null,null,null,null,null,null,null,null,null,null,{"$f":"تفصیلی!B740&\" -- \"&تفصیلی!D740","v":" -- "}]
[null,null,null,null,null,0,null,{"$f":"IF(G743>0,VLOOKUP(G743,moein[کد معین]:moein[شرح معین],2,FALSE),0)","v":0},null,{"$f":"IF(I743>0,VLOOKUP(I743,tafseel[],3,FALSE),0)","v":0},null,null,null,null,null,null,null,null,null,null,null,null,{"$f":"تفصیلی!B741&\" -- \"&تفصیلی!D741","v":" -- "}]
[null,null,null,null,null,0,null,{"$f":"IF(G744>0,VLOOKUP(G744,moein[کد معین]:moein[شرح معین],2,FALSE),0)","v":0},null,{"$f":"IF(I744>0,VLOOKUP(I744,tafseel[],3,FALSE),0)","v":0},null,null,null,null,null,null,null,null,null,null,null,null,{"$f":"تفصیلی!B742&\" -- \"&تفصیلی!D742","v":" -- "}]
[null,null,null,null,null,0,null,{"$f":"IF(G745>0,VLOOKUP(G745,moein[کد معین]:moein[شرح معین],2,FALSE),0)","v":0},null,{"$f":"IF(I745>0,VLOOKUP(I745,tafseel[],3,FALSE),0)","v":0},null,null,null,null,null,null,null,null,null,null,null,null,{"$f":"تفصیلی!B743&\" -- \"&تفصیلی!D743","v":" -- "}]
[null,null,null,null,null,0,null,{"$f":"IF(G746>0,VLOOKUP(G746,moein[کد معین]:moein[شرح معین],2,FALSE),0)","v":0},null,{"$f":"IF(I746>0,VLOOKUP(I746,tafseel[],3,FALSE),0)","v":0},null,null,null,null,null,null,null,null,null,null,null,null,{"$f":"تفصیلی!B744&\" -- \"&تفصیلی!D744","v":" -- "}]
[null,null,null,null,null,0,null,{"$f":"IF(G747>0,VLOOKUP(G747,moein[کد معین]:moein[شرح معین],2,FALSE),0)","v":0},null,{"$f":"IF(I747>0,VLOOKUP(I747,tafseel[],3,FALSE),0)","v":0},null,null,null,null,null,null,null,null,null,null,null,null,{"$f":"تفصیلی!B745&\" -- \"&تفصیلی!D745","v":" -- "}]
[null,null,null,null,null,0,null,{"$f":"IF(G748>0,VLOOKUP(G748,moein[کد معین]:moein[شرح معین],2,FALSE),0)","v":0},null,{"$f":"IF(I748>0,VLOOKUP(I748,tafseel[],3,FALSE),0)","v":0},null,null,null,null,null,null,null,null,null,null,null,null,{"$f":"تفصیلی!B746&\" -- \"&تفصیلی!D746","v":" -- "}]
[null,null,null,null,null,0,null,{"$f":"IF(G749>0,VLOOKUP(G749,moein[کد معین]:moein[شرح معین],2,FALSE),0)","v":0},null,{"$f":"IF(I749>0,VLOOKUP(I749,tafseel[],3,FALSE),0)","v":0},null,null,null,null,null,null,null,null,null,null,null,null,{"$f":"تفصیلی!B747&\" -- \"&تفصیلی!D747","v":" -- "}]
[null,null,null,null,null,0,null,{"$f":"IF(G750>0,VLOOKUP(G750,moein[کد معین]:moein[شرح معین],2,FALSE),0)","v":0},null,{"$f":"IF(I750>0,VLOOKUP(I750,tafseel[],3,FALSE),0)","v":0},null,null,null,null,null,null,null,null,null,null,null,null,{"$f":"تفصیلی!B748&\" -- \"&تفصیلی!D748","v":" -- "}]
[null,null,null,null,null,0,null,{"$f":"IF(G751>0,VLOOKUP(G751,moein[کد معین]:moein[شرح معین],2,FALSE),0)","v":0},null,{"$f":"IF(I751>0,VLOOKUP(I751,tafseel[],3,FALSE),0)","v":0},null,null,null,null,null,null,null,null,null,null,null,null,{"$f":"تفصیلی!B749&\" -- \"&تفصیلی!D749","v":" -- "}]
[null,null,null,null,null,0,null,{"$f":"IF(G752>0,VLOOKUP(G752,moein[کد معین]:moein[شرح معین],2,FALSE),0)","v":0},null,{"$f":"IF(I752>0,VLOOKUP(I752,tafseel[],3,FALSE),0)","v":0},null,null,null,null,null,null,null,null,null,null,null,null,{"$f":"تفصیلی!B750&\" -- \"&تفصیلی!D750","v":" -- "}]
[null,null,null,null,null,0,null,{"$f":"IF(G753>0,VLOOKUP(G753,moein[کد معین]:moein[شرح معین],2,FALSE),0)","v":0},null,{"$f":"IF(I753>0,VLOOKUP(I753,tafseel[],3,FALSE),0)","v":0},null,null,null,null,null,null,null,null,null,null,null,null,{"$f":"تفصیلی!B751&\" -- \"&تفصیلی!D751","v":" -- "}]
[null,null,null,null,null,0,null,{"$f":"IF(G754>0,VLOOKUP(G754,moein[کد معین]:moein[شرح معین],2,FALSE),0)","v":0},null,{"$f":"IF(I754>0,VLOOKUP(I754,tafseel[],3,FALSE),0)","v":0},null,null,null,null,null,null,null,null,null,null,null,null,{"$f":"تفصیلی!B752&\" -- \"&تفصیلی!D752","v":" -- "}]
[null,null,null,null,null,0,null,{"$f":"IF(G755>0,VLOOKUP(G755,moein[کد معین]:moein[شرح معین],2,FALSE),0)","v":0},null,{"$f":"IF(I755>0,VLOOKUP(I755,tafseel[],3,FALSE),0)","v":0},null,null,null,null,null,null,null,null,null,null,null,null,{"$f":"تفصیلی!B753&\" -- \"&تفصیلی!D753","v":" -- "}]
[null,null,null,null,null,0,null,{"$f":"IF(G756>0,VLOOKUP(G756,moein[کد معین]:moein[شرح معین],2,FALSE),0)","v":0},null,{"$f":"IF(I756>0,VLOOKUP(I756,tafseel[],3,FALSE),0)","v":0},null,null,null,null,null,null,null,null,null,null,null,null,{"$f":"تفصیلی!B754&\" -- \"&تفصیلی!D754","v":" -- "}]
[null,null,null,null,null,0,null,{"$f":"IF(G757>0,VLOOKUP(G757,moein[کد معین]:moein[شرح معین],2,FALSE),0)","v":0},null,{"$f":"IF(I757>0,VLOOKUP(I757,tafseel[],3,FALSE),0)","v":0},null,null,null,null,null,null,null,null,null,null,null,null,{"$f":"تفصیلی!B755&\" -- \"&تفصیلی!D755","v":" -- "}]
[null,null,null,null,null,0,null,{"$f":"IF(G758>0,VLOOKUP(G758,moein[کد معین]:moein[شرح معین],2,FALSE),0)","v":0},null,{"$f":"IF(I758>0,VLOOKUP(I758,tafseel[],3,FALSE),0)","v":0},null,null,null,null,null,null,null,null,null,null,null,null,{"$f":"تفصیلی!B756&\" -- \"&تفصیلی!D756","v":" -- "}]
[null,null,null,null,null,0,null,{"$f":"IF(G759>0,VLOOKUP(G759,moein[کد معین]:moein[شرح معین],2,FALSE),0)","v":0},null,{"$f":"IF(I759>0,VLOOKUP(I759,tafseel[],3,FALSE),0)","v":0},null,null,null,null,null,null,null,null,null,null,null,null,{"$f":"تفصیلی!B757&\" -- \"&تفصیلی!D757","v":" -- "}]
[null,null,null,null,null,0,null,{"$f":"IF(G760>0,VLOOKUP(G760,moein[کد معین]:moein[شرح معین],2,FALSE),0)","v":0},null,{"$f":"IF(I760>0,VLOOKUP(I760,tafseel[],3,FALSE),0)","v":0},null,null,null,null,null,null,null,null,null,null,null,null,{"$f":"تفصیلی!B758&\" -- \"&تفصیلی!D758","v":" -- "}]
[null,null,null,null,null,0,null,{"$f":"IF(G761>0,VLOOKUP(G761,moein[کد معین]:moein[شرح معین],2,FALSE),0)","v":0},null,{"$f":"IF(I761>0,VLOOKUP(I761,tafseel[],3,FALSE),0)","v":0},null,null,null,null,null,null,null,null,null,null,null,null,{"$f":"تفصیلی!B759&\" -- \"&تفصیلی!D759","v":" -- "}]
[null,null,null,null,null,0,null,{"$f":"IF(G762>0,VLOOKUP(G762,moein[کد معین]:moein[شرح معین],2,FALSE),0)","v":0},null,{"$f":"IF(I762>0,VLOOKUP(I762,tafseel[],3,FALSE),0)","v":0},null,null,null,null,null,null,null,null,null,null,null,null,{"$f":"تفصیلی!B760&\" -- \"&تفصیلی!D760","v":" -- "}]
[null,null,null,null,null,0,null,{"$f":"IF(G763>0,VLOOKUP(G763,moein[کد معین]:moein[شرح معین],2,FALSE),0)","v":0},null,{"$f":"IF(I763>0,VLOOKUP(I763,tafseel[],3,FALSE),0)","v":0},null,null,null,null,null,null,null,null,null,null,null,null,{"$f":"تفصیلی!B761&\" -- \"&تفصیلی!D761","v":" -- "}]
[null,null,null,null,null,0,null,{"$f":"IF(G764>0,VLOOKUP(G764,moein[کد معین]:moein[شرح معین],2,FALSE),0)","v":0},null,{"$f":"IF(I764>0,VLOOKUP(I764,tafseel[],3,FALSE),0)","v":0},null,null,null,null,null,null,null,null,null,null,null,null,{"$f":"تفصیلی!B762&\" -- \"&تفصیلی!D762","v":" -- "}]
[null,null,null,null,null,0,null,{"$f":"IF(G765>0,VLOOKUP(G765,moein[کد معین]:moein[شرح معین],2,FALSE),0)","v":0},null,{"$f":"IF(I765>0,VLOOKUP(I765,tafseel[],3,FALSE),0)","v":0},null,null,null,null,null,null,null,null,null,null,null,null,{"$f":"تفصیلی!B763&\" -- \"&تفصیلی!D763","v":" -- "}]
[null,null,null,null,null,0,null,{"$f":"IF(G766>0,VLOOKUP(G766,moein[کد معین]:moein[شرح معین],2,FALSE),0)","v":0},null,{"$f":"IF(I766>0,VLOOKUP(I766,tafseel[],3,FALSE),0)","v":0},null,null,null,null,null,null,null,null,null,null,null,null,{"$f":"تفصیلی!B764&\" -- \"&تفصیلی!D764","v":" -- "}]
[null,null,null,null,null,0,null,{"$f":"IF(G767>0,VLOOKUP(G767,moein[کد معین]:moein[شرح معین],2,FALSE),0)","v":0},null,{"$f":"IF(I767>0,VLOOKUP(I767,tafseel[],3,FALSE),0)","v":0},null,null,null,null,null,null,null,null,null,null,null,null,{"$f":"تفصیلی!B765&\" -- \"&تفصیلی!D765","v":" -- "}]
[null,null,null,null,null,0,null,{"$f":"IF(G768>0,VLOOKUP(G768,moein[کد معین]:moein[شرح معین],2,FALSE),0)","v":0},null,{"$f":"IF(I768>0,VLOOKUP(I768,tafseel[],3,FALSE),0)","v":0},null,null,null,null,null,null,null,null,null,null,null,null,{"$f":"تفصیلی!B766&\" -- \"&تفصیلی!D766","v":" -- "}]
[null,null,null,null,null,0,null,{"$f":"IF(G769>0,VLOOKUP(G769,moein[کد معین]:moein[شرح معین],2,FALSE),0)","v":0},null,{"$f":"IF(I769>0,VLOOKUP(I769,tafseel[],3,FALSE),0)","v":0},null,null,null,null,null,null,null,null,null,null,null,null,{"$f":"تفصیلی!B767&\" -- \"&تفصیلی!D767","v":" -- "}]
[null,null,null,null,null,0,null,{"$f":"IF(G770>0,VLOOKUP(G770,moein[کد معین]:moein[شرح معین],2,FALSE),0)","v":0},null,{"$f":"IF(I770>0,VLOOKUP(I770,tafseel[],3,FALSE),0)","v":0},null,null,null,null,null,null,null,null,null,null,null,null,{"$f":"تفصیلی!B768&\" -- \"&تفصیلی!D768","v":" -- "}]
[null,null,null,null,null,0,null,{"$f":"IF(G771>0,VLOOKUP(G771,moein[کد معین]:moein[شرح معین],2,FALSE),0)","v":0},null,{"$f":"IF(I771>0,VLOOKUP(I771,tafseel[],3,FALSE),0)","v":0},null,null,null,null,null,null,null,null,null,null,null,null,{"$f":"تفصیلی!B769&\" -- \"&تفصیلی!D769","v":" -- "}]
[null,null,null,null,null,0,null,{"$f":"IF(G772>0,VLOOKUP(G772,moein[کد معین]:moein[شرح معین],2,FALSE),0)","v":0},null,{"$f":"IF(I772>0,VLOOKUP(I772,tafseel[],3,FALSE),0)","v":0},null,null,null,null,null,null,null,null,null,null,null,null,{"$f":"تفصیلی!B770&\" -- \"&تفصیلی!D770","v":" -- "}]
[null,null,null,null,null,0,null,{"$f":"IF(G773>0,VLOOKUP(G773,moein[کد معین]:moein[شرح معین],2,FALSE),0)","v":0},null,{"$f":"IF(I773>0,VLOOKUP(I773,tafseel[],3,FALSE),0)","v":0},null,null,null,null,null,null,null,null,null,null,null,null,{"$f":"تفصیلی!B771&\" -- \"&تفصیلی!D771","v":" -- "}]
[null,null,null,null,null,{"$f":"IF(E774>0,VLOOKUP(E774,koli,2,FALSE),0)","v":0},null,{"$f":"IF(G774>0,VLOOKUP(G774,moein[کد معین]:moein[شرح معین],2,FALSE),0)","v":0},null,{"$f":"IF(I774>0,VLOOKUP(I774,tafseel[],3,FALSE),0)","v":0},null,null,null,null,null,null,null,null,null,null,null,null,{"$f":"تفصیلی!B772&\" -- \"&تفصیلی!D772","v":" -- "}]
[null,null,null,null,null,0,null,{"$f":"IF(G775>0,VLOOKUP(G775,moein[کد معین]:moein[شرح معین],2,FALSE),0)","v":0},null,{"$f":"IF(I775>0,VLOOKUP(I775,tafseel[],3,FALSE),0)","v":0},null,null,null,null,null,null,null,null,null,null,null,null,{"$f":"تفصیلی!B773&\" -- \"&تفصیلی!D773","v":" -- "}]
[null,null,null,null,null,0,null,{"$f":"IF(G776>0,VLOOKUP(G776,moein[کد معین]:moein[شرح معین],2,FALSE),0)","v":0},null,{"$f":"IF(I776>0,VLOOKUP(I776,tafseel[],3,FALSE),0)","v":0},null,null,null,null,null,null,null,null,null,null,null,null,{"$f":"تفصیلی!B774&\" -- \"&تفصیلی!D774","v":" -- "}]
[null,null,null,null,null,0,null,{"$f":"IF(G777>0,VLOOKUP(G777,moein[کد معین]:moein[شرح معین],2,FALSE),0)","v":0},null,{"$f":"IF(I777>0,VLOOKUP(I777,tafseel[],3,FALSE),0)","v":0},null,null,null,null,null,null,null,null,null,null,null,null,{"$f":"تفصیلی!B775&\" -- \"&تفصیلی!D775","v":" -- "}]
[null,null,null,null,null,0,null,{"$f":"IF(G778>0,VLOOKUP(G778,moein[کد معین]:moein[شرح معین],2,FALSE),0)","v":0},null,{"$f":"IF(I778>0,VLOOKUP(I778,tafseel[],3,FALSE),0)","v":0},null,null,null,null,null,null,null,null,null,null,null,null,{"$f":"تفصیلی!B776&\" -- \"&تفصیلی!D776","v":" -- "}]
[null,null,null,null,null,0,null,{"$f":"IF(G779>0,VLOOKUP(G779,moein[کد معین]:moein[شرح معین],2,FALSE),0)","v":0},null,{"$f":"IF(I779>0,VLOOKUP(I779,tafseel[],3,FALSE),0)","v":0},null,null,null,null,null,null,null,null,null,null,null,null,{"$f":"تفصیلی!B777&\" -- \"&تفصیلی!D777","v":" -- "}]
[null,null,null,null,null,0,null,{"$f":"IF(G780>0,VLOOKUP(G780,moein[کد معین]:moein[شرح معین],2,FALSE),0)","v":0},null,{"$f":"IF(I780>0,VLOOKUP(I780,tafseel[],3,FALSE),0)","v":0},null,null,null,null,null,null,null,null,null,null,null,null,{"$f":"تفصیلی!B778&\" -- \"&تفصیلی!D778","v":" -- "}]
[null,null,null,null,null,null,null,null,null,null,null,null,null,null,null,null,null,null,null,null,null,null,{"$f":"تفصیلی!B779&\" -- \"&تفصیلی!D779","v":" -- "}]
[null,null,null,null,null,null,null,null,null,null,null,null,null,null,null,null,null,null,null,null,null,null,{"$f":"تفصیلی!B780&\" -- \"&تفصیلی!D780","v":" -- "}]
[null,null,null,null,null,null,null,null,null,null,null,null,null,null,null,null,null,null,null,null,null,null,{"$f":"تفصیلی!B781&\" -- \"&تفصیلی!D781","v":" -- "}]
[null,null,null,null,null,null,null,null,null,null,null,null,null,null,null,null,null,null,null,null,null,null,{"$f":"تفصیلی!B782&\" -- \"&تفصیلی!D782","v":" -- "}]
[null,null,null,null,null,null,null,null,null,null,null,null,null,null,null,null,null,null,null,null,null,null,{"$f":"تفصیلی!B783&\" -- \"&تفصیلی!D783","v":" -- "}]
[null,null,null,null,null,null,null,null,null,null,null,null,null,null,null,null,null,null,null,null,null,null,{"$f":"تفصیلی!B784&\" -- \"&تفصیلی!D784","v":" -- "}]
[null,null,null,null,null,null,null,null,null,null,null,null,null,null,null,null,null,null,null,null,null,null,{"$f":"تفصیلی!B785&\" -- \"&تفصیلی!D785","v":" -- "}]
[null,null,null,null,null,null,null,null,null,null,null,null,null,null,null,null,null,null,null,null,null,null,{"$f":"تفصیلی!B786&\" -- \"&تفصیلی!D786","v":" -- "}]
[null,null,null,null,null,null,null,null,null,null,null,null,null,null,null,null,null,null,null,null,null,null,{"$f":"تفصیلی!B787&\" -- \"&تفصیلی!D787","v":" -- "}]
[null,null,null,null,null,null,null,null,null,null,null,null,null,null,null,null,null,null,null,null,null,null,{"$f":"تفصیلی!B788&\" -- \"&تفصیلی!D788","v":" -- "}]
[null,null,null,null,null,null,null,null,null,null,null,null,null,null,null,null,null,null,null,null,null,null,{"$f":"تفصیلی!B789&\" -- \"&تفصیلی!D789","v":" -- "}]
[null,null,null,null,null,null,null,null,null,null,null,null,null,null,null,null,null,null,null,null,null,null,{"$f":"تفصیلی!B790&\" -- \"&تفصیلی!D790","v":" -- "}]
[null,null,null,null,null,null,null,null,null,null,null,null,null,null,null,null,null,null,null,null,null,null,{"$f":"تفصیلی!B791&\" -- \"&تفصیلی!D791","v":" -- "}]
[null,null,null,null,null,null,null,null,null,null,null,null,null,null,null,null,null,null,null,null,null,null,{"$f":"تفصیلی!B792&\" -- \"&تفصیلی!D792","v":" -- "}]
[null,null,null,null,null,null,null,null,null,null,null,null,null,null,null,null,null,null,null,null,null,null,{"$f":"تفصیلی!B793&\" -- \"&تفصیلی!D793","v":" -- "}]
[null,null,null,null,null,null,null,null,null,null,null,null,null,null,null,null,null,null,null,null,null,null,{"$f":"تفصیلی!B794&\" -- \"&تفصیلی!D794","v":" -- "}]
[null,null,null,null,null,null,null,null,null,null,null,null,null,null,null,null,null,null,null,null,null,null,{"$f":"تفصیلی!B795&\" -- \"&تفصیلی!D795","v":" -- "}]
[null,null,null,null,null,null,null,null,null,null,null,null,null,null,null,null,null,null,null,null,null,null,{"$f":"تفصیلی!B796&\" -- \"&تفصیلی!D796","v":" -- "}]
[null,null,null,null,null,null,null,null,null,null,null,null,null,null,null,null,null,null,null,null,null,null,{"$f":"تفصیلی!B797&\" -- \"&تفصیلی!D797","v":" -- "}]
[null,null,null,null,null,null,null,null,null,null,null,null,null,null,null,null,null,null,null,null,null,null,{"$f":"تفصیلی!B798&\" -- \"&تفصیلی!D798","v":" -- "}]
[null,null,null,null,null,null,null,null,null,null,null,null,null,null,null,null,null,null,null,null,null,null,{"$f":"تفصیلی!B799&\" -- \"&تفصیلی!D799","v":" -- "}]
[null,null,null,null,null,null,null,null,null,null,null,null,null,null,null,null,null,null,null,null,null,null,{"$f":"تفصیلی!B800&\" -- \"&تفصیلی!D800","v":" -- "}]
[null,null,null,null,null,null,null,null,null,null,null,null,null,null,null,null,null,null,null,null,null,null,{"$f":"تفصیلی!B801&\" -- \"&تفصیلی!D801","v":" -- "}]
[null,null,null,null,null,null,null,null,null,null,null,null,null,null,null,null,null,null,null,null,null,null,{"$f":"تفصیلی!B802&\" -- \"&تفصیلی!D802","v":" -- "}]
[null,null,null,null,null,null,null,null,null,null,null,null,null,null,null,null,null,null,null,null,null,null,{"$f":"تفصیلی!B803&\" -- \"&تفصیلی!D803","v":" -- "}]
[null,null,null,null,null,null,null,null,null,null,null,null,null,null,null,null,null,null,null,null,null,null,{"$f":"تفصیلی!B804&\" -- \"&تفصیلی!D804","v":" -- "}]
[null,null,null,null,null,null,null,null,null,null,null,null,null,null,null,null,null,null,null,null,null,null,{"$f":"تفصیلی!B805&\" -- \"&تفصیلی!D805","v":" -- "}]
[null,null,null,null,null,null,null,null,null,null,null,null,null,null,null,null,null,null,null,null,null,null,{"$f":"تفصیلی!B806&\" -- \"&تفصیلی!D806","v":" -- "}]
[null,null,null,null,null,null,null,null,null,null,null,null,null,null,null,null,null,null,null,null,null,null,{"$f":"تفصیلی!B807&\" -- \"&تفصیلی!D807","v":" -- "}]
[null,null,null,null,null,null,null,null,null,null,null,null,null,null,null,null,null,null,null,null,null,null,{"$f":"تفصیلی!B808&\" -- \"&تفصیلی!D808","v":" -- "}]
[null,null,null,null,null,null,null,null,null,null,null,null,null,null,null,null,null,null,null,null,null,null,{"$f":"تفصیلی!B809&\" -- \"&تفصیلی!D809","v":" -- "}]
[null,null,null,null,null,null,null,null,null,null,null,null,null,null,null,null,null,null,null,null,null,null,{"$f":"تفصیلی!B810&\" -- \"&تفصیلی!D810","v":" -- "}]
[null,null,null,null,null,null,null,null,null,null,null,null,null,null,null,null,null,null,null,null,null,null,{"$f":"تفصیلی!B811&\" -- \"&تفصیلی!D811","v":" -- "}]
[null,null,null,null,null,null,null,null,null,null,null,null,null,null,null,null,null,null,null,null,null,null,{"$f":"تفصیلی!B812&\" -- \"&تفصیلی!D812","v":" -- "}]
[null,null,null,null,null,null,null,null,null,null,null,null,null,null,null,null,null,null,null,null,null,null,{"$f":"تفصیلی!B813&\" -- \"&تفصیلی!D813","v":" -- "}]
[null,null,null,null,null,null,null,null,null,null,null,null,null,null,null,null,null,null,null,null,null,null,{"$f":"تفصیلی!B814&\" -- \"&تفصیلی!D814","v":" -- "}]
[null,null,null,null,null,null,null,null,null,null,null,null,null,null,null,null,null,null,null,null,null,null,{"$f":"تفصیلی!B815&\" -- \"&تفصیلی!D815","v":" -- "}]
[null,null,null,null,null,null,null,null,null,null,null,null,null,null,null,null,null,null,null,null,null,null,{"$f":"تفصیلی!B816&\" -- \"&تفصیلی!D816","v":" -- "}]
[null,null,null,null,null,null,null,null,null,null,null,null,null,null,null,null,null,null,null,null,null,null,{"$f":"تفصیلی!B817&\" -- \"&تفصیلی!D817","v":" -- "}]
[null,null,null,null,null,null,null,null,null,null,null,null,null,null,null,null,null,null,null,null,null,null,{"$f":"تفصیلی!B818&\" -- \"&تفصیلی!D818","v":" -- "}]
[null,null,null,null,null,null,null,null,null,null,null,null,null,null,null,null,null,null,null,null,null,null,{"$f":"تفصیلی!B819&\" -- \"&تفصیلی!D819","v":" -- "}]
[null,null,null,null,null,null,null,null,null,null,null,null,null,null,null,null,null,null,null,null,null,null,{"$f":"تفصیلی!B820&\" -- \"&تفصیلی!D820","v":" -- "}]
[null,null,null,null,null,null,null,null,null,null,null,null,null,null,null,null,null,null,null,null,null,null,{"$f":"تفصیلی!B821&\" -- \"&تفصیلی!D821","v":" -- "}]
[null,null,null,null,null,null,null,null,null,null,null,null,null,null,null,null,null,null,null,null,null,null,{"$f":"تفصیلی!B822&\" -- \"&تفصیلی!D822","v":" -- "}]
[null,null,null,null,null,null,null,null,null,null,null,null,null,null,null,null,null,null,null,null,null,null,{"$f":"تفصیلی!B823&\" -- \"&تفصیلی!D823","v":" -- "}]
[null,null,null,null,null,null,null,null,null,null,null,null,null,null,null,null,null,null,null,null,null,null,{"$f":"تفصیلی!B824&\" -- \"&تفصیلی!D824","v":" -- "}]
[null,null,null,null,null,null,null,null,null,null,null,null,null,null,null,null,null,null,null,null,null,null,{"$f":"تفصیلی!B825&\" -- \"&تفصیلی!D825","v":" -- "}]
[null,null,null,null,null,null,null,null,null,null,null,null,null,null,null,null,null,null,null,null,null,null,{"$f":"تفصیلی!B826&\" -- \"&تفصیلی!D826","v":" -- "}]
[null,null,null,null,null,null,null,null,null,null,null,null,null,null,null,null,null,null,null,null,null,null,{"$f":"تفصیلی!B827&\" -- \"&تفصیلی!D827","v":" -- "}]
[null,null,null,null,null,null,null,null,null,null,null,null,null,null,null,null,null,null,null,null,null,null,{"$f":"تفصیلی!B828&\" -- \"&تفصیلی!D828","v":" -- "}]
[null,null,null,null,null,null,null,null,null,null,null,null,null,null,null,null,null,null,null,null,null,null,{"$f":"تفصیلی!B829&\" -- \"&تفصیلی!D829","v":" -- "}]
[null,null,null,null,null,null,null,null,null,null,null,null,null,null,null,null,null,null,null,null,null,null,{"$f":"تفصیلی!B830&\" -- \"&تفصیلی!D830","v":" -- "}]
[null,null,null,null,null,null,null,null,null,null,null,null,null,null,null,null,null,null,null,null,null,null,{"$f":"تفصیلی!B831&\" -- \"&تفصیلی!D831","v":" -- "}]
[null,null,null,null,null,null,null,null,null,null,null,null,null,null,null,null,null,null,null,null,null,null,{"$f":"تفصیلی!B832&\" -- \"&تفصیلی!D832","v":" -- "}]
[null,null,null,null,null,null,null,null,null,null,null,null,null,null,null,null,null,null,null,null,null,null,{"$f":"تفصیلی!B833&\" -- \"&تفصیلی!D833","v":" -- "}]
[null,null,null,null,null,null,null,null,null,null,null,null,null,null,null,null,null,null,null,null,null,null,{"$f":"تفصیلی!B834&\" -- \"&تفصیلی!D834","v":" -- "}]
[null,null,null,null,null,null,null,null,null,null,null,null,null,null,null,null,null,null,null,null,null,null,{"$f":"تفصیلی!B835&\" -- \"&تفصیلی!D835","v":" -- "}]
[null,null,null,null,null,null,null,null,null,null,null,null,null,null,null,null,null,null,null,null,null,null,{"$f":"تفصیلی!B836&\" -- \"&تفصیلی!D836","v":" -- "}]
[null,null,null,null,null,null,null,null,null,null,null,null,null,null,null,null,null,null,null,null,null,null,{"$f":"تفصیلی!B837&\" -- \"&تفصیلی!D837","v":" -- "}]
[null,null,null,null,null,null,null,null,null,null,null,null,null,null,null,null,null,null,null,null,null,null,{"$f":"تفصیلی!B838&\" -- \"&تفصیلی!D838","v":" -- "}]
[null,null,null,null,null,null,null,null,null,null,null,null,null,null,null,null,null,null,null,null,null,null,{"$f":"تفصیلی!B839&\" -- \"&تفصیلی!D839","v":" -- "}]
[null,null,null,null,null,null,null,null,null,null,null,null,null,null,null,null,null,null,null,null,null,null,{"$f":"تفصیلی!B840&\" -- \"&تفصیلی!D840","v":" -- "}]
[null,null,null,null,null,null,null,null,null,null,null,null,null,null,null,null,null,null,null,null,null,null,{"$f":"تفصیلی!B841&\" -- \"&تفصیلی!D841","v":" -- "}]
[null,null,null,null,null,null,null,null,null,null,null,null,null,null,null,null,null,null,null,null,null,null,{"$f":"تفصیلی!B842&\" -- \"&تفصیلی!D842","v":" -- "}]
[null,null,null,null,null,null,null,null,null,null,null,null,null,null,null,null,null,null,null,null,null,null,{"$f":"تفصیلی!B843&\" -- \"&تفصیلی!D843","v":" -- "}]
[null,null,null,null,null,null,null,null,null,null,null,null,null,null,null,null,null,null,null,null,null,null,{"$f":"تفصیلی!B844&\" -- \"&تفصیلی!D844","v":" -- "}]
[null,null,null,null,null,null,null,null,null,null,null,null,null,null,null,null,null,null,null,null,null,null,{"$f":"تفصیلی!B845&\" -- \"&تفصیلی!D845","v":" -- "}]
[null,null,null,null,null,null,null,null,null,null,null,null,null,null,null,null,null,null,null,null,null,null,{"$f":"تفصیلی!B846&\" -- \"&تفصیلی!D846","v":" -- "}]
[null,null,null,null,null,null,null,null,null,null,null,null,null,null,null,null,null,null,null,null,null,null,{"$f":"تفصیلی!B847&\" -- \"&تفصیلی!D847","v":" -- "}]
[null,null,null,null,null,null,null,null,null,null,null,null,null,null,null,null,null,null,null,null,null,null,{"$f":"تفصیلی!B848&\" -- \"&تفصیلی!D848","v":" -- "}]
[null,null,null,null,null,null,null,null,null,null,null,null,null,null,null,null,null,null,null,null,null,null,{"$f":"تفصیلی!B849&\" -- \"&تفصیلی!D849","v":" -- "}]
[null,null,null,null,null,null,null,null,null,null,null,null,null,null,null,null,null,null,null,null,null,null,{"$f":"تفصیلی!B850&\" -- \"&تفصیلی!D850","v":" -- "}]
[null,null,null,null,null,null,null,null,null,null,null,null,null,null,null,null,null,null,null,null,null,null,{"$f":"تفصیلی!B851&\" -- \"&تفصیلی!D851","v":" -- "}]
[null,null,null,null,null,null,null,null,null,null,null,null,null,null,null,null,null,null,null,null,null,null,{"$f":"تفصیلی!B852&\" -- \"&تفصیلی!D852","v":" -- "}]
[null,null,null,null,null,null,null,null,null,null,null,null,null,null,null,null,null,null,null,null,null,null,{"$f":"تفصیلی!B853&\" -- \"&تفصیلی!D853","v":" -- "}]
[null,null,null,null,null,null,null,null,null,null,null,null,null,null,null,null,null,null,null,null,null,null,{"$f":"تفصیلی!B854&\" -- \"&تفصیلی!D854","v":" -- "}]
[null,null,null,null,null,null,null,null,null,null,null,null,null,null,null,null,null,null,null,null,null,null,{"$f":"تفصیلی!B855&\" -- \"&تفصیلی!D855","v":" -- "}]
[null,null,null,null,null,null,null,null,null,null,null,null,null,null,null,null,null,null,null,null,null,null,{"$f":"تفصیلی!B856&\" -- \"&تفصیلی!D856","v":" -- "}]
[null,null,null,null,null,null,null,null,null,null,null,null,null,null,null,null,null,null,null,null,null,null,{"$f":"تفصیلی!B857&\" -- \"&تفصیلی!D857","v":" -- "}]
[null,null,null,null,null,null,null,null,null,null,null,null,null,null,null,null,null,null,null,null,null,null,{"$f":"تفصیلی!B858&\" -- \"&تفصیلی!D858","v":" -- "}]
[null,null,null,null,null,null,null,null,null,null,null,null,null,null,null,null,null,null,null,null,null,null,{"$f":"تفصیلی!B859&\" -- \"&تفصیلی!D859","v":" -- "}]
[null,null,null,null,null,null,null,null,null,null,null,null,null,null,null,null,null,null,null,null,null,null,{"$f":"تفصیلی!B860&\" -- \"&تفصیلی!D860","v":" -- "}]
[null,null,null,null,null,null,null,null,null,null,null,null,null,null,null,null,null,null,null,null,null,null,{"$f":"تفصیلی!B861&\" -- \"&تفصیلی!D861","v":" -- "}]
[null,null,null,null,null,null,null,null,null,null,null,null,null,null,null,null,null,null,null,null,null,null,{"$f":"تفصیلی!B862&\" -- \"&تفصیلی!D862","v":" -- "}]
[null,null,null,null,null,null,null,null,null,null,null,null,null,null,null,null,null,null,null,null,null,null,{"$f":"تفصیلی!B863&\" -- \"&تفصیلی!D863","v":" -- "}]
[null,null,null,null,null,null,null,null,null,null,null,null,null,null,null,null,null,null,null,null,null,null,{"$f":"تفصیلی!B864&\" -- \"&تفصیلی!D864","v":" -- "}]
[null,null,null,null,null,null,null,null,null,null,null,null,null,null,null,null,null,null,null,null,null,null,{"$f":"تفصیلی!B865&\" -- \"&تفصیلی!D865","v":" -- "}]
[null,null,null,null,null,null,null,null,null,null,null,null,null,null,null,null,null,null,null,null,null,null,{"$f":"تفصیلی!B866&\" -- \"&تفصیلی!D866","v":" -- "}]
[null,null,null,null,null,null,null,null,null,null,null,null,null,null,null,null,null,null,null,null,null,null,{"$f":"تفصیلی!B867&\" -- \"&تفصیلی!D867","v":" -- "}]
[null,null,null,null,null,null,null,null,null,null,null,null,null,null,null,null,null,null,null,null,null,null,{"$f":"تفصیلی!B868&\" -- \"&تفصیلی!D868","v":" -- "}]
[null,null,null,null,null,null,null,null,null,null,null,null,null,null,null,null,null,null,null,null,null,null,{"$f":"تفصیلی!B869&\" -- \"&تفصیلی!D869","v":" -- "}]
[null,null,null,null,null,null,null,null,null,null,null,null,null,null,null,null,null,null,null,null,null,null,{"$f":"تفصیلی!B870&\" -- \"&تفصیلی!D870","v":" -- "}]
[null,null,null,null,null,null,null,null,null,null,null,null,null,null,null,null,null,null,null,null,null,null,{"$f":"تفصیلی!B871&\" -- \"&تفصیلی!D871","v":" -- "}]
[null,null,null,null,null,null,null,null,null,null,null,null,null,null,null,null,null,null,null,null,null,null,{"$f":"تفصیلی!B872&\" -- \"&تفصیلی!D872","v":" -- "}]
[null,null,null,null,null,null,null,null,null,null,null,null,null,null,null,null,null,null,null,null,null,null,{"$f":"تفصیلی!B873&\" -- \"&تفصیلی!D873","v":" -- "}]
[null,null,null,null,null,null,null,null,null,null,null,null,null,null,null,null,null,null,null,null,null,null,{"$f":"تفصیلی!B874&\" -- \"&تفصیلی!D874","v":" -- "}]
[null,null,null,null,null,null,null,null,null,null,null,null,null,null,null,null,null,null,null,null,null,null,{"$f":"تفصیلی!B875&\" -- \"&تفصیلی!D875","v":" -- "}]
[null,null,null,null,null,null,null,null,null,null,null,null,null,null,null,null,null,null,null,null,null,null,{"$f":"تفصیلی!B876&\" -- \"&تفصیلی!D876","v":" -- "}]
[null,null,null,null,null,null,null,null,null,null,null,null,null,null,null,null,null,null,null,null,null,null,{"$f":"تفصیلی!B877&\" -- \"&تفصیلی!D877","v":" -- "}]
[null,null,null,null,null,null,null,null,null,null,null,null,null,null,null,null,null,null,null,null,null,null,{"$f":"تفصیلی!B878&\" -- \"&تفصیلی!D878","v":" -- "}]
[null,null,null,null,null,null,null,null,null,null,null,null,null,null,null,null,null,null,null,null,null,null,{"$f":"تفصیلی!B879&\" -- \"&تفصیلی!D879","v":" -- "}]
[null,null,null,null,null,null,null,null,null,null,null,null,null,null,null,null,null,null,null,null,null,null,{"$f":"تفصیلی!B880&\" -- \"&تفصیلی!D880","v":" -- "}]
[null,null,null,null,null,null,null,null,null,null,null,null,null,null,null,null,null,null,null,null,null,null,{"$f":"تفصیلی!B881&\" -- \"&تفصیلی!D881","v":" -- "}]
[null,null,null,null,null,null,null,null,null,null,null,null,null,null,null,null,null,null,null,null,null,null,{"$f":"تفصیلی!B882&\" -- \"&تفصیلی!D882","v":" -- "}]
[null,null,null,null,null,null,null,null,null,null,null,null,null,null,null,null,null,null,null,null,null,null,{"$f":"تفصیلی!B883&\" -- \"&تفصیلی!D883","v":" -- "}]
[null,null,null,null,null,null,null,null,null,null,null,null,null,null,null,null,null,null,null,null,null,null,{"$f":"تفصیلی!B884&\" -- \"&تفصیلی!D884","v":" -- "}]
[null,null,null,null,null,null,null,null,null,null,null,null,null,null,null,null,null,null,null,null,null,null,{"$f":"تفصیلی!B885&\" -- \"&تفصیلی!D885","v":" -- "}]
[null,null,null,null,null,null,null,null,null,null,null,null,null,null,null,null,null,null,null,null,null,null,{"$f":"تفصیلی!B886&\" -- \"&تفصیلی!D886","v":" -- "}]
[null,null,null,null,null,null,null,null,null,null,null,null,null,null,null,null,null,null,null,null,null,null,{"$f":"تفصیلی!B887&\" -- \"&تفصیلی!D887","v":" -- "}]
[null,null,null,null,null,null,null,null,null,null,null,null,null,null,null,null,null,null,null,null,null,null,{"$f":"تفصیلی!B888&\" -- \"&تفصیلی!D888","v":" -- "}]
[null,null,null,null,null,null,null,null,null,null,null,null,null,null,null,null,null,null,null,null,null,null,{"$f":"تفصیلی!B889&\" -- \"&تفصیلی!D889","v":" -- "}]
[null,null,null,null,null,null,null,null,null,null,null,null,null,null,null,null,null,null,null,null,null,null,{"$f":"تفصیلی!B890&\" -- \"&تفصیلی!D890","v":" -- "}]
[null,null,null,null,null,null,null,null,null,null,null,null,null,null,null,null,null,null,null,null,null,null,{"$f":"تفصیلی!B891&\" -- \"&تفصیلی!D891","v":" -- "}]
[null,null,null,null,null,null,null,null,null,null,null,null,null,null,null,null,null,null,null,null,null,null,{"$f":"تفصیلی!B892&\" -- \"&تفصیلی!D892","v":" -- "}]
[null,null,null,null,null,null,null,null,null,null,null,null,null,null,null,null,null,null,null,null,null,null,{"$f":"تفصیلی!B893&\" -- \"&تفصیلی!D893","v":" -- "}]
[null,null,null,null,null,null,null,null,null,null,null,null,null,null,null,null,null,null,null,null,null,null,{"$f":"تفصیلی!B894&\" -- \"&تفصیلی!D894","v":" -- "}]
[null,null,null,null,null,null,null,null,null,null,null,null,null,null,null,null,null,null,null,null,null,null,{"$f":"تفصیلی!B895&\" -- \"&تفصیلی!D895","v":" -- "}]
[null,null,null,null,null,null,null,null,null,null,null,null,null,null,null,null,null,null,null,null,null,null,{"$f":"تفصیلی!B896&\" -- \"&تفصیلی!D896","v":" -- "}]
[null,null,null,null,null,null,null,null,null,null,null,null,null,null,null,null,null,null,null,null,null,null,{"$f":"تفصیلی!B897&\" -- \"&تفصیلی!D897","v":" -- "}]
[null,null,null,null,null,null,null,null,null,null,null,null,null,null,null,null,null,null,null,null,null,null,{"$f":"تفصیلی!B898&\" -- \"&تفصیلی!D898","v":" -- "}]
[null,null,null,null,null,null,null,null,null,null,null,null,null,null,null,null,null,null,null,null,null,null,{"$f":"تفصیلی!B899&\" -- \"&تفصیلی!D899","v":" -- "}]
[null,null,null,null,null,null,null,null,null,null,null,null,null,null,null,null,null,null,null,null,null,null,{"$f":"تفصیلی!B900&\" -- \"&تفصیلی!D900","v":" -- "}]
[null,null,null,null,null,null,null,null,null,null,null,null,null,null,null,null,null,null,null,null,null,null,{"$f":"تفصیلی!B901&\" -- \"&تفصیلی!D901","v":" -- "}]
[null,null,null,null,null,null,null,null,null,null,null,null,null,null,null,null,null,null,null,null,null,null,{"$f":"تفصیلی!B902&\" -- \"&تفصیلی!D902","v":" -- "}]
[null,null,null,null,null,null,null,null,null,null,null,null,null,null,null,null,null,null,null,null,null,null,{"$f":"تفصیلی!B903&\" -- \"&تفصیلی!D903","v":" -- "}]
[null,null,null,null,null,null,null,null,null,null,null,null,null,null,null,null,null,null,null,null,null,null,{"$f":"تفصیلی!B904&\" -- \"&تفصیلی!D904","v":" -- "}]
[null,null,null,null,null,null,null,null,null,null,null,null,null,null,null,null,null,null,null,null,null,null,{"$f":"تفصیلی!B905&\" -- \"&تفصیلی!D905","v":" -- "}]
[null,null,null,null,null,null,null,null,null,null,null,null,null,null,null,null,null,null,null,null,null,null,{"$f":"تفصیلی!B906&\" -- \"&تفصیلی!D906","v":" -- "}]
[null,null,null,null,null,null,null,null,null,null,null,null,null,null,null,null,null,null,null,null,null,null,{"$f":"تفصیلی!B907&\" -- \"&تفصیلی!D907","v":" -- "}]
[null,null,null,null,null,null,null,null,null,null,null,null,null,null,null,null,null,null,null,null,null,null,{"$f":"تفصیلی!B908&\" -- \"&تفصیلی!D908","v":" -- "}]
[null,null,null,null,null,null,null,null,null,null,null,null,null,null,null,null,null,null,null,null,null,null,{"$f":"تفصیلی!B909&\" -- \"&تفصیلی!D909","v":" -- "}]
[null,null,null,null,null,null,null,null,null,null,null,null,null,null,null,null,null,null,null,null,null,null,{"$f":"تفصیلی!B910&\" -- \"&تفصیلی!D910","v":" -- "}]
[null,null,null,null,null,null,null,null,null,null,null,null,null,null,null,null,null,null,null,null,null,null,{"$f":"تفصیلی!B911&\" -- \"&تفصیلی!D911","v":" -- "}]
[null,null,null,null,null,null,null,null,null,null,null,null,null,null,null,null,null,null,null,null,null,null,{"$f":"تفصیلی!B912&\" -- \"&تفصیلی!D912","v":" -- "}]
[null,null,null,null,null,null,null,null,null,null,null,null,null,null,null,null,null,null,null,null,null,null,{"$f":"تفصیلی!B913&\" -- \"&تفصیلی!D913","v":" -- "}]
[null,null,null,null,null,null,null,null,null,null,null,null,null,null,null,null,null,null,null,null,null,null,{"$f":"تفصیلی!B914&\" -- \"&تفصیلی!D914","v":" -- "}]
[null,null,null,null,null,null,null,null,null,null,null,null,null,null,null,null,null,null,null,null,null,null,{"$f":"تفصیلی!B915&\" -- \"&تفصیلی!D915","v":" -- "}]
[null,null,null,null,null,null,null,null,null,null,null,null,null,null,null,null,null,null,null,null,null,null,{"$f":"تفصیلی!B916&\" -- \"&تفصیلی!D916","v":" -- "}]
[null,null,null,null,null,null,null,null,null,null,null,null,null,null,null,null,null,null,null,null,null,null,{"$f":"تفصیلی!B917&\" -- \"&تفصیلی!D917","v":" -- "}]
[null,null,null,null,null,null,null,null,null,null,null,null,null,null,null,null,null,null,null,null,null,null,{"$f":"تفصیلی!B918&\" -- \"&تفصیلی!D918","v":" -- "}]
[null,null,null,null,null,null,null,null,null,null,null,null,null,null,null,null,null,null,null,null,null,null,{"$f":"تفصیلی!B919&\" -- \"&تفصیلی!D919","v":" -- "}]
[null,null,null,null,null,null,null,null,null,null,null,null,null,null,null,null,null,null,null,null,null,null,{"$f":"تفصیلی!B920&\" -- \"&تفصیلی!D920","v":" -- "}]
[null,null,null,null,null,null,null,null,null,null,null,null,null,null,null,null,null,null,null,null,null,null,{"$f":"تفصیلی!B921&\" -- \"&تفصیلی!D921","v":" -- "}]
[null,null,null,null,null,null,null,null,null,null,null,null,null,null,null,null,null,null,null,null,null,null,{"$f":"تفصیلی!B922&\" -- \"&تفصیلی!D922","v":" -- "}]
[null,null,null,null,null,null,null,null,null,null,null,null,null,null,null,null,null,null,null,null,null,null,{"$f":"تفصیلی!B923&\" -- \"&تفصیلی!D923","v":" -- "}]
[null,null,null,null,null,null,null,null,null,null,null,null,null,null,null,null,null,null,null,null,null,null,{"$f":"تفصیلی!B924&\" -- \"&تفصیلی!D924","v":" -- "}]
[null,null,null,null,null,null,null,null,null,null,null,null,null,null,null,null,null,null,null,null,null,null,{"$f":"تفصیلی!B925&\" -- \"&تفصیلی!D925","v":" -- "}]
[null,null,null,null,null,null,null,null,null,null,null,null,null,null,null,null,null,null,null,null,null,null,{"$f":"تفصیلی!B926&\" -- \"&تفصیلی!D926","v":" -- "}]
[null,null,null,null,null,null,null,null,null,null,null,null,null,null,null,null,null,null,null,null,null,null,{"$f":"تفصیلی!B927&\" -- \"&تفصیلی!D927","v":" -- "}]
[null,null,null,null,null,null,null,null,null,null,null,null,null,null,null,null,null,null,null,null,null,null,{"$f":"تفصیلی!B928&\" -- \"&تفصیلی!D928","v":" -- "}]
[null,null,null,null,null,null,null,null,null,null,null,null,null,null,null,null,null,null,null,null,null,null,{"$f":"تفصیلی!B929&\" -- \"&تفصیلی!D929","v":" -- "}]
[null,null,null,null,null,null,null,null,null,null,null,null,null,null,null,null,null,null,null,null,null,null,{"$f":"تفصیلی!B930&\" -- \"&تفصیلی!D930","v":" -- "}]
[null,null,null,null,null,null,null,null,null,null,null,null,null,null,null,null,null,null,null,null,null,null,{"$f":"تفصیلی!B931&\" -- \"&تفصیلی!D931","v":" -- "}]
[null,null,null,null,null,null,null,null,null,null,null,null,null,null,null,null,null,null,null,null,null,null,{"$f":"تفصیلی!B932&\" -- \"&تفصیلی!D932","v":" -- "}]
[null,null,null,null,null,null,null,null,null,null,null,null,null,null,null,null,null,null,null,null,null,null,{"$f":"تفصیلی!B933&\" -- \"&تفصیلی!D933","v":" -- "}]
[null,null,null,null,null,null,null,null,null,null,null,null,null,null,null,null,null,null,null,null,null,null,{"$f":"تفصیلی!B934&\" -- \"&تفصیلی!D934","v":" -- "}]
[null,null,null,null,null,null,null,null,null,null,null,null,null,null,null,null,null,null,null,null,null,null,{"$f":"تفصیلی!B935&\" -- \"&تفصیلی!D935","v":" -- "}]
[null,null,null,null,null,null,null,null,null,null,null,null,null,null,null,null,null,null,null,null,null,null,{"$f":"تفصیلی!B936&\" -- \"&تفصیلی!D936","v":" -- "}]
[null,null,null,null,null,null,null,null,null,null,null,null,null,null,null,null,null,null,null,null,null,null,{"$f":"تفصیلی!B937&\" -- \"&تفصیلی!D937","v":" -- "}]
[null,null,null,null,null,null,null,null,null,null,null,null,null,null,null,null,null,null,null,null,null,null,{"$f":"تفصیلی!B938&\" -- \"&تفصیلی!D938","v":" -- "}]
[null,null,null,null,null,null,null,null,null,null,null,null,null,null,null,null,null,null,null,null,null,null,{"$f":"تفصیلی!B939&\" -- \"&تفصیلی!D939","v":" -- "}]
[null,null,null,null,null,null,null,null,null,null,null,null,null,null,null,null,null,null,null,null,null,null,{"$f":"تفصیلی!B940&\" -- \"&تفصیلی!D940","v":" -- "}]
[null,null,null,null,null,null,null,null,null,null,null,null,null,null,null,null,null,null,null,null,null,null,{"$f":"تفصیلی!B941&\" -- \"&تفصیلی!D941","v":" -- "}]
[null,null,null,null,null,null,null,null,null,null,null,null,null,null,null,null,null,null,null,null,null,null,{"$f":"تفصیلی!B942&\" -- \"&تفصیلی!D942","v":" -- "}]
[null,null,null,null,null,null,null,null,null,null,null,null,null,null,null,null,null,null,null,null,null,null,{"$f":"تفصیلی!B943&\" -- \"&تفصیلی!D943","v":" -- "}]
[null,null,null,null,null,null,null,null,null,null,null,null,null,null,null,null,null,null,null,null,null,null,{"$f":"تفصیلی!B944&\" -- \"&تفصیلی!D944","v":" -- "}]
[null,null,null,null,null,null,null,null,null,null,null,null,null,null,null,null,null,null,null,null,null,null,{"$f":"تفصیلی!B945&\" -- \"&تفصیلی!D945","v":" -- "}]
[null,null,null,null,null,null,null,null,null,null,null,null,null,null,null,null,null,null,null,null,null,null,{"$f":"تفصیلی!B946&\" -- \"&تفصیلی!D946","v":" -- "}]
[null,null,null,null,null,null,null,null,null,null,null,null,null,null,null,null,null,null,null,null,null,null,{"$f":"تفصیلی!B947&\" -- \"&تفصیلی!D947","v":" -- "}]
[null,null,null,null,null,null,null,null,null,null,null,null,null,null,null,null,null,null,null,null,null,null,{"$f":"تفصیلی!B948&\" -- \"&تفصیلی!D948","v":" -- "}]
[null,null,null,null,null,null,null,null,null,null,null,null,null,null,null,null,null,null,null,null,null,null,{"$f":"تفصیلی!B949&\" -- \"&تفصیلی!D949","v":" -- "}]
[null,null,null,null,null,null,null,null,null,null,null,null,null,null,null,null,null,null,null,null,null,null,{"$f":"تفصیلی!B950&\" -- \"&تفصیلی!D950","v":" -- "}]
[null,null,null,null,null,null,null,null,null,null,null,null,null,null,null,null,null,null,null,null,null,null,{"$f":"تفصیلی!B951&\" -- \"&تفصیلی!D951","v":" -- "}]
[null,null,null,null,null,null,null,null,null,null,null,null,null,null,null,null,null,null,null,null,null,null,{"$f":"تفصیلی!B952&\" -- \"&تفصیلی!D952","v":" -- "}]
[null,null,null,null,null,null,null,null,null,null,null,null,null,null,null,null,null,null,null,null,null,null,{"$f":"تفصیلی!B953&\" -- \"&تفصیلی!D953","v":" -- "}]
[null,null,null,null,null,null,null,null,null,null,null,null,null,null,null,null,null,null,null,null,null,null,{"$f":"تفصیلی!B954&\" -- \"&تفصیلی!D954","v":" -- "}]
[null,null,null,null,null,null,null,null,null,null,null,null,null,null,null,null,null,null,null,null,null,null,{"$f":"تفصیلی!B955&\" -- \"&تفصیلی!D955","v":" -- "}]
[null,null,null,null,null,null,null,null,null,null,null,null,null,null,null,null,null,null,null,null,null,null,{"$f":"تفصیلی!B956&\" -- \"&تفصیلی!D956","v":" -- "}]
[null,null,null,null,null,null,null,null,null,null,null,null,null,null,null,null,null,null,null,null,null,null,{"$f":"تفصیلی!B957&\" -- \"&تفصیلی!D957","v":" -- "}]
[null,null,null,null,null,null,null,null,null,null,null,null,null,null,null,null,null,null,null,null,null,null,{"$f":"تفصیلی!B958&\" -- \"&تفصیلی!D958","v":" -- "}]
[null,null,null,null,null,null,null,null,null,null,null,null,null,null,null,null,null,null,null,null,null,null,{"$f":"تفصیلی!B959&\" -- \"&تفصیلی!D959","v":" -- "}]
[null,null,null,null,null,null,null,null,null,null,null,null,null,null,null,null,null,null,null,null,null,null,{"$f":"تفصیلی!B960&\" -- \"&تفصیلی!D960","v":" -- "}]
[null,null,null,null,null,null,null,null,null,null,null,null,null,null,null,null,null,null,null,null,null,null,{"$f":"تفصیلی!B961&\" -- \"&تفصیلی!D961","v":" -- "}]
[null,null,null,null,null,null,null,null,null,null,null,null,null,null,null,null,null,null,null,null,null,null,{"$f":"تفصیلی!B962&\" -- \"&تفصیلی!D962","v":" -- "}]
[null,null,null,null,null,null,null,null,null,null,null,null,null,null,null,null,null,null,null,null,null,null,{"$f":"تفصیلی!B963&\" -- \"&تفصیلی!D963","v":" -- "}]
[null,null,null,null,null,null,null,null,null,null,null,null,null,null,null,null,null,null,null,null,null,null,{"$f":"تفصیلی!B964&\" -- \"&تفصیلی!D964","v":" -- "}]
[null,null,null,null,null,null,null,null,null,null,null,null,null,null,null,null,null,null,null,null,null,null,{"$f":"تفصیلی!B965&\" -- \"&تفصیلی!D965","v":" -- "}]
[null,null,null,null,null,null,null,null,null,null,null,null,null,null,null,null,null,null,null,null,null,null,{"$f":"تفصیلی!B966&\" -- \"&تفصیلی!D966","v":" -- "}]
[null,null,null,null,null,null,null,null,null,null,null,null,null,null,null,null,null,null,null,null,null,null,{"$f":"تفصیلی!B967&\" -- \"&تفصیلی!D967","v":" -- "}]
[null,null,null,null,null,null,null,null,null,null,null,null,null,null,null,null,null,null,null,null,null,null,{"$f":"تفصیلی!B968&\" -- \"&تفصیلی!D968","v":" -- "}]
[null,null,null,null,null,null,null,null,null,null,null,null,null,null,null,null,null,null,null,null,null,null,{"$f":"تفصیلی!B969&\" -- \"&تفصیلی!D969","v":" -- "}]
[null,null,null,null,null,null,null,null,null,null,null,null,null,null,null,null,null,null,null,null,null,null,{"$f":"تفصیلی!B970&\" -- \"&تفصیلی!D970","v":" -- "}]
[null,null,null,null,null,null,null,null,null,null,null,null,null,null,null,null,null,null,null,null,null,null,{"$f":"تفصیلی!B971&\" -- \"&تفصیلی!D971","v":" -- "}]
[null,null,null,null,null,null,null,null,null,null,null,null,null,null,null,null,null,null,null,null,null,null,{"$f":"تفصیلی!B972&\" -- \"&تفصیلی!D972","v":" -- "}]
[null,null,null,null,null,null,null,null,null,null,null,null,null,null,null,null,null,null,null,null,null,null,{"$f":"تفصیلی!B973&\" -- \"&تفصیلی!D973","v":" -- "}]
[null,null,null,null,null,null,null,null,null,null,null,null,null,null,null,null,null,null,null,null,null,null,{"$f":"تفصیلی!B974&\" -- \"&تفصیلی!D974","v":" -- "}]
[null,null,null,null,null,null,null,null,null,null,null,null,null,null,null,null,null,null,null,null,null,null,{"$f":"تفصیلی!B975&\" -- \"&تفصیلی!D975","v":" -- "}]
[null,null,null,null,null,null,null,null,null,null,null,null,null,null,null,null,null,null,null,null,null,null,{"$f":"تفصیلی!B976&\" -- \"&تفصیلی!D976","v":" -- "}]
[null,null,null,null,null,null,null,null,null,null,null,null,null,null,null,null,null,null,null,null,null,null,{"$f":"تفصیلی!B977&\" -- \"&تفصیلی!D977","v":" -- "}]
[null,null,null,null,null,null,null,null,null,null,null,null,null,null,null,null,null,null,null,null,null,null,{"$f":"تفصیلی!B978&\" -- \"&تفصیلی!D978","v":" -- "}]
[null,null,null,null,null,null,null,null,null,null,null,null,null,null,null,null,null,null,null,null,null,null,{"$f":"تفصیلی!B979&\" -- \"&تفصیلی!D979","v":" -- "}]
[null,null,null,null,null,null,null,null,null,null,null,null,null,null,null,null,null,null,null,null,null,null,{"$f":"تفصیلی!B980&\" -- \"&تفصیلی!D980","v":" -- "}]
[null,null,null,null,null,null,null,null,null,null,null,null,null,null,null,null,null,null,null,null,null,null,{"$f":"تفصیلی!B981&\" -- \"&تفصیلی!D981","v":" -- "}]
[null,null,null,null,null,null,null,null,null,null,null,null,null,null,null,null,null,null,null,null,null,null,{"$f":"تفصیلی!B982&\" -- \"&تفصیلی!D982","v":" -- "}]
[null,null,null,null,null,null,null,null,null,null,null,null,null,null,null,null,null,null,null,null,null,null,{"$f":"تفصیلی!B983&\" -- \"&تفصیلی!D983","v":" -- "}]
[null,null,null,null,null,null,null,null,null,null,null,null,null,null,null,null,null,null,null,null,null,null,{"$f":"تفصیلی!B984&\" -- \"&تفصیلی!D984","v":" -- "}]
[null,null,null,null,null,null,null,null,null,null,null,null,null,null,null,null,null,null,null,null,null,null,{"$f":"تفصیلی!B985&\" -- \"&تفصیلی!D985","v":" -- "}]
[null,null,null,null,null,null,null,null,null,null,null,null,null,null,null,null,null,null,null,null,null,null,{"$f":"تفصیلی!B986&\" -- \"&تفصیلی!D986","v":" -- "}]
[null,null,null,null,null,null,null,null,null,null,null,null,null,null,null,null,null,null,null,null,null,null,{"$f":"تفصیلی!B987&\" -- \"&تفصیلی!D987","v":" -- "}]
[null,null,null,null,null,null,null,null,null,null,null,null,null,null,null,null,null,null,null,null,null,null,{"$f":"تفصیلی!B988&\" -- \"&تفصیلی!D988","v":" -- "}]
[null,null,null,null,null,null,null,null,null,null,null,null,null,null,null,null,null,null,null,null,null,null,{"$f":"تفصیلی!B989&\" -- \"&تفصیلی!D989","v":" -- "}]
[null,null,null,null,null,null,null,null,null,null,null,null,null,null,null,null,null,null,null,null,null,null,{"$f":"تفصیلی!B990&\" -- \"&تفصیلی!D990","v":" -- "}]
[null,null,null,null,null,null,null,null,null,null,null,null,null,null,null,null,null,null,null,null,null,null,{"$f":"تفصیلی!B991&\" -- \"&تفصیلی!D991","v":" -- "}]
[null,null,null,null,null,null,null,null,null,null,null,null,null,null,null,null,null,null,null,null,null,null,{"$f":"تفصیلی!B992&\" -- \"&تفصیلی!D992","v":" -- "}]
[null,null,null,null,null,null,null,null,null,null,null,null,null,null,null,null,null,null,null,null,null,null,{"$f":"تفصیلی!B993&\" -- \"&تفصیلی!D993","v":" -- "}]
[null,null,null,null,null,null,null,null,null,null,null,null,null,null,null,null,null,null,null,null,null,null,{"$f":"تفصیلی!B994&\" -- \"&تفصیلی!D994","v":" -- "}]
[null,null,null,null,null,null,null,null,null,null,null,null,null,null,null,null,null,null,null,null,null,null,{"$f":"تفصیلی!B995&\" -- \"&تفصیلی!D995","v":" -- "}]
[null,null,null,null,null,null,null,null,null,null,null,null,null,null,null,null,null,null,null,null,null,null,{"$f":"تفصیلی!B996&\" -- \"&تفصیلی!D996","v":" -- "}]
[null,null,null,null,null,null,null,null,null,null,null,null,null,null,null,null,null,null,null,null,null,null,{"$f":"تفصیلی!B997&\" -- \"&تفصیلی!D997","v":" -- "}]
[null,null,null,null,null,null,null,null,null,null,null,null,null,null,null,null,null,null,null,null,null,null,{"$f":"تفصیلی!B998&\" -- \"&تفصیلی!D998","v":" -- "}]
[null,null,null,null,null,null,null,null,null,null,null,null,null,null,null,null,null,null,null,null,null,null,{"$f":"تفصیلی!B999&\" -- \"&تفصیلی!D999","v":" -- "}]
[null,null,null,null,null,null,null,null,null,null,null,null,null,null,null,null,null,null,null,null,null,null,{"$f":"تفصیلی!B1000&\" -- \"&تفصیلی!D1000","v":" -- "}]
[null,null,null,null,null,null,null,null,null,null,null,null,null,null,null,null,null,null,null,null,null,null,{"$f":"تفصیلی!B1001&\" -- \"&تفصیلی!D1001","v":" -- "}]
[null,null,null,null,null,null,null,null,null,null,null,null,null,null,null,null,null,null,null,null,null,null,{"$f":"تفصیلی!B1002&\" -- \"&تفصیلی!D1002","v":" -- "}]
[null,null,null,null,null,null,null,null,null,null,null,null,null,null,null,null,null,null,null,null,null,null,{"$f":"تفصیلی!B1003&\" -- \"&تفصیلی!D1003","v":" -- "}]
[null,null,null,null,null,null,null,null,null,null,null,null,null,null,null,null,null,null,null,null,null,null,{"$f":"تفصیلی!B1004&\" -- \"&تفصیلی!D1004","v":" -- "}]
[null,null,null,null,null,null,null,null,null,null,null,null,null,null,null,null,null,null,null,null,null,null,{"$f":"تفصیلی!B1005&\" -- \"&تفصیلی!D1005","v":" -- "}]
[null,null,null,null,null,null,null,null,null,null,null,null,null,null,null,null,null,null,null,null,null,null,{"$f":"تفصیلی!B1006&\" -- \"&تفصیلی!D1006","v":" -- "}]
[null,null,null,null,null,null,null,null,null,null,null,null,null,null,null,null,null,null,null,null,null,null,{"$f":"تفصیلی!B1007&\" -- \"&تفصیلی!D1007","v":" -- "}]
[null,null,null,null,null,null,null,null,null,null,null,null,null,null,null,null,null,null,null,null,null,null,{"$f":"تفصیلی!B1008&\" -- \"&تفصیلی!D1008","v":" -- "}]
[null,null,null,null,null,null,null,null,null,null,null,null,null,null,null,null,null,null,null,null,null,null,{"$f":"تفصیلی!B1009&\" -- \"&تفصیلی!D1009","v":" -- "}]
[null,null,null,null,null,null,null,null,null,null,null,null,null,null,null,null,null,null,null,null,null,null,{"$f":"تفصیلی!B1010&\" -- \"&تفصیلی!D1010","v":" -- "}]
[null,null,null,null,null,null,null,null,null,null,null,null,null,null,null,null,null,null,null,null,null,null,{"$f":"تفصیلی!B1011&\" -- \"&تفصیلی!D1011","v":" -- "}]
[null,null,null,null,null,null,null,null,null,null,null,null,null,null,null,null,null,null,null,null,null,null,{"$f":"تفصیلی!B1012&\" -- \"&تفصیلی!D1012","v":" -- "}]
[null,null,null,null,null,null,null,null,null,null,null,null,null,null,null,null,null,null,null,null,null,null,{"$f":"تفصیلی!B1013&\" -- \"&تفصیلی!D1013","v":" -- "}]
[null,null,null,null,null,null,null,null,null,null,null,null,null,null,null,null,null,null,null,null,null,null,{"$f":"تفصیلی!B1014&\" -- \"&تفصیلی!D1014","v":" -- "}]
[null,null,null,null,null,null,null,null,null,null,null,null,null,null,null,null,null,null,null,null,null,null,{"$f":"تفصیلی!B1015&\" -- \"&تفصیلی!D1015","v":" -- "}]
[null,null,null,null,null,null,null,null,null,null,null,null,null,null,null,null,null,null,null,null,null,null,{"$f":"تفصیلی!B1016&\" -- \"&تفصیلی!D1016","v":" -- "}]
[null,null,null,null,null,null,null,null,null,null,null,null,null,null,null,null,null,null,null,null,null,null,{"$f":"تفصیلی!B1017&\" -- \"&تفصیلی!D1017","v":" -- "}]
[null,null,null,null,null,null,null,null,null,null,null,null,null,null,null,null,null,null,null,null,null,null,{"$f":"تفصیلی!B1018&\" -- \"&تفصیلی!D1018","v":" -- "}]
[null,null,null,null,null,null,null,null,null,null,null,null,null,null,null,null,null,null,null,null,null,null,{"$f":"تفصیلی!B1019&\" -- \"&تفصیلی!D1019","v":" -- "}]
[null,null,null,null,null,null,null,null,null,null,null,null,null,null,null,null,null,null,null,null,null,null,{"$f":"تفصیلی!B1020&\" -- \"&تفصیلی!D1020","v":" -- "}]
[null,null,null,null,null,null,null,null,null,null,null,null,null,null,null,null,null,null,null,null,null,null,{"$f":"تفصیلی!B1021&\" -- \"&تفصیلی!D1021","v":" -- "}]
[null,null,null,null,null,null,null,null,null,null,null,null,null,null,null,null,null,null,null,null,null,null,{"$f":"تفصیلی!B1022&\" -- \"&تفصیلی!D1022","v":" -- "}]
[null,null,null,null,null,null,null,null,null,null,null,null,null,null,null,null,null,null,null,null,null,null,{"$f":"تفصیلی!B1023&\" -- \"&تفصیلی!D1023","v":" -- "}]
[null,null,null,null,null,null,null,null,null,null,null,null,null,null,null,null,null,null,null,null,null,null,{"$f":"تفصیلی!B1024&\" -- \"&تفصیلی!D1024","v":" -- "}]
[null,null,null,null,null,null,null,null,null,null,null,null,null,null,null,null,null,null,null,null,null,null,{"$f":"تفصیلی!B1025&\" -- \"&تفصیلی!D1025","v":" -- "}]
[null,null,null,null,null,null,null,null,null,null,null,null,null,null,null,null,null,null,null,null,null,null,{"$f":"تفصیلی!B1026&\" -- \"&تفصیلی!D1026","v":" -- "}]
[null,null,null,null,null,null,null,null,null,null,null,null,null,null,null,null,null,null,null,null,null,null,{"$f":"تفصیلی!B1027&\" -- \"&تفصیلی!D1027","v":" -- "}]
[null,null,null,null,null,null,null,null,null,null,null,null,null,null,null,null,null,null,null,null,null,null,{"$f":"تفصیلی!B1028&\" -- \"&تفصیلی!D1028","v":" -- "}]
[null,null,null,null,null,null,null,null,null,null,null,null,null,null,null,null,null,null,null,null,null,null,{"$f":"تفصیلی!B1029&\" -- \"&تفصیلی!D1029","v":" -- "}]
[null,null,null,null,null,null,null,null,null,null,null,null,null,null,null,null,null,null,null,null,null,null,{"$f":"تفصیلی!B1030&\" -- \"&تفصیلی!D1030","v":" -- "}]
[null,null,null,null,null,null,null,null,null,null,null,null,null,null,null,null,null,null,null,null,null,null,{"$f":"تفصیلی!B1031&\" -- \"&تفصیلی!D1031","v":" -- "}]
[null,null,null,null,null,null,null,null,null,null,null,null,null,null,null,null,null,null,null,null,null,null,{"$f":"تفصیلی!B1032&\" -- \"&تفصیلی!D1032","v":" -- "}]
[null,null,null,null,null,null,null,null,null,null,null,null,null,null,null,null,null,null,null,null,null,null,{"$f":"تفصیلی!B1033&\" -- \"&تفصیلی!D1033","v":" -- "}]
[null,null,null,null,null,null,null,null,null,null,null,null,null,null,null,null,null,null,null,null,null,null,{"$f":"تفصیلی!B1034&\" -- \"&تفصیلی!D1034","v":" -- "}]
[null,null,null,null,null,null,null,null,null,null,null,null,null,null,null,null,null,null,null,null,null,null,{"$f":"تفصیلی!B1035&\" -- \"&تفصیلی!D1035","v":" -- "}]
[null,null,null,null,null,null,null,null,null,null,null,null,null,null,null,null,null,null,null,null,null,null,{"$f":"تفصیلی!B1036&\" -- \"&تفصیلی!D1036","v":" -- "}]
[null,null,null,null,null,null,null,null,null,null,null,null,null,null,null,null,null,null,null,null,null,null,{"$f":"تفصیلی!B1037&\" -- \"&تفصیلی!D1037","v":" -- "}]
[null,null,null,null,null,null,null,null,null,null,null,null,null,null,null,null,null,null,null,null,null,null,{"$f":"تفصیلی!B1038&\" -- \"&تفصیلی!D1038","v":" -- "}]
[null,null,null,null,null,null,null,null,null,null,null,null,null,null,null,null,null,null,null,null,null,null,{"$f":"تفصیلی!B1039&\" -- \"&تفصیلی!D1039","v":" -- "}]
[null,null,null,null,null,null,null,null,null,null,null,null,null,null,null,null,null,null,null,null,null,null,{"$f":"تفصیلی!B1040&\" -- \"&تفصیلی!D1040","v":" -- "}]
[null,null,null,null,null,null,null,null,null,null,null,null,null,null,null,null,null,null,null,null,null,null,{"$f":"تفصیلی!B1041&\" -- \"&تفصیلی!D1041","v":" -- "}]
[null,null,null,null,null,null,null,null,null,null,null,null,null,null,null,null,null,null,null,null,null,null,{"$f":"تفصیلی!B1042&\" -- \"&تفصیلی!D1042","v":" -- "}]
[null,null,null,null,null,null,null,null,null,null,null,null,null,null,null,null,null,null,null,null,null,null,{"$f":"تفصیلی!B1043&\" -- \"&تفصیلی!D1043","v":" -- "}]
[null,null,null,null,null,null,null,null,null,null,null,null,null,null,null,null,null,null,null,null,null,null,{"$f":"تفصیلی!B1044&\" -- \"&تفصیلی!D1044","v":" -- "}]
[null,null,null,null,null,null,null,null,null,null,null,null,null,null,null,null,null,null,null,null,null,null,{"$f":"تفصیلی!B1045&\" -- \"&تفصیلی!D1045","v":" -- "}]
[null,null,null,null,null,null,null,null,null,null,null,null,null,null,null,null,null,null,null,null,null,null,{"$f":"تفصیلی!B1046&\" -- \"&تفصیلی!D1046","v":" -- "}]
[null,null,null,null,null,null,null,null,null,null,null,null,null,null,null,null,null,null,null,null,null,null,{"$f":"تفصیلی!B1047&\" -- \"&تفصیلی!D1047","v":" -- "}]
[null,null,null,null,null,null,null,null,null,null,null,null,null,null,null,null,null,null,null,null,null,null,{"$f":"تفصیلی!B1048&\" -- \"&تفصیلی!D1048","v":" -- "}]
[null,null,null,null,null,null,null,null,null,null,null,null,null,null,null,null,null,null,null,null,null,null,{"$f":"تفصیلی!B1049&\" -- \"&تفصیلی!D1049","v":" -- "}]
[null,null,null,null,null,null,null,null,null,null,null,null,null,null,null,null,null,null,null,null,null,null,{"$f":"تفصیلی!B1050&\" -- \"&تفصیلی!D1050","v":" -- "}]
[null,null,null,null,null,null,null,null,null,null,null,null,null,null,null,null,null,null,null,null,null,null,{"$f":"تفصیلی!B1051&\" -- \"&تفصیلی!D1051","v":" -- "}]
[null,null,null,null,null,null,null,null,null,null,null,null,null,null,null,null,null,null,null,null,null,null,{"$f":"تفصیلی!B1052&\" -- \"&تفصیلی!D1052","v":" -- "}]
[null,null,null,null,null,null,null,null,null,null,null,null,null,null,null,null,null,null,null,null,null,null,{"$f":"تفصیلی!B1053&\" -- \"&تفصیلی!D1053","v":" -- "}]
[null,null,null,null,null,null,null,null,null,null,null,null,null,null,null,null,null,null,null,null,null,null,{"$f":"تفصیلی!B1054&\" -- \"&تفصیلی!D1054","v":" -- "}]
[null,null,null,null,null,null,null,null,null,null,null,null,null,null,null,null,null,null,null,null,null,null,{"$f":"تفصیلی!B1055&\" -- \"&تفصیلی!D1055","v":" -- "}]
[null,null,null,null,null,null,null,null,null,null,null,null,null,null,null,null,null,null,null,null,null,null,{"$f":"تفصیلی!B1056&\" -- \"&تفصیلی!D1056","v":" -- "}]
[null,null,null,null,null,null,null,null,null,null,null,null,null,null,null,null,null,null,null,null,null,null,{"$f":"تفصیلی!B1057&\" -- \"&تفصیلی!D1057","v":" -- "}]
[null,null,null,null,null,null,null,null,null,null,null,null,null,null,null,null,null,null,null,null,null,null,{"$f":"تفصیلی!B1058&\" -- \"&تفصیلی!D1058","v":" -- "}]
[null,null,null,null,null,null,null,null,null,null,null,null,null,null,null,null,null,null,null,null,null,null,{"$f":"تفصیلی!B1059&\" -- \"&تفصیلی!D1059","v":" -- "}]
[null,null,null,null,null,null,null,null,null,null,null,null,null,null,null,null,null,null,null,null,null,null,{"$f":"تفصیلی!B1060&\" -- \"&تفصیلی!D1060","v":" -- "}]
[null,null,null,null,null,null,null,null,null,null,null,null,null,null,null,null,null,null,null,null,null,null,{"$f":"تفصیلی!B1061&\" -- \"&تفصیلی!D1061","v":" -- "}]
[null,null,null,null,null,null,null,null,null,null,null,null,null,null,null,null,null,null,null,null,null,null,{"$f":"تفصیلی!B1062&\" -- \"&تفصیلی!D1062","v":" -- "}]
[null,null,null,null,null,null,null,null,null,null,null,null,null,null,null,null,null,null,null,null,null,null,{"$f":"تفصیلی!B1063&\" -- \"&تفصیلی!D1063","v":" -- "}]
[null,null,null,null,null,null,null,null,null,null,null,null,null,null,null,null,null,null,null,null,null,null,{"$f":"تفصیلی!B1064&\" -- \"&تفصیلی!D1064","v":" -- "}]
[null,null,null,null,null,null,null,null,null,null,null,null,null,null,null,null,null,null,null,null,null,null,{"$f":"تفصیلی!B1065&\" -- \"&تفصیلی!D1065","v":" -- "}]
[null,null,null,null,null,null,null,null,null,null,null,null,null,null,null,null,null,null,null,null,null,null,{"$f":"تفصیلی!B1066&\" -- \"&تفصیلی!D1066","v":" -- "}]
[null,null,null,null,null,null,null,null,null,null,null,null,null,null,null,null,null,null,null,null,null,null,{"$f":"تفصیلی!B1067&\" -- \"&تفصیلی!D1067","v":" -- "}]
[null,null,null,null,null,null,null,null,null,null,null,null,null,null,null,null,null,null,null,null,null,null,{"$f":"تفصیلی!B1068&\" -- \"&تفصیلی!D1068","v":" -- "}]
[null,null,null,null,null,null,null,null,null,null,null,null,null,null,null,null,null,null,null,null,null,null,{"$f":"تفصیلی!B1069&\" -- \"&تفصیلی!D1069","v":" -- "}]
[null,null,null,null,null,null,null,null,null,null,null,null,null,null,null,null,null,null,null,null,null,null,{"$f":"تفصیلی!B1070&\" -- \"&تفصیلی!D1070","v":" -- "}]
[null,null,null,null,null,null,null,null,null,null,null,null,null,null,null,null,null,null,null,null,null,null,{"$f":"تفصیلی!B1071&\" -- \"&تفصیلی!D1071","v":" -- "}]
[null,null,null,null,null,null,null,null,null,null,null,null,null,null,null,null,null,null,null,null,null,null,{"$f":"تفصیلی!B1072&\" -- \"&تفصیلی!D1072","v":" -- "}]
[null,null,null,null,null,null,null,null,null,null,null,null,null,null,null,null,null,null,null,null,null,null,{"$f":"تفصیلی!B1073&\" -- \"&تفصیلی!D1073","v":" -- "}]
[null,null,null,null,null,null,null,null,null,null,null,null,null,null,null,null,null,null,null,null,null,null,{"$f":"تفصیلی!B1074&\" -- \"&تفصیلی!D1074","v":" -- "}]
[null,null,null,null,null,null,null,null,null,null,null,null,null,null,null,null,null,null,null,null,null,null,{"$f":"تفصیلی!B1075&\" -- \"&تفصیلی!D1075","v":" -- "}]
[null,null,null,null,null,null,null,null,null,null,null,null,null,null,null,null,null,null,null,null,null,null,{"$f":"تفصیلی!B1076&\" -- \"&تفصیلی!D1076","v":" -- "}]
[null,null,null,null,null,null,null,null,null,null,null,null,null,null,null,null,null,null,null,null,null,null,{"$f":"تفصیلی!B1077&\" -- \"&تفصیلی!D1077","v":" -- "}]
[null,null,null,null,null,null,null,null,null,null,null,null,null,null,null,null,null,null,null,null,null,null,{"$f":"تفصیلی!B1078&\" -- \"&تفصیلی!D1078","v":" -- "}]
[null,null,null,null,null,null,null,null,null,null,null,null,null,null,null,null,null,null,null,null,null,null,{"$f":"تفصیلی!B1079&\" -- \"&تفصیلی!D1079","v":" -- "}]
[null,null,null,null,null,null,null,null,null,null,null,null,null,null,null,null,null,null,null,null,null,null,{"$f":"تفصیلی!B1080&\" -- \"&تفصیلی!D1080","v":" -- "}]
[null,null,null,null,null,null,null,null,null,null,null,null,null,null,null,null,null,null,null,null,null,null,{"$f":"تفصیلی!B1081&\" -- \"&تفصیلی!D1081","v":" -- "}]
[null,null,null,null,null,null,null,null,null,null,null,null,null,null,null,null,null,null,null,null,null,null,{"$f":"تفصیلی!B1082&\" -- \"&تفصیلی!D1082","v":" -- "}]
[null,null,null,null,null,null,null,null,null,null,null,null,null,null,null,null,null,null,null,null,null,null,{"$f":"تفصیلی!B1083&\" -- \"&تفصیلی!D1083","v":" -- "}]
[null,null,null,null,null,null,null,null,null,null,null,null,null,null,null,null,null,null,null,null,null,null,{"$f":"تفصیلی!B1084&\" -- \"&تفصیلی!D1084","v":" -- "}]
[null,null,null,null,null,null,null,null,null,null,null,null,null,null,null,null,null,null,null,null,null,null,{"$f":"تفصیلی!B1085&\" -- \"&تفصیلی!D1085","v":" -- "}]
[null,null,null,null,null,null,null,null,null,null,null,null,null,null,null,null,null,null,null,null,null,null,{"$f":"تفصیلی!B1086&\" -- \"&تفصیلی!D1086","v":" -- "}]
[null,null,null,null,null,null,null,null,null,null,null,null,null,null,null,null,null,null,null,null,null,null,{"$f":"تفصیلی!B1087&\" -- \"&تفصیلی!D1087","v":" -- "}]
[null,null,null,null,null,null,null,null,null,null,null,null,null,null,null,null,null,null,null,null,null,null,{"$f":"تفصیلی!B1088&\" -- \"&تفصیلی!D1088","v":" -- "}]
[null,null,null,null,null,null,null,null,null,null,null,null,null,null,null,null,null,null,null,null,null,null,{"$f":"تفصیلی!B1089&\" -- \"&تفصیلی!D1089","v":" -- "}]
[null,null,null,null,null,null,null,null,null,null,null,null,null,null,null,null,null,null,null,null,null,null,{"$f":"تفصیلی!B1090&\" -- \"&تفصیلی!D1090","v":" -- "}]
[null,null,null,null,null,null,null,null,null,null,null,null,null,null,null,null,null,null,null,null,null,null,{"$f":"تفصیلی!B1091&\" -- \"&تفصیلی!D1091","v":" -- "}]
[null,null,null,null,null,null,null,null,null,null,null,null,null,null,null,null,null,null,null,null,null,null,{"$f":"تفصیلی!B1092&\" -- \"&تفصیلی!D1092","v":" -- "}]
[null,null,null,null,null,null,null,null,null,null,null,null,null,null,null,null,null,null,null,null,null,null,{"$f":"تفصیلی!B1093&\" -- \"&تفصیلی!D1093","v":" -- "}]
[null,null,null,null,null,null,null,null,null,null,null,null,null,null,null,null,null,null,null,null,null,null,{"$f":"تفصیلی!B1094&\" -- \"&تفصیلی!D1094","v":" -- "}]
[null,null,null,null,null,null,null,null,null,null,null,null,null,null,null,null,null,null,null,null,null,null,{"$f":"تفصیلی!B1095&\" -- \"&تفصیلی!D1095","v":" -- "}]
[null,null,null,null,null,null,null,null,null,null,null,null,null,null,null,null,null,null,null,null,null,null,{"$f":"تفصیلی!B1096&\" -- \"&تفصیلی!D1096","v":" -- "}]
[null,null,null,null,null,null,null,null,null,null,null,null,null,null,null,null,null,null,null,null,null,null,{"$f":"تفصیلی!B1097&\" -- \"&تفصیلی!D1097","v":" -- "}]
[null,null,null,null,null,null,null,null,null,null,null,null,null,null,null,null,null,null,null,null,null,null,{"$f":"تفصیلی!B1098&\" -- \"&تفصیلی!D1098","v":" -- "}]
[null,null,null,null,null,null,null,null,null,null,null,null,null,null,null,null,null,null,null,null,null,null,{"$f":"تفصیلی!B1099&\" -- \"&تفصیلی!D1099","v":" -- "}]
[null,null,null,null,null,null,null,null,null,null,null,null,null,null,null,null,null,null,null,null,null,null,{"$f":"تفصیلی!B1100&\" -- \"&تفصیلی!D1100","v":" -- "}]
[null,null,null,null,null,null,null,null,null,null,null,null,null,null,null,null,null,null,null,null,null,null,{"$f":"تفصیلی!B1101&\" -- \"&تفصیلی!D1101","v":" -- "}]
[null,null,null,null,null,null,null,null,null,null,null,null,null,null,null,null,null,null,null,null,null,null,{"$f":"تفصیلی!B1102&\" -- \"&تفصیلی!D1102","v":" -- "}]
[null,null,null,null,null,null,null,null,null,null,null,null,null,null,null,null,null,null,null,null,null,null,{"$f":"تفصیلی!B1103&\" -- \"&تفصیلی!D1103","v":" -- "}]
[null,null,null,null,null,null,null,null,null,null,null,null,null,null,null,null,null,null,null,null,null,null,{"$f":"تفصیلی!B1104&\" -- \"&تفصیلی!D1104","v":" -- "}]
[null,null,null,null,null,null,null,null,null,null,null,null,null,null,null,null,null,null,null,null,null,null,{"$f":"تفصیلی!B1105&\" -- \"&تفصیلی!D1105","v":" -- "}]
[null,null,null,null,null,null,null,null,null,null,null,null,null,null,null,null,null,null,null,null,null,null,{"$f":"تفصیلی!B1106&\" -- \"&تفصیلی!D1106","v":" -- "}]
[null,null,null,null,null,null,null,null,null,null,null,null,null,null,null,null,null,null,null,null,null,null,{"$f":"تفصیلی!B1107&\" -- \"&تفصیلی!D1107","v":" -- "}]
[null,null,null,null,null,null,null,null,null,null,null,null,null,null,null,null,null,null,null,null,null,null,{"$f":"تفصیلی!B1108&\" -- \"&تفصیلی!D1108","v":" -- "}]
[null,null,null,null,null,null,null,null,null,null,null,null,null,null,null,null,null,null,null,null,null,null,{"$f":"تفصیلی!B1109&\" -- \"&تفصیلی!D1109","v":" -- "}]
[null,null,null,null,null,null,null,null,null,null,null,null,null,null,null,null,null,null,null,null,null,null,{"$f":"تفصیلی!B1110&\" -- \"&تفصیلی!D1110","v":" -- "}]
[null,null,null,null,null,null,null,null,null,null,null,null,null,null,null,null,null,null,null,null,null,null,{"$f":"تفصیلی!B1111&\" -- \"&تفصیلی!D1111","v":" -- "}]
[null,null,null,null,null,null,null,null,null,null,null,null,null,null,null,null,null,null,null,null,null,null,{"$f":"تفصیلی!B1112&\" -- \"&تفصیلی!D1112","v":" -- "}]
[null,null,null,null,null,null,null,null,null,null,null,null,null,null,null,null,null,null,null,null,null,null,{"$f":"تفصیلی!B1113&\" -- \"&تفصیلی!D1113","v":" -- "}]
[null,null,null,null,null,null,null,null,null,null,null,null,null,null,null,null,null,null,null,null,null,null,{"$f":"تفصیلی!B1114&\" -- \"&تفصیلی!D1114","v":" -- "}]
[null,null,null,null,null,null,null,null,null,null,null,null,null,null,null,null,null,null,null,null,null,null,{"$f":"تفصیلی!B1115&\" -- \"&تفصیلی!D1115","v":" -- "}]
[null,null,null,null,null,null,null,null,null,null,null,null,null,null,null,null,null,null,null,null,null,null,{"$f":"تفصیلی!B1116&\" -- \"&تفصیلی!D1116","v":" -- "}]
[null,null,null,null,null,null,null,null,null,null,null,null,null,null,null,null,null,null,null,null,null,null,{"$f":"تفصیلی!B1117&\" -- \"&تفصیلی!D1117","v":" -- "}]
[null,null,null,null,null,null,null,null,null,null,null,null,null,null,null,null,null,null,null,null,null,null,{"$f":"تفصیلی!B1118&\" -- \"&تفصیلی!D1118","v":" -- "}]
[null,null,null,null,null,null,null,null,null,null,null,null,null,null,null,null,null,null,null,null,null,null,{"$f":"تفصیلی!B1119&\" -- \"&تفصیلی!D1119","v":" -- "}]
[null,null,null,null,null,null,null,null,null,null,null,null,null,null,null,null,null,null,null,null,null,null,{"$f":"تفصیلی!B1120&\" -- \"&تفصیلی!D1120","v":" -- "}]
[null,null,null,null,null,null,null,null,null,null,null,null,null,null,null,null,null,null,null,null,null,null,{"$f":"تفصیلی!B1121&\" -- \"&تفصیلی!D1121","v":" -- "}]
[null,null,null,null,null,null,null,null,null,null,null,null,null,null,null,null,null,null,null,null,null,null,{"$f":"تفصیلی!B1122&\" -- \"&تفصیلی!D1122","v":" -- "}]
[null,null,null,null,null,null,null,null,null,null,null,null,null,null,null,null,null,null,null,null,null,null,{"$f":"تفصیلی!B1123&\" -- \"&تفصیلی!D1123","v":" -- "}]
[null,null,null,null,null,null,null,null,null,null,null,null,null,null,null,null,null,null,null,null,null,null,{"$f":"تفصیلی!B1124&\" -- \"&تفصیلی!D1124","v":" -- "}]
[null,null,null,null,null,null,null,null,null,null,null,null,null,null,null,null,null,null,null,null,null,null,{"$f":"تفصیلی!B1125&\" -- \"&تفصیلی!D1125","v":" -- "}]
[null,null,null,null,null,null,null,null,null,null,null,null,null,null,null,null,null,null,null,null,null,null,{"$f":"تفصیلی!B1126&\" -- \"&تفصیلی!D1126","v":" -- "}]
[null,null,null,null,null,null,null,null,null,null,null,null,null,null,null,null,null,null,null,null,null,null,{"$f":"تفصیلی!B1127&\" -- \"&تفصیلی!D1127","v":" -- "}]
[null,null,null,null,null,null,null,null,null,null,null,null,null,null,null,null,null,null,null,null,null,null,{"$f":"تفصیلی!B1128&\" -- \"&تفصیلی!D1128","v":" -- "}]
[null,null,null,null,null,null,null,null,null,null,null,null,null,null,null,null,null,null,null,null,null,null,{"$f":"تفصیلی!B1129&\" -- \"&تفصیلی!D1129","v":" -- "}]
[null,null,null,null,null,null,null,null,null,null,null,null,null,null,null,null,null,null,null,null,null,null,{"$f":"تفصیلی!B1130&\" -- \"&تفصیلی!D1130","v":" -- "}]
[null,null,null,null,null,null,null,null,null,null,null,null,null,null,null,null,null,null,null,null,null,null,{"$f":"تفصیلی!B1131&\" -- \"&تفصیلی!D1131","v":" -- "}]
[null,null,null,null,null,null,null,null,null,null,null,null,null,null,null,null,null,null,null,null,null,null,{"$f":"تفصیلی!B1132&\" -- \"&تفصیلی!D1132","v":" -- "}]
[null,null,null,null,null,null,null,null,null,null,null,null,null,null,null,null,null,null,null,null,null,null,{"$f":"تفصیلی!B1133&\" -- \"&تفصیلی!D1133","v":" -- "}]
[null,null,null,null,null,null,null,null,null,null,null,null,null,null,null,null,null,null,null,null,null,null,{"$f":"تفصیلی!B1134&\" -- \"&تفصیلی!D1134","v":" -- "}]
[null,null,null,null,null,null,null,null,null,null,null,null,null,null,null,null,null,null,null,null,null,null,{"$f":"تفصیلی!B1135&\" -- \"&تفصیلی!D1135","v":" -- "}]
[null,null,null,null,null,null,null,null,null,null,null,null,null,null,null,null,null,null,null,null,null,null,{"$f":"تفصیلی!B1136&\" -- \"&تفصیلی!D1136","v":" -- "}]
[null,null,null,null,null,null,null,null,null,null,null,null,null,null,null,null,null,null,null,null,null,null,{"$f":"تفصیلی!B1137&\" -- \"&تفصیلی!D1137","v":" -- "}]
[null,null,null,null,null,null,null,null,null,null,null,null,null,null,null,null,null,null,null,null,null,null,{"$f":"تفصیلی!B1138&\" -- \"&تفصیلی!D1138","v":" -- "}]
[null,null,null,null,null,null,null,null,null,null,null,null,null,null,null,null,null,null,null,null,null,null,{"$f":"تفصیلی!B1139&\" -- \"&تفصیلی!D1139","v":" -- "}]
[null,null,null,null,null,null,null,null,null,null,null,null,null,null,null,null,null,null,null,null,null,null,{"$f":"تفصیلی!B1140&\" -- \"&تفصیلی!D1140","v":" -- "}]
[null,null,null,null,null,null,null,null,null,null,null,null,null,null,null,null,null,null,null,null,null,null,{"$f":"تفصیلی!B1141&\" -- \"&تفصیلی!D1141","v":" -- "}]
[null,null,null,null,null,null,null,null,null,null,null,null,null,null,null,null,null,null,null,null,null,null,{"$f":"تفصیلی!B1142&\" -- \"&تفصیلی!D1142","v":" -- "}]
[null,null,null,null,null,null,null,null,null,null,null,null,null,null,null,null,null,null,null,null,null,null,{"$f":"تفصیلی!B1143&\" -- \"&تفصیلی!D1143","v":" -- "}]
[null,null,null,null,null,null,null,null,null,null,null,null,null,null,null,null,null,null,null,null,null,null,{"$f":"تفصیلی!B1144&\" -- \"&تفصیلی!D1144","v":" -- "}]
[null,null,null,null,null,null,null,null,null,null,null,null,null,null,null,null,null,null,null,null,null,null,{"$f":"تفصیلی!B1145&\" -- \"&تفصیلی!D1145","v":" -- "}]
[null,null,null,null,null,null,null,null,null,null,null,null,null,null,null,null,null,null,null,null,null,null,{"$f":"تفصیلی!B1146&\" -- \"&تفصیلی!D1146","v":" -- "}]
[null,null,null,null,null,null,null,null,null,null,null,null,null,null,null,null,null,null,null,null,null,null,{"$f":"تفصیلی!B1147&\" -- \"&تفصیلی!D1147","v":" -- "}]
[null,null,null,null,null,null,null,null,null,null,null,null,null,null,null,null,null,null,null,null,null,null,{"$f":"تفصیلی!B1148&\" -- \"&تفصیلی!D1148","v":" -- "}]
[null,null,null,null,null,null,null,null,null,null,null,null,null,null,null,null,null,null,null,null,null,null,{"$f":"تفصیلی!B1149&\" -- \"&تفصیلی!D1149","v":" -- "}]
[null,null,null,null,null,null,null,null,null,null,null,null,null,null,null,null,null,null,null,null,null,null,{"$f":"تفصیلی!B1150&\" -- \"&تفصیلی!D1150","v":" -- "}]
[null,null,null,null,null,null,null,null,null,null,null,null,null,null,null,null,null,null,null,null,null,null,{"$f":"تفصیلی!B1151&\" -- \"&تفصیلی!D1151","v":" -- "}]
[null,null,null,null,null,null,null,null,null,null,null,null,null,null,null,null,null,null,null,null,null,null,{"$f":"تفصیلی!B1152&\" -- \"&تفصیلی!D1152","v":" -- "}]
[null,null,null,null,null,null,null,null,null,null,null,null,null,null,null,null,null,null,null,null,null,null,{"$f":"تفصیلی!B1153&\" -- \"&تفصیلی!D1153","v":" -- "}]
[null,null,null,null,null,null,null,null,null,null,null,null,null,null,null,null,null,null,null,null,null,null,{"$f":"تفصیلی!B1154&\" -- \"&تفصیلی!D1154","v":" -- "}]
[null,null,null,null,null,null,null,null,null,null,null,null,null,null,null,null,null,null,null,null,null,null,{"$f":"تفصیلی!B1155&\" -- \"&تفصیلی!D1155","v":" -- "}]
[null,null,null,null,null,null,null,null,null,null,null,null,null,null,null,null,null,null,null,null,null,null,{"$f":"تفصیلی!B1156&\" -- \"&تفصیلی!D1156","v":" -- "}]
[null,null,null,null,null,null,null,null,null,null,null,null,null,null,null,null,null,null,null,null,null,null,{"$f":"تفصیلی!B1157&\" -- \"&تفصیلی!D1157","v":" -- "}]
[null,null,null,null,null,null,null,null,null,null,null,null,null,null,null,null,null,null,null,null,null,null,{"$f":"تفصیلی!B1158&\" -- \"&تفصیلی!D1158","v":" -- "}]
[null,null,null,null,null,null,null,null,null,null,null,null,null,null,null,null,null,null,null,null,null,null,{"$f":"تفصیلی!B1159&\" -- \"&تفصیلی!D1159","v":" -- "}]
[null,null,null,null,null,null,null,null,null,null,null,null,null,null,null,null,null,null,null,null,null,null,{"$f":"تفصیلی!B1160&\" -- \"&تفصیلی!D1160","v":" -- "}]
[null,null,null,null,null,null,null,null,null,null,null,null,null,null,null,null,null,null,null,null,null,null,{"$f":"تفصیلی!B1161&\" -- \"&تفصیلی!D1161","v":" -- "}]
[null,null,null,null,null,null,null,null,null,null,null,null,null,null,null,null,null,null,null,null,null,null,{"$f":"تفصیلی!B1162&\" -- \"&تفصیلی!D1162","v":" -- "}]
[null,null,null,null,null,null,null,null,null,null,null,null,null,null,null,null,null,null,null,null,null,null,{"$f":"تفصیلی!B1163&\" -- \"&تفصیلی!D1163","v":" -- "}]
[null,null,null,null,null,null,null,null,null,null,null,null,null,null,null,null,null,null,null,null,null,null,{"$f":"تفصیلی!B1164&\" -- \"&تفصیلی!D1164","v":" -- "}]
[null,null,null,null,null,null,null,null,null,null,null,null,null,null,null,null,null,null,null,null,null,null,{"$f":"تفصیلی!B1165&\" -- \"&تفصیلی!D1165","v":" -- "}]
[null,null,null,null,null,null,null,null,null,null,null,null,null,null,null,null,null,null,null,null,null,null,{"$f":"تفصیلی!B1166&\" -- \"&تفصیلی!D1166","v":" -- "}]
[null,null,null,null,null,null,null,null,null,null,null,null,null,null,null,null,null,null,null,null,null,null,{"$f":"تفصیلی!B1167&\" -- \"&تفصیلی!D1167","v":" -- "}]
[null,null,null,null,null,null,null,null,null,null,null,null,null,null,null,null,null,null,null,null,null,null,{"$f":"تفصیلی!B1168&\" -- \"&تفصیلی!D1168","v":" -- "}]
[null,null,null,null,null,null,null,null,null,null,null,null,null,null,null,null,null,null,null,null,null,null,{"$f":"تفصیلی!B1169&\" -- \"&تفصیلی!D1169","v":" -- "}]
[null,null,null,null,null,null,null,null,null,null,null,null,null,null,null,null,null,null,null,null,null,null,{"$f":"تفصیلی!B1170&\" -- \"&تفصیلی!D1170","v":" -- "}]
[null,null,null,null,null,null,null,null,null,null,null,null,null,null,null,null,null,null,null,null,null,null,{"$f":"تفصیلی!B1171&\" -- \"&تفصیلی!D1171","v":" -- "}]
[null,null,null,null,null,null,null,null,null,null,null,null,null,null,null,null,null,null,null,null,null,null,{"$f":"تفصیلی!B1172&\" -- \"&تفصیلی!D1172","v":" -- "}]
[null,null,null,null,null,null,null,null,null,null,null,null,null,null,null,null,null,null,null,null,null,null,{"$f":"تفصیلی!B1173&\" -- \"&تفصیلی!D1173","v":" -- "}]
[null,null,null,null,null,null,null,null,null,null,null,null,null,null,null,null,null,null,null,null,null,null,{"$f":"تفصیلی!B1174&\" -- \"&تفصیلی!D1174","v":" -- "}]
[null,null,null,null,null,null,null,null,null,null,null,null,null,null,null,null,null,null,null,null,null,null,{"$f":"تفصیلی!B1175&\" -- \"&تفصیلی!D1175","v":" -- "}]
[null,null,null,null,null,null,null,null,null,null,null,null,null,null,null,null,null,null,null,null,null,null,{"$f":"تفصیلی!B1176&\" -- \"&تفصیلی!D1176","v":" -- "}]
[null,null,null,null,null,null,null,null,null,null,null,null,null,null,null,null,null,null,null,null,null,null,{"$f":"تفصیلی!B1177&\" -- \"&تفصیلی!D1177","v":" -- "}]
[null,null,null,null,null,null,null,null,null,null,null,null,null,null,null,null,null,null,null,null,null,null,{"$f":"تفصیلی!B1178&\" -- \"&تفصیلی!D1178","v":" -- "}]
[null,null,null,null,null,null,null,null,null,null,null,null,null,null,null,null,null,null,null,null,null,null,{"$f":"تفصیلی!B1179&\" -- \"&تفصیلی!D1179","v":" -- "}]
[null,null,null,null,null,null,null,null,null,null,null,null,null,null,null,null,null,null,null,null,null,null,{"$f":"تفصیلی!B1180&\" -- \"&تفصیلی!D1180","v":" -- "}]
[null,null,null,null,null,null,null,null,null,null,null,null,null,null,null,null,null,null,null,null,null,null,{"$f":"تفصیلی!B1181&\" -- \"&تفصیلی!D1181","v":" -- "}]
[null,null,null,null,null,null,null,null,null,null,null,null,null,null,null,null,null,null,null,null,null,null,{"$f":"تفصیلی!B1182&\" -- \"&تفصیلی!D1182","v":" -- "}]
[null,null,null,null,null,null,null,null,null,null,null,null,null,null,null,null,null,null,null,null,null,null,{"$f":"تفصیلی!B1183&\" -- \"&تفصیلی!D1183","v":" -- "}]
[null,null,null,null,null,null,null,null,null,null,null,null,null,null,null,null,null,null,null,null,null,null,{"$f":"تفصیلی!B1184&\" -- \"&تفصیلی!D1184","v":" -- "}]
[null,null,null,null,null,null,null,null,null,null,null,null,null,null,null,null,null,null,null,null,null,null,{"$f":"تفصیلی!B1185&\" -- \"&تفصیلی!D1185","v":" -- "}]
[null,null,null,null,null,null,null,null,null,null,null,null,null,null,null,null,null,null,null,null,null,null,{"$f":"تفصیلی!B1186&\" -- \"&تفصیلی!D1186","v":" -- "}]
[null,null,null,null,null,null,null,null,null,null,null,null,null,null,null,null,null,null,null,null,null,null,{"$f":"تفصیلی!B1187&\" -- \"&تفصیلی!D1187","v":" -- "}]
[null,null,null,null,null,null,null,null,null,null,null,null,null,null,null,null,null,null,null,null,null,null,{"$f":"تفصیلی!B1188&\" -- \"&تفصیلی!D1188","v":" -- "}]
[null,null,null,null,null,null,null,null,null,null,null,null,null,null,null,null,null,null,null,null,null,null,{"$f":"تفصیلی!B1189&\" -- \"&تفصیلی!D1189","v":" -- "}]
[null,null,null,null,null,null,null,null,null,null,null,null,null,null,null,null,null,null,null,null,null,null,{"$f":"تفصیلی!B1190&\" -- \"&تفصیلی!D1190","v":" -- "}]
[null,null,null,null,null,null,null,null,null,null,null,null,null,null,null,null,null,null,null,null,null,null,{"$f":"تفصیلی!B1191&\" -- \"&تفصیلی!D1191","v":" -- "}]
[null,null,null,null,null,null,null,null,null,null,null,null,null,null,null,null,null,null,null,null,null,null,{"$f":"تفصیلی!B1192&\" -- \"&تفصیلی!D1192","v":" -- "}]
[null,null,null,null,null,null,null,null,null,null,null,null,null,null,null,null,null,null,null,null,null,null,{"$f":"تفصیلی!B1193&\" -- \"&تفصیلی!D1193","v":" -- "}]
[null,null,null,null,null,null,null,null,null,null,null,null,null,null,null,null,null,null,null,null,null,null,{"$f":"تفصیلی!B1194&\" -- \"&تفصیلی!D1194","v":" -- "}]
[null,null,null,null,null,null,null,null,null,null,null,null,null,null,null,null,null,null,null,null,null,null,{"$f":"تفصیلی!B1195&\" -- \"&تفصیلی!D1195","v":" -- "}]
[null,null,null,null,null,null,null,null,null,null,null,null,null,null,null,null,null,null,null,null,null,null,{"$f":"تفصیلی!B1196&\" -- \"&تفصیلی!D1196","v":" -- "}]
[null,null,null,null,null,null,null,null,null,null,null,null,null,null,null,null,null,null,null,null,null,null,{"$f":"تفصیلی!B1197&\" -- \"&تفصیلی!D1197","v":" -- "}]
[null,null,null,null,null,null,null,null,null,null,null,null,null,null,null,null,null,null,null,null,null,null,{"$f":"تفصیلی!B1198&\" -- \"&تفصیلی!D1198","v":" -- "}]
[null,null,null,null,null,null,null,null,null,null,null,null,null,null,null,null,null,null,null,null,null,null,{"$f":"تفصیلی!B1199&\" -- \"&تفصیلی!D1199","v":" -- "}]
[null,null,null,null,null,null,null,null,null,null,null,null,null,null,null,null,null,null,null,null,null,null,{"$f":"تفصیلی!B1200&\" -- \"&تفصیلی!D1200","v":" -- "}]
[null,null,null,null,null,null,null,null,null,null,null,null,null,null,null,null,null,null,null,null,null,null,{"$f":"تفصیلی!B1201&\" -- \"&تفصیلی!D1201","v":" -- "}]
[null,null,null,null,null,null,null,null,null,null,null,null,null,null,null,null,null,null,null,null,null,null,{"$f":"تفصیلی!B1202&\" -- \"&تفصیلی!D1202","v":" -- "}]
[null,null,null,null,null,null,null,null,null,null,null,null,null,null,null,null,null,null,null,null,null,null,{"$f":"تفصیلی!B1203&\" -- \"&تفصیلی!D1203","v":" -- "}]

{"sheet":"گروه و کل","index":3,"n_rows":160,"n_cols":10,"rows_kept":160,"cut":false,"hidden":false,"merged":[[0,0,0,1]]}
[]
[null,null,null,null,null,null,{"$f":"SUBTOTAL(9,G4:G160)","v":0},{"$f":"SUBTOTAL(9,H4:H160)","v":0}]
[null,null,"کد","عنوان گروه","کد کل","شرح کل","بدهکار","بستانکار","تش","مانده"]
[null,null,11,"داراییهای جاری",1110,"موجودی نقد و بانک",{"$f":"SUMIFS(data[بدهکار],data[کل],E4)","v":0},{"$f":"SUMIFS(data[بستانکار],data[کل],E4)","v":0},{"$f":"IF(J4=0,\"--\",IF(J4>0,\"بد\",\"بس\"))","v":"--"},{"$f":"G4-H4","v":0}]
[null,null,11,"داراییهای جاری",1111,"سپرده های کوتاه مدت",{"$f":"SUMIFS(data[بدهکار],data[کل],E5)","v":0},{"$f":"SUMIFS(data[بستانکار],data[کل],E5)","v":0},{"$f":"IF(J5=0,\"--\",IF(J5>0,\"بد\",\"بس\"))","v":"--"},{"$f":"G5-H5","v":0}]
[null,null,11,"داراییهای جاری",1112,"اسناد دریافتنی",{"$f":"SUMIFS(data[بدهکار],data[کل],E6)","v":0},{"$f":"SUMIFS(data[بستانکار],data[کل],E6)","v":0},"--",0]
[null,null,11,"داراییهای جاری",1113,"حسابهای دریافتنی تجاری",{"$f":"SUMIFS(data[بدهکار],data[کل],E7)","v":0},{"$f":"SUMIFS(data[بستانکار],data[کل],E7)","v":0},"--",0]
[null,null,11,"داراییهای جاری",1114,"سایر حسابهای دریافتنی",{"$f":"SUMIFS(data[بدهکار],data[کل],E8)","v":0},{"$f":"SUMIFS(data[بستانکار],data[کل],E8)","v":0},"--",0]
[null,null,11,"داراییهای جاری",1115,"سرمایه گذاری های کوتاه مدت",{"$f":"SUMIFS(data[بدهکار],data[کل],E9)","v":0},{"$f":"SUMIFS(data[بستانکار],data[کل],E9)","v":0},"--",0]
[null,null,11,"داراییهای جاری",1116,"موجودی مواد و کالا",{"$f":"SUMIFS(data[بدهکار],data[کل],E10)","v":0},{"$f":"SUMIFS(data[بستانکار],data[کل],E10)","v":0},"--",0]
[null,null,11,"داراییهای جاری",1117,"کار درجریان ساخت",{"$f":"SUMIFS(data[بدهکار],data[کل],E11)","v":0},{"$f":"SUMIFS(data[بستانکار],data[کل],E11)","v":0},"--",0]
[null,null,11,"داراییهای جاری",1118,"سفارشات و اقلام در راه",{"$f":"SUMIFS(data[بدهکار],data[کل],E12)","v":0},{"$f":"SUMIFS(data[بستانکار],data[کل],E12)","v":0},"--",{"$f":"G12-H12","v":0}]
[null,null,11,"داراییهای جاری",1119,"پیش پرداختها",{"$f":"SUMIFS(data[بدهکار],data[کل],E13)","v":0},{"$f":"SUMIFS(data[بستانکار],data[کل],E13)","v":0},"--",0]
[null,null,11,"داراییهای جاری",1120,null,{"$f":"SUMIFS(data[بدهکار],data[کل],E14)","v":0},{"$f":"SUMIFS(data[بستانکار],data[کل],E14)","v":0},"--",0]
[null,null,12,"داراییهای غیرجاری",1210,"اموال ، ماشین آلات و تجهیزات",{"$f":"SUMIFS(data[بدهکار],data[کل],E15)","v":0},{"$f":"SUMIFS(data[بستانکار],data[کل],E15)","v":0},"--",0]
[null,null,12,"داراییهای غیرجاری",1211,"استهلاک انباشته اموال ، ماشین آلات و تجهیزات",{"$f":"SUMIFS(data[بدهکار],data[کل],E16)","v":0},{"$f":"SUMIFS(data[بستانکار],data[کل],E16)","v":0},"--",{"$f":"G16-H16","v":0}]
[null,null,12,"داراییهای غیرجاری",1212,"زمین و املاک",{"$f":"SUMIFS(data[بدهکار],data[کل],E17)","v":0},{"$f":"SUMIFS(data[بستانکار],data[کل],E17)","v":0},"--",0]
[null,null,12,"داراییهای غیرجاری",1213,"دارائیهای ثابت در جریان تکمیل",{"$f":"SUMIFS(data[بدهکار],data[کل],E18)","v":0},{"$f":"SUMIFS(data[بستانکار],data[کل],E18)","v":0},"--",0]
[null,null,12,"داراییهای غیرجاری",1214,"سرمایه کذاری های بلند مدت",{"$f":"SUMIFS(data[بدهکار],data[کل],E19)","v":0},{"$f":"SUMIFS(data[بستانکار],data[کل],E19)","v":0},"--",0]
[null,null,12,"داراییهای غیرجاری",1215,"سپرده هاو مطالبات بلند مدت",{"$f":"SUMIFS(data[بدهکار],data[کل],E20)","v":0},{"$f":"SUMIFS(data[بستانکار],data[کل],E20)","v":0},"--",0]
[null,null,12,"داراییهای غیرجاری",1216,"هزینه سنوات آتی (مخارج انتقالی به آتی)",{"$f":"SUMIFS(data[بدهکار],data[کل],E21)","v":0},{"$f":"SUMIFS(data[بستانکار],data[کل],E21)","v":0},"--",0]
[null,null,12,"داراییهای غیرجاری",1217,"سایر دارائیها",{"$f":"SUMIFS(data[بدهکار],data[کل],E22)","v":0},{"$f":"SUMIFS(data[بستانکار],data[کل],E22)","v":0},"--",0]
[null,null,12,"داراییهای غیرجاری",1218,null,{"$f":"SUMIFS(data[بدهکار],data[کل],E23)","v":0},{"$f":"SUMIFS(data[بستانکار],data[کل],E23)","v":0},"--",0]
[null,null,12,"داراییهای غیرجاری",1219,null,{"$f":"SUMIFS(data[بدهکار],data[کل],E24)","v":0},{"$f":"SUMIFS(data[بستانکار],data[کل],E24)","v":0},"--",0]
[null,null,12,"داراییهای غیرجاری",1220,null,{"$f":"SUMIFS(data[بدهکار],data[کل],E25)","v":0},{"$f":"SUMIFS(data[بستانکار],data[کل],E25)","v":0},"--",0]
[null,null,13,"بدهیهای جاری",1310,"حسابهای پرداختنی تجاری",{"$f":"SUMIFS(data[بدهکار],data[کل],E26)","v":0},{"$f":"SUMIFS(data[بستانکار],data[کل],E26)","v":0},"--",0]
[null,null,13,"بدهیهای جاری",1311,"اسناد پرداختنی کوتاه مدت",{"$f":"SUMIFS(data[بدهکار],data[کل],E27)","v":0},{"$f":"SUMIFS(data[بستانکار],data[کل],E27)","v":0},"--",0]
[null,null,13,"بدهیهای جاری",1312,"سایر حسابهای پرداختنی",{"$f":"SUMIFS(data[بدهکار],data[کل],E28)","v":0},{"$f":"SUMIFS(data[بستانکار],data[کل],E28)","v":0},"--",0]
[null,null,13,"بدهیهای جاری",1313,"سپرده های دریافتی",{"$f":"SUMIFS(data[بدهکار],data[کل],E29)","v":0},{"$f":"SUMIFS(data[بستانکار],data[کل],E29)","v":0},"--",0]
[null,null,13,"بدهیهای جاری",1314,"پیش دریافتها",{"$f":"SUMIFS(data[بدهکار],data[کل],E30)","v":0},{"$f":"SUMIFS(data[بستانکار],data[کل],E30)","v":0},"--",0]
[null,null,13,"بدهیهای جاری",1315,"ذخیره مالیات",{"$f":"SUMIFS(data[بدهکار],data[کل],E31)","v":0},{"$f":"SUMIFS(data[بستانکار],data[کل],E31)","v":0},"--",0]
[null,null,13,"بدهیهای جاری",1316,"سود سهام پیشنهادی و پرداختنی",{"$f":"SUMIFS(data[بدهکار],data[کل],E32)","v":0},{"$f":"SUMIFS(data[بستانکار],data[کل],E32)","v":0},"--",0]
[null,null,13,"بدهیهای جاری",1317,"تسهیلات و اعتبارات مالی دریافتی",{"$f":"SUMIFS(data[بدهکار],data[کل],E33)","v":0},{"$f":"SUMIFS(data[بستانکار],data[کل],E33)","v":0},"--",0]
[null,null,13,"بدهیهای جاری",1318,"سایر ذخایر",{"$f":"SUMIFS(data[بدهکار],data[کل],E34)","v":0},{"$f":"SUMIFS(data[بستانکار],data[کل],E34)","v":0},"--",0]
[null,null,13,"بدهیهای جاری",1319,null,{"$f":"SUMIFS(data[بدهکار],data[کل],E35)","v":0},{"$f":"SUMIFS(data[بستانکار],data[کل],E35)","v":0},"--",0]
[null,null,13,"بدهیهای جاری",1320,null,{"$f":"SUMIFS(data[بدهکار],data[کل],E36)","v":0},{"$f":"SUMIFS(data[بستانکار],data[کل],E36)","v":0},"--",0]
[null,null,14,"بدهیهای غیر جاری",1410,"اسناد پرداختنی بلند مدت",{"$f":"SUMIFS(data[بدهکار],data[کل],E37)","v":0},{"$f":"SUMIFS(data[بستانکار],data[کل],E37)","v":0},"--",0]
[null,null,14,"بدهیهای غیر جاری",1411,"حسابهای پرداختنی بلند مدت",{"$f":"SUMIFS(data[بدهکار],data[کل],E38)","v":0},{"$f":"SUMIFS(data[بستانکار],data[کل],E38)","v":0},"--",0]
[null,null,14,"بدهیهای غیر جاری",1412,"تسهیلات مالی دریافتی بلند مدت",{"$f":"SUMIFS(data[بدهکار],data[کل],E39)","v":0},{"$f":"SUMIFS(data[بستانکار],data[کل],E39)","v":0},"--",0]
[null,null,14,"بدهیهای غیر جاری",1413,"ذخیره مزایای پایان خدمت کارکنان",{"$f":"SUMIFS(data[بدهکار],data[کل],E40)","v":0},{"$f":"SUMIFS(data[بستانکار],data[کل],E40)","v":0},"--",0]
[null,null,14,"بدهیهای غیر جاری",1414,"در آمدهای انتفالی به دوره های آتی",{"$f":"SUMIFS(data[بدهکار],data[کل],E41)","v":0},{"$f":"SUMIFS(data[بستانکار],data[کل],E41)","v":0},"--",0]
[null,null,14,"بدهیهای غیر جاری",1415,null,{"$f":"SUMIFS(data[بدهکار],data[کل],E42)","v":0},{"$f":"SUMIFS(data[بستانکار],data[کل],E42)","v":0},"--",0]
[null,null,14,"بدهیهای غیر جاری",1416,null,{"$f":"SUMIFS(data[بدهکار],data[کل],E43)","v":0},{"$f":"SUMIFS(data[بستانکار],data[کل],E43)","v":0},"--",0]
[null,null,14,"بدهیهای غیر جاری",1417,null,{"$f":"SUMIFS(data[بدهکار],data[کل],E44)","v":0},{"$f":"SUMIFS(data[بستانکار],data[کل],E44)","v":0},"--",0]
[null,null,14,"بدهیهای غیر جاری",1418,null,{"$f":"SUMIFS(data[بدهکار],data[کل],E45)","v":0},{"$f":"SUMIFS(data[بستانکار],data[کل],E45)","v":0},"--",0]
[null,null,14,"بدهیهای غیر جاری",1419,null,{"$f":"SUMIFS(data[بدهکار],data[کل],E46)","v":0},{"$f":"SUMIFS(data[بستانکار],data[کل],E46)","v":0},"--",0]
[null,null,14,"بدهیهای غیر جاری",1420,null,{"$f":"SUMIFS(data[بدهکار],data[کل],E47)","v":0},{"$f":"SUMIFS(data[بستانکار],data[کل],E47)","v":0},"--",0]
[null,null,15,"حقوق صاحبان سهام",1510,"سرمایه",{"$f":"SUMIFS(data[بدهکار],data[کل],E48)","v":0},{"$f":"SUMIFS(data[بستانکار],data[کل],E48)","v":0},"--",0]
[null,null,15,"حقوق صاحبان سهام",1511,"اندوخته قانونی",{"$f":"SUMIFS(data[بدهکار],data[کل],E49)","v":0},{"$f":"SUMIFS(data[بستانکار],data[کل],E49)","v":0},"--",0]
[null,null,15,"حقوق صاحبان سهام",1512,"سایر اندوخته ها و صرف سهام",{"$f":"SUMIFS(data[بدهکار],data[کل],E50)","v":0},{"$f":"SUMIFS(data[بستانکار],data[کل],E50)","v":0},"--",0]
[null,null,15,"حقوق صاحبان سهام",1513,"سود (زیان ) انباشته",{"$f":"SUMIFS(data[بدهکار],data[کل],E51)","v":0},{"$f":"SUMIFS(data[بستانکار],data[کل],E51)","v":0},"--",0]
[null,null,15,"حقوق صاحبان سهام",1514,"سود (زیان ) جاری",{"$f":"SUMIFS(data[بدهکار],data[کل],E52)","v":0},{"$f":"SUMIFS(data[بستانکار],data[کل],E52)","v":0},"--",0]
[null,null,15,"حقوق صاحبان سهام",1515,"تقسیم سود",{"$f":"SUMIFS(data[بدهکار],data[کل],E53)","v":0},{"$f":"SUMIFS(data[بستانکار],data[کل],E53)","v":0},"--",0]
[null,null,15,"حقوق صاحبان سهام",1516,null,{"$f":"SUMIFS(data[بدهکار],data[کل],E54)","v":0},{"$f":"SUMIFS(data[بستانکار],data[کل],E54)","v":0},"--",0]
[null,null,15,"حقوق صاحبان سهام",1517,null,{"$f":"SUMIFS(data[بدهکار],data[کل],E55)","v":0},{"$f":"SUMIFS(data[بستانکار],data[کل],E55)","v":0},"--",0]
[null,null,15,"حقوق صاحبان سهام",1518,null,{"$f":"SUMIFS(data[بدهکار],data[کل],E56)","v":0},{"$f":"SUMIFS(data[بستانکار],data[کل],E56)","v":0},"--",0]
[null,null,15,"حقوق صاحبان سهام",1519,null,{"$f":"SUMIFS(data[بدهکار],data[کل],E57)","v":0},{"$f":"SUMIFS(data[بستانکار],data[کل],E57)","v":0},"--",0]
[null,null,15,"حقوق صاحبان سهام",1520,null,{"$f":"SUMIFS(data[بدهکار],data[کل],E58)","v":0},{"$f":"SUMIFS(data[بستانکار],data[کل],E58)","v":0},"--",0]
[null,null,16,"فروش و درآمدها",1610,"فروش",{"$f":"SUMIFS(data[بدهکار],data[کل],E59)","v":0},{"$f":"SUMIFS(data[بستانکار],data[کل],E59)","v":0},"--",0]
[null,null,16,"فروش و درآمدها",1611,"برگشت از فروش و تخفیفات",{"$f":"SUMIFS(data[بدهکار],data[کل],E60)","v":0},{"$f":"SUMIFS(data[بستانکار],data[کل],E60)","v":0},"--",0]
[null,null,16,"فروش و درآمدها",1612,"سایر درآمد ها و هزینه های عملیاتی",{"$f":"SUMIFS(data[بدهکار],data[کل],E61)","v":0},{"$f":"SUMIFS(data[بستانکار],data[کل],E61)","v":0},"--",0]
[null,null,16,"فروش و درآمدها",1613,null,{"$f":"SUMIFS(data[بدهکار],data[کل],E62)","v":0},{"$f":"SUMIFS(data[بستانکار],data[کل],E62)","v":0},"--",0]
[null,null,16,"فروش و درآمدها",1614,null,{"$f":"SUMIFS(data[بدهکار],data[کل],E63)","v":0},{"$f":"SUMIFS(data[بستانکار],data[کل],E63)","v":0},"--",0]
[null,null,16,"فروش و درآمدها",1615,null,{"$f":"SUMIFS(data[بدهکار],data[کل],E64)","v":0},{"$f":"SUMIFS(data[بستانکار],data[کل],E64)","v":0},"--",0]
[null,null,16,"فروش و درآمدها",1616,null,{"$f":"SUMIFS(data[بدهکار],data[کل],E65)","v":0},{"$f":"SUMIFS(data[بستانکار],data[کل],E65)","v":0},"--",0]
[null,null,16,"فروش و درآمدها",1617,null,{"$f":"SUMIFS(data[بدهکار],data[کل],E66)","v":0},{"$f":"SUMIFS(data[بستانکار],data[کل],E66)","v":0},"--",0]
[null,null,16,"فروش و درآمدها",1618,null,{"$f":"SUMIFS(data[بدهکار],data[کل],E67)","v":0},{"$f":"SUMIFS(data[بستانکار],data[کل],E67)","v":0},"--",0]
[null,null,16,"فروش و درآمدها",1619,null,{"$f":"SUMIFS(data[بدهکار],data[کل],E68)","v":0},{"$f":"SUMIFS(data[بستانکار],data[کل],E68)","v":0},"--",0]
[null,null,16,"فروش و درآمدها",1620,null,{"$f":"SUMIFS(data[بدهکار],data[کل],E69)","v":0},{"$f":"SUMIFS(data[بستانکار],data[کل],E69)","v":0},{"$f":"IF(J69=0,\"--\",IF(J69>0,\"بد\",\"بس\"))","v":"--"},0]
[null,null,17,"قیمت تمام شده کالا",1710,"قیمت تمام شده کالای فروش رفته",{"$f":"SUMIFS(data[بدهکار],data[کل],E70)","v":0},{"$f":"SUMIFS(data[بستانکار],data[کل],E70)","v":0},"--",0]
[null,null,17,"قیمت تمام شده کالا",1711,null,{"$f":"SUMIFS(data[بدهکار],data[کل],E71)","v":0},{"$f":"SUMIFS(data[بستانکار],data[کل],E71)","v":0},"--",0]
[null,null,17,"قیمت تمام شده کالا",1712,null,{"$f":"SUMIFS(data[بدهکار],data[کل],E72)","v":0},{"$f":"SUMIFS(data[بستانکار],data[کل],E72)","v":0},"--",0]
[null,null,17,"قیمت تمام شده کالا",1713,null,{"$f":"SUMIFS(data[بدهکار],data[کل],E73)","v":0},{"$f":"SUMIFS(data[بستانکار],data[کل],E73)","v":0},"--",0]
[null,null,17,"قیمت تمام شده کالا",1714,null,{"$f":"SUMIFS(data[بدهکار],data[کل],E74)","v":0},{"$f":"SUMIFS(data[بستانکار],data[کل],E74)","v":0},"--",0]
[null,null,17,"قیمت تمام شده کالا",1715,null,{"$f":"SUMIFS(data[بدهکار],data[کل],E75)","v":0},{"$f":"SUMIFS(data[بستانکار],data[کل],E75)","v":0},"--",0]
[null,null,17,"قیمت تمام شده کالا",1716,null,{"$f":"SUMIFS(data[بدهکار],data[کل],E76)","v":0},{"$f":"SUMIFS(data[بستانکار],data[کل],E76)","v":0},"--",0]
[null,null,17,"قیمت تمام شده کالا",1717,null,{"$f":"SUMIFS(data[بدهکار],data[کل],E77)","v":0},{"$f":"SUMIFS(data[بستانکار],data[کل],E77)","v":0},"--",0]
[null,null,17,"قیمت تمام شده کالا",1718,null,{"$f":"SUMIFS(data[بدهکار],data[کل],E78)","v":0},{"$f":"SUMIFS(data[بستانکار],data[کل],E78)","v":0},"--",0]
[null,null,17,"قیمت تمام شده کالا",1719,null,{"$f":"SUMIFS(data[بدهکار],data[کل],E79)","v":0},{"$f":"SUMIFS(data[بستانکار],data[کل],E79)","v":0},"--",0]
[null,null,17,"قیمت تمام شده کالا",1720,null,{"$f":"SUMIFS(data[بدهکار],data[کل],E80)","v":0},{"$f":"SUMIFS(data[بستانکار],data[کل],E80)","v":0},"--",{"$f":"G80-H80","v":0}]
[null,null,18,"هزینه های فعالیت",1810,"هزینه های حقوق و دستمزد",{"$f":"SUMIFS(data[بدهکار],data[کل],E81)","v":0},{"$f":"SUMIFS(data[بستانکار],data[کل],E81)","v":0},"--",0]
[null,null,18,"هزینه های فعالیت",1811,"هزینه های کارکنان",{"$f":"SUMIFS(data[بدهکار],data[کل],E82)","v":0},{"$f":"SUMIFS(data[بستانکار],data[کل],E82)","v":0},"--",0]
[null,null,18,"هزینه های فعالیت",1812,"هزینه های عملیاتی",{"$f":"SUMIFS(data[بدهکار],data[کل],E83)","v":0},{"$f":"SUMIFS(data[بستانکار],data[کل],E83)","v":0},"--",0]
[null,null,18,"هزینه های فعالیت",1813,"هزینه های استهلاک",{"$f":"SUMIFS(data[بدهکار],data[کل],E84)","v":0},{"$f":"SUMIFS(data[بستانکار],data[کل],E84)","v":0},"--",0]
[null,null,18,"هزینه های فعالیت",1814,null,{"$f":"SUMIFS(data[بدهکار],data[کل],E85)","v":0},{"$f":"SUMIFS(data[بستانکار],data[کل],E85)","v":0},"--",0]
[null,null,18,"هزینه های فعالیت",1815,null,{"$f":"SUMIFS(data[بدهکار],data[کل],E86)","v":0},{"$f":"SUMIFS(data[بستانکار],data[کل],E86)","v":0},"--",0]
[null,null,18,"هزینه های فعالیت",1816,null,{"$f":"SUMIFS(data[بدهکار],data[کل],E87)","v":0},{"$f":"SUMIFS(data[بستانکار],data[کل],E87)","v":0},"--",0]
[null,null,18,"هزینه های فعالیت",1817,null,{"$f":"SUMIFS(data[بدهکار],data[کل],E88)","v":0},{"$f":"SUMIFS(data[بستانکار],data[کل],E88)","v":0},"--",0]
[null,null,18,"هزینه های فعالیت",1818,null,{"$f":"SUMIFS(data[بدهکار],data[کل],E89)","v":0},{"$f":"SUMIFS(data[بستانکار],data[کل],E89)","v":0},"--",0]
[null,null,18,"هزینه های فعالیت",1819,null,{"$f":"SUMIFS(data[بدهکار],data[کل],E90)","v":0},{"$f":"SUMIFS(data[بستانکار],data[کل],E90)","v":0},"--",0]
[null,null,18,"هزینه های فعالیت",1820,null,{"$f":"SUMIFS(data[بدهکار],data[کل],E91)","v":0},{"$f":"SUMIFS(data[بستانکار],data[کل],E91)","v":0},"--",0]
[null,null,19,"سایر هزینه ها و درآمدها",1910,"هزینه های بازاریابی و توزیع و فروش",{"$f":"SUMIFS(data[بدهکار],data[کل],E92)","v":0},{"$f":"SUMIFS(data[بستانکار],data[کل],E92)","v":0},"--",0]
[null,null,19,"سایر هزینه ها و درآمدها",1911,"هزینه های مالی",{"$f":"SUMIFS(data[بدهکار],data[کل],E93)","v":0},{"$f":"SUMIFS(data[بستانکار],data[کل],E93)","v":0},"--",0]
[null,null,19,"سایر هزینه ها و درآمدها",1912,"هزینه های تحقیق و توسعه",{"$f":"SUMIFS(data[بدهکار],data[کل],E94)","v":0},{"$f":"SUMIFS(data[بستانکار],data[کل],E94)","v":0},"--",0]
[null,null,19,"سایر هزینه ها و درآمدها",1913,"سایر هزینه های اداری و تشکیلاتی",{"$f":"SUMIFS(data[بدهکار],data[کل],E95)","v":0},{"$f":"SUMIFS(data[بستانکار],data[کل],E95)","v":0},"--",0]
[null,null,19,"سایر هزینه ها و درآمدها",1914,"سایر درآمد ها و هزینه های غیرعملیاتی",{"$f":"SUMIFS(data[بدهکار],data[کل],E96)","v":0},{"$f":"SUMIFS(data[بستانکار],data[کل],E96)","v":0},"--",0]
[null,null,19,"سایر هزینه ها و درآمدها",1915,"هزینه های غیرمترقبه",{"$f":"SUMIFS(data[بدهکار],data[کل],E97)","v":0},{"$f":"SUMIFS(data[بستانکار],data[کل],E97)","v":0},"--",0]
[null,null,19,"سایر هزینه ها و درآمدها",1916,null,{"$f":"SUMIFS(data[بدهکار],data[کل],E98)","v":0},{"$f":"SUMIFS(data[بستانکار],data[کل],E98)","v":0},"--",0]
[null,null,19,"سایر هزینه ها و درآمدها",1917,null,{"$f":"SUMIFS(data[بدهکار],data[کل],E99)","v":0},{"$f":"SUMIFS(data[بستانکار],data[کل],E99)","v":0},"--",0]
[null,null,19,"سایر هزینه ها و درآمدها",1918,null,{"$f":"SUMIFS(data[بدهکار],data[کل],E100)","v":0},{"$f":"SUMIFS(data[بستانکار],data[کل],E100)","v":0},"--",0]
[null,null,19,"سایر هزینه ها و درآمدها",1919,null,{"$f":"SUMIFS(data[بدهکار],data[کل],E101)","v":0},{"$f":"SUMIFS(data[بستانکار],data[کل],E101)","v":0},"--",0]
[null,null,19,"سایر هزینه ها و درآمدها",1920,null,{"$f":"SUMIFS(data[بدهکار],data[کل],E102)","v":0},{"$f":"SUMIFS(data[بستانکار],data[کل],E102)","v":0},"--",0]
[null,null,20,"حسابهای جذب و انحرافات",2010,"جذب هزینه های تبدیل دوایر تولیدی",{"$f":"SUMIFS(data[بدهکار],data[کل],E103)","v":0},{"$f":"SUMIFS(data[بستانکار],data[کل],E103)","v":0},"--",0]
[null,null,20,"حسابهای جذب و انحرافات",2011,"تسهیم هزینه های دوایر خدماتی",{"$f":"SUMIFS(data[بدهکار],data[کل],E104)","v":0},{"$f":"SUMIFS(data[بستانکار],data[کل],E104)","v":0},"--",0]
[null,null,20,"حسابهای جذب و انحرافات",2012,"انحراف مواد اولیه",{"$f":"SUMIFS(data[بدهکار],data[کل],E105)","v":0},{"$f":"SUMIFS(data[بستانکار],data[کل],E105)","v":0},"--",0]
[null,null,20,"حسابهای جذب و انحرافات",2013,"انحراف هزینه های تبدیل",{"$f":"SUMIFS(data[بدهکار],data[کل],E106)","v":0},{"$f":"SUMIFS(data[بستانکار],data[کل],E106)","v":0},"--",0]
[null,null,20,"حسابهای جذب و انحرافات",2014,"انتقال هزینه های تبدیل تولید",{"$f":"SUMIFS(data[بدهکار],data[کل],E107)","v":0},{"$f":"SUMIFS(data[بستانکار],data[کل],E107)","v":0},"--",0]
[null,null,20,"حسابهای جذب و انحرافات",2015,null,{"$f":"SUMIFS(data[بدهکار],data[کل],E108)","v":0},{"$f":"SUMIFS(data[بستانکار],data[کل],E108)","v":0},"--",0]
[null,null,20,"حسابهای جذب و انحرافات",2016,null,{"$f":"SUMIFS(data[بدهکار],data[کل],E109)","v":0},{"$f":"SUMIFS(data[بستانکار],data[کل],E109)","v":0},"--",0]
[null,null,20,"حسابهای جذب و انحرافات",2017,null,{"$f":"SUMIFS(data[بدهکار],data[کل],E110)","v":0},{"$f":"SUMIFS(data[بستانکار],data[کل],E110)","v":0},"--",0]
[null,null,20,"حسابهای جذب و انحرافات",2018,null,{"$f":"SUMIFS(data[بدهکار],data[کل],E111)","v":0},{"$f":"SUMIFS(data[بستانکار],data[کل],E111)","v":0},"--",0]
[null,null,20,"حسابهای جذب و انحرافات",2019,null,{"$f":"SUMIFS(data[بدهکار],data[کل],E112)","v":0},{"$f":"SUMIFS(data[بستانکار],data[کل],E112)","v":0},"--",0]
[null,null,20,"حسابهای جذب و انحرافات",2020,null,{"$f":"SUMIFS(data[بدهکار],data[کل],E113)","v":0},{"$f":"SUMIFS(data[بستانکار],data[کل],E113)","v":0},"--",0]
[null,null,21,"حسابهای انتظامی",2110,"حسابهای انتظامی به نفع شرکت",{"$f":"SUMIFS(data[بدهکار],data[کل],E114)","v":0},{"$f":"SUMIFS(data[بستانکار],data[کل],E114)","v":0},"--",0]
[null,null,21,"حسابهای انتظامی",2111,"حسابهای انتظامی عهده شرکت",{"$f":"SUMIFS(data[بدهکار],data[کل],E115)","v":0},{"$f":"SUMIFS(data[بستانکار],data[کل],E115)","v":0},"--",0]
[null,null,21,"حسابهای انتظامی",2112,null,{"$f":"SUMIFS(data[بدهکار],data[کل],E116)","v":0},{"$f":"SUMIFS(data[بستانکار],data[کل],E116)","v":0},"--",0]
[null,null,21,"حسابهای انتظامی",2113,null,{"$f":"SUMIFS(data[بدهکار],data[کل],E117)","v":0},{"$f":"SUMIFS(data[بستانکار],data[کل],E117)","v":0},"--",0]
[null,null,21,"حسابهای انتظامی",2114,null,{"$f":"SUMIFS(data[بدهکار],data[کل],E118)","v":0},{"$f":"SUMIFS(data[بستانکار],data[کل],E118)","v":0},"--",0]
[null,null,21,"حسابهای انتظامی",2115,null,{"$f":"SUMIFS(data[بدهکار],data[کل],E119)","v":0},{"$f":"SUMIFS(data[بستانکار],data[کل],E119)","v":0},"--",0]
[null,null,21,"حسابهای انتظامی",2116,null,{"$f":"SUMIFS(data[بدهکار],data[کل],E120)","v":0},{"$f":"SUMIFS(data[بستانکار],data[کل],E120)","v":0},"--",0]
[null,null,21,"حسابهای انتظامی",2117,null,{"$f":"SUMIFS(data[بدهکار],data[کل],E121)","v":0},{"$f":"SUMIFS(data[بستانکار],data[کل],E121)","v":0},"--",0]
[null,null,21,"حسابهای انتظامی",2118,null,{"$f":"SUMIFS(data[بدهکار],data[کل],E122)","v":0},{"$f":"SUMIFS(data[بستانکار],data[کل],E122)","v":0},"--",0]
[null,null,21,"حسابهای انتظامی",2119,null,{"$f":"SUMIFS(data[بدهکار],data[کل],E123)","v":0},{"$f":"SUMIFS(data[بستانکار],data[کل],E123)","v":0},"--",0]
[null,null,21,"حسابهای انتظامی",2120,null,{"$f":"SUMIFS(data[بدهکار],data[کل],E124)","v":0},{"$f":"SUMIFS(data[بستانکار],data[کل],E124)","v":0},"--",0]
[null,null,22,"طرف حسابهای انتظامی",2210,"طرف حسابهای انتظامی",{"$f":"SUMIFS(data[بدهکار],data[کل],E125)","v":0},{"$f":"SUMIFS(data[بستانکار],data[کل],E125)","v":0},"--",0]
[null,null,22,"طرف حسابهای انتظامی",2211,null,{"$f":"SUMIFS(data[بدهکار],data[کل],E126)","v":0},{"$f":"SUMIFS(data[بستانکار],data[کل],E126)","v":0},"--",0]
[null,null,22,"طرف حسابهای انتظامی",2212,null,{"$f":"SUMIFS(data[بدهکار],data[کل],E127)","v":0},{"$f":"SUMIFS(data[بستانکار],data[کل],E127)","v":0},"--",0]
[null,null,22,"طرف حسابهای انتظامی",2213,null,{"$f":"SUMIFS(data[بدهکار],data[کل],E128)","v":0},{"$f":"SUMIFS(data[بستانکار],data[کل],E128)","v":0},"--",0]
[null,null,22,"طرف حسابهای انتظامی",2214,null,{"$f":"SUMIFS(data[بدهکار],data[کل],E129)","v":0},{"$f":"SUMIFS(data[بستانکار],data[کل],E129)","v":0},"--",0]
[null,null,22,"طرف حسابهای انتظامی",2215,null,{"$f":"SUMIFS(data[بدهکار],data[کل],E130)","v":0},{"$f":"SUMIFS(data[بستانکار],data[کل],E130)","v":0},"--",0]
[null,null,22,"طرف حسابهای انتظامی",2216,null,{"$f":"SUMIFS(data[بدهکار],data[کل],E131)","v":0},{"$f":"SUMIFS(data[بستانکار],data[کل],E131)","v":0},"--",0]
[null,null,22,"طرف حسابهای انتظامی",2217,null,{"$f":"SUMIFS(data[بدهکار],data[کل],E132)","v":0},{"$f":"SUMIFS(data[بستانکار],data[کل],E132)","v":0},"--",0]
[null,null,22,"طرف حسابهای انتظامی",2218,null,{"$f":"SUMIFS(data[بدهکار],data[کل],E133)","v":0},{"$f":"SUMIFS(data[بستانکار],data[کل],E133)","v":0},{"$f":"IF(J133=0,\"--\",IF(J133>0,\"بد\",\"بس\"))","v":"--"},0]
[null,null,22,"طرف حسابهای انتظامی",2219,null,{"$f":"SUMIFS(data[بدهکار],data[کل],E134)","v":0},{"$f":"SUMIFS(data[بستانکار],data[کل],E134)","v":0},"--",0]
[null,null,22,"طرف حسابهای انتظامی",2220,null,{"$f":"SUMIFS(data[بدهکار],data[کل],E135)","v":0},{"$f":"SUMIFS(data[بستانکار],data[کل],E135)","v":0},"--",0]
[null,null,23,null,2310,null,{"$f":"SUMIFS(data[بدهکار],data[کل],E136)","v":0},{"$f":"SUMIFS(data[بستانکار],data[کل],E136)","v":0},"--",0]
[null,null,23,null,2311,null,{"$f":"SUMIFS(data[بدهکار],data[کل],E137)","v":0},{"$f":"SUMIFS(data[بستانکار],data[کل],E137)","v":0},"--",0]
[null,null,23,null,2312,null,{"$f":"SUMIFS(data[بدهکار],data[کل],E138)","v":0},{"$f":"SUMIFS(data[بستانکار],data[کل],E138)","v":0},"--",0]
[null,null,23,null,2313,null,{"$f":"SUMIFS(data[بدهکار],data[کل],E139)","v":0},{"$f":"SUMIFS(data[بستانکار],data[کل],E139)","v":0},"--",0]
[null,null,23,null,2314,null,{"$f":"SUMIFS(data[بدهکار],data[کل],E140)","v":0},{"$f":"SUMIFS(data[بستانکار],data[کل],E140)","v":0},"--",0]
[null,null,23,null,2315,null,{"$f":"SUMIFS(data[بدهکار],data[کل],E141)","v":0},{"$f":"SUMIFS(data[بستانکار],data[کل],E141)","v":0},"--",0]
[null,null,23,null,2316,null,{"$f":"SUMIFS(data[بدهکار],data[کل],E142)","v":0},{"$f":"SUMIFS(data[بستانکار],data[کل],E142)","v":0},"--",0]
[null,null,23,null,2317,null,{"$f":"SUMIFS(data[بدهکار],data[کل],E143)","v":0},{"$f":"SUMIFS(data[بستانکار],data[کل],E143)","v":0},"--",0]
[null,null,23,null,2318,null,{"$f":"SUMIFS(data[بدهکار],data[کل],E144)","v":0},{"$f":"SUMIFS(data[بستانکار],data[کل],E144)","v":0},"--",{"$f":"G144-H144","v":0}]
[null,null,23,null,2319,null,{"$f":"SUMIFS(data[بدهکار],data[کل],E145)","v":0},{"$f":"SUMIFS(data[بستانکار],data[کل],E145)","v":0},"--",0]
[null,null,23,null,2320,null,{"$f":"SUMIFS(data[بدهکار],data[کل],E146)","v":0},{"$f":"SUMIFS(data[بستانکار],data[کل],E146)","v":0},"--",0]
[null,null,24,null,2410,null,{"$f":"SUMIFS(data[بدهکار],data[کل],E147)","v":0},{"$f":"SUMIFS(data[بستانکار],data[کل],E147)","v":0},"--",0]
[null,null,24,null,2411,null,{"$f":"SUMIFS(data[بدهکار],data[کل],E148)","v":0},{"$f":"SUMIFS(data[بستانکار],data[کل],E148)","v":0},"--",0]
[null,null,24,null,2412,null,{"$f":"SUMIFS(data[بدهکار],data[کل],E149)","v":0},{"$f":"SUMIFS(data[بستانکار],data[کل],E149)","v":0},"--",0]
[null,null,24,null,2413,null,{"$f":"SUMIFS(data[بدهکار],data[کل],E150)","v":0},{"$f":"SUMIFS(data[بستانکار],data[کل],E150)","v":0},"--",0]
[null,null,24,null,2414,null,{"$f":"SUMIFS(data[بدهکار],data[کل],E151)","v":0},{"$f":"SUMIFS(data[بستانکار],data[کل],E151)","v":0},"--",0]
[null,null,24,null,2415,null,{"$f":"SUMIFS(data[بدهکار],data[کل],E152)","v":0},{"$f":"SUMIFS(data[بستانکار],data[کل],E152)","v":0},"--",{"$f":"G152-H152","v":0}]
[null,null,24,null,2416,null,{"$f":"SUMIFS(data[بدهکار],data[کل],E153)","v":0},{"$f":"SUMIFS(data[بستانکار],data[کل],E153)","v":0},"--",0]
[null,null,24,null,2417,null,{"$f":"SUMIFS(data[بدهکار],data[کل],E154)","v":0},{"$f":"SUMIFS(data[بستانکار],data[کل],E154)","v":0},"--",0]
[null,null,24,null,2418,null,{"$f":"SUMIFS(data[بدهکار],data[کل],E155)","v":0},{"$f":"SUMIFS(data[بستانکار],data[کل],E155)","v":0},"--",0]
[null,null,24,null,2419,null,{"$f":"SUMIFS(data[بدهکار],data[کل],E156)","v":0},{"$f":"SUMIFS(data[بستانکار],data[کل],E156)","v":0},"--",0]
[null,null,24,null,2420,null,{"$f":"SUMIFS(data[بدهکار],data[کل],E157)","v":0},{"$f":"SUMIFS(data[بستانکار],data[کل],E157)","v":0},"--",0]
[null,null,25,"حسابهای اصلاحی",2510,"افتتاحیه / اختتامیه",{"$f":"SUMIFS(data[بدهکار],data[کل],E158)","v":0},{"$f":"SUMIFS(data[بستانکار],data[کل],E158)","v":0},"--",{"$f":"G158-H158","v":0}]
[null,null,25,"حسابهای اصلاحی",2511,"حسابهای بلاتکلیف",{"$f":"SUMIFS(data[بدهکار],data[کل],E159)","v":0},{"$f":"SUMIFS(data[بستانکار],data[کل],E159)","v":0},"--",0]
[null,null,25,"حسابهای اصلاحی",2512,null,{"$f":"SUMIFS(data[بدهکار],data[کل],E160)","v":0},{"$f":"SUMIFS(data[بستانکار],data[کل],E160)","v":0},"--",0]

{"sheet":"معین","index":4,"n_rows":303,"n_cols":5,"rows_kept":303,"cut":false,"hidden":false,"merged":[]}
[]
[null,{"$f":"COUNTA(moein[کد کل])+4","v":23}]
[null,"کد کل","شرح کل","کد معین","شرح معین"]
[null,1110,{"$f":"IF(B4>0,VLOOKUP(B4,koli,2,FALSE),0)","v":"موجودی نقد و بانک"},{"$f":"IF(B4>0,B4*100+COUNTIF(B$3:B4,B4),0)","v":111001},"صندوق ریالی"]
[null,1110,{"$f":"IF(B5>0,VLOOKUP(B5,koli,2,FALSE),0)","v":"موجودی نقد و بانک"},{"$f":"IF(B5>0,B5*100+COUNTIF(B$3:B5,B5),0)","v":111002},"صندوق ارزی"]
[null,1110,"موجودی نقد و بانک",{"$f":"IF(B6>0,B6*100+COUNTIF(B$3:B6,B6),0)","v":111003},"تنخواه گردانهای ریالی"]
[null,1110,"موجودی نقد و بانک",{"$f":"IF(B7>0,B7*100+COUNTIF(B$3:B7,B7),0)","v":111004},"تنخواه گردانهای ارزی"]
[null,1210,"اموال ، ماشین آلات و تجهیزات",{"$f":"IF(B8>0,B8*100+COUNTIF(B$3:B8,B8),0)","v":121001},"موجودی بانکهای ریالی"]
[null,1210,"اموال ، ماشین آلات و تجهیزات",{"$f":"IF(B9>0,B9*100+COUNTIF(B$3:B9,B9),0)","v":121002},"موجودی بانکهای ارزی"]
[null,1213,"دارائیهای ثابت در جریان تکمیل",{"$f":"IF(B10>0,B10*100+COUNTIF(B$3:B10,B10),0)","v":121301},"وجوه در راه"]
[null,1212,"زمین و املاک",{"$f":"IF(B11>0,B11*100+COUNTIF(B$3:B11,B11),0)","v":121201},"موجودی واریز نامه های ارزی"]
[null,1111,"سپرده های کوتاه مدت",{"$f":"IF(B12>0,B12*100+COUNTIF(B$3:B12,B12),0)","v":111101},"سپرده شرکت در مناقصه ومزایده"]
[null,1111,"سپرده های کوتاه مدت",{"$f":"IF(B13>0,B13*100+COUNTIF(B$3:B13,B13),0)","v":111102},"سپرده های گمرکی"]
[null,1111,"سپرده های کوتاه مدت",{"$f":"IF(B14>0,B14*100+COUNTIF(B$3:B14,B14),0)","v":111103},"سپرده ضمانتنامه های بانکی"]
[null,1111,"سپرده های کوتاه مدت",{"$f":"IF(B15>0,B15*100+COUNTIF(B$3:B15,B15),0)","v":111104},"سایر سپرده ها"]
[null,1112,"اسناد دریافتنی",{"$f":"IF(B16>0,B16*100+COUNTIF(B$3:B16,B16),0)","v":111201},"چکهای در جریان وصول"]
[null,1112,"اسناد دریافتنی",{"$f":"IF(B17>0,B17*100+COUNTIF(B$3:B17,B17),0)","v":111202},"اسناد در جریان وصول"]
[null,1112,"اسناد دریافتنی",{"$f":"IF(B18>0,B18*100+COUNTIF(B$3:B18,B18),0)","v":111203},"چکهای دریافتنی نزد صندوق"]
[null,1112,"اسناد دریافتنی",{"$f":"IF(B19>0,B19*100+COUNTIF(B$3:B19,B19),0)","v":111204},"اسناد دریافتنی نزد صندوق"]
[null,1113,"حسابهای دریافتنی تجاری",{"$f":"IF(B20>0,B20*100+COUNTIF(B$3:B20,B20),0)","v":111301},1]
[null,1113,"حسابهای دریافتنی تجاری",{"$f":"IF(B21>0,B21*100+COUNTIF(B$3:B21,B21),0)","v":111302},2]
[null,1113,"حسابهای دریافتنی تجاری",{"$f":"IF(B22>0,B22*100+COUNTIF(B$3:B22,B22),0)","v":111303},3]
[null,null,0,{"$f":"IF(B23>0,B23*100+COUNTIF(B$3:B23,B23),0)","v":0}]
[null,null,0,{"$f":"IF(B24>0,B24*100+COUNTIF(B$3:B24,B24),0)","v":0}]
[null,null,0,{"$f":"IF(B25>0,B25*100+COUNTIF(B$3:B25,B25),0)","v":0}]
[null,null,0,{"$f":"IF(B26>0,B26*100+COUNTIF(B$3:B26,B26),0)","v":0}]
[null,null,0,{"$f":"IF(B27>0,B27*100+COUNTIF(B$3:B27,B27),0)","v":0}]
[null,null,0,{"$f":"IF(B28>0,B28*100+COUNTIF(B$3:B28,B28),0)","v":0}]
[null,null,0,{"$f":"IF(B29>0,B29*100+COUNTIF(B$3:B29,B29),0)","v":0}]
[null,null,0,{"$f":"IF(B30>0,B30*100+COUNTIF(B$3:B30,B30),0)","v":0}]
[null,null,0,{"$f":"IF(B31>0,B31*100+COUNTIF(B$3:B31,B31),0)","v":0}]
[null,null,0,{"$f":"IF(B32>0,B32*100+COUNTIF(B$3:B32,B32),0)","v":0}]
[null,null,0,{"$f":"IF(B33>0,B33*100+COUNTIF(B$3:B33,B33),0)","v":0}]
[null,null,0,{"$f":"IF(B34>0,B34*100+COUNTIF(B$3:B34,B34),0)","v":0}]
[null,null,0,{"$f":"IF(B35>0,B35*100+COUNTIF(B$3:B35,B35),0)","v":0}]
[null,null,0,{"$f":"IF(B36>0,B36*100+COUNTIF(B$3:B36,B36),0)","v":0}]
[null,null,0,{"$f":"IF(B37>0,B37*100+COUNTIF(B$3:B37,B37),0)","v":0}]
[null,null,0,{"$f":"IF(B38>0,B38*100+COUNTIF(B$3:B38,B38),0)","v":0}]
[null,null,0,{"$f":"IF(B39>0,B39*100+COUNTIF(B$3:B39,B39),0)","v":0}]
[null,null,0,{"$f":"IF(B40>0,B40*100+COUNTIF(B$3:B40,B40),0)","v":0}]
[null,null,0,{"$f":"IF(B41>0,B41*100+COUNTIF(B$3:B41,B41),0)","v":0}]
[null,null,0,{"$f":"IF(B42>0,B42*100+COUNTIF(B$3:B42,B42),0)","v":0}]
[null,null,0,{"$f":"IF(B43>0,B43*100+COUNTIF(B$3:B43,B43),0)","v":0}]
[null,null,0,{"$f":"IF(B44>0,B44*100+COUNTIF(B$3:B44,B44),0)","v":0}]
[null,null,0,{"$f":"IF(B45>0,B45*100+COUNTIF(B$3:B45,B45),0)","v":0}]
[null,null,0,{"$f":"IF(B46>0,B46*100+COUNTIF(B$3:B46,B46),0)","v":0}]
[null,null,0,{"$f":"IF(B47>0,B47*100+COUNTIF(B$3:B47,B47),0)","v":0}]
[null,null,0,{"$f":"IF(B48>0,B48*100+COUNTIF(B$3:B48,B48),0)","v":0}]
[null,null,0,{"$f":"IF(B49>0,B49*100+COUNTIF(B$3:B49,B49),0)","v":0}]
[null,null,0,{"$f":"IF(B50>0,B50*100+COUNTIF(B$3:B50,B50),0)","v":0}]
[null,null,0,{"$f":"IF(B51>0,B51*100+COUNTIF(B$3:B51,B51),0)","v":0}]
[null,null,0,{"$f":"IF(B52>0,B52*100+COUNTIF(B$3:B52,B52),0)","v":0}]
[null,null,0,{"$f":"IF(B53>0,B53*100+COUNTIF(B$3:B53,B53),0)","v":0}]
[null,null,0,{"$f":"IF(B54>0,B54*100+COUNTIF(B$3:B54,B54),0)","v":0}]
[null,null,0,{"$f":"IF(B55>0,B55*100+COUNTIF(B$3:B55,B55),0)","v":0}]
[null,null,0,{"$f":"IF(B56>0,B56*100+COUNTIF(B$3:B56,B56),0)","v":0}]
[null,null,0,{"$f":"IF(B57>0,B57*100+COUNTIF(B$3:B57,B57),0)","v":0}]
[null,null,0,{"$f":"IF(B58>0,B58*100+COUNTIF(B$3:B58,B58),0)","v":0}]
[null,null,0,{"$f":"IF(B59>0,B59*100+COUNTIF(B$3:B59,B59),0)","v":0}]
[null,null,0,{"$f":"IF(B60>0,B60*100+COUNTIF(B$3:B60,B60),0)","v":0}]
[null,null,0,{"$f":"IF(B61>0,B61*100+COUNTIF(B$3:B61,B61),0)","v":0}]
[null,null,0,{"$f":"IF(B62>0,B62*100+COUNTIF(B$3:B62,B62),0)","v":0}]
[null,null,0,{"$f":"IF(B63>0,B63*100+COUNTIF(B$3:B63,B63),0)","v":0}]
[null,null,0,{"$f":"IF(B64>0,B64*100+COUNTIF(B$3:B64,B64),0)","v":0}]
[null,null,0,{"$f":"IF(B65>0,B65*100+COUNTIF(B$3:B65,B65),0)","v":0}]
[null,null,0,{"$f":"IF(B66>0,B66*100+COUNTIF(B$3:B66,B66),0)","v":0}]
[null,null,0,{"$f":"IF(B67>0,B67*100+COUNTIF(B$3:B67,B67),0)","v":0}]
[null,null,{"$f":"IF(B68>0,VLOOKUP(B68,koli,2,FALSE),0)","v":0},{"$f":"IF(B68>0,B68*100+COUNTIF(B$3:B68,B68),0)","v":0}]
[null,null,0,{"$f":"IF(B69>0,B69*100+COUNTIF(B$3:B69,B69),0)","v":0}]
[null,null,0,{"$f":"IF(B70>0,B70*100+COUNTIF(B$3:B70,B70),0)","v":0}]
[null,null,0,{"$f":"IF(B71>0,B71*100+COUNTIF(B$3:B71,B71),0)","v":0}]
[null,null,0,{"$f":"IF(B72>0,B72*100+COUNTIF(B$3:B72,B72),0)","v":0}]
[null,null,0,{"$f":"IF(B73>0,B73*100+COUNTIF(B$3:B73,B73),0)","v":0}]
[null,null,0,{"$f":"IF(B74>0,B74*100+COUNTIF(B$3:B74,B74),0)","v":0}]
[null,null,0,{"$f":"IF(B75>0,B75*100+COUNTIF(B$3:B75,B75),0)","v":0}]
[null,null,0,{"$f":"IF(B76>0,B76*100+COUNTIF(B$3:B76,B76),0)","v":0}]
[null,null,0,{"$f":"IF(B77>0,B77*100+COUNTIF(B$3:B77,B77),0)","v":0}]
[null,null,0,{"$f":"IF(B78>0,B78*100+COUNTIF(B$3:B78,B78),0)","v":0}]
[null,null,0,{"$f":"IF(B79>0,B79*100+COUNTIF(B$3:B79,B79),0)","v":0}]
[null,null,0,{"$f":"IF(B80>0,B80*100+COUNTIF(B$3:B80,B80),0)","v":0}]
[null,null,0,{"$f":"IF(B81>0,B81*100+COUNTIF(B$3:B81,B81),0)","v":0}]
[null,null,0,{"$f":"IF(B82>0,B82*100+COUNTIF(B$3:B82,B82),0)","v":0}]
[null,null,0,{"$f":"IF(B83>0,B83*100+COUNTIF(B$3:B83,B83),0)","v":0}]
[null,null,0,{"$f":"IF(B84>0,B84*100+COUNTIF(B$3:B84,B84),0)","v":0}]
[null,null,0,{"$f":"IF(B85>0,B85*100+COUNTIF(B$3:B85,B85),0)","v":0}]
[null,null,0,{"$f":"IF(B86>0,B86*100+COUNTIF(B$3:B86,B86),0)","v":0}]
[null,null,0,{"$f":"IF(B87>0,B87*100+COUNTIF(B$3:B87,B87),0)","v":0}]
[null,null,0,{"$f":"IF(B88>0,B88*100+COUNTIF(B$3:B88,B88),0)","v":0}]
[null,null,0,{"$f":"IF(B89>0,B89*100+COUNTIF(B$3:B89,B89),0)","v":0}]
[null,null,0,{"$f":"IF(B90>0,B90*100+COUNTIF(B$3:B90,B90),0)","v":0}]
[null,null,0,{"$f":"IF(B91>0,B91*100+COUNTIF(B$3:B91,B91),0)","v":0}]
[null,null,0,{"$f":"IF(B92>0,B92*100+COUNTIF(B$3:B92,B92),0)","v":0}]
[null,null,0,{"$f":"IF(B93>0,B93*100+COUNTIF(B$3:B93,B93),0)","v":0}]
[null,null,0,{"$f":"IF(B94>0,B94*100+COUNTIF(B$3:B94,B94),0)","v":0}]
[null,null,0,{"$f":"IF(B95>0,B95*100+COUNTIF(B$3:B95,B95),0)","v":0}]
[null,null,0,{"$f":"IF(B96>0,B96*100+COUNTIF(B$3:B96,B96),0)","v":0}]
[null,null,0,{"$f":"IF(B97>0,B97*100+COUNTIF(B$3:B97,B97),0)","v":0}]
[null,null,0,{"$f":"IF(B98>0,B98*100+COUNTIF(B$3:B98,B98),0)","v":0}]
[null,null,0,{"$f":"IF(B99>0,B99*100+COUNTIF(B$3:B99,B99),0)","v":0}]
[null,null,0,{"$f":"IF(B100>0,B100*100+COUNTIF(B$3:B100,B100),0)","v":0}]
[null,null,0,{"$f":"IF(B101>0,B101*100+COUNTIF(B$3:B101,B101),0)","v":0}]
[null,null,0,{"$f":"IF(B102>0,B102*100+COUNTIF(B$3:B102,B102),0)","v":0}]
[null,null,0,{"$f":"IF(B103>0,B103*100+COUNTIF(B$3:B103,B103),0)","v":0}]
[null,null,0,{"$f":"IF(B104>0,B104*100+COUNTIF(B$3:B104,B104),0)","v":0}]
[null,null,0,{"$f":"IF(B105>0,B105*100+COUNTIF(B$3:B105,B105),0)","v":0}]
[null,null,0,{"$f":"IF(B106>0,B106*100+COUNTIF(B$3:B106,B106),0)","v":0}]
[null,null,0,{"$f":"IF(B107>0,B107*100+COUNTIF(B$3:B107,B107),0)","v":0}]
[null,null,0,{"$f":"IF(B108>0,B108*100+COUNTIF(B$3:B108,B108),0)","v":0}]
[null,null,0,{"$f":"IF(B109>0,B109*100+COUNTIF(B$3:B109,B109),0)","v":0}]
[null,null,0,{"$f":"IF(B110>0,B110*100+COUNTIF(B$3:B110,B110),0)","v":0}]
[null,null,0,{"$f":"IF(B111>0,B111*100+COUNTIF(B$3:B111,B111),0)","v":0}]
[null,null,0,{"$f":"IF(B112>0,B112*100+COUNTIF(B$3:B112,B112),0)","v":0}]
[null,null,0,{"$f":"IF(B113>0,B113*100+COUNTIF(B$3:B113,B113),0)","v":0}]
[null,null,0,{"$f":"IF(B114>0,B114*100+COUNTIF(B$3:B114,B114),0)","v":0}]
[null,null,0,{"$f":"IF(B115>0,B115*100+COUNTIF(B$3:B115,B115),0)","v":0}]
[null,null,0,{"$f":"IF(B116>0,B116*100+COUNTIF(B$3:B116,B116),0)","v":0}]
[null,null,0,{"$f":"IF(B117>0,B117*100+COUNTIF(B$3:B117,B117),0)","v":0}]
[null,null,0,{"$f":"IF(B118>0,B118*100+COUNTIF(B$3:B118,B118),0)","v":0}]
[null,null,0,{"$f":"IF(B119>0,B119*100+COUNTIF(B$3:B119,B119),0)","v":0}]
[null,null,0,{"$f":"IF(B120>0,B120*100+COUNTIF(B$3:B120,B120),0)","v":0}]
[null,null,0,{"$f":"IF(B121>0,B121*100+COUNTIF(B$3:B121,B121),0)","v":0}]
[null,null,0,{"$f":"IF(B122>0,B122*100+COUNTIF(B$3:B122,B122),0)","v":0}]
[null,null,0,{"$f":"IF(B123>0,B123*100+COUNTIF(B$3:B123,B123),0)","v":0}]
[null,null,0,{"$f":"IF(B124>0,B124*100+COUNTIF(B$3:B124,B124),0)","v":0}]
[null,null,0,{"$f":"IF(B125>0,B125*100+COUNTIF(B$3:B125,B125),0)","v":0}]
[null,null,0,{"$f":"IF(B126>0,B126*100+COUNTIF(B$3:B126,B126),0)","v":0}]
[null,null,0,{"$f":"IF(B127>0,B127*100+COUNTIF(B$3:B127,B127),0)","v":0}]
[null,null,0,{"$f":"IF(B128>0,B128*100+COUNTIF(B$3:B128,B128),0)","v":0}]
[null,null,0,{"$f":"IF(B129>0,B129*100+COUNTIF(B$3:B129,B129),0)","v":0}]
[null,null,0,{"$f":"IF(B130>0,B130*100+COUNTIF(B$3:B130,B130),0)","v":0}]
[null,null,0,{"$f":"IF(B131>0,B131*100+COUNTIF(B$3:B131,B131),0)","v":0}]
[null,null,{"$f":"IF(B132>0,VLOOKUP(B132,koli,2,FALSE),0)","v":0},{"$f":"IF(B132>0,B132*100+COUNTIF(B$3:B132,B132),0)","v":0}]
[null,null,0,{"$f":"IF(B133>0,B133*100+COUNTIF(B$3:B133,B133),0)","v":0}]
[null,null,0,{"$f":"IF(B134>0,B134*100+COUNTIF(B$3:B134,B134),0)","v":0}]
[null,null,0,{"$f":"IF(B135>0,B135*100+COUNTIF(B$3:B135,B135),0)","v":0}]
[null,null,0,{"$f":"IF(B136>0,B136*100+COUNTIF(B$3:B136,B136),0)","v":0}]
[null,null,0,{"$f":"IF(B137>0,B137*100+COUNTIF(B$3:B137,B137),0)","v":0}]
[null,null,0,{"$f":"IF(B138>0,B138*100+COUNTIF(B$3:B138,B138),0)","v":0}]
[null,null,0,{"$f":"IF(B139>0,B139*100+COUNTIF(B$3:B139,B139),0)","v":0}]
[null,null,0,{"$f":"IF(B140>0,B140*100+COUNTIF(B$3:B140,B140),0)","v":0}]
[null,null,0,{"$f":"IF(B141>0,B141*100+COUNTIF(B$3:B141,B141),0)","v":0}]
[null,null,0,{"$f":"IF(B142>0,B142*100+COUNTIF(B$3:B142,B142),0)","v":0}]
[null,null,0,{"$f":"IF(B143>0,B143*100+COUNTIF(B$3:B143,B143),0)","v":0}]
[null,null,0,{"$f":"IF(B144>0,B144*100+COUNTIF(B$3:B144,B144),0)","v":0}]
[null,null,0,{"$f":"IF(B145>0,B145*100+COUNTIF(B$3:B145,B145),0)","v":0}]
[null,null,0,{"$f":"IF(B146>0,B146*100+COUNTIF(B$3:B146,B146),0)","v":0}]
[null,null,0,{"$f":"IF(B147>0,B147*100+COUNTIF(B$3:B147,B147),0)","v":0}]
[null,null,0,{"$f":"IF(B148>0,B148*100+COUNTIF(B$3:B148,B148),0)","v":0}]
[null,null,0,{"$f":"IF(B149>0,B149*100+COUNTIF(B$3:B149,B149),0)","v":0}]
[null,null,0,{"$f":"IF(B150>0,B150*100+COUNTIF(B$3:B150,B150),0)","v":0}]
[null,null,0,{"$f":"IF(B151>0,B151*100+COUNTIF(B$3:B151,B151),0)","v":0}]
[null,null,0,{"$f":"IF(B152>0,B152*100+COUNTIF(B$3:B152,B152),0)","v":0}]
[null,null,0,{"$f":"IF(B153>0,B153*100+COUNTIF(B$3:B153,B153),0)","v":0}]
[null,null,0,{"$f":"IF(B154>0,B154*100+COUNTIF(B$3:B154,B154),0)","v":0}]
[null,null,0,{"$f":"IF(B155>0,B155*100+COUNTIF(B$3:B155,B155),0)","v":0}]
[null,null,0,{"$f":"IF(B156>0,B156*100+COUNTIF(B$3:B156,B156),0)","v":0}]
[null,null,0,{"$f":"IF(B157>0,B157*100+COUNTIF(B$3:B157,B157),0)","v":0}]
[null,null,0,{"$f":"IF(B158>0,B158*100+COUNTIF(B$3:B158,B158),0)","v":0}]
[null,null,0,{"$f":"IF(B159>0,B159*100+COUNTIF(B$3:B159,B159),0)","v":0}]
[null,null,0,{"$f":"IF(B160>0,B160*100+COUNTIF(B$3:B160,B160),0)","v":0}]
[null,null,0,{"$f":"IF(B161>0,B161*100+COUNTIF(B$3:B161,B161),0)","v":0}]
[null,null,0,{"$f":"IF(B162>0,B162*100+COUNTIF(B$3:B162,B162),0)","v":0}]
[null,null,0,{"$f":"IF(B163>0,B163*100+COUNTIF(B$3:B163,B163),0)","v":0}]
[null,null,0,{"$f":"IF(B164>0,B164*100+COUNTIF(B$3:B164,B164),0)","v":0}]
[null,null,0,{"$f":"IF(B165>0,B165*100+COUNTIF(B$3:B165,B165),0)","v":0}]
[null,null,0,{"$f":"IF(B166>0,B166*100+COUNTIF(B$3:B166,B166),0)","v":0}]
[null,null,0,{"$f":"IF(B167>0,B167*100+COUNTIF(B$3:B167,B167),0)","v":0}]
[null,null,0,{"$f":"IF(B168>0,B168*100+COUNTIF(B$3:B168,B168),0)","v":0}]
[null,null,0,{"$f":"IF(B169>0,B169*100+COUNTIF(B$3:B169,B169),0)","v":0}]
[null,null,0,{"$f":"IF(B170>0,B170*100+COUNTIF(B$3:B170,B170),0)","v":0}]
[null,null,0,{"$f":"IF(B171>0,B171*100+COUNTIF(B$3:B171,B171),0)","v":0}]
[null,null,0,{"$f":"IF(B172>0,B172*100+COUNTIF(B$3:B172,B172),0)","v":0}]
[null,null,0,{"$f":"IF(B173>0,B173*100+COUNTIF(B$3:B173,B173),0)","v":0}]
[null,null,0,{"$f":"IF(B174>0,B174*100+COUNTIF(B$3:B174,B174),0)","v":0}]
[null,null,0,{"$f":"IF(B175>0,B175*100+COUNTIF(B$3:B175,B175),0)","v":0}]
[null,null,0,{"$f":"IF(B176>0,B176*100+COUNTIF(B$3:B176,B176),0)","v":0}]
[null,null,0,{"$f":"IF(B177>0,B177*100+COUNTIF(B$3:B177,B177),0)","v":0}]
[null,null,0,{"$f":"IF(B178>0,B178*100+COUNTIF(B$3:B178,B178),0)","v":0}]
[null,null,0,{"$f":"IF(B179>0,B179*100+COUNTIF(B$3:B179,B179),0)","v":0}]
[null,null,0,{"$f":"IF(B180>0,B180*100+COUNTIF(B$3:B180,B180),0)","v":0}]
[null,null,0,{"$f":"IF(B181>0,B181*100+COUNTIF(B$3:B181,B181),0)","v":0}]
[null,null,0,{"$f":"IF(B182>0,B182*100+COUNTIF(B$3:B182,B182),0)","v":0}]
[null,null,0,{"$f":"IF(B183>0,B183*100+COUNTIF(B$3:B183,B183),0)","v":0}]
[null,null,0,{"$f":"IF(B184>0,B184*100+COUNTIF(B$3:B184,B184),0)","v":0}]
[null,null,0,{"$f":"IF(B185>0,B185*100+COUNTIF(B$3:B185,B185),0)","v":0}]
[null,null,0,{"$f":"IF(B186>0,B186*100+COUNTIF(B$3:B186,B186),0)","v":0}]
[null,null,0,{"$f":"IF(B187>0,B187*100+COUNTIF(B$3:B187,B187),0)","v":0}]
[null,null,0,{"$f":"IF(B188>0,B188*100+COUNTIF(B$3:B188,B188),0)","v":0}]
[null,null,0,{"$f":"IF(B189>0,B189*100+COUNTIF(B$3:B189,B189),0)","v":0}]
[null,null,0,{"$f":"IF(B190>0,B190*100+COUNTIF(B$3:B190,B190),0)","v":0}]
[null,null,0,{"$f":"IF(B191>0,B191*100+COUNTIF(B$3:B191,B191),0)","v":0}]
[null,null,0,{"$f":"IF(B192>0,B192*100+COUNTIF(B$3:B192,B192),0)","v":0}]
[null,null,0,{"$f":"IF(B193>0,B193*100+COUNTIF(B$3:B193,B193),0)","v":0}]
[null,null,0,{"$f":"IF(B194>0,B194*100+COUNTIF(B$3:B194,B194),0)","v":0}]
[null,null,0,{"$f":"IF(B195>0,B195*100+COUNTIF(B$3:B195,B195),0)","v":0}]
[null,null,{"$f":"IF(B196>0,VLOOKUP(B196,koli,2,FALSE),0)","v":0},{"$f":"IF(B196>0,B196*100+COUNTIF(B$3:B196,B196),0)","v":0}]
[null,null,0,{"$f":"IF(B197>0,B197*100+COUNTIF(B$3:B197,B197),0)","v":0}]
[null,null,0,{"$f":"IF(B198>0,B198*100+COUNTIF(B$3:B198,B198),0)","v":0}]
[null,null,0,{"$f":"IF(B199>0,B199*100+COUNTIF(B$3:B199,B199),0)","v":0}]
[null,null,0,{"$f":"IF(B200>0,B200*100+COUNTIF(B$3:B200,B200),0)","v":0}]
[null,null,0,{"$f":"IF(B201>0,B201*100+COUNTIF(B$3:B201,B201),0)","v":0}]
[null,null,0,{"$f":"IF(B202>0,B202*100+COUNTIF(B$3:B202,B202),0)","v":0}]
[null,null,0,{"$f":"IF(B203>0,B203*100+COUNTIF(B$3:B203,B203),0)","v":0}]
[null,null,0,{"$f":"IF(B204>0,B204*100+COUNTIF(B$3:B204,B204),0)","v":0}]
[null,null,0,{"$f":"IF(B205>0,B205*100+COUNTIF(B$3:B205,B205),0)","v":0}]
[null,null,0,{"$f":"IF(B206>0,B206*100+COUNTIF(B$3:B206,B206),0)","v":0}]
[null,null,0,{"$f":"IF(B207>0,B207*100+COUNTIF(B$3:B207,B207),0)","v":0}]
[null,null,0,{"$f":"IF(B208>0,B208*100+COUNTIF(B$3:B208,B208),0)","v":0}]
[null,null,0,{"$f":"IF(B209>0,B209*100+COUNTIF(B$3:B209,B209),0)","v":0}]
[null,null,0,{"$f":"IF(B210>0,B210*100+COUNTIF(B$3:B210,B210),0)","v":0}]
[null,null,0,{"$f":"IF(B211>0,B211*100+COUNTIF(B$3:B211,B211),0)","v":0}]
[null,null,0,{"$f":"IF(B212>0,B212*100+COUNTIF(B$3:B212,B212),0)","v":0}]
[null,null,0,{"$f":"IF(B213>0,B213*100+COUNTIF(B$3:B213,B213),0)","v":0}]
[null,null,0,{"$f":"IF(B214>0,B214*100+COUNTIF(B$3:B214,B214),0)","v":0}]
[null,null,0,{"$f":"IF(B215>0,B215*100+COUNTIF(B$3:B215,B215),0)","v":0}]
[null,null,0,{"$f":"IF(B216>0,B216*100+COUNTIF(B$3:B216,B216),0)","v":0}]
[null,null,0,{"$f":"IF(B217>0,B217*100+COUNTIF(B$3:B217,B217),0)","v":0}]
[null,null,0,{"$f":"IF(B218>0,B218*100+COUNTIF(B$3:B218,B218),0)","v":0}]
[null,null,0,{"$f":"IF(B219>0,B219*100+COUNTIF(B$3:B219,B219),0)","v":0}]
[null,null,0,{"$f":"IF(B220>0,B220*100+COUNTIF(B$3:B220,B220),0)","v":0}]
[null,null,0,{"$f":"IF(B221>0,B221*100+COUNTIF(B$3:B221,B221),0)","v":0}]
[null,null,0,{"$f":"IF(B222>0,B222*100+COUNTIF(B$3:B222,B222),0)","v":0}]
[null,null,0,{"$f":"IF(B223>0,B223*100+COUNTIF(B$3:B223,B223),0)","v":0}]
[null,null,0,{"$f":"IF(B224>0,B224*100+COUNTIF(B$3:B224,B224),0)","v":0}]
[null,null,0,{"$f":"IF(B225>0,B225*100+COUNTIF(B$3:B225,B225),0)","v":0}]
[null,null,0,{"$f":"IF(B226>0,B226*100+COUNTIF(B$3:B226,B226),0)","v":0}]
[null,null,0,{"$f":"IF(B227>0,B227*100+COUNTIF(B$3:B227,B227),0)","v":0}]
[null,null,0,{"$f":"IF(B228>0,B228*100+COUNTIF(B$3:B228,B228),0)","v":0}]
[null,null,0,{"$f":"IF(B229>0,B229*100+COUNTIF(B$3:B229,B229),0)","v":0}]
[null,null,0,{"$f":"IF(B230>0,B230*100+COUNTIF(B$3:B230,B230),0)","v":0}]
[null,null,0,{"$f":"IF(B231>0,B231*100+COUNTIF(B$3:B231,B231),0)","v":0}]
[null,null,0,{"$f":"IF(B232>0,B232*100+COUNTIF(B$3:B232,B232),0)","v":0}]
[null,null,0,{"$f":"IF(B233>0,B233*100+COUNTIF(B$3:B233,B233),0)","v":0}]
[null,null,0,{"$f":"IF(B234>0,B234*100+COUNTIF(B$3:B234,B234),0)","v":0}]
[null,null,0,{"$f":"IF(B235>0,B235*100+COUNTIF(B$3:B235,B235),0)","v":0}]
[null,null,0,{"$f":"IF(B236>0,B236*100+COUNTIF(B$3:B236,B236),0)","v":0}]
[null,null,0,{"$f":"IF(B237>0,B237*100+COUNTIF(B$3:B237,B237),0)","v":0}]
[null,null,0,{"$f":"IF(B238>0,B238*100+COUNTIF(B$3:B238,B238),0)","v":0}]
[null,null,0,{"$f":"IF(B239>0,B239*100+COUNTIF(B$3:B239,B239),0)","v":0}]
[null,null,0,{"$f":"IF(B240>0,B240*100+COUNTIF(B$3:B240,B240),0)","v":0}]
[null,null,0,{"$f":"IF(B241>0,B241*100+COUNTIF(B$3:B241,B241),0)","v":0}]
[null,null,0,{"$f":"IF(B242>0,B242*100+COUNTIF(B$3:B242,B242),0)","v":0}]
[null,null,0,{"$f":"IF(B243>0,B243*100+COUNTIF(B$3:B243,B243),0)","v":0}]
[null,null,0,{"$f":"IF(B244>0,B244*100+COUNTIF(B$3:B244,B244),0)","v":0}]
[null,null,0,{"$f":"IF(B245>0,B245*100+COUNTIF(B$3:B245,B245),0)","v":0}]
[null,null,0,{"$f":"IF(B246>0,B246*100+COUNTIF(B$3:B246,B246),0)","v":0}]
[null,null,0,{"$f":"IF(B247>0,B247*100+COUNTIF(B$3:B247,B247),0)","v":0}]
[null,null,0,{"$f":"IF(B248>0,B248*100+COUNTIF(B$3:B248,B248),0)","v":0}]
[null,null,0,{"$f":"IF(B249>0,B249*100+COUNTIF(B$3:B249,B249),0)","v":0}]
[null,null,0,{"$f":"IF(B250>0,B250*100+COUNTIF(B$3:B250,B250),0)","v":0}]
[null,null,0,{"$f":"IF(B251>0,B251*100+COUNTIF(B$3:B251,B251),0)","v":0}]
[null,null,0,{"$f":"IF(B252>0,B252*100+COUNTIF(B$3:B252,B252),0)","v":0}]
[null,null,0,{"$f":"IF(B253>0,B253*100+COUNTIF(B$3:B253,B253),0)","v":0}]
[null,null,0,{"$f":"IF(B254>0,B254*100+COUNTIF(B$3:B254,B254),0)","v":0}]
[null,null,0,{"$f":"IF(B255>0,B255*100+COUNTIF(B$3:B255,B255),0)","v":0}]
[null,null,0,{"$f":"IF(B256>0,B256*100+COUNTIF(B$3:B256,B256),0)","v":0}]
[null,null,0,{"$f":"IF(B257>0,B257*100+COUNTIF(B$3:B257,B257),0)","v":0}]
[null,null,0,{"$f":"IF(B258>0,B258*100+COUNTIF(B$3:B258,B258),0)","v":0}]
[null,null,0,{"$f":"IF(B259>0,B259*100+COUNTIF(B$3:B259,B259),0)","v":0}]
[null,null,{"$f":"IF(B260>0,VLOOKUP(B260,koli,2,FALSE),0)","v":0},{"$f":"IF(B260>0,B260*100+COUNTIF(B$3:B260,B260),0)","v":0}]
[null,null,0,{"$f":"IF(B261>0,B261*100+COUNTIF(B$3:B261,B261),0)","v":0}]
[null,null,0,{"$f":"IF(B262>0,B262*100+COUNTIF(B$3:B262,B262),0)","v":0}]
[null,null,0,{"$f":"IF(B263>0,B263*100+COUNTIF(B$3:B263,B263),0)","v":0}]
[null,null,0,{"$f":"IF(B264>0,B264*100+COUNTIF(B$3:B264,B264),0)","v":0}]
[null,null,0,{"$f":"IF(B265>0,B265*100+COUNTIF(B$3:B265,B265),0)","v":0}]
[null,null,0,{"$f":"IF(B266>0,B266*100+COUNTIF(B$3:B266,B266),0)","v":0}]
[null,null,0,{"$f":"IF(B267>0,B267*100+COUNTIF(B$3:B267,B267),0)","v":0}]
[null,null,0,{"$f":"IF(B268>0,B268*100+COUNTIF(B$3:B268,B268),0)","v":0}]
[null,null,0,{"$f":"IF(B269>0,B269*100+COUNTIF(B$3:B269,B269),0)","v":0}]
[null,null,0,{"$f":"IF(B270>0,B270*100+COUNTIF(B$3:B270,B270),0)","v":0}]
[null,null,0,{"$f":"IF(B271>0,B271*100+COUNTIF(B$3:B271,B271),0)","v":0}]
[null,null,0,{"$f":"IF(B272>0,B272*100+COUNTIF(B$3:B272,B272),0)","v":0}]
[null,null,0,{"$f":"IF(B273>0,B273*100+COUNTIF(B$3:B273,B273),0)","v":0}]
[null,null,0,{"$f":"IF(B274>0,B274*100+COUNTIF(B$3:B274,B274),0)","v":0}]
[null,null,0,{"$f":"IF(B275>0,B275*100+COUNTIF(B$3:B275,B275),0)","v":0}]
[null,null,0,{"$f":"IF(B276>0,B276*100+COUNTIF(B$3:B276,B276),0)","v":0}]
[null,null,0,{"$f":"IF(B277>0,B277*100+COUNTIF(B$3:B277,B277),0)","v":0}]
[null,null,0,{"$f":"IF(B278>0,B278*100+COUNTIF(B$3:B278,B278),0)","v":0}]
[null,null,0,{"$f":"IF(B279>0,B279*100+COUNTIF(B$3:B279,B279),0)","v":0}]
[null,null,0,{"$f":"IF(B280>0,B280*100+COUNTIF(B$3:B280,B280),0)","v":0}]
[null,null,0,{"$f":"IF(B281>0,B281*100+COUNTIF(B$3:B281,B281),0)","v":0}]
[null,null,0,{"$f":"IF(B282>0,B282*100+COUNTIF(B$3:B282,B282),0)","v":0}]
[null,null,0,{"$f":"IF(B283>0,B283*100+COUNTIF(B$3:B283,B283),0)","v":0}]
[null,null,0,{"$f":"IF(B284>0,B284*100+COUNTIF(B$3:B284,B284),0)","v":0}]
[null,null,0,{"$f":"IF(B285>0,B285*100+COUNTIF(B$3:B285,B285),0)","v":0}]
[null,null,0,{"$f":"IF(B286>0,B286*100+COUNTIF(B$3:B286,B286),0)","v":0}]
[null,null,0,{"$f":"IF(B287>0,B287*100+COUNTIF(B$3:B287,B287),0)","v":0}]
[null,null,0,{"$f":"IF(B288>0,B288*100+COUNTIF(B$3:B288,B288),0)","v":0}]
[null,null,0,{"$f":"IF(B289>0,B289*100+COUNTIF(B$3:B289,B289),0)","v":0}]
[null,null,0,{"$f":"IF(B290>0,B290*100+COUNTIF(B$3:B290,B290),0)","v":0}]
[null,null,0,{"$f":"IF(B291>0,B291*100+COUNTIF(B$3:B291,B291),0)","v":0}]
[null,null,0,{"$f":"IF(B292>0,B292*100+COUNTIF(B$3:B292,B292),0)","v":0}]
[null,null,0,{"$f":"IF(B293>0,B293*100+COUNTIF(B$3:B293,B293),0)","v":0}]
[null,null,0,{"$f":"IF(B294>0,B294*100+COUNTIF(B$3:B294,B294),0)","v":0}]
[null,null,0,{"$f":"IF(B295>0,B295*100+COUNTIF(B$3:B295,B295),0)","v":0}]
[null,null,0,{"$f":"IF(B296>0,B296*100+COUNTIF(B$3:B296,B296),0)","v":0}]
[null,null,0,{"$f":"IF(B297>0,B297*100+COUNTIF(B$3:B297,B297),0)","v":0}]
[null,null,0,{"$f":"IF(B298>0,B298*100+COUNTIF(B$3:B298,B298),0)","v":0}]
[null,null,0,{"$f":"IF(B299>0,B299*100+COUNTIF(B$3:B299,B299),0)","v":0}]
[null,null,0,{"$f":"IF(B300>0,B300*100+COUNTIF(B$3:B300,B300),0)","v":0}]
[null,null,0,{"$f":"IF(B301>0,B301*100+COUNTIF(B$3:B301,B301),0)","v":0}]
[null,null,0,{"$f":"IF(B302>0,B302*100+COUNTIF(B$3:B302,B302),0)","v":0}]
[null,null,0,{"$f":"IF(B303>0,B303*100+COUNTIF(B$3:B303,B303),0)","v":0}]

{"sheet":"تفصیلی","index":5,"n_rows":303,"n_cols":12,"rows_kept":303,"cut":false,"hidden":false,"merged":[]}
[null,null,null,null,{"$f":"IF(E2>F2,\"****\",\"\")","v":""},{"$f":"IF(E2<F2,\"****\",\"\")","v":""}]
[null,null,{"$f":"COUNTA(tafseel[دسته])+4","v":8},null,{"$f":"SUBTOTAL(9,tafseel[بدهکار])","v":0},{"$f":"SUBTOTAL(9,tafseel[بستانکار])","v":0}]
[null,"کد حساب","دسته","شرح حساب تفصیلی","بدهکار","بستانکار","تش","مانده",null,null,"کد","عنوان دسته"]
[null,{"$f":"C4*1000+COUNTIF(C$3:C4,C4)","v":1001},1,"بانک نمونه شعبه فلان",{"$f":"SUMIFS(data[بدهکار],data[کد تفصیل],B4)","v":0},{"$f":"SUMIFS(data[بستانکار],data[کد تفصیل],B4)","v":0},{"$f":"IF(H4=0,\"--\",IF(H4>0,\"بد\",\"بس\"))","v":"--"},{"$f":"tafseel[[#This Row],[بدهکار]]-tafseel[[#This Row],[بستانکار]]","v":0},null,null,1,"بانکها"]
[null,{"$f":"C5*1000+COUNTIF(C$3:C5,C5)","v":2001},2,"اقای رضا میرکریمی",{"$f":"SUMIFS(data[بدهکار],data[کد تفصیل],B5)","v":0},{"$f":"SUMIFS(data[بستانکار],data[کد تفصیل],B5)","v":0},"--",{"$f":"tafseel[[#This Row],[بدهکار]]-tafseel[[#This Row],[بستانکار]]","v":0},null,null,2,"حقیقی"]
[null,{"$f":"C6*1000+COUNTIF(C$3:C6,C6)","v":3001},3,"شرکت پارسا بنیان",{"$f":"SUMIFS(data[بدهکار],data[کد تفصیل],B6)","v":0},{"$f":"SUMIFS(data[بستانکار],data[کد تفصیل],B6)","v":0},"--",{"$f":"tafseel[[#This Row],[بدهکار]]-tafseel[[#This Row],[بستانکار]]","v":0},null,null,3,"حقوقی"]
[null,{"$f":"C7*1000+COUNTIF(C$3:C7,C7)","v":4001},4,"بدون تکلیف",{"$f":"SUMIFS(data[بدهکار],data[کد تفصیل],B7)","v":0},{"$f":"SUMIFS(data[بستانکار],data[کد تفصیل],B7)","v":0},"--",{"$f":"tafseel[[#This Row],[بدهکار]]-tafseel[[#This Row],[بستانکار]]","v":0},null,null,4,"سایر"]
[null,{"$f":"C8*1000+COUNTIF(C$3:C8,C8)","v":0},null,null,{"$f":"SUMIFS(data[بدهکار],data[کد تفصیل],B8)","v":0},{"$f":"SUMIFS(data[بستانکار],data[کد تفصیل],B8)","v":0},"--",{"$f":"tafseel[[#This Row],[بدهکار]]-tafseel[[#This Row],[بستانکار]]","v":0},null,null,5]
[null,{"$f":"C9*1000+COUNTIF(C$3:C9,C9)","v":0},null,null,{"$f":"SUMIFS(data[بدهکار],data[کد تفصیل],B9)","v":0},{"$f":"SUMIFS(data[بستانکار],data[کد تفصیل],B9)","v":0},"--",{"$f":"tafseel[[#This Row],[بدهکار]]-tafseel[[#This Row],[بستانکار]]","v":0},null,null,6]
[null,{"$f":"C10*1000+COUNTIF(C$3:C10,C10)","v":0},null,null,{"$f":"SUMIFS(data[بدهکار],data[کد تفصیل],B10)","v":0},{"$f":"SUMIFS(data[بستانکار],data[کد تفصیل],B10)","v":0},"--",{"$f":"tafseel[[#This Row],[بدهکار]]-tafseel[[#This Row],[بستانکار]]","v":0},null,null,7]
[null,{"$f":"C11*1000+COUNTIF(C$3:C11,C11)","v":0},null,null,{"$f":"SUMIFS(data[بدهکار],data[کد تفصیل],B11)","v":0},{"$f":"SUMIFS(data[بستانکار],data[کد تفصیل],B11)","v":0},"--",{"$f":"tafseel[[#This Row],[بدهکار]]-tafseel[[#This Row],[بستانکار]]","v":0},null,null,8]
[null,{"$f":"C12*1000+COUNTIF(C$3:C12,C12)","v":0},null,null,{"$f":"SUMIFS(data[بدهکار],data[کد تفصیل],B12)","v":0},{"$f":"SUMIFS(data[بستانکار],data[کد تفصیل],B12)","v":0},"--",{"$f":"tafseel[[#This Row],[بدهکار]]-tafseel[[#This Row],[بستانکار]]","v":0},null,null,9]
[null,{"$f":"C13*1000+COUNTIF(C$3:C13,C13)","v":0},null,null,{"$f":"SUMIFS(data[بدهکار],data[کد تفصیل],B13)","v":0},{"$f":"SUMIFS(data[بستانکار],data[کد تفصیل],B13)","v":0},"--",{"$f":"tafseel[[#This Row],[بدهکار]]-tafseel[[#This Row],[بستانکار]]","v":0}]
[null,{"$f":"C14*1000+COUNTIF(C$3:C14,C14)","v":0},null,null,{"$f":"SUMIFS(data[بدهکار],data[کد تفصیل],B14)","v":0},{"$f":"SUMIFS(data[بستانکار],data[کد تفصیل],B14)","v":0},"--",{"$f":"tafseel[[#This Row],[بدهکار]]-tafseel[[#This Row],[بستانکار]]","v":0}]
[null,{"$f":"C15*1000+COUNTIF(C$3:C15,C15)","v":0},null,null,{"$f":"SUMIFS(data[بدهکار],data[کد تفصیل],B15)","v":0},{"$f":"SUMIFS(data[بستانکار],data[کد تفصیل],B15)","v":0},"--",{"$f":"tafseel[[#This Row],[بدهکار]]-tafseel[[#This Row],[بستانکار]]","v":0}]
[null,{"$f":"C16*1000+COUNTIF(C$3:C16,C16)","v":0},null,null,{"$f":"SUMIFS(data[بدهکار],data[کد تفصیل],B16)","v":0},{"$f":"SUMIFS(data[بستانکار],data[کد تفصیل],B16)","v":0},"--",{"$f":"tafseel[[#This Row],[بدهکار]]-tafseel[[#This Row],[بستانکار]]","v":0}]
[null,{"$f":"C17*1000+COUNTIF(C$3:C17,C17)","v":0},null,null,{"$f":"SUMIFS(data[بدهکار],data[کد تفصیل],B17)","v":0},{"$f":"SUMIFS(data[بستانکار],data[کد تفصیل],B17)","v":0},"--",{"$f":"tafseel[[#This Row],[بدهکار]]-tafseel[[#This Row],[بستانکار]]","v":0}]
[null,{"$f":"C18*1000+COUNTIF(C$3:C18,C18)","v":0},null,null,{"$f":"SUMIFS(data[بدهکار],data[کد تفصیل],B18)","v":0},{"$f":"SUMIFS(data[بستانکار],data[کد تفصیل],B18)","v":0},"--",{"$f":"tafseel[[#This Row],[بدهکار]]-tafseel[[#This Row],[بستانکار]]","v":0}]
[null,{"$f":"C19*1000+COUNTIF(C$3:C19,C19)","v":0},null,null,{"$f":"SUMIFS(data[بدهکار],data[کد تفصیل],B19)","v":0},{"$f":"SUMIFS(data[بستانکار],data[کد تفصیل],B19)","v":0},"--",{"$f":"tafseel[[#This Row],[بدهکار]]-tafseel[[#This Row],[بستانکار]]","v":0}]
[null,{"$f":"C20*1000+COUNTIF(C$3:C20,C20)","v":0},null,null,{"$f":"SUMIFS(data[بدهکار],data[کد تفصیل],B20)","v":0},{"$f":"SUMIFS(data[بستانکار],data[کد تفصیل],B20)","v":0},"--",{"$f":"tafseel[[#This Row],[بدهکار]]-tafseel[[#This Row],[بستانکار]]","v":0}]
[null,{"$f":"C21*1000+COUNTIF(C$3:C21,C21)","v":0},null,null,{"$f":"SUMIFS(data[بدهکار],data[کد تفصیل],B21)","v":0},{"$f":"SUMIFS(data[بستانکار],data[کد تفصیل],B21)","v":0},"--",{"$f":"tafseel[[#This Row],[بدهکار]]-tafseel[[#This Row],[بستانکار]]","v":0}]
[null,{"$f":"C22*1000+COUNTIF(C$3:C22,C22)","v":0},null,null,{"$f":"SUMIFS(data[بدهکار],data[کد تفصیل],B22)","v":0},{"$f":"SUMIFS(data[بستانکار],data[کد تفصیل],B22)","v":0},"--",{"$f":"tafseel[[#This Row],[بدهکار]]-tafseel[[#This Row],[بستانکار]]","v":0}]
[null,{"$f":"C23*1000+COUNTIF(C$3:C23,C23)","v":0},null,null,{"$f":"SUMIFS(data[بدهکار],data[کد تفصیل],B23)","v":0},{"$f":"SUMIFS(data[بستانکار],data[کد تفصیل],B23)","v":0},"--",{"$f":"tafseel[[#This Row],[بدهکار]]-tafseel[[#This Row],[بستانکار]]","v":0}]
[null,{"$f":"C24*1000+COUNTIF(C$3:C24,C24)","v":0},null,null,{"$f":"SUMIFS(data[بدهکار],data[کد تفصیل],B24)","v":0},{"$f":"SUMIFS(data[بستانکار],data[کد تفصیل],B24)","v":0},"--",{"$f":"tafseel[[#This Row],[بدهکار]]-tafseel[[#This Row],[بستانکار]]","v":0}]
[null,{"$f":"C25*1000+COUNTIF(C$3:C25,C25)","v":0},null,null,{"$f":"SUMIFS(data[بدهکار],data[کد تفصیل],B25)","v":0},{"$f":"SUMIFS(data[بستانکار],data[کد تفصیل],B25)","v":0},"--",{"$f":"tafseel[[#This Row],[بدهکار]]-tafseel[[#This Row],[بستانکار]]","v":0}]
[null,{"$f":"C26*1000+COUNTIF(C$3:C26,C26)","v":0},null,null,{"$f":"SUMIFS(data[بدهکار],data[کد تفصیل],B26)","v":0},{"$f":"SUMIFS(data[بستانکار],data[کد تفصیل],B26)","v":0},"--",{"$f":"tafseel[[#This Row],[بدهکار]]-tafseel[[#This Row],[بستانکار]]","v":0}]
[null,{"$f":"C27*1000+COUNTIF(C$3:C27,C27)","v":0},null,null,{"$f":"SUMIFS(data[بدهکار],data[کد تفصیل],B27)","v":0},{"$f":"SUMIFS(data[بستانکار],data[کد تفصیل],B27)","v":0},"--",{"$f":"tafseel[[#This Row],[بدهکار]]-tafseel[[#This Row],[بستانکار]]","v":0}]
[null,{"$f":"C28*1000+COUNTIF(C$3:C28,C28)","v":0},null,null,{"$f":"SUMIFS(data[بدهکار],data[کد تفصیل],B28)","v":0},{"$f":"SUMIFS(data[بستانکار],data[کد تفصیل],B28)","v":0},"--",{"$f":"tafseel[[#This Row],[بدهکار]]-tafseel[[#This Row],[بستانکار]]","v":0}]
[null,{"$f":"C29*1000+COUNTIF(C$3:C29,C29)","v":0},null,null,{"$f":"SUMIFS(data[بدهکار],data[کد تفصیل],B29)","v":0},{"$f":"SUMIFS(data[بستانکار],data[کد تفصیل],B29)","v":0},"--",{"$f":"tafseel[[#This Row],[بدهکار]]-tafseel[[#This Row],[بستانکار]]","v":0}]
[null,{"$f":"C30*1000+COUNTIF(C$3:C30,C30)","v":0},null,null,{"$f":"SUMIFS(data[بدهکار],data[کد تفصیل],B30)","v":0},{"$f":"SUMIFS(data[بستانکار],data[کد تفصیل],B30)","v":0},"--",{"$f":"tafseel[[#This Row],[بدهکار]]-tafseel[[#This Row],[بستانکار]]","v":0}]
[null,{"$f":"C31*1000+COUNTIF(C$3:C31,C31)","v":0},null,null,{"$f":"SUMIFS(data[بدهکار],data[کد تفصیل],B31)","v":0},{"$f":"SUMIFS(data[بستانکار],data[کد تفصیل],B31)","v":0},"--",{"$f":"tafseel[[#This Row],[بدهکار]]-tafseel[[#This Row],[بستانکار]]","v":0}]
[null,{"$f":"C32*1000+COUNTIF(C$3:C32,C32)","v":0},null,null,{"$f":"SUMIFS(data[بدهکار],data[کد تفصیل],B32)","v":0},{"$f":"SUMIFS(data[بستانکار],data[کد تفصیل],B32)","v":0},"--",{"$f":"tafseel[[#This Row],[بدهکار]]-tafseel[[#This Row],[بستانکار]]","v":0}]
[null,{"$f":"C33*1000+COUNTIF(C$3:C33,C33)","v":0},null,null,{"$f":"SUMIFS(data[بدهکار],data[کد تفصیل],B33)","v":0},{"$f":"SUMIFS(data[بستانکار],data[کد تفصیل],B33)","v":0},"--",{"$f":"tafseel[[#This Row],[بدهکار]]-tafseel[[#This Row],[بستانکار]]","v":0}]
[null,{"$f":"C34*1000+COUNTIF(C$3:C34,C34)","v":0},null,null,{"$f":"SUMIFS(data[بدهکار],data[کد تفصیل],B34)","v":0},{"$f":"SUMIFS(data[بستانکار],data[کد تفصیل],B34)","v":0},"--",{"$f":"tafseel[[#This Row],[بدهکار]]-tafseel[[#This Row],[بستانکار]]","v":0}]
[null,{"$f":"C35*1000+COUNTIF(C$3:C35,C35)","v":0},null,null,{"$f":"SUMIFS(data[بدهکار],data[کد تفصیل],B35)","v":0},{"$f":"SUMIFS(data[بستانکار],data[کد تفصیل],B35)","v":0},"--",{"$f":"tafseel[[#This Row],[بدهکار]]-tafseel[[#This Row],[بستانکار]]","v":0}]
[null,{"$f":"C36*1000+COUNTIF(C$3:C36,C36)","v":0},null,null,{"$f":"SUMIFS(data[بدهکار],data[کد تفصیل],B36)","v":0},{"$f":"SUMIFS(data[بستانکار],data[کد تفصیل],B36)","v":0},"--",{"$f":"tafseel[[#This Row],[بدهکار]]-tafseel[[#This Row],[بستانکار]]","v":0}]
[null,{"$f":"C37*1000+COUNTIF(C$3:C37,C37)","v":0},null,null,{"$f":"SUMIFS(data[بدهکار],data[کد تفصیل],B37)","v":0},{"$f":"SUMIFS(data[بستانکار],data[کد تفصیل],B37)","v":0},"--",{"$f":"tafseel[[#This Row],[بدهکار]]-tafseel[[#This Row],[بستانکار]]","v":0}]
[null,{"$f":"C38*1000+COUNTIF(C$3:C38,C38)","v":0},null,null,{"$f":"SUMIFS(data[بدهکار],data[کد تفصیل],B38)","v":0},{"$f":"SUMIFS(data[بستانکار],data[کد تفصیل],B38)","v":0},"--",{"$f":"tafseel[[#This Row],[بدهکار]]-tafseel[[#This Row],[بستانکار]]","v":0}]
[null,{"$f":"C39*1000+COUNTIF(C$3:C39,C39)","v":0},null,null,{"$f":"SUMIFS(data[بدهکار],data[کد تفصیل],B39)","v":0},{"$f":"SUMIFS(data[بستانکار],data[کد تفصیل],B39)","v":0},"--",{"$f":"tafseel[[#This Row],[بدهکار]]-tafseel[[#This Row],[بستانکار]]","v":0}]
[null,{"$f":"C40*1000+COUNTIF(C$3:C40,C40)","v":0},null,null,{"$f":"SUMIFS(data[بدهکار],data[کد تفصیل],B40)","v":0},{"$f":"SUMIFS(data[بستانکار],data[کد تفصیل],B40)","v":0},"--",{"$f":"tafseel[[#This Row],[بدهکار]]-tafseel[[#This Row],[بستانکار]]","v":0}]
[null,{"$f":"C41*1000+COUNTIF(C$3:C41,C41)","v":0},null,null,{"$f":"SUMIFS(data[بدهکار],data[کد تفصیل],B41)","v":0},{"$f":"SUMIFS(data[بستانکار],data[کد تفصیل],B41)","v":0},"--",{"$f":"tafseel[[#This Row],[بدهکار]]-tafseel[[#This Row],[بستانکار]]","v":0}]
[null,{"$f":"C42*1000+COUNTIF(C$3:C42,C42)","v":0},null,null,{"$f":"SUMIFS(data[بدهکار],data[کد تفصیل],B42)","v":0},{"$f":"SUMIFS(data[بستانکار],data[کد تفصیل],B42)","v":0},"--",{"$f":"tafseel[[#This Row],[بدهکار]]-tafseel[[#This Row],[بستانکار]]","v":0}]
[null,{"$f":"C43*1000+COUNTIF(C$3:C43,C43)","v":0},null,null,{"$f":"SUMIFS(data[بدهکار],data[کد تفصیل],B43)","v":0},{"$f":"SUMIFS(data[بستانکار],data[کد تفصیل],B43)","v":0},"--",{"$f":"tafseel[[#This Row],[بدهکار]]-tafseel[[#This Row],[بستانکار]]","v":0}]
[null,{"$f":"C44*1000+COUNTIF(C$3:C44,C44)","v":0},null,null,{"$f":"SUMIFS(data[بدهکار],data[کد تفصیل],B44)","v":0},{"$f":"SUMIFS(data[بستانکار],data[کد تفصیل],B44)","v":0},"--",{"$f":"tafseel[[#This Row],[بدهکار]]-tafseel[[#This Row],[بستانکار]]","v":0}]
[null,{"$f":"C45*1000+COUNTIF(C$3:C45,C45)","v":0},null,null,{"$f":"SUMIFS(data[بدهکار],data[کد تفصیل],B45)","v":0},{"$f":"SUMIFS(data[بستانکار],data[کد تفصیل],B45)","v":0},"--",{"$f":"tafseel[[#This Row],[بدهکار]]-tafseel[[#This Row],[بستانکار]]","v":0}]
[null,{"$f":"C46*1000+COUNTIF(C$3:C46,C46)","v":0},null,null,{"$f":"SUMIFS(data[بدهکار],data[کد تفصیل],B46)","v":0},{"$f":"SUMIFS(data[بستانکار],data[کد تفصیل],B46)","v":0},"--",{"$f":"tafseel[[#This Row],[بدهکار]]-tafseel[[#This Row],[بستانکار]]","v":0}]
[null,{"$f":"C47*1000+COUNTIF(C$3:C47,C47)","v":0},null,null,{"$f":"SUMIFS(data[بدهکار],data[کد تفصیل],B47)","v":0},{"$f":"SUMIFS(data[بستانکار],data[کد تفصیل],B47)","v":0},"--",{"$f":"tafseel[[#This Row],[بدهکار]]-tafseel[[#This Row],[بستانکار]]","v":0}]
[null,{"$f":"C48*1000+COUNTIF(C$3:C48,C48)","v":0},null,null,{"$f":"SUMIFS(data[بدهکار],data[کد تفصیل],B48)","v":0},{"$f":"SUMIFS(data[بستانکار],data[کد تفصیل],B48)","v":0},"--",{"$f":"tafseel[[#This Row],[بدهکار]]-tafseel[[#This Row],[بستانکار]]","v":0}]
[null,{"$f":"C49*1000+COUNTIF(C$3:C49,C49)","v":0},null,null,{"$f":"SUMIFS(data[بدهکار],data[کد تفصیل],B49)","v":0},{"$f":"SUMIFS(data[بستانکار],data[کد تفصیل],B49)","v":0},"--",{"$f":"tafseel[[#This Row],[بدهکار]]-tafseel[[#This Row],[بستانکار]]","v":0}]
[null,{"$f":"C50*1000+COUNTIF(C$3:C50,C50)","v":0},null,null,{"$f":"SUMIFS(data[بدهکار],data[کد تفصیل],B50)","v":0},{"$f":"SUMIFS(data[بستانکار],data[کد تفصیل],B50)","v":0},"--",{"$f":"tafseel[[#This Row],[بدهکار]]-tafseel[[#This Row],[بستانکار]]","v":0}]
[null,{"$f":"C51*1000+COUNTIF(C$3:C51,C51)","v":0},null,null,{"$f":"SUMIFS(data[بدهکار],data[کد تفصیل],B51)","v":0},{"$f":"SUMIFS(data[بستانکار],data[کد تفصیل],B51)","v":0},"--",{"$f":"tafseel[[#This Row],[بدهکار]]-tafseel[[#This Row],[بستانکار]]","v":0}]
[null,{"$f":"C52*1000+COUNTIF(C$3:C52,C52)","v":0},null,null,{"$f":"SUMIFS(data[بدهکار],data[کد تفصیل],B52)","v":0},{"$f":"SUMIFS(data[بستانکار],data[کد تفصیل],B52)","v":0},"--",{"$f":"tafseel[[#This Row],[بدهکار]]-tafseel[[#This Row],[بستانکار]]","v":0}]
[null,{"$f":"C53*1000+COUNTIF(C$3:C53,C53)","v":0},null,null,{"$f":"SUMIFS(data[بدهکار],data[کد تفصیل],B53)","v":0},{"$f":"SUMIFS(data[بستانکار],data[کد تفصیل],B53)","v":0},"--",{"$f":"tafseel[[#This Row],[بدهکار]]-tafseel[[#This Row],[بستانکار]]","v":0}]
[null,{"$f":"C54*1000+COUNTIF(C$3:C54,C54)","v":0},null,null,{"$f":"SUMIFS(data[بدهکار],data[کد تفصیل],B54)","v":0},{"$f":"SUMIFS(data[بستانکار],data[کد تفصیل],B54)","v":0},"--",{"$f":"tafseel[[#This Row],[بدهکار]]-tafseel[[#This Row],[بستانکار]]","v":0}]
[null,{"$f":"C55*1000+COUNTIF(C$3:C55,C55)","v":0},null,null,{"$f":"SUMIFS(data[بدهکار],data[کد تفصیل],B55)","v":0},{"$f":"SUMIFS(data[بستانکار],data[کد تفصیل],B55)","v":0},"--",{"$f":"tafseel[[#This Row],[بدهکار]]-tafseel[[#This Row],[بستانکار]]","v":0}]
[null,{"$f":"C56*1000+COUNTIF(C$3:C56,C56)","v":0},null,null,{"$f":"SUMIFS(data[بدهکار],data[کد تفصیل],B56)","v":0},{"$f":"SUMIFS(data[بستانکار],data[کد تفصیل],B56)","v":0},"--",{"$f":"tafseel[[#This Row],[بدهکار]]-tafseel[[#This Row],[بستانکار]]","v":0}]
[null,{"$f":"C57*1000+COUNTIF(C$3:C57,C57)","v":0},null,null,{"$f":"SUMIFS(data[بدهکار],data[کد تفصیل],B57)","v":0},{"$f":"SUMIFS(data[بستانکار],data[کد تفصیل],B57)","v":0},"--",{"$f":"tafseel[[#This Row],[بدهکار]]-tafseel[[#This Row],[بستانکار]]","v":0}]
[null,{"$f":"C58*1000+COUNTIF(C$3:C58,C58)","v":0},null,null,{"$f":"SUMIFS(data[بدهکار],data[کد تفصیل],B58)","v":0},{"$f":"SUMIFS(data[بستانکار],data[کد تفصیل],B58)","v":0},"--",{"$f":"tafseel[[#This Row],[بدهکار]]-tafseel[[#This Row],[بستانکار]]","v":0}]
[null,{"$f":"C59*1000+COUNTIF(C$3:C59,C59)","v":0},null,null,{"$f":"SUMIFS(data[بدهکار],data[کد تفصیل],B59)","v":0},{"$f":"SUMIFS(data[بستانکار],data[کد تفصیل],B59)","v":0},"--",{"$f":"tafseel[[#This Row],[بدهکار]]-tafseel[[#This Row],[بستانکار]]","v":0}]
[null,{"$f":"C60*1000+COUNTIF(C$3:C60,C60)","v":0},null,null,{"$f":"SUMIFS(data[بدهکار],data[کد تفصیل],B60)","v":0},{"$f":"SUMIFS(data[بستانکار],data[کد تفصیل],B60)","v":0},"--",{"$f":"tafseel[[#This Row],[بدهکار]]-tafseel[[#This Row],[بستانکار]]","v":0}]
[null,{"$f":"C61*1000+COUNTIF(C$3:C61,C61)","v":0},null,null,{"$f":"SUMIFS(data[بدهکار],data[کد تفصیل],B61)","v":0},{"$f":"SUMIFS(data[بستانکار],data[کد تفصیل],B61)","v":0},"--",{"$f":"tafseel[[#This Row],[بدهکار]]-tafseel[[#This Row],[بستانکار]]","v":0}]
[null,{"$f":"C62*1000+COUNTIF(C$3:C62,C62)","v":0},null,null,{"$f":"SUMIFS(data[بدهکار],data[کد تفصیل],B62)","v":0},{"$f":"SUMIFS(data[بستانکار],data[کد تفصیل],B62)","v":0},"--",{"$f":"tafseel[[#This Row],[بدهکار]]-tafseel[[#This Row],[بستانکار]]","v":0}]
[null,{"$f":"C63*1000+COUNTIF(C$3:C63,C63)","v":0},null,null,{"$f":"SUMIFS(data[بدهکار],data[کد تفصیل],B63)","v":0},{"$f":"SUMIFS(data[بستانکار],data[کد تفصیل],B63)","v":0},"--",{"$f":"tafseel[[#This Row],[بدهکار]]-tafseel[[#This Row],[بستانکار]]","v":0}]
[null,{"$f":"C64*1000+COUNTIF(C$3:C64,C64)","v":0},null,null,{"$f":"SUMIFS(data[بدهکار],data[کد تفصیل],B64)","v":0},{"$f":"SUMIFS(data[بستانکار],data[کد تفصیل],B64)","v":0},"--",{"$f":"tafseel[[#This Row],[بدهکار]]-tafseel[[#This Row],[بستانکار]]","v":0}]
[null,{"$f":"C65*1000+COUNTIF(C$3:C65,C65)","v":0},null,null,{"$f":"SUMIFS(data[بدهکار],data[کد تفصیل],B65)","v":0},{"$f":"SUMIFS(data[بستانکار],data[کد تفصیل],B65)","v":0},"--",{"$f":"tafseel[[#This Row],[بدهکار]]-tafseel[[#This Row],[بستانکار]]","v":0}]
[null,{"$f":"C66*1000+COUNTIF(C$3:C66,C66)","v":0},null,null,{"$f":"SUMIFS(data[بدهکار],data[کد تفصیل],B66)","v":0},{"$f":"SUMIFS(data[بستانکار],data[کد تفصیل],B66)","v":0},"--",{"$f":"tafseel[[#This Row],[بدهکار]]-tafseel[[#This Row],[بستانکار]]","v":0}]
[null,{"$f":"C67*1000+COUNTIF(C$3:C67,C67)","v":0},null,null,{"$f":"SUMIFS(data[بدهکار],data[کد تفصیل],B67)","v":0},{"$f":"SUMIFS(data[بستانکار],data[کد تفصیل],B67)","v":0},"--",{"$f":"tafseel[[#This Row],[بدهکار]]-tafseel[[#This Row],[بستانکار]]","v":0}]
[null,{"$f":"C68*1000+COUNTIF(C$3:C68,C68)","v":0},null,null,{"$f":"SUMIFS(data[بدهکار],data[کد تفصیل],B68)","v":0},{"$f":"SUMIFS(data[بستانکار],data[کد تفصیل],B68)","v":0},{"$f":"IF(H68=0,\"--\",IF(H68>0,\"بد\",\"بس\"))","v":"--"},{"$f":"tafseel[[#This Row],[بدهکار]]-tafseel[[#This Row],[بستانکار]]","v":0}]
[null,{"$f":"C69*1000+COUNTIF(C$3:C69,C69)","v":0},null,null,{"$f":"SUMIFS(data[بدهکار],data[کد تفصیل],B69)","v":0},{"$f":"SUMIFS(data[بستانکار],data[کد تفصیل],B69)","v":0},"--",{"$f":"tafseel[[#This Row],[بدهکار]]-tafseel[[#This Row],[بستانکار]]","v":0}]
[null,{"$f":"C70*1000+COUNTIF(C$3:C70,C70)","v":0},null,null,{"$f":"SUMIFS(data[بدهکار],data[کد تفصیل],B70)","v":0},{"$f":"SUMIFS(data[بستانکار],data[کد تفصیل],B70)","v":0},"--",{"$f":"tafseel[[#This Row],[بدهکار]]-tafseel[[#This Row],[بستانکار]]","v":0}]
[null,{"$f":"C71*1000+COUNTIF(C$3:C71,C71)","v":0},null,null,{"$f":"SUMIFS(data[بدهکار],data[کد تفصیل],B71)","v":0},{"$f":"SUMIFS(data[بستانکار],data[کد تفصیل],B71)","v":0},"--",{"$f":"tafseel[[#This Row],[بدهکار]]-tafseel[[#This Row],[بستانکار]]","v":0}]
[null,{"$f":"C72*1000+COUNTIF(C$3:C72,C72)","v":0},null,null,{"$f":"SUMIFS(data[بدهکار],data[کد تفصیل],B72)","v":0},{"$f":"SUMIFS(data[بستانکار],data[کد تفصیل],B72)","v":0},"--",{"$f":"tafseel[[#This Row],[بدهکار]]-tafseel[[#This Row],[بستانکار]]","v":0}]
[null,{"$f":"C73*1000+COUNTIF(C$3:C73,C73)","v":0},null,null,{"$f":"SUMIFS(data[بدهکار],data[کد تفصیل],B73)","v":0},{"$f":"SUMIFS(data[بستانکار],data[کد تفصیل],B73)","v":0},"--",{"$f":"tafseel[[#This Row],[بدهکار]]-tafseel[[#This Row],[بستانکار]]","v":0}]
[null,{"$f":"C74*1000+COUNTIF(C$3:C74,C74)","v":0},null,null,{"$f":"SUMIFS(data[بدهکار],data[کد تفصیل],B74)","v":0},{"$f":"SUMIFS(data[بستانکار],data[کد تفصیل],B74)","v":0},"--",{"$f":"tafseel[[#This Row],[بدهکار]]-tafseel[[#This Row],[بستانکار]]","v":0}]
[null,{"$f":"C75*1000+COUNTIF(C$3:C75,C75)","v":0},null,null,{"$f":"SUMIFS(data[بدهکار],data[کد تفصیل],B75)","v":0},{"$f":"SUMIFS(data[بستانکار],data[کد تفصیل],B75)","v":0},"--",{"$f":"tafseel[[#This Row],[بدهکار]]-tafseel[[#This Row],[بستانکار]]","v":0}]
[null,{"$f":"C76*1000+COUNTIF(C$3:C76,C76)","v":0},null,null,{"$f":"SUMIFS(data[بدهکار],data[کد تفصیل],B76)","v":0},{"$f":"SUMIFS(data[بستانکار],data[کد تفصیل],B76)","v":0},"--",{"$f":"tafseel[[#This Row],[بدهکار]]-tafseel[[#This Row],[بستانکار]]","v":0}]
[null,{"$f":"C77*1000+COUNTIF(C$3:C77,C77)","v":0},null,null,{"$f":"SUMIFS(data[بدهکار],data[کد تفصیل],B77)","v":0},{"$f":"SUMIFS(data[بستانکار],data[کد تفصیل],B77)","v":0},"--",{"$f":"tafseel[[#This Row],[بدهکار]]-tafseel[[#This Row],[بستانکار]]","v":0}]
[null,{"$f":"C78*1000+COUNTIF(C$3:C78,C78)","v":0},null,null,{"$f":"SUMIFS(data[بدهکار],data[کد تفصیل],B78)","v":0},{"$f":"SUMIFS(data[بستانکار],data[کد تفصیل],B78)","v":0},"--",{"$f":"tafseel[[#This Row],[بدهکار]]-tafseel[[#This Row],[بستانکار]]","v":0}]
[null,{"$f":"C79*1000+COUNTIF(C$3:C79,C79)","v":0},null,null,{"$f":"SUMIFS(data[بدهکار],data[کد تفصیل],B79)","v":0},{"$f":"SUMIFS(data[بستانکار],data[کد تفصیل],B79)","v":0},"--",{"$f":"tafseel[[#This Row],[بدهکار]]-tafseel[[#This Row],[بستانکار]]","v":0}]
[null,{"$f":"C80*1000+COUNTIF(C$3:C80,C80)","v":0},null,null,{"$f":"SUMIFS(data[بدهکار],data[کد تفصیل],B80)","v":0},{"$f":"SUMIFS(data[بستانکار],data[کد تفصیل],B80)","v":0},"--",{"$f":"tafseel[[#This Row],[بدهکار]]-tafseel[[#This Row],[بستانکار]]","v":0}]
[null,{"$f":"C81*1000+COUNTIF(C$3:C81,C81)","v":0},null,null,{"$f":"SUMIFS(data[بدهکار],data[کد تفصیل],B81)","v":0},{"$f":"SUMIFS(data[بستانکار],data[کد تفصیل],B81)","v":0},"--",{"$f":"tafseel[[#This Row],[بدهکار]]-tafseel[[#This Row],[بستانکار]]","v":0}]
[null,{"$f":"C82*1000+COUNTIF(C$3:C82,C82)","v":0},null,null,{"$f":"SUMIFS(data[بدهکار],data[کد تفصیل],B82)","v":0},{"$f":"SUMIFS(data[بستانکار],data[کد تفصیل],B82)","v":0},"--",{"$f":"tafseel[[#This Row],[بدهکار]]-tafseel[[#This Row],[بستانکار]]","v":0}]
[null,{"$f":"C83*1000+COUNTIF(C$3:C83,C83)","v":0},null,null,{"$f":"SUMIFS(data[بدهکار],data[کد تفصیل],B83)","v":0},{"$f":"SUMIFS(data[بستانکار],data[کد تفصیل],B83)","v":0},"--",{"$f":"tafseel[[#This Row],[بدهکار]]-tafseel[[#This Row],[بستانکار]]","v":0}]
[null,{"$f":"C84*1000+COUNTIF(C$3:C84,C84)","v":0},null,null,{"$f":"SUMIFS(data[بدهکار],data[کد تفصیل],B84)","v":0},{"$f":"SUMIFS(data[بستانکار],data[کد تفصیل],B84)","v":0},"--",{"$f":"tafseel[[#This Row],[بدهکار]]-tafseel[[#This Row],[بستانکار]]","v":0}]
[null,{"$f":"C85*1000+COUNTIF(C$3:C85,C85)","v":0},null,null,{"$f":"SUMIFS(data[بدهکار],data[کد تفصیل],B85)","v":0},{"$f":"SUMIFS(data[بستانکار],data[کد تفصیل],B85)","v":0},"--",{"$f":"tafseel[[#This Row],[بدهکار]]-tafseel[[#This Row],[بستانکار]]","v":0}]
[null,{"$f":"C86*1000+COUNTIF(C$3:C86,C86)","v":0},null,null,{"$f":"SUMIFS(data[بدهکار],data[کد تفصیل],B86)","v":0},{"$f":"SUMIFS(data[بستانکار],data[کد تفصیل],B86)","v":0},"--",{"$f":"tafseel[[#This Row],[بدهکار]]-tafseel[[#This Row],[بستانکار]]","v":0}]
[null,{"$f":"C87*1000+COUNTIF(C$3:C87,C87)","v":0},null,null,{"$f":"SUMIFS(data[بدهکار],data[کد تفصیل],B87)","v":0},{"$f":"SUMIFS(data[بستانکار],data[کد تفصیل],B87)","v":0},"--",{"$f":"tafseel[[#This Row],[بدهکار]]-tafseel[[#This Row],[بستانکار]]","v":0}]
[null,{"$f":"C88*1000+COUNTIF(C$3:C88,C88)","v":0},null,null,{"$f":"SUMIFS(data[بدهکار],data[کد تفصیل],B88)","v":0},{"$f":"SUMIFS(data[بستانکار],data[کد تفصیل],B88)","v":0},"--",{"$f":"tafseel[[#This Row],[بدهکار]]-tafseel[[#This Row],[بستانکار]]","v":0}]
[null,{"$f":"C89*1000+COUNTIF(C$3:C89,C89)","v":0},null,null,{"$f":"SUMIFS(data[بدهکار],data[کد تفصیل],B89)","v":0},{"$f":"SUMIFS(data[بستانکار],data[کد تفصیل],B89)","v":0},"--",{"$f":"tafseel[[#This Row],[بدهکار]]-tafseel[[#This Row],[بستانکار]]","v":0}]
[null,{"$f":"C90*1000+COUNTIF(C$3:C90,C90)","v":0},null,null,{"$f":"SUMIFS(data[بدهکار],data[کد تفصیل],B90)","v":0},{"$f":"SUMIFS(data[بستانکار],data[کد تفصیل],B90)","v":0},"--",{"$f":"tafseel[[#This Row],[بدهکار]]-tafseel[[#This Row],[بستانکار]]","v":0}]
[null,{"$f":"C91*1000+COUNTIF(C$3:C91,C91)","v":0},null,null,{"$f":"SUMIFS(data[بدهکار],data[کد تفصیل],B91)","v":0},{"$f":"SUMIFS(data[بستانکار],data[کد تفصیل],B91)","v":0},"--",{"$f":"tafseel[[#This Row],[بدهکار]]-tafseel[[#This Row],[بستانکار]]","v":0}]
[null,{"$f":"C92*1000+COUNTIF(C$3:C92,C92)","v":0},null,null,{"$f":"SUMIFS(data[بدهکار],data[کد تفصیل],B92)","v":0},{"$f":"SUMIFS(data[بستانکار],data[کد تفصیل],B92)","v":0},"--",{"$f":"tafseel[[#This Row],[بدهکار]]-tafseel[[#This Row],[بستانکار]]","v":0}]
[null,{"$f":"C93*1000+COUNTIF(C$3:C93,C93)","v":0},null,null,{"$f":"SUMIFS(data[بدهکار],data[کد تفصیل],B93)","v":0},{"$f":"SUMIFS(data[بستانکار],data[کد تفصیل],B93)","v":0},"--",{"$f":"tafseel[[#This Row],[بدهکار]]-tafseel[[#This Row],[بستانکار]]","v":0}]
[null,{"$f":"C94*1000+COUNTIF(C$3:C94,C94)","v":0},null,null,{"$f":"SUMIFS(data[بدهکار],data[کد تفصیل],B94)","v":0},{"$f":"SUMIFS(data[بستانکار],data[کد تفصیل],B94)","v":0},"--",{"$f":"tafseel[[#This Row],[بدهکار]]-tafseel[[#This Row],[بستانکار]]","v":0}]
[null,{"$f":"C95*1000+COUNTIF(C$3:C95,C95)","v":0},null,null,{"$f":"SUMIFS(data[بدهکار],data[کد تفصیل],B95)","v":0},{"$f":"SUMIFS(data[بستانکار],data[کد تفصیل],B95)","v":0},"--",{"$f":"tafseel[[#This Row],[بدهکار]]-tafseel[[#This Row],[بستانکار]]","v":0}]
[null,{"$f":"C96*1000+COUNTIF(C$3:C96,C96)","v":0},null,null,{"$f":"SUMIFS(data[بدهکار],data[کد تفصیل],B96)","v":0},{"$f":"SUMIFS(data[بستانکار],data[کد تفصیل],B96)","v":0},"--",{"$f":"tafseel[[#This Row],[بدهکار]]-tafseel[[#This Row],[بستانکار]]","v":0}]
[null,{"$f":"C97*1000+COUNTIF(C$3:C97,C97)","v":0},null,null,{"$f":"SUMIFS(data[بدهکار],data[کد تفصیل],B97)","v":0},{"$f":"SUMIFS(data[بستانکار],data[کد تفصیل],B97)","v":0},"--",{"$f":"tafseel[[#This Row],[بدهکار]]-tafseel[[#This Row],[بستانکار]]","v":0}]
[null,{"$f":"C98*1000+COUNTIF(C$3:C98,C98)","v":0},null,null,{"$f":"SUMIFS(data[بدهکار],data[کد تفصیل],B98)","v":0},{"$f":"SUMIFS(data[بستانکار],data[کد تفصیل],B98)","v":0},"--",{"$f":"tafseel[[#This Row],[بدهکار]]-tafseel[[#This Row],[بستانکار]]","v":0}]
[null,{"$f":"C99*1000+COUNTIF(C$3:C99,C99)","v":0},null,null,{"$f":"SUMIFS(data[بدهکار],data[کد تفصیل],B99)","v":0},{"$f":"SUMIFS(data[بستانکار],data[کد تفصیل],B99)","v":0},"--",{"$f":"tafseel[[#This Row],[بدهکار]]-tafseel[[#This Row],[بستانکار]]","v":0}]
[null,{"$f":"C100*1000+COUNTIF(C$3:C100,C100)","v":0},null,null,{"$f":"SUMIFS(data[بدهکار],data[کد تفصیل],B100)","v":0},{"$f":"SUMIFS(data[بستانکار],data[کد تفصیل],B100)","v":0},"--",{"$f":"tafseel[[#This Row],[بدهکار]]-tafseel[[#This Row],[بستانکار]]","v":0}]
[null,{"$f":"C101*1000+COUNTIF(C$3:C101,C101)","v":0},null,null,{"$f":"SUMIFS(data[بدهکار],data[کد تفصیل],B101)","v":0},{"$f":"SUMIFS(data[بستانکار],data[کد تفصیل],B101)","v":0},"--",{"$f":"tafseel[[#This Row],[بدهکار]]-tafseel[[#This Row],[بستانکار]]","v":0}]
[null,{"$f":"C102*1000+COUNTIF(C$3:C102,C102)","v":0},null,null,{"$f":"SUMIFS(data[بدهکار],data[کد تفصیل],B102)","v":0},{"$f":"SUMIFS(data[بستانکار],data[کد تفصیل],B102)","v":0},"--",{"$f":"tafseel[[#This Row],[بدهکار]]-tafseel[[#This Row],[بستانکار]]","v":0}]
[null,{"$f":"C103*1000+COUNTIF(C$3:C103,C103)","v":0},null,null,{"$f":"SUMIFS(data[بدهکار],data[کد تفصیل],B103)","v":0},{"$f":"SUMIFS(data[بستانکار],data[کد تفصیل],B103)","v":0},"--",{"$f":"tafseel[[#This Row],[بدهکار]]-tafseel[[#This Row],[بستانکار]]","v":0}]
[null,{"$f":"C104*1000+COUNTIF(C$3:C104,C104)","v":0},null,null,{"$f":"SUMIFS(data[بدهکار],data[کد تفصیل],B104)","v":0},{"$f":"SUMIFS(data[بستانکار],data[کد تفصیل],B104)","v":0},"--",{"$f":"tafseel[[#This Row],[بدهکار]]-tafseel[[#This Row],[بستانکار]]","v":0}]
[null,{"$f":"C105*1000+COUNTIF(C$3:C105,C105)","v":0},null,null,{"$f":"SUMIFS(data[بدهکار],data[کد تفصیل],B105)","v":0},{"$f":"SUMIFS(data[بستانکار],data[کد تفصیل],B105)","v":0},"--",{"$f":"tafseel[[#This Row],[بدهکار]]-tafseel[[#This Row],[بستانکار]]","v":0}]
[null,{"$f":"C106*1000+COUNTIF(C$3:C106,C106)","v":0},null,null,{"$f":"SUMIFS(data[بدهکار],data[کد تفصیل],B106)","v":0},{"$f":"SUMIFS(data[بستانکار],data[کد تفصیل],B106)","v":0},"--",{"$f":"tafseel[[#This Row],[بدهکار]]-tafseel[[#This Row],[بستانکار]]","v":0}]
[null,{"$f":"C107*1000+COUNTIF(C$3:C107,C107)","v":0},null,null,{"$f":"SUMIFS(data[بدهکار],data[کد تفصیل],B107)","v":0},{"$f":"SUMIFS(data[بستانکار],data[کد تفصیل],B107)","v":0},"--",{"$f":"tafseel[[#This Row],[بدهکار]]-tafseel[[#This Row],[بستانکار]]","v":0}]
[null,{"$f":"C108*1000+COUNTIF(C$3:C108,C108)","v":0},null,null,{"$f":"SUMIFS(data[بدهکار],data[کد تفصیل],B108)","v":0},{"$f":"SUMIFS(data[بستانکار],data[کد تفصیل],B108)","v":0},"--",{"$f":"tafseel[[#This Row],[بدهکار]]-tafseel[[#This Row],[بستانکار]]","v":0}]
[null,{"$f":"C109*1000+COUNTIF(C$3:C109,C109)","v":0},null,null,{"$f":"SUMIFS(data[بدهکار],data[کد تفصیل],B109)","v":0},{"$f":"SUMIFS(data[بستانکار],data[کد تفصیل],B109)","v":0},"--",{"$f":"tafseel[[#This Row],[بدهکار]]-tafseel[[#This Row],[بستانکار]]","v":0}]
[null,{"$f":"C110*1000+COUNTIF(C$3:C110,C110)","v":0},null,null,{"$f":"SUMIFS(data[بدهکار],data[کد تفصیل],B110)","v":0},{"$f":"SUMIFS(data[بستانکار],data[کد تفصیل],B110)","v":0},"--",{"$f":"tafseel[[#This Row],[بدهکار]]-tafseel[[#This Row],[بستانکار]]","v":0}]
[null,{"$f":"C111*1000+COUNTIF(C$3:C111,C111)","v":0},null,null,{"$f":"SUMIFS(data[بدهکار],data[کد تفصیل],B111)","v":0},{"$f":"SUMIFS(data[بستانکار],data[کد تفصیل],B111)","v":0},"--",{"$f":"tafseel[[#This Row],[بدهکار]]-tafseel[[#This Row],[بستانکار]]","v":0}]
[null,{"$f":"C112*1000+COUNTIF(C$3:C112,C112)","v":0},null,null,{"$f":"SUMIFS(data[بدهکار],data[کد تفصیل],B112)","v":0},{"$f":"SUMIFS(data[بستانکار],data[کد تفصیل],B112)","v":0},"--",{"$f":"tafseel[[#This Row],[بدهکار]]-tafseel[[#This Row],[بستانکار]]","v":0}]
[null,{"$f":"C113*1000+COUNTIF(C$3:C113,C113)","v":0},null,null,{"$f":"SUMIFS(data[بدهکار],data[کد تفصیل],B113)","v":0},{"$f":"SUMIFS(data[بستانکار],data[کد تفصیل],B113)","v":0},"--",{"$f":"tafseel[[#This Row],[بدهکار]]-tafseel[[#This Row],[بستانکار]]","v":0}]
[null,{"$f":"C114*1000+COUNTIF(C$3:C114,C114)","v":0},null,null,{"$f":"SUMIFS(data[بدهکار],data[کد تفصیل],B114)","v":0},{"$f":"SUMIFS(data[بستانکار],data[کد تفصیل],B114)","v":0},"--",{"$f":"tafseel[[#This Row],[بدهکار]]-tafseel[[#This Row],[بستانکار]]","v":0}]
[null,{"$f":"C115*1000+COUNTIF(C$3:C115,C115)","v":0},null,null,{"$f":"SUMIFS(data[بدهکار],data[کد تفصیل],B115)","v":0},{"$f":"SUMIFS(data[بستانکار],data[کد تفصیل],B115)","v":0},"--",{"$f":"tafseel[[#This Row],[بدهکار]]-tafseel[[#This Row],[بستانکار]]","v":0}]
[null,{"$f":"C116*1000+COUNTIF(C$3:C116,C116)","v":0},null,null,{"$f":"SUMIFS(data[بدهکار],data[کد تفصیل],B116)","v":0},{"$f":"SUMIFS(data[بستانکار],data[کد تفصیل],B116)","v":0},"--",{"$f":"tafseel[[#This Row],[بدهکار]]-tafseel[[#This Row],[بستانکار]]","v":0}]
[null,{"$f":"C117*1000+COUNTIF(C$3:C117,C117)","v":0},null,null,{"$f":"SUMIFS(data[بدهکار],data[کد تفصیل],B117)","v":0},{"$f":"SUMIFS(data[بستانکار],data[کد تفصیل],B117)","v":0},"--",{"$f":"tafseel[[#This Row],[بدهکار]]-tafseel[[#This Row],[بستانکار]]","v":0}]
[null,{"$f":"C118*1000+COUNTIF(C$3:C118,C118)","v":0},null,null,{"$f":"SUMIFS(data[بدهکار],data[کد تفصیل],B118)","v":0},{"$f":"SUMIFS(data[بستانکار],data[کد تفصیل],B118)","v":0},"--",{"$f":"tafseel[[#This Row],[بدهکار]]-tafseel[[#This Row],[بستانکار]]","v":0}]
[null,{"$f":"C119*1000+COUNTIF(C$3:C119,C119)","v":0},null,null,{"$f":"SUMIFS(data[بدهکار],data[کد تفصیل],B119)","v":0},{"$f":"SUMIFS(data[بستانکار],data[کد تفصیل],B119)","v":0},"--",{"$f":"tafseel[[#This Row],[بدهکار]]-tafseel[[#This Row],[بستانکار]]","v":0}]
[null,{"$f":"C120*1000+COUNTIF(C$3:C120,C120)","v":0},null,null,{"$f":"SUMIFS(data[بدهکار],data[کد تفصیل],B120)","v":0},{"$f":"SUMIFS(data[بستانکار],data[کد تفصیل],B120)","v":0},"--",{"$f":"tafseel[[#This Row],[بدهکار]]-tafseel[[#This Row],[بستانکار]]","v":0}]
[null,{"$f":"C121*1000+COUNTIF(C$3:C121,C121)","v":0},null,null,{"$f":"SUMIFS(data[بدهکار],data[کد تفصیل],B121)","v":0},{"$f":"SUMIFS(data[بستانکار],data[کد تفصیل],B121)","v":0},"--",{"$f":"tafseel[[#This Row],[بدهکار]]-tafseel[[#This Row],[بستانکار]]","v":0}]
[null,{"$f":"C122*1000+COUNTIF(C$3:C122,C122)","v":0},null,null,{"$f":"SUMIFS(data[بدهکار],data[کد تفصیل],B122)","v":0},{"$f":"SUMIFS(data[بستانکار],data[کد تفصیل],B122)","v":0},"--",{"$f":"tafseel[[#This Row],[بدهکار]]-tafseel[[#This Row],[بستانکار]]","v":0}]
[null,{"$f":"C123*1000+COUNTIF(C$3:C123,C123)","v":0},null,null,{"$f":"SUMIFS(data[بدهکار],data[کد تفصیل],B123)","v":0},{"$f":"SUMIFS(data[بستانکار],data[کد تفصیل],B123)","v":0},"--",{"$f":"tafseel[[#This Row],[بدهکار]]-tafseel[[#This Row],[بستانکار]]","v":0}]
[null,{"$f":"C124*1000+COUNTIF(C$3:C124,C124)","v":0},null,null,{"$f":"SUMIFS(data[بدهکار],data[کد تفصیل],B124)","v":0},{"$f":"SUMIFS(data[بستانکار],data[کد تفصیل],B124)","v":0},"--",{"$f":"tafseel[[#This Row],[بدهکار]]-tafseel[[#This Row],[بستانکار]]","v":0}]
[null,{"$f":"C125*1000+COUNTIF(C$3:C125,C125)","v":0},null,null,{"$f":"SUMIFS(data[بدهکار],data[کد تفصیل],B125)","v":0},{"$f":"SUMIFS(data[بستانکار],data[کد تفصیل],B125)","v":0},"--",{"$f":"tafseel[[#This Row],[بدهکار]]-tafseel[[#This Row],[بستانکار]]","v":0}]
[null,{"$f":"C126*1000+COUNTIF(C$3:C126,C126)","v":0},null,null,{"$f":"SUMIFS(data[بدهکار],data[کد تفصیل],B126)","v":0},{"$f":"SUMIFS(data[بستانکار],data[کد تفصیل],B126)","v":0},"--",{"$f":"tafseel[[#This Row],[بدهکار]]-tafseel[[#This Row],[بستانکار]]","v":0}]
[null,{"$f":"C127*1000+COUNTIF(C$3:C127,C127)","v":0},null,null,{"$f":"SUMIFS(data[بدهکار],data[کد تفصیل],B127)","v":0},{"$f":"SUMIFS(data[بستانکار],data[کد تفصیل],B127)","v":0},"--",{"$f":"tafseel[[#This Row],[بدهکار]]-tafseel[[#This Row],[بستانکار]]","v":0}]
[null,{"$f":"C128*1000+COUNTIF(C$3:C128,C128)","v":0},null,null,{"$f":"SUMIFS(data[بدهکار],data[کد تفصیل],B128)","v":0},{"$f":"SUMIFS(data[بستانکار],data[کد تفصیل],B128)","v":0},"--",{"$f":"tafseel[[#This Row],[بدهکار]]-tafseel[[#This Row],[بستانکار]]","v":0}]
[null,{"$f":"C129*1000+COUNTIF(C$3:C129,C129)","v":0},null,null,{"$f":"SUMIFS(data[بدهکار],data[کد تفصیل],B129)","v":0},{"$f":"SUMIFS(data[بستانکار],data[کد تفصیل],B129)","v":0},"--",{"$f":"tafseel[[#This Row],[بدهکار]]-tafseel[[#This Row],[بستانکار]]","v":0}]
[null,{"$f":"C130*1000+COUNTIF(C$3:C130,C130)","v":0},null,null,{"$f":"SUMIFS(data[بدهکار],data[کد تفصیل],B130)","v":0},{"$f":"SUMIFS(data[بستانکار],data[کد تفصیل],B130)","v":0},"--",{"$f":"tafseel[[#This Row],[بدهکار]]-tafseel[[#This Row],[بستانکار]]","v":0}]
[null,{"$f":"C131*1000+COUNTIF(C$3:C131,C131)","v":0},null,null,{"$f":"SUMIFS(data[بدهکار],data[کد تفصیل],B131)","v":0},{"$f":"SUMIFS(data[بستانکار],data[کد تفصیل],B131)","v":0},"--",{"$f":"tafseel[[#This Row],[بدهکار]]-tafseel[[#This Row],[بستانکار]]","v":0}]
[null,{"$f":"C132*1000+COUNTIF(C$3:C132,C132)","v":0},null,null,{"$f":"SUMIFS(data[بدهکار],data[کد تفصیل],B132)","v":0},{"$f":"SUMIFS(data[بستانکار],data[کد تفصیل],B132)","v":0},{"$f":"IF(H132=0,\"--\",IF(H132>0,\"بد\",\"بس\"))","v":"--"},{"$f":"tafseel[[#This Row],[بدهکار]]-tafseel[[#This Row],[بستانکار]]","v":0}]
[null,{"$f":"C133*1000+COUNTIF(C$3:C133,C133)","v":0},null,null,{"$f":"SUMIFS(data[بدهکار],data[کد تفصیل],B133)","v":0},{"$f":"SUMIFS(data[بستانکار],data[کد تفصیل],B133)","v":0},"--",{"$f":"tafseel[[#This Row],[بدهکار]]-tafseel[[#This Row],[بستانکار]]","v":0}]
[null,{"$f":"C134*1000+COUNTIF(C$3:C134,C134)","v":0},null,null,{"$f":"SUMIFS(data[بدهکار],data[کد تفصیل],B134)","v":0},{"$f":"SUMIFS(data[بستانکار],data[کد تفصیل],B134)","v":0},"--",{"$f":"tafseel[[#This Row],[بدهکار]]-tafseel[[#This Row],[بستانکار]]","v":0}]
[null,{"$f":"C135*1000+COUNTIF(C$3:C135,C135)","v":0},null,null,{"$f":"SUMIFS(data[بدهکار],data[کد تفصیل],B135)","v":0},{"$f":"SUMIFS(data[بستانکار],data[کد تفصیل],B135)","v":0},"--",{"$f":"tafseel[[#This Row],[بدهکار]]-tafseel[[#This Row],[بستانکار]]","v":0}]
[null,{"$f":"C136*1000+COUNTIF(C$3:C136,C136)","v":0},null,null,{"$f":"SUMIFS(data[بدهکار],data[کد تفصیل],B136)","v":0},{"$f":"SUMIFS(data[بستانکار],data[کد تفصیل],B136)","v":0},"--",{"$f":"tafseel[[#This Row],[بدهکار]]-tafseel[[#This Row],[بستانکار]]","v":0}]
[null,{"$f":"C137*1000+COUNTIF(C$3:C137,C137)","v":0},null,null,{"$f":"SUMIFS(data[بدهکار],data[کد تفصیل],B137)","v":0},{"$f":"SUMIFS(data[بستانکار],data[کد تفصیل],B137)","v":0},"--",{"$f":"tafseel[[#This Row],[بدهکار]]-tafseel[[#This Row],[بستانکار]]","v":0}]
[null,{"$f":"C138*1000+COUNTIF(C$3:C138,C138)","v":0},null,null,{"$f":"SUMIFS(data[بدهکار],data[کد تفصیل],B138)","v":0},{"$f":"SUMIFS(data[بستانکار],data[کد تفصیل],B138)","v":0},"--",{"$f":"tafseel[[#This Row],[بدهکار]]-tafseel[[#This Row],[بستانکار]]","v":0}]
[null,{"$f":"C139*1000+COUNTIF(C$3:C139,C139)","v":0},null,null,{"$f":"SUMIFS(data[بدهکار],data[کد تفصیل],B139)","v":0},{"$f":"SUMIFS(data[بستانکار],data[کد تفصیل],B139)","v":0},"--",{"$f":"tafseel[[#This Row],[بدهکار]]-tafseel[[#This Row],[بستانکار]]","v":0}]
[null,{"$f":"C140*1000+COUNTIF(C$3:C140,C140)","v":0},null,null,{"$f":"SUMIFS(data[بدهکار],data[کد تفصیل],B140)","v":0},{"$f":"SUMIFS(data[بستانکار],data[کد تفصیل],B140)","v":0},"--",{"$f":"tafseel[[#This Row],[بدهکار]]-tafseel[[#This Row],[بستانکار]]","v":0}]
[null,{"$f":"C141*1000+COUNTIF(C$3:C141,C141)","v":0},null,null,{"$f":"SUMIFS(data[بدهکار],data[کد تفصیل],B141)","v":0},{"$f":"SUMIFS(data[بستانکار],data[کد تفصیل],B141)","v":0},"--",{"$f":"tafseel[[#This Row],[بدهکار]]-tafseel[[#This Row],[بستانکار]]","v":0}]
[null,{"$f":"C142*1000+COUNTIF(C$3:C142,C142)","v":0},null,null,{"$f":"SUMIFS(data[بدهکار],data[کد تفصیل],B142)","v":0},{"$f":"SUMIFS(data[بستانکار],data[کد تفصیل],B142)","v":0},"--",{"$f":"tafseel[[#This Row],[بدهکار]]-tafseel[[#This Row],[بستانکار]]","v":0}]
[null,{"$f":"C143*1000+COUNTIF(C$3:C143,C143)","v":0},null,null,{"$f":"SUMIFS(data[بدهکار],data[کد تفصیل],B143)","v":0},{"$f":"SUMIFS(data[بستانکار],data[کد تفصیل],B143)","v":0},"--",{"$f":"tafseel[[#This Row],[بدهکار]]-tafseel[[#This Row],[بستانکار]]","v":0}]
[null,{"$f":"C144*1000+COUNTIF(C$3:C144,C144)","v":0},null,null,{"$f":"SUMIFS(data[بدهکار],data[کد تفصیل],B144)","v":0},{"$f":"SUMIFS(data[بستانکار],data[کد تفصیل],B144)","v":0},"--",{"$f":"tafseel[[#This Row],[بدهکار]]-tafseel[[#This Row],[بستانکار]]","v":0}]
[null,{"$f":"C145*1000+COUNTIF(C$3:C145,C145)","v":0},null,null,{"$f":"SUMIFS(data[بدهکار],data[کد تفصیل],B145)","v":0},{"$f":"SUMIFS(data[بستانکار],data[کد تفصیل],B145)","v":0},"--",{"$f":"tafseel[[#This Row],[بدهکار]]-tafseel[[#This Row],[بستانکار]]","v":0}]
[null,{"$f":"C146*1000+COUNTIF(C$3:C146,C146)","v":0},null,null,{"$f":"SUMIFS(data[بدهکار],data[کد تفصیل],B146)","v":0},{"$f":"SUMIFS(data[بستانکار],data[کد تفصیل],B146)","v":0},"--",{"$f":"tafseel[[#This Row],[بدهکار]]-tafseel[[#This Row],[بستانکار]]","v":0}]
[null,{"$f":"C147*1000+COUNTIF(C$3:C147,C147)","v":0},null,null,{"$f":"SUMIFS(data[بدهکار],data[کد تفصیل],B147)","v":0},{"$f":"SUMIFS(data[بستانکار],data[کد تفصیل],B147)","v":0},"--",{"$f":"tafseel[[#This Row],[بدهکار]]-tafseel[[#This Row],[بستانکار]]","v":0}]
[null,{"$f":"C148*1000+COUNTIF(C$3:C148,C148)","v":0},null,null,{"$f":"SUMIFS(data[بدهکار],data[کد تفصیل],B148)","v":0},{"$f":"SUMIFS(data[بستانکار],data[کد تفصیل],B148)","v":0},"--",{"$f":"tafseel[[#This Row],[بدهکار]]-tafseel[[#This Row],[بستانکار]]","v":0}]
[null,{"$f":"C149*1000+COUNTIF(C$3:C149,C149)","v":0},null,null,{"$f":"SUMIFS(data[بدهکار],data[کد تفصیل],B149)","v":0},{"$f":"SUMIFS(data[بستانکار],data[کد تفصیل],B149)","v":0},"--",{"$f":"tafseel[[#This Row],[بدهکار]]-tafseel[[#This Row],[بستانکار]]","v":0}]
[null,{"$f":"C150*1000+COUNTIF(C$3:C150,C150)","v":0},null,null,{"$f":"SUMIFS(data[بدهکار],data[کد تفصیل],B150)","v":0},{"$f":"SUMIFS(data[بستانکار],data[کد تفصیل],B150)","v":0},"--",{"$f":"tafseel[[#This Row],[بدهکار]]-tafseel[[#This Row],[بستانکار]]","v":0}]
[null,{"$f":"C151*1000+COUNTIF(C$3:C151,C151)","v":0},null,null,{"$f":"SUMIFS(data[بدهکار],data[کد تفصیل],B151)","v":0},{"$f":"SUMIFS(data[بستانکار],data[کد تفصیل],B151)","v":0},"--",{"$f":"tafseel[[#This Row],[بدهکار]]-tafseel[[#This Row],[بستانکار]]","v":0}]
[null,{"$f":"C152*1000+COUNTIF(C$3:C152,C152)","v":0},null,null,{"$f":"SUMIFS(data[بدهکار],data[کد تفصیل],B152)","v":0},{"$f":"SUMIFS(data[بستانکار],data[کد تفصیل],B152)","v":0},"--",{"$f":"tafseel[[#This Row],[بدهکار]]-tafseel[[#This Row],[بستانکار]]","v":0}]
[null,{"$f":"C153*1000+COUNTIF(C$3:C153,C153)","v":0},null,null,{"$f":"SUMIFS(data[بدهکار],data[کد تفصیل],B153)","v":0},{"$f":"SUMIFS(data[بستانکار],data[کد تفصیل],B153)","v":0},"--",{"$f":"tafseel[[#This Row],[بدهکار]]-tafseel[[#This Row],[بستانکار]]","v":0}]
[null,{"$f":"C154*1000+COUNTIF(C$3:C154,C154)","v":0},null,null,{"$f":"SUMIFS(data[بدهکار],data[کد تفصیل],B154)","v":0},{"$f":"SUMIFS(data[بستانکار],data[کد تفصیل],B154)","v":0},"--",{"$f":"tafseel[[#This Row],[بدهکار]]-tafseel[[#This Row],[بستانکار]]","v":0}]
[null,{"$f":"C155*1000+COUNTIF(C$3:C155,C155)","v":0},null,null,{"$f":"SUMIFS(data[بدهکار],data[کد تفصیل],B155)","v":0},{"$f":"SUMIFS(data[بستانکار],data[کد تفصیل],B155)","v":0},"--",{"$f":"tafseel[[#This Row],[بدهکار]]-tafseel[[#This Row],[بستانکار]]","v":0}]
[null,{"$f":"C156*1000+COUNTIF(C$3:C156,C156)","v":0},null,null,{"$f":"SUMIFS(data[بدهکار],data[کد تفصیل],B156)","v":0},{"$f":"SUMIFS(data[بستانکار],data[کد تفصیل],B156)","v":0},"--",{"$f":"tafseel[[#This Row],[بدهکار]]-tafseel[[#This Row],[بستانکار]]","v":0}]
[null,{"$f":"C157*1000+COUNTIF(C$3:C157,C157)","v":0},null,null,{"$f":"SUMIFS(data[بدهکار],data[کد تفصیل],B157)","v":0},{"$f":"SUMIFS(data[بستانکار],data[کد تفصیل],B157)","v":0},"--",{"$f":"tafseel[[#This Row],[بدهکار]]-tafseel[[#This Row],[بستانکار]]","v":0}]
[null,{"$f":"C158*1000+COUNTIF(C$3:C158,C158)","v":0},null,null,{"$f":"SUMIFS(data[بدهکار],data[کد تفصیل],B158)","v":0},{"$f":"SUMIFS(data[بستانکار],data[کد تفصیل],B158)","v":0},"--",{"$f":"tafseel[[#This Row],[بدهکار]]-tafseel[[#This Row],[بستانکار]]","v":0}]
[null,{"$f":"C159*1000+COUNTIF(C$3:C159,C159)","v":0},null,null,{"$f":"SUMIFS(data[بدهکار],data[کد تفصیل],B159)","v":0},{"$f":"SUMIFS(data[بستانکار],data[کد تفصیل],B159)","v":0},"--",{"$f":"tafseel[[#This Row],[بدهکار]]-tafseel[[#This Row],[بستانکار]]","v":0}]
[null,{"$f":"C160*1000+COUNTIF(C$3:C160,C160)","v":0},null,null,{"$f":"SUMIFS(data[بدهکار],data[کد تفصیل],B160)","v":0},{"$f":"SUMIFS(data[بستانکار],data[کد تفصیل],B160)","v":0},"--",{"$f":"tafseel[[#This Row],[بدهکار]]-tafseel[[#This Row],[بستانکار]]","v":0}]
[null,{"$f":"C161*1000+COUNTIF(C$3:C161,C161)","v":0},null,null,{"$f":"SUMIFS(data[بدهکار],data[کد تفصیل],B161)","v":0},{"$f":"SUMIFS(data[بستانکار],data[کد تفصیل],B161)","v":0},"--",{"$f":"tafseel[[#This Row],[بدهکار]]-tafseel[[#This Row],[بستانکار]]","v":0}]
[null,{"$f":"C162*1000+COUNTIF(C$3:C162,C162)","v":0},null,null,{"$f":"SUMIFS(data[بدهکار],data[کد تفصیل],B162)","v":0},{"$f":"SUMIFS(data[بستانکار],data[کد تفصیل],B162)","v":0},"--",{"$f":"tafseel[[#This Row],[بدهکار]]-tafseel[[#This Row],[بستانکار]]","v":0}]
[null,{"$f":"C163*1000+COUNTIF(C$3:C163,C163)","v":0},null,null,{"$f":"SUMIFS(data[بدهکار],data[کد تفصیل],B163)","v":0},{"$f":"SUMIFS(data[بستانکار],data[کد تفصیل],B163)","v":0},"--",{"$f":"tafseel[[#This Row],[بدهکار]]-tafseel[[#This Row],[بستانکار]]","v":0}]
[null,{"$f":"C164*1000+COUNTIF(C$3:C164,C164)","v":0},null,null,{"$f":"SUMIFS(data[بدهکار],data[کد تفصیل],B164)","v":0},{"$f":"SUMIFS(data[بستانکار],data[کد تفصیل],B164)","v":0},"--",{"$f":"tafseel[[#This Row],[بدهکار]]-tafseel[[#This Row],[بستانکار]]","v":0}]
[null,{"$f":"C165*1000+COUNTIF(C$3:C165,C165)","v":0},null,null,{"$f":"SUMIFS(data[بدهکار],data[کد تفصیل],B165)","v":0},{"$f":"SUMIFS(data[بستانکار],data[کد تفصیل],B165)","v":0},"--",{"$f":"tafseel[[#This Row],[بدهکار]]-tafseel[[#This Row],[بستانکار]]","v":0}]
[null,{"$f":"C166*1000+COUNTIF(C$3:C166,C166)","v":0},null,null,{"$f":"SUMIFS(data[بدهکار],data[کد تفصیل],B166)","v":0},{"$f":"SUMIFS(data[بستانکار],data[کد تفصیل],B166)","v":0},"--",{"$f":"tafseel[[#This Row],[بدهکار]]-tafseel[[#This Row],[بستانکار]]","v":0}]
[null,{"$f":"C167*1000+COUNTIF(C$3:C167,C167)","v":0},null,null,{"$f":"SUMIFS(data[بدهکار],data[کد تفصیل],B167)","v":0},{"$f":"SUMIFS(data[بستانکار],data[کد تفصیل],B167)","v":0},"--",{"$f":"tafseel[[#This Row],[بدهکار]]-tafseel[[#This Row],[بستانکار]]","v":0}]
[null,{"$f":"C168*1000+COUNTIF(C$3:C168,C168)","v":0},null,null,{"$f":"SUMIFS(data[بدهکار],data[کد تفصیل],B168)","v":0},{"$f":"SUMIFS(data[بستانکار],data[کد تفصیل],B168)","v":0},"--",{"$f":"tafseel[[#This Row],[بدهکار]]-tafseel[[#This Row],[بستانکار]]","v":0}]
[null,{"$f":"C169*1000+COUNTIF(C$3:C169,C169)","v":0},null,null,{"$f":"SUMIFS(data[بدهکار],data[کد تفصیل],B169)","v":0},{"$f":"SUMIFS(data[بستانکار],data[کد تفصیل],B169)","v":0},"--",{"$f":"tafseel[[#This Row],[بدهکار]]-tafseel[[#This Row],[بستانکار]]","v":0}]
[null,{"$f":"C170*1000+COUNTIF(C$3:C170,C170)","v":0},null,null,{"$f":"SUMIFS(data[بدهکار],data[کد تفصیل],B170)","v":0},{"$f":"SUMIFS(data[بستانکار],data[کد تفصیل],B170)","v":0},"--",{"$f":"tafseel[[#This Row],[بدهکار]]-tafseel[[#This Row],[بستانکار]]","v":0}]
[null,{"$f":"C171*1000+COUNTIF(C$3:C171,C171)","v":0},null,null,{"$f":"SUMIFS(data[بدهکار],data[کد تفصیل],B171)","v":0},{"$f":"SUMIFS(data[بستانکار],data[کد تفصیل],B171)","v":0},"--",{"$f":"tafseel[[#This Row],[بدهکار]]-tafseel[[#This Row],[بستانکار]]","v":0}]
[null,{"$f":"C172*1000+COUNTIF(C$3:C172,C172)","v":0},null,null,{"$f":"SUMIFS(data[بدهکار],data[کد تفصیل],B172)","v":0},{"$f":"SUMIFS(data[بستانکار],data[کد تفصیل],B172)","v":0},"--",{"$f":"tafseel[[#This Row],[بدهکار]]-tafseel[[#This Row],[بستانکار]]","v":0}]
[null,{"$f":"C173*1000+COUNTIF(C$3:C173,C173)","v":0},null,null,{"$f":"SUMIFS(data[بدهکار],data[کد تفصیل],B173)","v":0},{"$f":"SUMIFS(data[بستانکار],data[کد تفصیل],B173)","v":0},"--",{"$f":"tafseel[[#This Row],[بدهکار]]-tafseel[[#This Row],[بستانکار]]","v":0}]
[null,{"$f":"C174*1000+COUNTIF(C$3:C174,C174)","v":0},null,null,{"$f":"SUMIFS(data[بدهکار],data[کد تفصیل],B174)","v":0},{"$f":"SUMIFS(data[بستانکار],data[کد تفصیل],B174)","v":0},"--",{"$f":"tafseel[[#This Row],[بدهکار]]-tafseel[[#This Row],[بستانکار]]","v":0}]
[null,{"$f":"C175*1000+COUNTIF(C$3:C175,C175)","v":0},null,null,{"$f":"SUMIFS(data[بدهکار],data[کد تفصیل],B175)","v":0},{"$f":"SUMIFS(data[بستانکار],data[کد تفصیل],B175)","v":0},"--",{"$f":"tafseel[[#This Row],[بدهکار]]-tafseel[[#This Row],[بستانکار]]","v":0}]
[null,{"$f":"C176*1000+COUNTIF(C$3:C176,C176)","v":0},null,null,{"$f":"SUMIFS(data[بدهکار],data[کد تفصیل],B176)","v":0},{"$f":"SUMIFS(data[بستانکار],data[کد تفصیل],B176)","v":0},"--",{"$f":"tafseel[[#This Row],[بدهکار]]-tafseel[[#This Row],[بستانکار]]","v":0}]
[null,{"$f":"C177*1000+COUNTIF(C$3:C177,C177)","v":0},null,null,{"$f":"SUMIFS(data[بدهکار],data[کد تفصیل],B177)","v":0},{"$f":"SUMIFS(data[بستانکار],data[کد تفصیل],B177)","v":0},"--",{"$f":"tafseel[[#This Row],[بدهکار]]-tafseel[[#This Row],[بستانکار]]","v":0}]
[null,{"$f":"C178*1000+COUNTIF(C$3:C178,C178)","v":0},null,null,{"$f":"SUMIFS(data[بدهکار],data[کد تفصیل],B178)","v":0},{"$f":"SUMIFS(data[بستانکار],data[کد تفصیل],B178)","v":0},"--",{"$f":"tafseel[[#This Row],[بدهکار]]-tafseel[[#This Row],[بستانکار]]","v":0}]
[null,{"$f":"C179*1000+COUNTIF(C$3:C179,C179)","v":0},null,null,{"$f":"SUMIFS(data[بدهکار],data[کد تفصیل],B179)","v":0},{"$f":"SUMIFS(data[بستانکار],data[کد تفصیل],B179)","v":0},"--",{"$f":"tafseel[[#This Row],[بدهکار]]-tafseel[[#This Row],[بستانکار]]","v":0}]
[null,{"$f":"C180*1000+COUNTIF(C$3:C180,C180)","v":0},null,null,{"$f":"SUMIFS(data[بدهکار],data[کد تفصیل],B180)","v":0},{"$f":"SUMIFS(data[بستانکار],data[کد تفصیل],B180)","v":0},"--",{"$f":"tafseel[[#This Row],[بدهکار]]-tafseel[[#This Row],[بستانکار]]","v":0}]
[null,{"$f":"C181*1000+COUNTIF(C$3:C181,C181)","v":0},null,null,{"$f":"SUMIFS(data[بدهکار],data[کد تفصیل],B181)","v":0},{"$f":"SUMIFS(data[بستانکار],data[کد تفصیل],B181)","v":0},"--",{"$f":"tafseel[[#This Row],[بدهکار]]-tafseel[[#This Row],[بستانکار]]","v":0}]
[null,{"$f":"C182*1000+COUNTIF(C$3:C182,C182)","v":0},null,null,{"$f":"SUMIFS(data[بدهکار],data[کد تفصیل],B182)","v":0},{"$f":"SUMIFS(data[بستانکار],data[کد تفصیل],B182)","v":0},"--",{"$f":"tafseel[[#This Row],[بدهکار]]-tafseel[[#This Row],[بستانکار]]","v":0}]
[null,{"$f":"C183*1000+COUNTIF(C$3:C183,C183)","v":0},null,null,{"$f":"SUMIFS(data[بدهکار],data[کد تفصیل],B183)","v":0},{"$f":"SUMIFS(data[بستانکار],data[کد تفصیل],B183)","v":0},"--",{"$f":"tafseel[[#This Row],[بدهکار]]-tafseel[[#This Row],[بستانکار]]","v":0}]
[null,{"$f":"C184*1000+COUNTIF(C$3:C184,C184)","v":0},null,null,{"$f":"SUMIFS(data[بدهکار],data[کد تفصیل],B184)","v":0},{"$f":"SUMIFS(data[بستانکار],data[کد تفصیل],B184)","v":0},"--",{"$f":"tafseel[[#This Row],[بدهکار]]-tafseel[[#This Row],[بستانکار]]","v":0}]
[null,{"$f":"C185*1000+COUNTIF(C$3:C185,C185)","v":0},null,null,{"$f":"SUMIFS(data[بدهکار],data[کد تفصیل],B185)","v":0},{"$f":"SUMIFS(data[بستانکار],data[کد تفصیل],B185)","v":0},"--",{"$f":"tafseel[[#This Row],[بدهکار]]-tafseel[[#This Row],[بستانکار]]","v":0}]
[null,{"$f":"C186*1000+COUNTIF(C$3:C186,C186)","v":0},null,null,{"$f":"SUMIFS(data[بدهکار],data[کد تفصیل],B186)","v":0},{"$f":"SUMIFS(data[بستانکار],data[کد تفصیل],B186)","v":0},"--",{"$f":"tafseel[[#This Row],[بدهکار]]-tafseel[[#This Row],[بستانکار]]","v":0}]
[null,{"$f":"C187*1000+COUNTIF(C$3:C187,C187)","v":0},null,null,{"$f":"SUMIFS(data[بدهکار],data[کد تفصیل],B187)","v":0},{"$f":"SUMIFS(data[بستانکار],data[کد تفصیل],B187)","v":0},"--",{"$f":"tafseel[[#This Row],[بدهکار]]-tafseel[[#This Row],[بستانکار]]","v":0}]
[null,{"$f":"C188*1000+COUNTIF(C$3:C188,C188)","v":0},null,null,{"$f":"SUMIFS(data[بدهکار],data[کد تفصیل],B188)","v":0},{"$f":"SUMIFS(data[بستانکار],data[کد تفصیل],B188)","v":0},"--",{"$f":"tafseel[[#This Row],[بدهکار]]-tafseel[[#This Row],[بستانکار]]","v":0}]
[null,{"$f":"C189*1000+COUNTIF(C$3:C189,C189)","v":0},null,null,{"$f":"SUMIFS(data[بدهکار],data[کد تفصیل],B189)","v":0},{"$f":"SUMIFS(data[بستانکار],data[کد تفصیل],B189)","v":0},"--",{"$f":"tafseel[[#This Row],[بدهکار]]-tafseel[[#This Row],[بستانکار]]","v":0}]
[null,{"$f":"C190*1000+COUNTIF(C$3:C190,C190)","v":0},null,null,{"$f":"SUMIFS(data[بدهکار],data[کد تفصیل],B190)","v":0},{"$f":"SUMIFS(data[بستانکار],data[کد تفصیل],B190)","v":0},"--",{"$f":"tafseel[[#This Row],[بدهکار]]-tafseel[[#This Row],[بستانکار]]","v":0}]
[null,{"$f":"C191*1000+COUNTIF(C$3:C191,C191)","v":0},null,null,{"$f":"SUMIFS(data[بدهکار],data[کد تفصیل],B191)","v":0},{"$f":"SUMIFS(data[بستانکار],data[کد تفصیل],B191)","v":0},"--",{"$f":"tafseel[[#This Row],[بدهکار]]-tafseel[[#This Row],[بستانکار]]","v":0}]
[null,{"$f":"C192*1000+COUNTIF(C$3:C192,C192)","v":0},null,null,{"$f":"SUMIFS(data[بدهکار],data[کد تفصیل],B192)","v":0},{"$f":"SUMIFS(data[بستانکار],data[کد تفصیل],B192)","v":0},"--",{"$f":"tafseel[[#This Row],[بدهکار]]-tafseel[[#This Row],[بستانکار]]","v":0}]
[null,{"$f":"C193*1000+COUNTIF(C$3:C193,C193)","v":0},null,null,{"$f":"SUMIFS(data[بدهکار],data[کد تفصیل],B193)","v":0},{"$f":"SUMIFS(data[بستانکار],data[کد تفصیل],B193)","v":0},"--",{"$f":"tafseel[[#This Row],[بدهکار]]-tafseel[[#This Row],[بستانکار]]","v":0}]
[null,{"$f":"C194*1000+COUNTIF(C$3:C194,C194)","v":0},null,null,{"$f":"SUMIFS(data[بدهکار],data[کد تفصیل],B194)","v":0},{"$f":"SUMIFS(data[بستانکار],data[کد تفصیل],B194)","v":0},"--",{"$f":"tafseel[[#This Row],[بدهکار]]-tafseel[[#This Row],[بستانکار]]","v":0}]
[null,{"$f":"C195*1000+COUNTIF(C$3:C195,C195)","v":0},null,null,{"$f":"SUMIFS(data[بدهکار],data[کد تفصیل],B195)","v":0},{"$f":"SUMIFS(data[بستانکار],data[کد تفصیل],B195)","v":0},"--",{"$f":"tafseel[[#This Row],[بدهکار]]-tafseel[[#This Row],[بستانکار]]","v":0}]
[null,{"$f":"C196*1000+COUNTIF(C$3:C196,C196)","v":0},null,null,{"$f":"SUMIFS(data[بدهکار],data[کد تفصیل],B196)","v":0},{"$f":"SUMIFS(data[بستانکار],data[کد تفصیل],B196)","v":0},{"$f":"IF(H196=0,\"--\",IF(H196>0,\"بد\",\"بس\"))","v":"--"},{"$f":"tafseel[[#This Row],[بدهکار]]-tafseel[[#This Row],[بستانکار]]","v":0}]
[null,{"$f":"C197*1000+COUNTIF(C$3:C197,C197)","v":0},null,null,{"$f":"SUMIFS(data[بدهکار],data[کد تفصیل],B197)","v":0},{"$f":"SUMIFS(data[بستانکار],data[کد تفصیل],B197)","v":0},"--",{"$f":"tafseel[[#This Row],[بدهکار]]-tafseel[[#This Row],[بستانکار]]","v":0}]
[null,{"$f":"C198*1000+COUNTIF(C$3:C198,C198)","v":0},null,null,{"$f":"SUMIFS(data[بدهکار],data[کد تفصیل],B198)","v":0},{"$f":"SUMIFS(data[بستانکار],data[کد تفصیل],B198)","v":0},"--",{"$f":"tafseel[[#This Row],[بدهکار]]-tafseel[[#This Row],[بستانکار]]","v":0}]
[null,{"$f":"C199*1000+COUNTIF(C$3:C199,C199)","v":0},null,null,{"$f":"SUMIFS(data[بدهکار],data[کد تفصیل],B199)","v":0},{"$f":"SUMIFS(data[بستانکار],data[کد تفصیل],B199)","v":0},"--",{"$f":"tafseel[[#This Row],[بدهکار]]-tafseel[[#This Row],[بستانکار]]","v":0}]
[null,{"$f":"C200*1000+COUNTIF(C$3:C200,C200)","v":0},null,null,{"$f":"SUMIFS(data[بدهکار],data[کد تفصیل],B200)","v":0},{"$f":"SUMIFS(data[بستانکار],data[کد تفصیل],B200)","v":0},"--",{"$f":"tafseel[[#This Row],[بدهکار]]-tafseel[[#This Row],[بستانکار]]","v":0}]
[null,{"$f":"C201*1000+COUNTIF(C$3:C201,C201)","v":0},null,null,{"$f":"SUMIFS(data[بدهکار],data[کد تفصیل],B201)","v":0},{"$f":"SUMIFS(data[بستانکار],data[کد تفصیل],B201)","v":0},"--",{"$f":"tafseel[[#This Row],[بدهکار]]-tafseel[[#This Row],[بستانکار]]","v":0}]
[null,{"$f":"C202*1000+COUNTIF(C$3:C202,C202)","v":0},null,null,{"$f":"SUMIFS(data[بدهکار],data[کد تفصیل],B202)","v":0},{"$f":"SUMIFS(data[بستانکار],data[کد تفصیل],B202)","v":0},"--",{"$f":"tafseel[[#This Row],[بدهکار]]-tafseel[[#This Row],[بستانکار]]","v":0}]
[null,{"$f":"C203*1000+COUNTIF(C$3:C203,C203)","v":0},null,null,{"$f":"SUMIFS(data[بدهکار],data[کد تفصیل],B203)","v":0},{"$f":"SUMIFS(data[بستانکار],data[کد تفصیل],B203)","v":0},"--",{"$f":"tafseel[[#This Row],[بدهکار]]-tafseel[[#This Row],[بستانکار]]","v":0}]
[null,{"$f":"C204*1000+COUNTIF(C$3:C204,C204)","v":0},null,null,{"$f":"SUMIFS(data[بدهکار],data[کد تفصیل],B204)","v":0},{"$f":"SUMIFS(data[بستانکار],data[کد تفصیل],B204)","v":0},"--",{"$f":"tafseel[[#This Row],[بدهکار]]-tafseel[[#This Row],[بستانکار]]","v":0}]
[null,{"$f":"C205*1000+COUNTIF(C$3:C205,C205)","v":0},null,null,{"$f":"SUMIFS(data[بدهکار],data[کد تفصیل],B205)","v":0},{"$f":"SUMIFS(data[بستانکار],data[کد تفصیل],B205)","v":0},"--",{"$f":"tafseel[[#This Row],[بدهکار]]-tafseel[[#This Row],[بستانکار]]","v":0}]
[null,{"$f":"C206*1000+COUNTIF(C$3:C206,C206)","v":0},null,null,{"$f":"SUMIFS(data[بدهکار],data[کد تفصیل],B206)","v":0},{"$f":"SUMIFS(data[بستانکار],data[کد تفصیل],B206)","v":0},"--",{"$f":"tafseel[[#This Row],[بدهکار]]-tafseel[[#This Row],[بستانکار]]","v":0}]
[null,{"$f":"C207*1000+COUNTIF(C$3:C207,C207)","v":0},null,null,{"$f":"SUMIFS(data[بدهکار],data[کد تفصیل],B207)","v":0},{"$f":"SUMIFS(data[بستانکار],data[کد تفصیل],B207)","v":0},"--",{"$f":"tafseel[[#This Row],[بدهکار]]-tafseel[[#This Row],[بستانکار]]","v":0}]
[null,{"$f":"C208*1000+COUNTIF(C$3:C208,C208)","v":0},null,null,{"$f":"SUMIFS(data[بدهکار],data[کد تفصیل],B208)","v":0},{"$f":"SUMIFS(data[بستانکار],data[کد تفصیل],B208)","v":0},"--",{"$f":"tafseel[[#This Row],[بدهکار]]-tafseel[[#This Row],[بستانکار]]","v":0}]
[null,{"$f":"C209*1000+COUNTIF(C$3:C209,C209)","v":0},null,null,{"$f":"SUMIFS(data[بدهکار],data[کد تفصیل],B209)","v":0},{"$f":"SUMIFS(data[بستانکار],data[کد تفصیل],B209)","v":0},"--",{"$f":"tafseel[[#This Row],[بدهکار]]-tafseel[[#This Row],[بستانکار]]","v":0}]
[null,{"$f":"C210*1000+COUNTIF(C$3:C210,C210)","v":0},null,null,{"$f":"SUMIFS(data[بدهکار],data[کد تفصیل],B210)","v":0},{"$f":"SUMIFS(data[بستانکار],data[کد تفصیل],B210)","v":0},"--",{"$f":"tafseel[[#This Row],[بدهکار]]-tafseel[[#This Row],[بستانکار]]","v":0}]
[null,{"$f":"C211*1000+COUNTIF(C$3:C211,C211)","v":0},null,null,{"$f":"SUMIFS(data[بدهکار],data[کد تفصیل],B211)","v":0},{"$f":"SUMIFS(data[بستانکار],data[کد تفصیل],B211)","v":0},"--",{"$f":"tafseel[[#This Row],[بدهکار]]-tafseel[[#This Row],[بستانکار]]","v":0}]
[null,{"$f":"C212*1000+COUNTIF(C$3:C212,C212)","v":0},null,null,{"$f":"SUMIFS(data[بدهکار],data[کد تفصیل],B212)","v":0},{"$f":"SUMIFS(data[بستانکار],data[کد تفصیل],B212)","v":0},"--",{"$f":"tafseel[[#This Row],[بدهکار]]-tafseel[[#This Row],[بستانکار]]","v":0}]
[null,{"$f":"C213*1000+COUNTIF(C$3:C213,C213)","v":0},null,null,{"$f":"SUMIFS(data[بدهکار],data[کد تفصیل],B213)","v":0},{"$f":"SUMIFS(data[بستانکار],data[کد تفصیل],B213)","v":0},"--",{"$f":"tafseel[[#This Row],[بدهکار]]-tafseel[[#This Row],[بستانکار]]","v":0}]
[null,{"$f":"C214*1000+COUNTIF(C$3:C214,C214)","v":0},null,null,{"$f":"SUMIFS(data[بدهکار],data[کد تفصیل],B214)","v":0},{"$f":"SUMIFS(data[بستانکار],data[کد تفصیل],B214)","v":0},"--",{"$f":"tafseel[[#This Row],[بدهکار]]-tafseel[[#This Row],[بستانکار]]","v":0}]
[null,{"$f":"C215*1000+COUNTIF(C$3:C215,C215)","v":0},null,null,{"$f":"SUMIFS(data[بدهکار],data[کد تفصیل],B215)","v":0},{"$f":"SUMIFS(data[بستانکار],data[کد تفصیل],B215)","v":0},"--",{"$f":"tafseel[[#This Row],[بدهکار]]-tafseel[[#This Row],[بستانکار]]","v":0}]
[null,{"$f":"C216*1000+COUNTIF(C$3:C216,C216)","v":0},null,null,{"$f":"SUMIFS(data[بدهکار],data[کد تفصیل],B216)","v":0},{"$f":"SUMIFS(data[بستانکار],data[کد تفصیل],B216)","v":0},"--",{"$f":"tafseel[[#This Row],[بدهکار]]-tafseel[[#This Row],[بستانکار]]","v":0}]
[null,{"$f":"C217*1000+COUNTIF(C$3:C217,C217)","v":0},null,null,{"$f":"SUMIFS(data[بدهکار],data[کد تفصیل],B217)","v":0},{"$f":"SUMIFS(data[بستانکار],data[کد تفصیل],B217)","v":0},"--",{"$f":"tafseel[[#This Row],[بدهکار]]-tafseel[[#This Row],[بستانکار]]","v":0}]
[null,{"$f":"C218*1000+COUNTIF(C$3:C218,C218)","v":0},null,null,{"$f":"SUMIFS(data[بدهکار],data[کد تفصیل],B218)","v":0},{"$f":"SUMIFS(data[بستانکار],data[کد تفصیل],B218)","v":0},"--",{"$f":"tafseel[[#This Row],[بدهکار]]-tafseel[[#This Row],[بستانکار]]","v":0}]
[null,{"$f":"C219*1000+COUNTIF(C$3:C219,C219)","v":0},null,null,{"$f":"SUMIFS(data[بدهکار],data[کد تفصیل],B219)","v":0},{"$f":"SUMIFS(data[بستانکار],data[کد تفصیل],B219)","v":0},"--",{"$f":"tafseel[[#This Row],[بدهکار]]-tafseel[[#This Row],[بستانکار]]","v":0}]
[null,{"$f":"C220*1000+COUNTIF(C$3:C220,C220)","v":0},null,null,{"$f":"SUMIFS(data[بدهکار],data[کد تفصیل],B220)","v":0},{"$f":"SUMIFS(data[بستانکار],data[کد تفصیل],B220)","v":0},"--",{"$f":"tafseel[[#This Row],[بدهکار]]-tafseel[[#This Row],[بستانکار]]","v":0}]
[null,{"$f":"C221*1000+COUNTIF(C$3:C221,C221)","v":0},null,null,{"$f":"SUMIFS(data[بدهکار],data[کد تفصیل],B221)","v":0},{"$f":"SUMIFS(data[بستانکار],data[کد تفصیل],B221)","v":0},"--",{"$f":"tafseel[[#This Row],[بدهکار]]-tafseel[[#This Row],[بستانکار]]","v":0}]
[null,{"$f":"C222*1000+COUNTIF(C$3:C222,C222)","v":0},null,null,{"$f":"SUMIFS(data[بدهکار],data[کد تفصیل],B222)","v":0},{"$f":"SUMIFS(data[بستانکار],data[کد تفصیل],B222)","v":0},"--",{"$f":"tafseel[[#This Row],[بدهکار]]-tafseel[[#This Row],[بستانکار]]","v":0}]
[null,{"$f":"C223*1000+COUNTIF(C$3:C223,C223)","v":0},null,null,{"$f":"SUMIFS(data[بدهکار],data[کد تفصیل],B223)","v":0},{"$f":"SUMIFS(data[بستانکار],data[کد تفصیل],B223)","v":0},"--",{"$f":"tafseel[[#This Row],[بدهکار]]-tafseel[[#This Row],[بستانکار]]","v":0}]
[null,{"$f":"C224*1000+COUNTIF(C$3:C224,C224)","v":0},null,null,{"$f":"SUMIFS(data[بدهکار],data[کد تفصیل],B224)","v":0},{"$f":"SUMIFS(data[بستانکار],data[کد تفصیل],B224)","v":0},"--",{"$f":"tafseel[[#This Row],[بدهکار]]-tafseel[[#This Row],[بستانکار]]","v":0}]
[null,{"$f":"C225*1000+COUNTIF(C$3:C225,C225)","v":0},null,null,{"$f":"SUMIFS(data[بدهکار],data[کد تفصیل],B225)","v":0},{"$f":"SUMIFS(data[بستانکار],data[کد تفصیل],B225)","v":0},"--",{"$f":"tafseel[[#This Row],[بدهکار]]-tafseel[[#This Row],[بستانکار]]","v":0}]
[null,{"$f":"C226*1000+COUNTIF(C$3:C226,C226)","v":0},null,null,{"$f":"SUMIFS(data[بدهکار],data[کد تفصیل],B226)","v":0},{"$f":"SUMIFS(data[بستانکار],data[کد تفصیل],B226)","v":0},"--",{"$f":"tafseel[[#This Row],[بدهکار]]-tafseel[[#This Row],[بستانکار]]","v":0}]
[null,{"$f":"C227*1000+COUNTIF(C$3:C227,C227)","v":0},null,null,{"$f":"SUMIFS(data[بدهکار],data[کد تفصیل],B227)","v":0},{"$f":"SUMIFS(data[بستانکار],data[کد تفصیل],B227)","v":0},"--",{"$f":"tafseel[[#This Row],[بدهکار]]-tafseel[[#This Row],[بستانکار]]","v":0}]
[null,{"$f":"C228*1000+COUNTIF(C$3:C228,C228)","v":0},null,null,{"$f":"SUMIFS(data[بدهکار],data[کد تفصیل],B228)","v":0},{"$f":"SUMIFS(data[بستانکار],data[کد تفصیل],B228)","v":0},"--",{"$f":"tafseel[[#This Row],[بدهکار]]-tafseel[[#This Row],[بستانکار]]","v":0}]
[null,{"$f":"C229*1000+COUNTIF(C$3:C229,C229)","v":0},null,null,{"$f":"SUMIFS(data[بدهکار],data[کد تفصیل],B229)","v":0},{"$f":"SUMIFS(data[بستانکار],data[کد تفصیل],B229)","v":0},"--",{"$f":"tafseel[[#This Row],[بدهکار]]-tafseel[[#This Row],[بستانکار]]","v":0}]
[null,{"$f":"C230*1000+COUNTIF(C$3:C230,C230)","v":0},null,null,{"$f":"SUMIFS(data[بدهکار],data[کد تفصیل],B230)","v":0},{"$f":"SUMIFS(data[بستانکار],data[کد تفصیل],B230)","v":0},"--",{"$f":"tafseel[[#This Row],[بدهکار]]-tafseel[[#This Row],[بستانکار]]","v":0}]
[null,{"$f":"C231*1000+COUNTIF(C$3:C231,C231)","v":0},null,null,{"$f":"SUMIFS(data[بدهکار],data[کد تفصیل],B231)","v":0},{"$f":"SUMIFS(data[بستانکار],data[کد تفصیل],B231)","v":0},"--",{"$f":"tafseel[[#This Row],[بدهکار]]-tafseel[[#This Row],[بستانکار]]","v":0}]
[null,{"$f":"C232*1000+COUNTIF(C$3:C232,C232)","v":0},null,null,{"$f":"SUMIFS(data[بدهکار],data[کد تفصیل],B232)","v":0},{"$f":"SUMIFS(data[بستانکار],data[کد تفصیل],B232)","v":0},"--",{"$f":"tafseel[[#This Row],[بدهکار]]-tafseel[[#This Row],[بستانکار]]","v":0}]
[null,{"$f":"C233*1000+COUNTIF(C$3:C233,C233)","v":0},null,null,{"$f":"SUMIFS(data[بدهکار],data[کد تفصیل],B233)","v":0},{"$f":"SUMIFS(data[بستانکار],data[کد تفصیل],B233)","v":0},"--",{"$f":"tafseel[[#This Row],[بدهکار]]-tafseel[[#This Row],[بستانکار]]","v":0}]
[null,{"$f":"C234*1000+COUNTIF(C$3:C234,C234)","v":0},null,null,{"$f":"SUMIFS(data[بدهکار],data[کد تفصیل],B234)","v":0},{"$f":"SUMIFS(data[بستانکار],data[کد تفصیل],B234)","v":0},"--",{"$f":"tafseel[[#This Row],[بدهکار]]-tafseel[[#This Row],[بستانکار]]","v":0}]
[null,{"$f":"C235*1000+COUNTIF(C$3:C235,C235)","v":0},null,null,{"$f":"SUMIFS(data[بدهکار],data[کد تفصیل],B235)","v":0},{"$f":"SUMIFS(data[بستانکار],data[کد تفصیل],B235)","v":0},"--",{"$f":"tafseel[[#This Row],[بدهکار]]-tafseel[[#This Row],[بستانکار]]","v":0}]
[null,{"$f":"C236*1000+COUNTIF(C$3:C236,C236)","v":0},null,null,{"$f":"SUMIFS(data[بدهکار],data[کد تفصیل],B236)","v":0},{"$f":"SUMIFS(data[بستانکار],data[کد تفصیل],B236)","v":0},"--",{"$f":"tafseel[[#This Row],[بدهکار]]-tafseel[[#This Row],[بستانکار]]","v":0}]
[null,{"$f":"C237*1000+COUNTIF(C$3:C237,C237)","v":0},null,null,{"$f":"SUMIFS(data[بدهکار],data[کد تفصیل],B237)","v":0},{"$f":"SUMIFS(data[بستانکار],data[کد تفصیل],B237)","v":0},"--",{"$f":"tafseel[[#This Row],[بدهکار]]-tafseel[[#This Row],[بستانکار]]","v":0}]
[null,{"$f":"C238*1000+COUNTIF(C$3:C238,C238)","v":0},null,null,{"$f":"SUMIFS(data[بدهکار],data[کد تفصیل],B238)","v":0},{"$f":"SUMIFS(data[بستانکار],data[کد تفصیل],B238)","v":0},"--",{"$f":"tafseel[[#This Row],[بدهکار]]-tafseel[[#This Row],[بستانکار]]","v":0}]
[null,{"$f":"C239*1000+COUNTIF(C$3:C239,C239)","v":0},null,null,{"$f":"SUMIFS(data[بدهکار],data[کد تفصیل],B239)","v":0},{"$f":"SUMIFS(data[بستانکار],data[کد تفصیل],B239)","v":0},"--",{"$f":"tafseel[[#This Row],[بدهکار]]-tafseel[[#This Row],[بستانکار]]","v":0}]
[null,{"$f":"C240*1000+COUNTIF(C$3:C240,C240)","v":0},null,null,{"$f":"SUMIFS(data[بدهکار],data[کد تفصیل],B240)","v":0},{"$f":"SUMIFS(data[بستانکار],data[کد تفصیل],B240)","v":0},"--",{"$f":"tafseel[[#This Row],[بدهکار]]-tafseel[[#This Row],[بستانکار]]","v":0}]
[null,{"$f":"C241*1000+COUNTIF(C$3:C241,C241)","v":0},null,null,{"$f":"SUMIFS(data[بدهکار],data[کد تفصیل],B241)","v":0},{"$f":"SUMIFS(data[بستانکار],data[کد تفصیل],B241)","v":0},"--",{"$f":"tafseel[[#This Row],[بدهکار]]-tafseel[[#This Row],[بستانکار]]","v":0}]
[null,{"$f":"C242*1000+COUNTIF(C$3:C242,C242)","v":0},null,null,{"$f":"SUMIFS(data[بدهکار],data[کد تفصیل],B242)","v":0},{"$f":"SUMIFS(data[بستانکار],data[کد تفصیل],B242)","v":0},"--",{"$f":"tafseel[[#This Row],[بدهکار]]-tafseel[[#This Row],[بستانکار]]","v":0}]
[null,{"$f":"C243*1000+COUNTIF(C$3:C243,C243)","v":0},null,null,{"$f":"SUMIFS(data[بدهکار],data[کد تفصیل],B243)","v":0},{"$f":"SUMIFS(data[بستانکار],data[کد تفصیل],B243)","v":0},"--",{"$f":"tafseel[[#This Row],[بدهکار]]-tafseel[[#This Row],[بستانکار]]","v":0}]
[null,{"$f":"C244*1000+COUNTIF(C$3:C244,C244)","v":0},null,null,{"$f":"SUMIFS(data[بدهکار],data[کد تفصیل],B244)","v":0},{"$f":"SUMIFS(data[بستانکار],data[کد تفصیل],B244)","v":0},"--",{"$f":"tafseel[[#This Row],[بدهکار]]-tafseel[[#This Row],[بستانکار]]","v":0}]
[null,{"$f":"C245*1000+COUNTIF(C$3:C245,C245)","v":0},null,null,{"$f":"SUMIFS(data[بدهکار],data[کد تفصیل],B245)","v":0},{"$f":"SUMIFS(data[بستانکار],data[کد تفصیل],B245)","v":0},"--",{"$f":"tafseel[[#This Row],[بدهکار]]-tafseel[[#This Row],[بستانکار]]","v":0}]
[null,{"$f":"C246*1000+COUNTIF(C$3:C246,C246)","v":0},null,null,{"$f":"SUMIFS(data[بدهکار],data[کد تفصیل],B246)","v":0},{"$f":"SUMIFS(data[بستانکار],data[کد تفصیل],B246)","v":0},"--",{"$f":"tafseel[[#This Row],[بدهکار]]-tafseel[[#This Row],[بستانکار]]","v":0}]
[null,{"$f":"C247*1000+COUNTIF(C$3:C247,C247)","v":0},null,null,{"$f":"SUMIFS(data[بدهکار],data[کد تفصیل],B247)","v":0},{"$f":"SUMIFS(data[بستانکار],data[کد تفصیل],B247)","v":0},"--",{"$f":"tafseel[[#This Row],[بدهکار]]-tafseel[[#This Row],[بستانکار]]","v":0}]
[null,{"$f":"C248*1000+COUNTIF(C$3:C248,C248)","v":0},null,null,{"$f":"SUMIFS(data[بدهکار],data[کد تفصیل],B248)","v":0},{"$f":"SUMIFS(data[بستانکار],data[کد تفصیل],B248)","v":0},"--",{"$f":"tafseel[[#This Row],[بدهکار]]-tafseel[[#This Row],[بستانکار]]","v":0}]
[null,{"$f":"C249*1000+COUNTIF(C$3:C249,C249)","v":0},null,null,{"$f":"SUMIFS(data[بدهکار],data[کد تفصیل],B249)","v":0},{"$f":"SUMIFS(data[بستانکار],data[کد تفصیل],B249)","v":0},"--",{"$f":"tafseel[[#This Row],[بدهکار]]-tafseel[[#This Row],[بستانکار]]","v":0}]
[null,{"$f":"C250*1000+COUNTIF(C$3:C250,C250)","v":0},null,null,{"$f":"SUMIFS(data[بدهکار],data[کد تفصیل],B250)","v":0},{"$f":"SUMIFS(data[بستانکار],data[کد تفصیل],B250)","v":0},"--",{"$f":"tafseel[[#This Row],[بدهکار]]-tafseel[[#This Row],[بستانکار]]","v":0}]
[null,{"$f":"C251*1000+COUNTIF(C$3:C251,C251)","v":0},null,null,{"$f":"SUMIFS(data[بدهکار],data[کد تفصیل],B251)","v":0},{"$f":"SUMIFS(data[بستانکار],data[کد تفصیل],B251)","v":0},"--",{"$f":"tafseel[[#This Row],[بدهکار]]-tafseel[[#This Row],[بستانکار]]","v":0}]
[null,{"$f":"C252*1000+COUNTIF(C$3:C252,C252)","v":0},null,null,{"$f":"SUMIFS(data[بدهکار],data[کد تفصیل],B252)","v":0},{"$f":"SUMIFS(data[بستانکار],data[کد تفصیل],B252)","v":0},"--",{"$f":"tafseel[[#This Row],[بدهکار]]-tafseel[[#This Row],[بستانکار]]","v":0}]
[null,{"$f":"C253*1000+COUNTIF(C$3:C253,C253)","v":0},null,null,{"$f":"SUMIFS(data[بدهکار],data[کد تفصیل],B253)","v":0},{"$f":"SUMIFS(data[بستانکار],data[کد تفصیل],B253)","v":0},"--",{"$f":"tafseel[[#This Row],[بدهکار]]-tafseel[[#This Row],[بستانکار]]","v":0}]
[null,{"$f":"C254*1000+COUNTIF(C$3:C254,C254)","v":0},null,null,{"$f":"SUMIFS(data[بدهکار],data[کد تفصیل],B254)","v":0},{"$f":"SUMIFS(data[بستانکار],data[کد تفصیل],B254)","v":0},"--",{"$f":"tafseel[[#This Row],[بدهکار]]-tafseel[[#This Row],[بستانکار]]","v":0}]
[null,{"$f":"C255*1000+COUNTIF(C$3:C255,C255)","v":0},null,null,{"$f":"SUMIFS(data[بدهکار],data[کد تفصیل],B255)","v":0},{"$f":"SUMIFS(data[بستانکار],data[کد تفصیل],B255)","v":0},"--",{"$f":"tafseel[[#This Row],[بدهکار]]-tafseel[[#This Row],[بستانکار]]","v":0}]
[null,{"$f":"C256*1000+COUNTIF(C$3:C256,C256)","v":0},null,null,{"$f":"SUMIFS(data[بدهکار],data[کد تفصیل],B256)","v":0},{"$f":"SUMIFS(data[بستانکار],data[کد تفصیل],B256)","v":0},"--",{"$f":"tafseel[[#This Row],[بدهکار]]-tafseel[[#This Row],[بستانکار]]","v":0}]
[null,{"$f":"C257*1000+COUNTIF(C$3:C257,C257)","v":0},null,null,{"$f":"SUMIFS(data[بدهکار],data[کد تفصیل],B257)","v":0},{"$f":"SUMIFS(data[بستانکار],data[کد تفصیل],B257)","v":0},"--",{"$f":"tafseel[[#This Row],[بدهکار]]-tafseel[[#This Row],[بستانکار]]","v":0}]
[null,{"$f":"C258*1000+COUNTIF(C$3:C258,C258)","v":0},null,null,{"$f":"SUMIFS(data[بدهکار],data[کد تفصیل],B258)","v":0},{"$f":"SUMIFS(data[بستانکار],data[کد تفصیل],B258)","v":0},"--",{"$f":"tafseel[[#This Row],[بدهکار]]-tafseel[[#This Row],[بستانکار]]","v":0}]
[null,{"$f":"C259*1000+COUNTIF(C$3:C259,C259)","v":0},null,null,{"$f":"SUMIFS(data[بدهکار],data[کد تفصیل],B259)","v":0},{"$f":"SUMIFS(data[بستانکار],data[کد تفصیل],B259)","v":0},"--",{"$f":"tafseel[[#This Row],[بدهکار]]-tafseel[[#This Row],[بستانکار]]","v":0}]
[null,{"$f":"C260*1000+COUNTIF(C$3:C260,C260)","v":0},null,null,{"$f":"SUMIFS(data[بدهکار],data[کد تفصیل],B260)","v":0},{"$f":"SUMIFS(data[بستانکار],data[کد تفصیل],B260)","v":0},{"$f":"IF(H260=0,\"--\",IF(H260>0,\"بد\",\"بس\"))","v":"--"},{"$f":"tafseel[[#This Row],[بدهکار]]-tafseel[[#This Row],[بستانکار]]","v":0}]
[null,{"$f":"C261*1000+COUNTIF(C$3:C261,C261)","v":0},null,null,{"$f":"SUMIFS(data[بدهکار],data[کد تفصیل],B261)","v":0},{"$f":"SUMIFS(data[بستانکار],data[کد تفصیل],B261)","v":0},"--",{"$f":"tafseel[[#This Row],[بدهکار]]-tafseel[[#This Row],[بستانکار]]","v":0}]
[null,{"$f":"C262*1000+COUNTIF(C$3:C262,C262)","v":0},null,null,{"$f":"SUMIFS(data[بدهکار],data[کد تفصیل],B262)","v":0},{"$f":"SUMIFS(data[بستانکار],data[کد تفصیل],B262)","v":0},"--",{"$f":"tafseel[[#This Row],[بدهکار]]-tafseel[[#This Row],[بستانکار]]","v":0}]
[null,{"$f":"C263*1000+COUNTIF(C$3:C263,C263)","v":0},null,null,{"$f":"SUMIFS(data[بدهکار],data[کد تفصیل],B263)","v":0},{"$f":"SUMIFS(data[بستانکار],data[کد تفصیل],B263)","v":0},"--",{"$f":"tafseel[[#This Row],[بدهکار]]-tafseel[[#This Row],[بستانکار]]","v":0}]
[null,{"$f":"C264*1000+COUNTIF(C$3:C264,C264)","v":0},null,null,{"$f":"SUMIFS(data[بدهکار],data[کد تفصیل],B264)","v":0},{"$f":"SUMIFS(data[بستانکار],data[کد تفصیل],B264)","v":0},"--",{"$f":"tafseel[[#This Row],[بدهکار]]-tafseel[[#This Row],[بستانکار]]","v":0}]
[null,{"$f":"C265*1000+COUNTIF(C$3:C265,C265)","v":0},null,null,{"$f":"SUMIFS(data[بدهکار],data[کد تفصیل],B265)","v":0},{"$f":"SUMIFS(data[بستانکار],data[کد تفصیل],B265)","v":0},"--",{"$f":"tafseel[[#This Row],[بدهکار]]-tafseel[[#This Row],[بستانکار]]","v":0}]
[null,{"$f":"C266*1000+COUNTIF(C$3:C266,C266)","v":0},null,null,{"$f":"SUMIFS(data[بدهکار],data[کد تفصیل],B266)","v":0},{"$f":"SUMIFS(data[بستانکار],data[کد تفصیل],B266)","v":0},"--",{"$f":"tafseel[[#This Row],[بدهکار]]-tafseel[[#This Row],[بستانکار]]","v":0}]
[null,{"$f":"C267*1000+COUNTIF(C$3:C267,C267)","v":0},null,null,{"$f":"SUMIFS(data[بدهکار],data[کد تفصیل],B267)","v":0},{"$f":"SUMIFS(data[بستانکار],data[کد تفصیل],B267)","v":0},"--",{"$f":"tafseel[[#This Row],[بدهکار]]-tafseel[[#This Row],[بستانکار]]","v":0}]
[null,{"$f":"C268*1000+COUNTIF(C$3:C268,C268)","v":0},null,null,{"$f":"SUMIFS(data[بدهکار],data[کد تفصیل],B268)","v":0},{"$f":"SUMIFS(data[بستانکار],data[کد تفصیل],B268)","v":0},"--",{"$f":"tafseel[[#This Row],[بدهکار]]-tafseel[[#This Row],[بستانکار]]","v":0}]
[null,{"$f":"C269*1000+COUNTIF(C$3:C269,C269)","v":0},null,null,{"$f":"SUMIFS(data[بدهکار],data[کد تفصیل],B269)","v":0},{"$f":"SUMIFS(data[بستانکار],data[کد تفصیل],B269)","v":0},"--",{"$f":"tafseel[[#This Row],[بدهکار]]-tafseel[[#This Row],[بستانکار]]","v":0}]
[null,{"$f":"C270*1000+COUNTIF(C$3:C270,C270)","v":0},null,null,{"$f":"SUMIFS(data[بدهکار],data[کد تفصیل],B270)","v":0},{"$f":"SUMIFS(data[بستانکار],data[کد تفصیل],B270)","v":0},"--",{"$f":"tafseel[[#This Row],[بدهکار]]-tafseel[[#This Row],[بستانکار]]","v":0}]
[null,{"$f":"C271*1000+COUNTIF(C$3:C271,C271)","v":0},null,null,{"$f":"SUMIFS(data[بدهکار],data[کد تفصیل],B271)","v":0},{"$f":"SUMIFS(data[بستانکار],data[کد تفصیل],B271)","v":0},"--",{"$f":"tafseel[[#This Row],[بدهکار]]-tafseel[[#This Row],[بستانکار]]","v":0}]
[null,{"$f":"C272*1000+COUNTIF(C$3:C272,C272)","v":0},null,null,{"$f":"SUMIFS(data[بدهکار],data[کد تفصیل],B272)","v":0},{"$f":"SUMIFS(data[بستانکار],data[کد تفصیل],B272)","v":0},"--",{"$f":"tafseel[[#This Row],[بدهکار]]-tafseel[[#This Row],[بستانکار]]","v":0}]
[null,{"$f":"C273*1000+COUNTIF(C$3:C273,C273)","v":0},null,null,{"$f":"SUMIFS(data[بدهکار],data[کد تفصیل],B273)","v":0},{"$f":"SUMIFS(data[بستانکار],data[کد تفصیل],B273)","v":0},"--",{"$f":"tafseel[[#This Row],[بدهکار]]-tafseel[[#This Row],[بستانکار]]","v":0}]
[null,{"$f":"C274*1000+COUNTIF(C$3:C274,C274)","v":0},null,null,{"$f":"SUMIFS(data[بدهکار],data[کد تفصیل],B274)","v":0},{"$f":"SUMIFS(data[بستانکار],data[کد تفصیل],B274)","v":0},"--",{"$f":"tafseel[[#This Row],[بدهکار]]-tafseel[[#This Row],[بستانکار]]","v":0}]
[null,{"$f":"C275*1000+COUNTIF(C$3:C275,C275)","v":0},null,null,{"$f":"SUMIFS(data[بدهکار],data[کد تفصیل],B275)","v":0},{"$f":"SUMIFS(data[بستانکار],data[کد تفصیل],B275)","v":0},"--",{"$f":"tafseel[[#This Row],[بدهکار]]-tafseel[[#This Row],[بستانکار]]","v":0}]
[null,{"$f":"C276*1000+COUNTIF(C$3:C276,C276)","v":0},null,null,{"$f":"SUMIFS(data[بدهکار],data[کد تفصیل],B276)","v":0},{"$f":"SUMIFS(data[بستانکار],data[کد تفصیل],B276)","v":0},"--",{"$f":"tafseel[[#This Row],[بدهکار]]-tafseel[[#This Row],[بستانکار]]","v":0}]
[null,{"$f":"C277*1000+COUNTIF(C$3:C277,C277)","v":0},null,null,{"$f":"SUMIFS(data[بدهکار],data[کد تفصیل],B277)","v":0},{"$f":"SUMIFS(data[بستانکار],data[کد تفصیل],B277)","v":0},"--",{"$f":"tafseel[[#This Row],[بدهکار]]-tafseel[[#This Row],[بستانکار]]","v":0}]
[null,{"$f":"C278*1000+COUNTIF(C$3:C278,C278)","v":0},null,null,{"$f":"SUMIFS(data[بدهکار],data[کد تفصیل],B278)","v":0},{"$f":"SUMIFS(data[بستانکار],data[کد تفصیل],B278)","v":0},"--",{"$f":"tafseel[[#This Row],[بدهکار]]-tafseel[[#This Row],[بستانکار]]","v":0}]
[null,{"$f":"C279*1000+COUNTIF(C$3:C279,C279)","v":0},null,null,{"$f":"SUMIFS(data[بدهکار],data[کد تفصیل],B279)","v":0},{"$f":"SUMIFS(data[بستانکار],data[کد تفصیل],B279)","v":0},"--",{"$f":"tafseel[[#This Row],[بدهکار]]-tafseel[[#This Row],[بستانکار]]","v":0}]
[null,{"$f":"C280*1000+COUNTIF(C$3:C280,C280)","v":0},null,null,{"$f":"SUMIFS(data[بدهکار],data[کد تفصیل],B280)","v":0},{"$f":"SUMIFS(data[بستانکار],data[کد تفصیل],B280)","v":0},"--",{"$f":"tafseel[[#This Row],[بدهکار]]-tafseel[[#This Row],[بستانکار]]","v":0}]
[null,{"$f":"C281*1000+COUNTIF(C$3:C281,C281)","v":0},null,null,{"$f":"SUMIFS(data[بدهکار],data[کد تفصیل],B281)","v":0},{"$f":"SUMIFS(data[بستانکار],data[کد تفصیل],B281)","v":0},"--",{"$f":"tafseel[[#This Row],[بدهکار]]-tafseel[[#This Row],[بستانکار]]","v":0}]
[null,{"$f":"C282*1000+COUNTIF(C$3:C282,C282)","v":0},null,null,{"$f":"SUMIFS(data[بدهکار],data[کد تفصیل],B282)","v":0},{"$f":"SUMIFS(data[بستانکار],data[کد تفصیل],B282)","v":0},"--",{"$f":"tafseel[[#This Row],[بدهکار]]-tafseel[[#This Row],[بستانکار]]","v":0}]
[null,{"$f":"C283*1000+COUNTIF(C$3:C283,C283)","v":0},null,null,{"$f":"SUMIFS(data[بدهکار],data[کد تفصیل],B283)","v":0},{"$f":"SUMIFS(data[بستانکار],data[کد تفصیل],B283)","v":0},"--",{"$f":"tafseel[[#This Row],[بدهکار]]-tafseel[[#This Row],[بستانکار]]","v":0}]
[null,{"$f":"C284*1000+COUNTIF(C$3:C284,C284)","v":0},null,null,{"$f":"SUMIFS(data[بدهکار],data[کد تفصیل],B284)","v":0},{"$f":"SUMIFS(data[بستانکار],data[کد تفصیل],B284)","v":0},"--",{"$f":"tafseel[[#This Row],[بدهکار]]-tafseel[[#This Row],[بستانکار]]","v":0}]
[null,{"$f":"C285*1000+COUNTIF(C$3:C285,C285)","v":0},null,null,{"$f":"SUMIFS(data[بدهکار],data[کد تفصیل],B285)","v":0},{"$f":"SUMIFS(data[بستانکار],data[کد تفصیل],B285)","v":0},"--",{"$f":"tafseel[[#This Row],[بدهکار]]-tafseel[[#This Row],[بستانکار]]","v":0}]
[null,{"$f":"C286*1000+COUNTIF(C$3:C286,C286)","v":0},null,null,{"$f":"SUMIFS(data[بدهکار],data[کد تفصیل],B286)","v":0},{"$f":"SUMIFS(data[بستانکار],data[کد تفصیل],B286)","v":0},"--",{"$f":"tafseel[[#This Row],[بدهکار]]-tafseel[[#This Row],[بستانکار]]","v":0}]
[null,{"$f":"C287*1000+COUNTIF(C$3:C287,C287)","v":0},null,null,{"$f":"SUMIFS(data[بدهکار],data[کد تفصیل],B287)","v":0},{"$f":"SUMIFS(data[بستانکار],data[کد تفصیل],B287)","v":0},"--",{"$f":"tafseel[[#This Row],[بدهکار]]-tafseel[[#This Row],[بستانکار]]","v":0}]
[null,{"$f":"C288*1000+COUNTIF(C$3:C288,C288)","v":0},null,null,{"$f":"SUMIFS(data[بدهکار],data[کد تفصیل],B288)","v":0},{"$f":"SUMIFS(data[بستانکار],data[کد تفصیل],B288)","v":0},"--",{"$f":"tafseel[[#This Row],[بدهکار]]-tafseel[[#This Row],[بستانکار]]","v":0}]
[null,{"$f":"C289*1000+COUNTIF(C$3:C289,C289)","v":0},null,null,{"$f":"SUMIFS(data[بدهکار],data[کد تفصیل],B289)","v":0},{"$f":"SUMIFS(data[بستانکار],data[کد تفصیل],B289)","v":0},"--",{"$f":"tafseel[[#This Row],[بدهکار]]-tafseel[[#This Row],[بستانکار]]","v":0}]
[null,{"$f":"C290*1000+COUNTIF(C$3:C290,C290)","v":0},null,null,{"$f":"SUMIFS(data[بدهکار],data[کد تفصیل],B290)","v":0},{"$f":"SUMIFS(data[بستانکار],data[کد تفصیل],B290)","v":0},"--",{"$f":"tafseel[[#This Row],[بدهکار]]-tafseel[[#This Row],[بستانکار]]","v":0}]
[null,{"$f":"C291*1000+COUNTIF(C$3:C291,C291)","v":0},null,null,{"$f":"SUMIFS(data[بدهکار],data[کد تفصیل],B291)","v":0},{"$f":"SUMIFS(data[بستانکار],data[کد تفصیل],B291)","v":0},"--",{"$f":"tafseel[[#This Row],[بدهکار]]-tafseel[[#This Row],[بستانکار]]","v":0}]
[null,{"$f":"C292*1000+COUNTIF(C$3:C292,C292)","v":0},null,null,{"$f":"SUMIFS(data[بدهکار],data[کد تفصیل],B292)","v":0},{"$f":"SUMIFS(data[بستانکار],data[کد تفصیل],B292)","v":0},"--",{"$f":"tafseel[[#This Row],[بدهکار]]-tafseel[[#This Row],[بستانکار]]","v":0}]
[null,{"$f":"C293*1000+COUNTIF(C$3:C293,C293)","v":0},null,null,{"$f":"SUMIFS(data[بدهکار],data[کد تفصیل],B293)","v":0},{"$f":"SUMIFS(data[بستانکار],data[کد تفصیل],B293)","v":0},"--",{"$f":"tafseel[[#This Row],[بدهکار]]-tafseel[[#This Row],[بستانکار]]","v":0}]
[null,{"$f":"C294*1000+COUNTIF(C$3:C294,C294)","v":0},null,null,{"$f":"SUMIFS(data[بدهکار],data[کد تفصیل],B294)","v":0},{"$f":"SUMIFS(data[بستانکار],data[کد تفصیل],B294)","v":0},"--",{"$f":"tafseel[[#This Row],[بدهکار]]-tafseel[[#This Row],[بستانکار]]","v":0}]
[null,{"$f":"C295*1000+COUNTIF(C$3:C295,C295)","v":0},null,null,{"$f":"SUMIFS(data[بدهکار],data[کد تفصیل],B295)","v":0},{"$f":"SUMIFS(data[بستانکار],data[کد تفصیل],B295)","v":0},"--",{"$f":"tafseel[[#This Row],[بدهکار]]-tafseel[[#This Row],[بستانکار]]","v":0}]
[null,{"$f":"C296*1000+COUNTIF(C$3:C296,C296)","v":0},null,null,{"$f":"SUMIFS(data[بدهکار],data[کد تفصیل],B296)","v":0},{"$f":"SUMIFS(data[بستانکار],data[کد تفصیل],B296)","v":0},"--",{"$f":"tafseel[[#This Row],[بدهکار]]-tafseel[[#This Row],[بستانکار]]","v":0}]
[null,{"$f":"C297*1000+COUNTIF(C$3:C297,C297)","v":0},null,null,{"$f":"SUMIFS(data[بدهکار],data[کد تفصیل],B297)","v":0},{"$f":"SUMIFS(data[بستانکار],data[کد تفصیل],B297)","v":0},"--",{"$f":"tafseel[[#This Row],[بدهکار]]-tafseel[[#This Row],[بستانکار]]","v":0}]
[null,{"$f":"C298*1000+COUNTIF(C$3:C298,C298)","v":0},null,null,{"$f":"SUMIFS(data[بدهکار],data[کد تفصیل],B298)","v":0},{"$f":"SUMIFS(data[بستانکار],data[کد تفصیل],B298)","v":0},"--",{"$f":"tafseel[[#This Row],[بدهکار]]-tafseel[[#This Row],[بستانکار]]","v":0}]
[null,{"$f":"C299*1000+COUNTIF(C$3:C299,C299)","v":0},null,null,{"$f":"SUMIFS(data[بدهکار],data[کد تفصیل],B299)","v":0},{"$f":"SUMIFS(data[بستانکار],data[کد تفصیل],B299)","v":0},"--",{"$f":"tafseel[[#This Row],[بدهکار]]-tafseel[[#This Row],[بستانکار]]","v":0}]
[null,{"$f":"C300*1000+COUNTIF(C$3:C300,C300)","v":0},null,null,{"$f":"SUMIFS(data[بدهکار],data[کد تفصیل],B300)","v":0},{"$f":"SUMIFS(data[بستانکار],data[کد تفصیل],B300)","v":0},"--",{"$f":"tafseel[[#This Row],[بدهکار]]-tafseel[[#This Row],[بستانکار]]","v":0}]
[null,{"$f":"C301*1000+COUNTIF(C$3:C301,C301)","v":0},null,null,{"$f":"SUMIFS(data[بدهکار],data[کد تفصیل],B301)","v":0},{"$f":"SUMIFS(data[بستانکار],data[کد تفصیل],B301)","v":0},"--",{"$f":"tafseel[[#This Row],[بدهکار]]-tafseel[[#This Row],[بستانکار]]","v":0}]
[null,{"$f":"C302*1000+COUNTIF(C$3:C302,C302)","v":0},null,null,{"$f":"SUMIFS(data[بدهکار],data[کد تفصیل],B302)","v":0},{"$f":"SUMIFS(data[بستانکار],data[کد تفصیل],B302)","v":0},"--",{"$f":"tafseel[[#This Row],[بدهکار]]-tafseel[[#This Row],[بستانکار]]","v":0}]
[null,{"$f":"C303*1000+COUNTIF(C$3:C303,C303)","v":0},null,null,{"$f":"SUMIFS(data[بدهکار],data[کد تفصیل],B303)","v":0},{"$f":"SUMIFS(data[بستانکار],data[کد تفصیل],B303)","v":0},"--",{"$f":"tafseel[[#This Row],[بدهکار]]-tafseel[[#This Row],[بستانکار]]","v":0}]

{"sheet":"کنترل روزانه","index":6,"n_rows":35,"n_cols":7,"rows_kept":35,"cut":false,"hidden":false,"merged":[[1,1,1,2]]}
[]
[null,"روز ابتدای ماه :",null,"1394/03/01"]
[]
[null,"تاریخ","روز","بدهکار","بستانکار","اختلاف","نوع"]
[0,{"$f":"J_ADDDAY(D$2,A5,1)","v":"1394/03/01"},{"$f":"J_WEEKDAY(B5,1)","v":"جمعه"},{"$f":"SUMIFS(data[بدهکار],data[تاریخ],B5)","v":0},{"$f":"SUMIFS(data[بستانکار],data[تاریخ],B5)","v":0},{"$f":"IF(D5=E5,\"---\",IF(D5>E5,D5-E5,E5-D5))","v":"---"},{"$f":"IF(D5=E5,\"---\",IF(D5>E5,\"بدهکار\",\"بستانکار\"))","v":"---"}]
[1,"1394/03/02",{"$f":"J_WEEKDAY(B6,1)","v":"شنبه"},{"$f":"SUMIFS(data[بدهکار],data[تاریخ],B6)","v":0},{"$f":"SUMIFS(data[بستانکار],data[تاریخ],B6)","v":0},{"$f":"IF(D6=E6,\"---\",IF(D6>E6,D6-E6,E6-D6))","v":"---"},{"$f":"IF(D6=E6,\"---\",IF(D6>E6,\"بدهکار\",\"بستانکار\"))","v":"---"}]
[2,"1394/03/03","یکشنبه",{"$f":"SUMIFS(data[بدهکار],data[تاریخ],B7)","v":0},{"$f":"SUMIFS(data[بستانکار],data[تاریخ],B7)","v":0},"---","---"]
[3,"1394/03/04","دوشنبه",{"$f":"SUMIFS(data[بدهکار],data[تاریخ],B8)","v":0},{"$f":"SUMIFS(data[بستانکار],data[تاریخ],B8)","v":0},"---","---"]
[4,"1394/03/05","سه شنبه",{"$f":"SUMIFS(data[بدهکار],data[تاریخ],B9)","v":0},{"$f":"SUMIFS(data[بستانکار],data[تاریخ],B9)","v":0},"---","---"]
[5,"1394/03/06","چهارشنبه",{"$f":"SUMIFS(data[بدهکار],data[تاریخ],B10)","v":0},{"$f":"SUMIFS(data[بستانکار],data[تاریخ],B10)","v":0},"---","---"]
[6,"1394/03/07","پنجشنبه",{"$f":"SUMIFS(data[بدهکار],data[تاریخ],B11)","v":0},{"$f":"SUMIFS(data[بستانکار],data[تاریخ],B11)","v":0},"---","---"]
[7,"1394/03/08","جمعه",{"$f":"SUMIFS(data[بدهکار],data[تاریخ],B12)","v":0},{"$f":"SUMIFS(data[بستانکار],data[تاریخ],B12)","v":0},"---","---"]
[8,"1394/03/09","شنبه",{"$f":"SUMIFS(data[بدهکار],data[تاریخ],B13)","v":0},{"$f":"SUMIFS(data[بستانکار],data[تاریخ],B13)","v":0},"---","---"]
[9,"1394/03/10","یکشنبه",{"$f":"SUMIFS(data[بدهکار],data[تاریخ],B14)","v":0},{"$f":"SUMIFS(data[بستانکار],data[تاریخ],B14)","v":0},"---","---"]
[10,"1394/03/11","دوشنبه",{"$f":"SUMIFS(data[بدهکار],data[تاریخ],B15)","v":0},{"$f":"SUMIFS(data[بستانکار],data[تاریخ],B15)","v":0},"---","---"]
[11,"1394/03/12","سه شنبه",{"$f":"SUMIFS(data[بدهکار],data[تاریخ],B16)","v":0},{"$f":"SUMIFS(data[بستانکار],data[تاریخ],B16)","v":0},"---","---"]
[12,"1394/03/13","چهارشنبه",{"$f":"SUMIFS(data[بدهکار],data[تاریخ],B17)","v":0},{"$f":"SUMIFS(data[بستانکار],data[تاریخ],B17)","v":0},"---","---"]
[13,"1394/03/14","پنجشنبه",{"$f":"SUMIFS(data[بدهکار],data[تاریخ],B18)","v":0},{"$f":"SUMIFS(data[بستانکار],data[تاریخ],B18)","v":0},"---","---"]
[14,"1394/03/15","جمعه",{"$f":"SUMIFS(data[بدهکار],data[تاریخ],B19)","v":0},{"$f":"SUMIFS(data[بستانکار],data[تاریخ],B19)","v":0},"---","---"]
[15,"1394/03/16","شنبه",{"$f":"SUMIFS(data[بدهکار],data[تاریخ],B20)","v":0},{"$f":"SUMIFS(data[بستانکار],data[تاریخ],B20)","v":0},"---","---"]
[16,"1394/03/17","یکشنبه",{"$f":"SUMIFS(data[بدهکار],data[تاریخ],B21)","v":0},{"$f":"SUMIFS(data[بستانکار],data[تاریخ],B21)","v":0},"---","---"]
[17,"1394/03/18","دوشنبه",{"$f":"SUMIFS(data[بدهکار],data[تاریخ],B22)","v":0},{"$f":"SUMIFS(data[بستانکار],data[تاریخ],B22)","v":0},"---","---"]
[18,"1394/03/19","سه شنبه",{"$f":"SUMIFS(data[بدهکار],data[تاریخ],B23)","v":0},{"$f":"SUMIFS(data[بستانکار],data[تاریخ],B23)","v":0},"---","---"]
[19,"1394/03/20","چهارشنبه",{"$f":"SUMIFS(data[بدهکار],data[تاریخ],B24)","v":0},{"$f":"SUMIFS(data[بستانکار],data[تاریخ],B24)","v":0},"---","---"]
[20,"1394/03/21","پنجشنبه",{"$f":"SUMIFS(data[بدهکار],data[تاریخ],B25)","v":0},{"$f":"SUMIFS(data[بستانکار],data[تاریخ],B25)","v":0},"---","---"]
[21,"1394/03/22","جمعه",{"$f":"SUMIFS(data[بدهکار],data[تاریخ],B26)","v":0},{"$f":"SUMIFS(data[بستانکار],data[تاریخ],B26)","v":0},"---","---"]
[22,"1394/03/23","شنبه",{"$f":"SUMIFS(data[بدهکار],data[تاریخ],B27)","v":0},{"$f":"SUMIFS(data[بستانکار],data[تاریخ],B27)","v":0},"---","---"]
[23,"1394/03/24","یکشنبه",{"$f":"SUMIFS(data[بدهکار],data[تاریخ],B28)","v":0},{"$f":"SUMIFS(data[بستانکار],data[تاریخ],B28)","v":0},"---","---"]
[24,"1394/03/25","دوشنبه",{"$f":"SUMIFS(data[بدهکار],data[تاریخ],B29)","v":0},{"$f":"SUMIFS(data[بستانکار],data[تاریخ],B29)","v":0},"---","---"]
[25,"1394/03/26","سه شنبه",{"$f":"SUMIFS(data[بدهکار],data[تاریخ],B30)","v":0},{"$f":"SUMIFS(data[بستانکار],data[تاریخ],B30)","v":0},"---","---"]
[26,"1394/03/27","چهارشنبه",{"$f":"SUMIFS(data[بدهکار],data[تاریخ],B31)","v":0},{"$f":"SUMIFS(data[بستانکار],data[تاریخ],B31)","v":0},"---","---"]
[27,"1394/03/28","پنجشنبه",{"$f":"SUMIFS(data[بدهکار],data[تاریخ],B32)","v":0},{"$f":"SUMIFS(data[بستانکار],data[تاریخ],B32)","v":0},"---","---"]
[28,"1394/03/29","جمعه",{"$f":"SUMIFS(data[بدهکار],data[تاریخ],B33)","v":0},{"$f":"SUMIFS(data[بستانکار],data[تاریخ],B33)","v":0},"---","---"]
[29,"1394/03/30","شنبه",{"$f":"SUMIFS(data[بدهکار],data[تاریخ],B34)","v":0},{"$f":"SUMIFS(data[بستانکار],data[تاریخ],B34)","v":0},"---","---"]
[30,"1394/03/31","یکشنبه",{"$f":"SUMIFS(data[بدهکار],data[تاریخ],B35)","v":0},{"$f":"SUMIFS(data[بستانکار],data[تاریخ],B35)","v":0},"---","---"]

{"sheet":"گزارش ماهانه","index":7,"n_rows":321,"n_cols":6,"rows_kept":321,"cut":false,"hidden":false,"merged":[]}
[]
[]
[null,"شماره :","شرکت نمونه","از تاریخ :","1394/01/01"]
[null,null,"گزارش ماهانه حسابداری","تا تاریخ :","1394/12/29"]
[]
[null,"کد","عنوان حساب کل","بدهکار","بستانکار","چاپ"]
[null,1110,{"$f":"VLOOKUP(B7,koli,2,FALSE)","v":"موجودی نقد و بانک"},{"$f":"IF(COUNTIF(B$6:B7,B7)=1,SUMIFS(data[بدهکار],data[کل],B7,data[تاریخ],\">=\"&E$3,data[تاریخ],\"<=\"&E$4),0)","v":0},{"$f":"IF(COUNTIF(B$6:B7,B7)=2,SUMIFS(data[بستانکار],data[کل],B7,data[تاریخ],\">=\"&E$3,data[تاریخ],\"<=\"&E$4),0)","v":0},{"$f":"D7+E7","v":0}]
[null,1111,"سپرده های کوتاه مدت",{"$f":"IF(COUNTIF(B$6:B8,B8)=1,SUMIFS(data[بدهکار],data[کل],B8,data[تاریخ],\">=\"&E$3,data[تاریخ],\"<=\"&E$4),0)","v":0},{"$f":"IF(COUNTIF(B$6:B8,B8)=2,SUMIFS(data[بستانکار],data[کل],B8,data[تاریخ],\">=\"&E$3,data[تاریخ],\"<=\"&E$4),0)","v":0},{"$f":"D8+E8","v":0}]
[null,1112,"اسناد دریافتنی",{"$f":"IF(COUNTIF(B$6:B9,B9)=1,SUMIFS(data[بدهکار],data[کل],B9,data[تاریخ],\">=\"&E$3,data[تاریخ],\"<=\"&E$4),0)","v":0},{"$f":"IF(COUNTIF(B$6:B9,B9)=2,SUMIFS(data[بستانکار],data[کل],B9,data[تاریخ],\">=\"&E$3,data[تاریخ],\"<=\"&E$4),0)","v":0},{"$f":"D9+E9","v":0}]
[null,1113,"حسابهای دریافتنی تجاری",{"$f":"IF(COUNTIF(B$6:B10,B10)=1,SUMIFS(data[بدهکار],data[کل],B10,data[تاریخ],\">=\"&E$3,data[تاریخ],\"<=\"&E$4),0)","v":0},{"$f":"IF(COUNTIF(B$6:B10,B10)=2,SUMIFS(data[بستانکار],data[کل],B10,data[تاریخ],\">=\"&E$3,data[تاریخ],\"<=\"&E$4),0)","v":0},0]
[null,1114,"سایر حسابهای دریافتنی",{"$f":"IF(COUNTIF(B$6:B11,B11)=1,SUMIFS(data[بدهکار],data[کل],B11,data[تاریخ],\">=\"&E$3,data[تاریخ],\"<=\"&E$4),0)","v":0},{"$f":"IF(COUNTIF(B$6:B11,B11)=2,SUMIFS(data[بستانکار],data[کل],B11,data[تاریخ],\">=\"&E$3,data[تاریخ],\"<=\"&E$4),0)","v":0},0]
[null,1115,"سرمایه گذاری های کوتاه مدت",{"$f":"IF(COUNTIF(B$6:B12,B12)=1,SUMIFS(data[بدهکار],data[کل],B12,data[تاریخ],\">=\"&E$3,data[تاریخ],\"<=\"&E$4),0)","v":0},{"$f":"IF(COUNTIF(B$6:B12,B12)=2,SUMIFS(data[بستانکار],data[کل],B12,data[تاریخ],\">=\"&E$3,data[تاریخ],\"<=\"&E$4),0)","v":0},0]
[null,1116,"موجودی مواد و کالا",{"$f":"IF(COUNTIF(B$6:B13,B13)=1,SUMIFS(data[بدهکار],data[کل],B13,data[تاریخ],\">=\"&E$3,data[تاریخ],\"<=\"&E$4),0)","v":0},{"$f":"IF(COUNTIF(B$6:B13,B13)=2,SUMIFS(data[بستانکار],data[کل],B13,data[تاریخ],\">=\"&E$3,data[تاریخ],\"<=\"&E$4),0)","v":0},0]
[null,1117,"کار درجریان ساخت",{"$f":"IF(COUNTIF(B$6:B14,B14)=1,SUMIFS(data[بدهکار],data[کل],B14,data[تاریخ],\">=\"&E$3,data[تاریخ],\"<=\"&E$4),0)","v":0},{"$f":"IF(COUNTIF(B$6:B14,B14)=2,SUMIFS(data[بستانکار],data[کل],B14,data[تاریخ],\">=\"&E$3,data[تاریخ],\"<=\"&E$4),0)","v":0},0]
[null,1118,"سفارشات و اقلام در راه",{"$f":"IF(COUNTIF(B$6:B15,B15)=1,SUMIFS(data[بدهکار],data[کل],B15,data[تاریخ],\">=\"&E$3,data[تاریخ],\"<=\"&E$4),0)","v":0},{"$f":"IF(COUNTIF(B$6:B15,B15)=2,SUMIFS(data[بستانکار],data[کل],B15,data[تاریخ],\">=\"&E$3,data[تاریخ],\"<=\"&E$4),0)","v":0},0]
[null,1119,"پیش پرداختها",{"$f":"IF(COUNTIF(B$6:B16,B16)=1,SUMIFS(data[بدهکار],data[کل],B16,data[تاریخ],\">=\"&E$3,data[تاریخ],\"<=\"&E$4),0)","v":0},{"$f":"IF(COUNTIF(B$6:B16,B16)=2,SUMIFS(data[بستانکار],data[کل],B16,data[تاریخ],\">=\"&E$3,data[تاریخ],\"<=\"&E$4),0)","v":0},0]
[null,1120,0,{"$f":"IF(COUNTIF(B$6:B17,B17)=1,SUMIFS(data[بدهکار],data[کل],B17,data[تاریخ],\">=\"&E$3,data[تاریخ],\"<=\"&E$4),0)","v":0},{"$f":"IF(COUNTIF(B$6:B17,B17)=2,SUMIFS(data[بستانکار],data[کل],B17,data[تاریخ],\">=\"&E$3,data[تاریخ],\"<=\"&E$4),0)","v":0},0]
[null,1210,"اموال ، ماشین آلات و تجهیزات",{"$f":"IF(COUNTIF(B$6:B18,B18)=1,SUMIFS(data[بدهکار],data[کل],B18,data[تاریخ],\">=\"&E$3,data[تاریخ],\"<=\"&E$4),0)","v":0},{"$f":"IF(COUNTIF(B$6:B18,B18)=2,SUMIFS(data[بستانکار],data[کل],B18,data[تاریخ],\">=\"&E$3,data[تاریخ],\"<=\"&E$4),0)","v":0},0]
[null,1211,"استهلاک انباشته اموال ، ماشین آلات و تجهیزات",{"$f":"IF(COUNTIF(B$6:B19,B19)=1,SUMIFS(data[بدهکار],data[کل],B19,data[تاریخ],\">=\"&E$3,data[تاریخ],\"<=\"&E$4),0)","v":0},{"$f":"IF(COUNTIF(B$6:B19,B19)=2,SUMIFS(data[بستانکار],data[کل],B19,data[تاریخ],\">=\"&E$3,data[تاریخ],\"<=\"&E$4),0)","v":0},0]
[null,1212,"زمین و املاک",{"$f":"IF(COUNTIF(B$6:B20,B20)=1,SUMIFS(data[بدهکار],data[کل],B20,data[تاریخ],\">=\"&E$3,data[تاریخ],\"<=\"&E$4),0)","v":0},{"$f":"IF(COUNTIF(B$6:B20,B20)=2,SUMIFS(data[بستانکار],data[کل],B20,data[تاریخ],\">=\"&E$3,data[تاریخ],\"<=\"&E$4),0)","v":0},0]
[null,1213,"دارائیهای ثابت در جریان تکمیل",{"$f":"IF(COUNTIF(B$6:B21,B21)=1,SUMIFS(data[بدهکار],data[کل],B21,data[تاریخ],\">=\"&E$3,data[تاریخ],\"<=\"&E$4),0)","v":0},{"$f":"IF(COUNTIF(B$6:B21,B21)=2,SUMIFS(data[بستانکار],data[کل],B21,data[تاریخ],\">=\"&E$3,data[تاریخ],\"<=\"&E$4),0)","v":0},0]
[null,1214,"سرمایه کذاری های بلند مدت",{"$f":"IF(COUNTIF(B$6:B22,B22)=1,SUMIFS(data[بدهکار],data[کل],B22,data[تاریخ],\">=\"&E$3,data[تاریخ],\"<=\"&E$4),0)","v":0},{"$f":"IF(COUNTIF(B$6:B22,B22)=2,SUMIFS(data[بستانکار],data[کل],B22,data[تاریخ],\">=\"&E$3,data[تاریخ],\"<=\"&E$4),0)","v":0},0]
[null,1215,"سپرده هاو مطالبات بلند مدت",{"$f":"IF(COUNTIF(B$6:B23,B23)=1,SUMIFS(data[بدهکار],data[کل],B23,data[تاریخ],\">=\"&E$3,data[تاریخ],\"<=\"&E$4),0)","v":0},{"$f":"IF(COUNTIF(B$6:B23,B23)=2,SUMIFS(data[بستانکار],data[کل],B23,data[تاریخ],\">=\"&E$3,data[تاریخ],\"<=\"&E$4),0)","v":0},0]
[null,1216,"هزینه سنوات آتی (مخارج انتقالی به آتی)",{"$f":"IF(COUNTIF(B$6:B24,B24)=1,SUMIFS(data[بدهکار],data[کل],B24,data[تاریخ],\">=\"&E$3,data[تاریخ],\"<=\"&E$4),0)","v":0},{"$f":"IF(COUNTIF(B$6:B24,B24)=2,SUMIFS(data[بستانکار],data[کل],B24,data[تاریخ],\">=\"&E$3,data[تاریخ],\"<=\"&E$4),0)","v":0},0]
[null,1217,"سایر دارائیها",{"$f":"IF(COUNTIF(B$6:B25,B25)=1,SUMIFS(data[بدهکار],data[کل],B25,data[تاریخ],\">=\"&E$3,data[تاریخ],\"<=\"&E$4),0)","v":0},{"$f":"IF(COUNTIF(B$6:B25,B25)=2,SUMIFS(data[بستانکار],data[کل],B25,data[تاریخ],\">=\"&E$3,data[تاریخ],\"<=\"&E$4),0)","v":0},0]
[null,1218,0,{"$f":"IF(COUNTIF(B$6:B26,B26)=1,SUMIFS(data[بدهکار],data[کل],B26,data[تاریخ],\">=\"&E$3,data[تاریخ],\"<=\"&E$4),0)","v":0},{"$f":"IF(COUNTIF(B$6:B26,B26)=2,SUMIFS(data[بستانکار],data[کل],B26,data[تاریخ],\">=\"&E$3,data[تاریخ],\"<=\"&E$4),0)","v":0},0]
[null,1219,0,{"$f":"IF(COUNTIF(B$6:B27,B27)=1,SUMIFS(data[بدهکار],data[کل],B27,data[تاریخ],\">=\"&E$3,data[تاریخ],\"<=\"&E$4),0)","v":0},{"$f":"IF(COUNTIF(B$6:B27,B27)=2,SUMIFS(data[بستانکار],data[کل],B27,data[تاریخ],\">=\"&E$3,data[تاریخ],\"<=\"&E$4),0)","v":0},0]
[null,1220,0,{"$f":"IF(COUNTIF(B$6:B28,B28)=1,SUMIFS(data[بدهکار],data[کل],B28,data[تاریخ],\">=\"&E$3,data[تاریخ],\"<=\"&E$4),0)","v":0},{"$f":"IF(COUNTIF(B$6:B28,B28)=2,SUMIFS(data[بستانکار],data[کل],B28,data[تاریخ],\">=\"&E$3,data[تاریخ],\"<=\"&E$4),0)","v":0},0]
[null,1310,"حسابهای پرداختنی تجاری",{"$f":"IF(COUNTIF(B$6:B29,B29)=1,SUMIFS(data[بدهکار],data[کل],B29,data[تاریخ],\">=\"&E$3,data[تاریخ],\"<=\"&E$4),0)","v":0},{"$f":"IF(COUNTIF(B$6:B29,B29)=2,SUMIFS(data[بستانکار],data[کل],B29,data[تاریخ],\">=\"&E$3,data[تاریخ],\"<=\"&E$4),0)","v":0},0]
[null,1311,"اسناد پرداختنی کوتاه مدت",{"$f":"IF(COUNTIF(B$6:B30,B30)=1,SUMIFS(data[بدهکار],data[کل],B30,data[تاریخ],\">=\"&E$3,data[تاریخ],\"<=\"&E$4),0)","v":0},{"$f":"IF(COUNTIF(B$6:B30,B30)=2,SUMIFS(data[بستانکار],data[کل],B30,data[تاریخ],\">=\"&E$3,data[تاریخ],\"<=\"&E$4),0)","v":0},0]
[null,1312,"سایر حسابهای پرداختنی",{"$f":"IF(COUNTIF(B$6:B31,B31)=1,SUMIFS(data[بدهکار],data[کل],B31,data[تاریخ],\">=\"&E$3,data[تاریخ],\"<=\"&E$4),0)","v":0},{"$f":"IF(COUNTIF(B$6:B31,B31)=2,SUMIFS(data[بستانکار],data[کل],B31,data[تاریخ],\">=\"&E$3,data[تاریخ],\"<=\"&E$4),0)","v":0},0]
[null,1313,"سپرده های دریافتی",{"$f":"IF(COUNTIF(B$6:B32,B32)=1,SUMIFS(data[بدهکار],data[کل],B32,data[تاریخ],\">=\"&E$3,data[تاریخ],\"<=\"&E$4),0)","v":0},{"$f":"IF(COUNTIF(B$6:B32,B32)=2,SUMIFS(data[بستانکار],data[کل],B32,data[تاریخ],\">=\"&E$3,data[تاریخ],\"<=\"&E$4),0)","v":0},0]
[null,1314,"پیش دریافتها",{"$f":"IF(COUNTIF(B$6:B33,B33)=1,SUMIFS(data[بدهکار],data[کل],B33,data[تاریخ],\">=\"&E$3,data[تاریخ],\"<=\"&E$4),0)","v":0},{"$f":"IF(COUNTIF(B$6:B33,B33)=2,SUMIFS(data[بستانکار],data[کل],B33,data[تاریخ],\">=\"&E$3,data[تاریخ],\"<=\"&E$4),0)","v":0},0]
[null,1315,"ذخیره مالیات",{"$f":"IF(COUNTIF(B$6:B34,B34)=1,SUMIFS(data[بدهکار],data[کل],B34,data[تاریخ],\">=\"&E$3,data[تاریخ],\"<=\"&E$4),0)","v":0},{"$f":"IF(COUNTIF(B$6:B34,B34)=2,SUMIFS(data[بستانکار],data[کل],B34,data[تاریخ],\">=\"&E$3,data[تاریخ],\"<=\"&E$4),0)","v":0},0]
[null,1316,"سود سهام پیشنهادی و پرداختنی",{"$f":"IF(COUNTIF(B$6:B35,B35)=1,SUMIFS(data[بدهکار],data[کل],B35,data[تاریخ],\">=\"&E$3,data[تاریخ],\"<=\"&E$4),0)","v":0},{"$f":"IF(COUNTIF(B$6:B35,B35)=2,SUMIFS(data[بستانکار],data[کل],B35,data[تاریخ],\">=\"&E$3,data[تاریخ],\"<=\"&E$4),0)","v":0},0]
[null,1317,"تسهیلات و اعتبارات مالی دریافتی",{"$f":"IF(COUNTIF(B$6:B36,B36)=1,SUMIFS(data[بدهکار],data[کل],B36,data[تاریخ],\">=\"&E$3,data[تاریخ],\"<=\"&E$4),0)","v":0},{"$f":"IF(COUNTIF(B$6:B36,B36)=2,SUMIFS(data[بستانکار],data[کل],B36,data[تاریخ],\">=\"&E$3,data[تاریخ],\"<=\"&E$4),0)","v":0},0]
[null,1318,"سایر ذخایر",{"$f":"IF(COUNTIF(B$6:B37,B37)=1,SUMIFS(data[بدهکار],data[کل],B37,data[تاریخ],\">=\"&E$3,data[تاریخ],\"<=\"&E$4),0)","v":0},{"$f":"IF(COUNTIF(B$6:B37,B37)=2,SUMIFS(data[بستانکار],data[کل],B37,data[تاریخ],\">=\"&E$3,data[تاریخ],\"<=\"&E$4),0)","v":0},0]
[null,1319,0,{"$f":"IF(COUNTIF(B$6:B38,B38)=1,SUMIFS(data[بدهکار],data[کل],B38,data[تاریخ],\">=\"&E$3,data[تاریخ],\"<=\"&E$4),0)","v":0},{"$f":"IF(COUNTIF(B$6:B38,B38)=2,SUMIFS(data[بستانکار],data[کل],B38,data[تاریخ],\">=\"&E$3,data[تاریخ],\"<=\"&E$4),0)","v":0},0]
[null,1320,0,{"$f":"IF(COUNTIF(B$6:B39,B39)=1,SUMIFS(data[بدهکار],data[کل],B39,data[تاریخ],\">=\"&E$3,data[تاریخ],\"<=\"&E$4),0)","v":0},{"$f":"IF(COUNTIF(B$6:B39,B39)=2,SUMIFS(data[بستانکار],data[کل],B39,data[تاریخ],\">=\"&E$3,data[تاریخ],\"<=\"&E$4),0)","v":0},{"$f":"D39+E39","v":0}]
[null,1410,"اسناد پرداختنی بلند مدت",{"$f":"IF(COUNTIF(B$6:B40,B40)=1,SUMIFS(data[بدهکار],data[کل],B40,data[تاریخ],\">=\"&E$3,data[تاریخ],\"<=\"&E$4),0)","v":0},{"$f":"IF(COUNTIF(B$6:B40,B40)=2,SUMIFS(data[بستانکار],data[کل],B40,data[تاریخ],\">=\"&E$3,data[تاریخ],\"<=\"&E$4),0)","v":0},0]
[null,1411,"حسابهای پرداختنی بلند مدت",{"$f":"IF(COUNTIF(B$6:B41,B41)=1,SUMIFS(data[بدهکار],data[کل],B41,data[تاریخ],\">=\"&E$3,data[تاریخ],\"<=\"&E$4),0)","v":0},{"$f":"IF(COUNTIF(B$6:B41,B41)=2,SUMIFS(data[بستانکار],data[کل],B41,data[تاریخ],\">=\"&E$3,data[تاریخ],\"<=\"&E$4),0)","v":0},0]
[null,1412,"تسهیلات مالی دریافتی بلند مدت",{"$f":"IF(COUNTIF(B$6:B42,B42)=1,SUMIFS(data[بدهکار],data[کل],B42,data[تاریخ],\">=\"&E$3,data[تاریخ],\"<=\"&E$4),0)","v":0},{"$f":"IF(COUNTIF(B$6:B42,B42)=2,SUMIFS(data[بستانکار],data[کل],B42,data[تاریخ],\">=\"&E$3,data[تاریخ],\"<=\"&E$4),0)","v":0},0]
[null,1413,"ذخیره مزایای پایان خدمت کارکنان",{"$f":"IF(COUNTIF(B$6:B43,B43)=1,SUMIFS(data[بدهکار],data[کل],B43,data[تاریخ],\">=\"&E$3,data[تاریخ],\"<=\"&E$4),0)","v":0},{"$f":"IF(COUNTIF(B$6:B43,B43)=2,SUMIFS(data[بستانکار],data[کل],B43,data[تاریخ],\">=\"&E$3,data[تاریخ],\"<=\"&E$4),0)","v":0},0]
[null,1414,"در آمدهای انتفالی به دوره های آتی",{"$f":"IF(COUNTIF(B$6:B44,B44)=1,SUMIFS(data[بدهکار],data[کل],B44,data[تاریخ],\">=\"&E$3,data[تاریخ],\"<=\"&E$4),0)","v":0},{"$f":"IF(COUNTIF(B$6:B44,B44)=2,SUMIFS(data[بستانکار],data[کل],B44,data[تاریخ],\">=\"&E$3,data[تاریخ],\"<=\"&E$4),0)","v":0},0]
[null,1415,0,{"$f":"IF(COUNTIF(B$6:B45,B45)=1,SUMIFS(data[بدهکار],data[کل],B45,data[تاریخ],\">=\"&E$3,data[تاریخ],\"<=\"&E$4),0)","v":0},{"$f":"IF(COUNTIF(B$6:B45,B45)=2,SUMIFS(data[بستانکار],data[کل],B45,data[تاریخ],\">=\"&E$3,data[تاریخ],\"<=\"&E$4),0)","v":0},0]
[null,1416,0,{"$f":"IF(COUNTIF(B$6:B46,B46)=1,SUMIFS(data[بدهکار],data[کل],B46,data[تاریخ],\">=\"&E$3,data[تاریخ],\"<=\"&E$4),0)","v":0},{"$f":"IF(COUNTIF(B$6:B46,B46)=2,SUMIFS(data[بستانکار],data[کل],B46,data[تاریخ],\">=\"&E$3,data[تاریخ],\"<=\"&E$4),0)","v":0},0]
[null,1417,0,{"$f":"IF(COUNTIF(B$6:B47,B47)=1,SUMIFS(data[بدهکار],data[کل],B47,data[تاریخ],\">=\"&E$3,data[تاریخ],\"<=\"&E$4),0)","v":0},{"$f":"IF(COUNTIF(B$6:B47,B47)=2,SUMIFS(data[بستانکار],data[کل],B47,data[تاریخ],\">=\"&E$3,data[تاریخ],\"<=\"&E$4),0)","v":0},0]
[null,1418,0,{"$f":"IF(COUNTIF(B$6:B48,B48)=1,SUMIFS(data[بدهکار],data[کل],B48,data[تاریخ],\">=\"&E$3,data[تاریخ],\"<=\"&E$4),0)","v":0},{"$f":"IF(COUNTIF(B$6:B48,B48)=2,SUMIFS(data[بستانکار],data[کل],B48,data[تاریخ],\">=\"&E$3,data[تاریخ],\"<=\"&E$4),0)","v":0},0]
[null,1419,0,{"$f":"IF(COUNTIF(B$6:B49,B49)=1,SUMIFS(data[بدهکار],data[کل],B49,data[تاریخ],\">=\"&E$3,data[تاریخ],\"<=\"&E$4),0)","v":0},{"$f":"IF(COUNTIF(B$6:B49,B49)=2,SUMIFS(data[بستانکار],data[کل],B49,data[تاریخ],\">=\"&E$3,data[تاریخ],\"<=\"&E$4),0)","v":0},0]
[null,1420,0,{"$f":"IF(COUNTIF(B$6:B50,B50)=1,SUMIFS(data[بدهکار],data[کل],B50,data[تاریخ],\">=\"&E$3,data[تاریخ],\"<=\"&E$4),0)","v":0},{"$f":"IF(COUNTIF(B$6:B50,B50)=2,SUMIFS(data[بستانکار],data[کل],B50,data[تاریخ],\">=\"&E$3,data[تاریخ],\"<=\"&E$4),0)","v":0},0]
[null,1510,"سرمایه",{"$f":"IF(COUNTIF(B$6:B51,B51)=1,SUMIFS(data[بدهکار],data[کل],B51,data[تاریخ],\">=\"&E$3,data[تاریخ],\"<=\"&E$4),0)","v":0},{"$f":"IF(COUNTIF(B$6:B51,B51)=2,SUMIFS(data[بستانکار],data[کل],B51,data[تاریخ],\">=\"&E$3,data[تاریخ],\"<=\"&E$4),0)","v":0},0]
[null,1511,"اندوخته قانونی",{"$f":"IF(COUNTIF(B$6:B52,B52)=1,SUMIFS(data[بدهکار],data[کل],B52,data[تاریخ],\">=\"&E$3,data[تاریخ],\"<=\"&E$4),0)","v":0},{"$f":"IF(COUNTIF(B$6:B52,B52)=2,SUMIFS(data[بستانکار],data[کل],B52,data[تاریخ],\">=\"&E$3,data[تاریخ],\"<=\"&E$4),0)","v":0},0]
[null,1512,"سایر اندوخته ها و صرف سهام",{"$f":"IF(COUNTIF(B$6:B53,B53)=1,SUMIFS(data[بدهکار],data[کل],B53,data[تاریخ],\">=\"&E$3,data[تاریخ],\"<=\"&E$4),0)","v":0},{"$f":"IF(COUNTIF(B$6:B53,B53)=2,SUMIFS(data[بستانکار],data[کل],B53,data[تاریخ],\">=\"&E$3,data[تاریخ],\"<=\"&E$4),0)","v":0},0]
[null,1513,"سود (زیان ) انباشته",{"$f":"IF(COUNTIF(B$6:B54,B54)=1,SUMIFS(data[بدهکار],data[کل],B54,data[تاریخ],\">=\"&E$3,data[تاریخ],\"<=\"&E$4),0)","v":0},{"$f":"IF(COUNTIF(B$6:B54,B54)=2,SUMIFS(data[بستانکار],data[کل],B54,data[تاریخ],\">=\"&E$3,data[تاریخ],\"<=\"&E$4),0)","v":0},0]
[null,1514,"سود (زیان ) جاری",{"$f":"IF(COUNTIF(B$6:B55,B55)=1,SUMIFS(data[بدهکار],data[کل],B55,data[تاریخ],\">=\"&E$3,data[تاریخ],\"<=\"&E$4),0)","v":0},{"$f":"IF(COUNTIF(B$6:B55,B55)=2,SUMIFS(data[بستانکار],data[کل],B55,data[تاریخ],\">=\"&E$3,data[تاریخ],\"<=\"&E$4),0)","v":0},0]
[null,1515,"تقسیم سود",{"$f":"IF(COUNTIF(B$6:B56,B56)=1,SUMIFS(data[بدهکار],data[کل],B56,data[تاریخ],\">=\"&E$3,data[تاریخ],\"<=\"&E$4),0)","v":0},{"$f":"IF(COUNTIF(B$6:B56,B56)=2,SUMIFS(data[بستانکار],data[کل],B56,data[تاریخ],\">=\"&E$3,data[تاریخ],\"<=\"&E$4),0)","v":0},0]
[null,1516,0,{"$f":"IF(COUNTIF(B$6:B57,B57)=1,SUMIFS(data[بدهکار],data[کل],B57,data[تاریخ],\">=\"&E$3,data[تاریخ],\"<=\"&E$4),0)","v":0},{"$f":"IF(COUNTIF(B$6:B57,B57)=2,SUMIFS(data[بستانکار],data[کل],B57,data[تاریخ],\">=\"&E$3,data[تاریخ],\"<=\"&E$4),0)","v":0},0]
[null,1517,0,{"$f":"IF(COUNTIF(B$6:B58,B58)=1,SUMIFS(data[بدهکار],data[کل],B58,data[تاریخ],\">=\"&E$3,data[تاریخ],\"<=\"&E$4),0)","v":0},{"$f":"IF(COUNTIF(B$6:B58,B58)=2,SUMIFS(data[بستانکار],data[کل],B58,data[تاریخ],\">=\"&E$3,data[تاریخ],\"<=\"&E$4),0)","v":0},0]
[null,1518,0,{"$f":"IF(COUNTIF(B$6:B59,B59)=1,SUMIFS(data[بدهکار],data[کل],B59,data[تاریخ],\">=\"&E$3,data[تاریخ],\"<=\"&E$4),0)","v":0},{"$f":"IF(COUNTIF(B$6:B59,B59)=2,SUMIFS(data[بستانکار],data[کل],B59,data[تاریخ],\">=\"&E$3,data[تاریخ],\"<=\"&E$4),0)","v":0},0]
[null,1519,0,{"$f":"IF(COUNTIF(B$6:B60,B60)=1,SUMIFS(data[بدهکار],data[کل],B60,data[تاریخ],\">=\"&E$3,data[تاریخ],\"<=\"&E$4),0)","v":0},{"$f":"IF(COUNTIF(B$6:B60,B60)=2,SUMIFS(data[بستانکار],data[کل],B60,data[تاریخ],\">=\"&E$3,data[تاریخ],\"<=\"&E$4),0)","v":0},0]
[null,1520,0,{"$f":"IF(COUNTIF(B$6:B61,B61)=1,SUMIFS(data[بدهکار],data[کل],B61,data[تاریخ],\">=\"&E$3,data[تاریخ],\"<=\"&E$4),0)","v":0},{"$f":"IF(COUNTIF(B$6:B61,B61)=2,SUMIFS(data[بستانکار],data[کل],B61,data[تاریخ],\">=\"&E$3,data[تاریخ],\"<=\"&E$4),0)","v":0},0]
[null,1610,"فروش",{"$f":"IF(COUNTIF(B$6:B62,B62)=1,SUMIFS(data[بدهکار],data[کل],B62,data[تاریخ],\">=\"&E$3,data[تاریخ],\"<=\"&E$4),0)","v":0},{"$f":"IF(COUNTIF(B$6:B62,B62)=2,SUMIFS(data[بستانکار],data[کل],B62,data[تاریخ],\">=\"&E$3,data[تاریخ],\"<=\"&E$4),0)","v":0},0]
[null,1611,"برگشت از فروش و تخفیفات",{"$f":"IF(COUNTIF(B$6:B63,B63)=1,SUMIFS(data[بدهکار],data[کل],B63,data[تاریخ],\">=\"&E$3,data[تاریخ],\"<=\"&E$4),0)","v":0},{"$f":"IF(COUNTIF(B$6:B63,B63)=2,SUMIFS(data[بستانکار],data[کل],B63,data[تاریخ],\">=\"&E$3,data[تاریخ],\"<=\"&E$4),0)","v":0},0]
[null,1612,"سایر درآمد ها و هزینه های عملیاتی",{"$f":"IF(COUNTIF(B$6:B64,B64)=1,SUMIFS(data[بدهکار],data[کل],B64,data[تاریخ],\">=\"&E$3,data[تاریخ],\"<=\"&E$4),0)","v":0},{"$f":"IF(COUNTIF(B$6:B64,B64)=2,SUMIFS(data[بستانکار],data[کل],B64,data[تاریخ],\">=\"&E$3,data[تاریخ],\"<=\"&E$4),0)","v":0},0]
[null,1613,0,{"$f":"IF(COUNTIF(B$6:B65,B65)=1,SUMIFS(data[بدهکار],data[کل],B65,data[تاریخ],\">=\"&E$3,data[تاریخ],\"<=\"&E$4),0)","v":0},{"$f":"IF(COUNTIF(B$6:B65,B65)=2,SUMIFS(data[بستانکار],data[کل],B65,data[تاریخ],\">=\"&E$3,data[تاریخ],\"<=\"&E$4),0)","v":0},0]
[null,1614,0,{"$f":"IF(COUNTIF(B$6:B66,B66)=1,SUMIFS(data[بدهکار],data[کل],B66,data[تاریخ],\">=\"&E$3,data[تاریخ],\"<=\"&E$4),0)","v":0},{"$f":"IF(COUNTIF(B$6:B66,B66)=2,SUMIFS(data[بستانکار],data[کل],B66,data[تاریخ],\">=\"&E$3,data[تاریخ],\"<=\"&E$4),0)","v":0},0]
[null,1615,0,{"$f":"IF(COUNTIF(B$6:B67,B67)=1,SUMIFS(data[بدهکار],data[کل],B67,data[تاریخ],\">=\"&E$3,data[تاریخ],\"<=\"&E$4),0)","v":0},{"$f":"IF(COUNTIF(B$6:B67,B67)=2,SUMIFS(data[بستانکار],data[کل],B67,data[تاریخ],\">=\"&E$3,data[تاریخ],\"<=\"&E$4),0)","v":0},0]
[null,1616,0,{"$f":"IF(COUNTIF(B$6:B68,B68)=1,SUMIFS(data[بدهکار],data[کل],B68,data[تاریخ],\">=\"&E$3,data[تاریخ],\"<=\"&E$4),0)","v":0},{"$f":"IF(COUNTIF(B$6:B68,B68)=2,SUMIFS(data[بستانکار],data[کل],B68,data[تاریخ],\">=\"&E$3,data[تاریخ],\"<=\"&E$4),0)","v":0},0]
[null,1617,0,{"$f":"IF(COUNTIF(B$6:B69,B69)=1,SUMIFS(data[بدهکار],data[کل],B69,data[تاریخ],\">=\"&E$3,data[تاریخ],\"<=\"&E$4),0)","v":0},{"$f":"IF(COUNTIF(B$6:B69,B69)=2,SUMIFS(data[بستانکار],data[کل],B69,data[تاریخ],\">=\"&E$3,data[تاریخ],\"<=\"&E$4),0)","v":0},0]
[null,1618,0,{"$f":"IF(COUNTIF(B$6:B70,B70)=1,SUMIFS(data[بدهکار],data[کل],B70,data[تاریخ],\">=\"&E$3,data[تاریخ],\"<=\"&E$4),0)","v":0},{"$f":"IF(COUNTIF(B$6:B70,B70)=2,SUMIFS(data[بستانکار],data[کل],B70,data[تاریخ],\">=\"&E$3,data[تاریخ],\"<=\"&E$4),0)","v":0},0]
[null,1619,{"$f":"VLOOKUP(B71,koli,2,FALSE)","v":0},{"$f":"IF(COUNTIF(B$6:B71,B71)=1,SUMIFS(data[بدهکار],data[کل],B71,data[تاریخ],\">=\"&E$3,data[تاریخ],\"<=\"&E$4),0)","v":0},{"$f":"IF(COUNTIF(B$6:B71,B71)=2,SUMIFS(data[بستانکار],data[کل],B71,data[تاریخ],\">=\"&E$3,data[تاریخ],\"<=\"&E$4),0)","v":0},{"$f":"D71+E71","v":0}]
[null,1620,0,{"$f":"IF(COUNTIF(B$6:B72,B72)=1,SUMIFS(data[بدهکار],data[کل],B72,data[تاریخ],\">=\"&E$3,data[تاریخ],\"<=\"&E$4),0)","v":0},{"$f":"IF(COUNTIF(B$6:B72,B72)=2,SUMIFS(data[بستانکار],data[کل],B72,data[تاریخ],\">=\"&E$3,data[تاریخ],\"<=\"&E$4),0)","v":0},0]
[null,1710,"قیمت تمام شده کالای فروش رفته",{"$f":"IF(COUNTIF(B$6:B73,B73)=1,SUMIFS(data[بدهکار],data[کل],B73,data[تاریخ],\">=\"&E$3,data[تاریخ],\"<=\"&E$4),0)","v":0},{"$f":"IF(COUNTIF(B$6:B73,B73)=2,SUMIFS(data[بستانکار],data[کل],B73,data[تاریخ],\">=\"&E$3,data[تاریخ],\"<=\"&E$4),0)","v":0},0]
[null,1711,0,{"$f":"IF(COUNTIF(B$6:B74,B74)=1,SUMIFS(data[بدهکار],data[کل],B74,data[تاریخ],\">=\"&E$3,data[تاریخ],\"<=\"&E$4),0)","v":0},{"$f":"IF(COUNTIF(B$6:B74,B74)=2,SUMIFS(data[بستانکار],data[کل],B74,data[تاریخ],\">=\"&E$3,data[تاریخ],\"<=\"&E$4),0)","v":0},0]
[null,1712,0,{"$f":"IF(COUNTIF(B$6:B75,B75)=1,SUMIFS(data[بدهکار],data[کل],B75,data[تاریخ],\">=\"&E$3,data[تاریخ],\"<=\"&E$4),0)","v":0},{"$f":"IF(COUNTIF(B$6:B75,B75)=2,SUMIFS(data[بستانکار],data[کل],B75,data[تاریخ],\">=\"&E$3,data[تاریخ],\"<=\"&E$4),0)","v":0},0]
[null,1713,0,{"$f":"IF(COUNTIF(B$6:B76,B76)=1,SUMIFS(data[بدهکار],data[کل],B76,data[تاریخ],\">=\"&E$3,data[تاریخ],\"<=\"&E$4),0)","v":0},{"$f":"IF(COUNTIF(B$6:B76,B76)=2,SUMIFS(data[بستانکار],data[کل],B76,data[تاریخ],\">=\"&E$3,data[تاریخ],\"<=\"&E$4),0)","v":0},0]
[null,1714,0,{"$f":"IF(COUNTIF(B$6:B77,B77)=1,SUMIFS(data[بدهکار],data[کل],B77,data[تاریخ],\">=\"&E$3,data[تاریخ],\"<=\"&E$4),0)","v":0},{"$f":"IF(COUNTIF(B$6:B77,B77)=2,SUMIFS(data[بستانکار],data[کل],B77,data[تاریخ],\">=\"&E$3,data[تاریخ],\"<=\"&E$4),0)","v":0},0]
[null,1715,0,{"$f":"IF(COUNTIF(B$6:B78,B78)=1,SUMIFS(data[بدهکار],data[کل],B78,data[تاریخ],\">=\"&E$3,data[تاریخ],\"<=\"&E$4),0)","v":0},{"$f":"IF(COUNTIF(B$6:B78,B78)=2,SUMIFS(data[بستانکار],data[کل],B78,data[تاریخ],\">=\"&E$3,data[تاریخ],\"<=\"&E$4),0)","v":0},0]
[null,1716,0,{"$f":"IF(COUNTIF(B$6:B79,B79)=1,SUMIFS(data[بدهکار],data[کل],B79,data[تاریخ],\">=\"&E$3,data[تاریخ],\"<=\"&E$4),0)","v":0},{"$f":"IF(COUNTIF(B$6:B79,B79)=2,SUMIFS(data[بستانکار],data[کل],B79,data[تاریخ],\">=\"&E$3,data[تاریخ],\"<=\"&E$4),0)","v":0},0]
[null,1717,0,{"$f":"IF(COUNTIF(B$6:B80,B80)=1,SUMIFS(data[بدهکار],data[کل],B80,data[تاریخ],\">=\"&E$3,data[تاریخ],\"<=\"&E$4),0)","v":0},{"$f":"IF(COUNTIF(B$6:B80,B80)=2,SUMIFS(data[بستانکار],data[کل],B80,data[تاریخ],\">=\"&E$3,data[تاریخ],\"<=\"&E$4),0)","v":0},0]
[null,1718,0,{"$f":"IF(COUNTIF(B$6:B81,B81)=1,SUMIFS(data[بدهکار],data[کل],B81,data[تاریخ],\">=\"&E$3,data[تاریخ],\"<=\"&E$4),0)","v":0},{"$f":"IF(COUNTIF(B$6:B81,B81)=2,SUMIFS(data[بستانکار],data[کل],B81,data[تاریخ],\">=\"&E$3,data[تاریخ],\"<=\"&E$4),0)","v":0},0]
[null,1719,0,{"$f":"IF(COUNTIF(B$6:B82,B82)=1,SUMIFS(data[بدهکار],data[کل],B82,data[تاریخ],\">=\"&E$3,data[تاریخ],\"<=\"&E$4),0)","v":0},{"$f":"IF(COUNTIF(B$6:B82,B82)=2,SUMIFS(data[بستانکار],data[کل],B82,data[تاریخ],\">=\"&E$3,data[تاریخ],\"<=\"&E$4),0)","v":0},0]
[null,1720,0,{"$f":"IF(COUNTIF(B$6:B83,B83)=1,SUMIFS(data[بدهکار],data[کل],B83,data[تاریخ],\">=\"&E$3,data[تاریخ],\"<=\"&E$4),0)","v":0},{"$f":"IF(COUNTIF(B$6:B83,B83)=2,SUMIFS(data[بستانکار],data[کل],B83,data[تاریخ],\">=\"&E$3,data[تاریخ],\"<=\"&E$4),0)","v":0},0]
[null,1810,"هزینه های حقوق و دستمزد",{"$f":"IF(COUNTIF(B$6:B84,B84)=1,SUMIFS(data[بدهکار],data[کل],B84,data[تاریخ],\">=\"&E$3,data[تاریخ],\"<=\"&E$4),0)","v":0},{"$f":"IF(COUNTIF(B$6:B84,B84)=2,SUMIFS(data[بستانکار],data[کل],B84,data[تاریخ],\">=\"&E$3,data[تاریخ],\"<=\"&E$4),0)","v":0},0]
[null,1811,"هزینه های کارکنان",{"$f":"IF(COUNTIF(B$6:B85,B85)=1,SUMIFS(data[بدهکار],data[کل],B85,data[تاریخ],\">=\"&E$3,data[تاریخ],\"<=\"&E$4),0)","v":0},{"$f":"IF(COUNTIF(B$6:B85,B85)=2,SUMIFS(data[بستانکار],data[کل],B85,data[تاریخ],\">=\"&E$3,data[تاریخ],\"<=\"&E$4),0)","v":0},0]
[null,1812,"هزینه های عملیاتی",{"$f":"IF(COUNTIF(B$6:B86,B86)=1,SUMIFS(data[بدهکار],data[کل],B86,data[تاریخ],\">=\"&E$3,data[تاریخ],\"<=\"&E$4),0)","v":0},{"$f":"IF(COUNTIF(B$6:B86,B86)=2,SUMIFS(data[بستانکار],data[کل],B86,data[تاریخ],\">=\"&E$3,data[تاریخ],\"<=\"&E$4),0)","v":0},0]
[null,1813,"هزینه های استهلاک",{"$f":"IF(COUNTIF(B$6:B87,B87)=1,SUMIFS(data[بدهکار],data[کل],B87,data[تاریخ],\">=\"&E$3,data[تاریخ],\"<=\"&E$4),0)","v":0},{"$f":"IF(COUNTIF(B$6:B87,B87)=2,SUMIFS(data[بستانکار],data[کل],B87,data[تاریخ],\">=\"&E$3,data[تاریخ],\"<=\"&E$4),0)","v":0},0]
[null,1814,0,{"$f":"IF(COUNTIF(B$6:B88,B88)=1,SUMIFS(data[بدهکار],data[کل],B88,data[تاریخ],\">=\"&E$3,data[تاریخ],\"<=\"&E$4),0)","v":0},{"$f":"IF(COUNTIF(B$6:B88,B88)=2,SUMIFS(data[بستانکار],data[کل],B88,data[تاریخ],\">=\"&E$3,data[تاریخ],\"<=\"&E$4),0)","v":0},0]
[null,1815,0,{"$f":"IF(COUNTIF(B$6:B89,B89)=1,SUMIFS(data[بدهکار],data[کل],B89,data[تاریخ],\">=\"&E$3,data[تاریخ],\"<=\"&E$4),0)","v":0},{"$f":"IF(COUNTIF(B$6:B89,B89)=2,SUMIFS(data[بستانکار],data[کل],B89,data[تاریخ],\">=\"&E$3,data[تاریخ],\"<=\"&E$4),0)","v":0},0]
[null,1816,0,{"$f":"IF(COUNTIF(B$6:B90,B90)=1,SUMIFS(data[بدهکار],data[کل],B90,data[تاریخ],\">=\"&E$3,data[تاریخ],\"<=\"&E$4),0)","v":0},{"$f":"IF(COUNTIF(B$6:B90,B90)=2,SUMIFS(data[بستانکار],data[کل],B90,data[تاریخ],\">=\"&E$3,data[تاریخ],\"<=\"&E$4),0)","v":0},0]
[null,1817,0,{"$f":"IF(COUNTIF(B$6:B91,B91)=1,SUMIFS(data[بدهکار],data[کل],B91,data[تاریخ],\">=\"&E$3,data[تاریخ],\"<=\"&E$4),0)","v":0},{"$f":"IF(COUNTIF(B$6:B91,B91)=2,SUMIFS(data[بستانکار],data[کل],B91,data[تاریخ],\">=\"&E$3,data[تاریخ],\"<=\"&E$4),0)","v":0},0]
[null,1818,0,{"$f":"IF(COUNTIF(B$6:B92,B92)=1,SUMIFS(data[بدهکار],data[کل],B92,data[تاریخ],\">=\"&E$3,data[تاریخ],\"<=\"&E$4),0)","v":0},{"$f":"IF(COUNTIF(B$6:B92,B92)=2,SUMIFS(data[بستانکار],data[کل],B92,data[تاریخ],\">=\"&E$3,data[تاریخ],\"<=\"&E$4),0)","v":0},0]
[null,1819,0,{"$f":"IF(COUNTIF(B$6:B93,B93)=1,SUMIFS(data[بدهکار],data[کل],B93,data[تاریخ],\">=\"&E$3,data[تاریخ],\"<=\"&E$4),0)","v":0},{"$f":"IF(COUNTIF(B$6:B93,B93)=2,SUMIFS(data[بستانکار],data[کل],B93,data[تاریخ],\">=\"&E$3,data[تاریخ],\"<=\"&E$4),0)","v":0},0]
[null,1820,0,{"$f":"IF(COUNTIF(B$6:B94,B94)=1,SUMIFS(data[بدهکار],data[کل],B94,data[تاریخ],\">=\"&E$3,data[تاریخ],\"<=\"&E$4),0)","v":0},{"$f":"IF(COUNTIF(B$6:B94,B94)=2,SUMIFS(data[بستانکار],data[کل],B94,data[تاریخ],\">=\"&E$3,data[تاریخ],\"<=\"&E$4),0)","v":0},0]
[null,1910,"هزینه های بازاریابی و توزیع و فروش",{"$f":"IF(COUNTIF(B$6:B95,B95)=1,SUMIFS(data[بدهکار],data[کل],B95,data[تاریخ],\">=\"&E$3,data[تاریخ],\"<=\"&E$4),0)","v":0},{"$f":"IF(COUNTIF(B$6:B95,B95)=2,SUMIFS(data[بستانکار],data[کل],B95,data[تاریخ],\">=\"&E$3,data[تاریخ],\"<=\"&E$4),0)","v":0},0]
[null,1911,"هزینه های مالی",{"$f":"IF(COUNTIF(B$6:B96,B96)=1,SUMIFS(data[بدهکار],data[کل],B96,data[تاریخ],\">=\"&E$3,data[تاریخ],\"<=\"&E$4),0)","v":0},{"$f":"IF(COUNTIF(B$6:B96,B96)=2,SUMIFS(data[بستانکار],data[کل],B96,data[تاریخ],\">=\"&E$3,data[تاریخ],\"<=\"&E$4),0)","v":0},0]
[null,1912,"هزینه های تحقیق و توسعه",{"$f":"IF(COUNTIF(B$6:B97,B97)=1,SUMIFS(data[بدهکار],data[کل],B97,data[تاریخ],\">=\"&E$3,data[تاریخ],\"<=\"&E$4),0)","v":0},{"$f":"IF(COUNTIF(B$6:B97,B97)=2,SUMIFS(data[بستانکار],data[کل],B97,data[تاریخ],\">=\"&E$3,data[تاریخ],\"<=\"&E$4),0)","v":0},0]
[null,1913,"سایر هزینه های اداری و تشکیلاتی",{"$f":"IF(COUNTIF(B$6:B98,B98)=1,SUMIFS(data[بدهکار],data[کل],B98,data[تاریخ],\">=\"&E$3,data[تاریخ],\"<=\"&E$4),0)","v":0},{"$f":"IF(COUNTIF(B$6:B98,B98)=2,SUMIFS(data[بستانکار],data[کل],B98,data[تاریخ],\">=\"&E$3,data[تاریخ],\"<=\"&E$4),0)","v":0},0]
[null,1914,"سایر درآمد ها و هزینه های غیرعملیاتی",{"$f":"IF(COUNTIF(B$6:B99,B99)=1,SUMIFS(data[بدهکار],data[کل],B99,data[تاریخ],\">=\"&E$3,data[تاریخ],\"<=\"&E$4),0)","v":0},{"$f":"IF(COUNTIF(B$6:B99,B99)=2,SUMIFS(data[بستانکار],data[کل],B99,data[تاریخ],\">=\"&E$3,data[تاریخ],\"<=\"&E$4),0)","v":0},0]
[null,1915,"هزینه های غیرمترقبه",{"$f":"IF(COUNTIF(B$6:B100,B100)=1,SUMIFS(data[بدهکار],data[کل],B100,data[تاریخ],\">=\"&E$3,data[تاریخ],\"<=\"&E$4),0)","v":0},{"$f":"IF(COUNTIF(B$6:B100,B100)=2,SUMIFS(data[بستانکار],data[کل],B100,data[تاریخ],\">=\"&E$3,data[تاریخ],\"<=\"&E$4),0)","v":0},0]
[null,1916,0,{"$f":"IF(COUNTIF(B$6:B101,B101)=1,SUMIFS(data[بدهکار],data[کل],B101,data[تاریخ],\">=\"&E$3,data[تاریخ],\"<=\"&E$4),0)","v":0},{"$f":"IF(COUNTIF(B$6:B101,B101)=2,SUMIFS(data[بستانکار],data[کل],B101,data[تاریخ],\">=\"&E$3,data[تاریخ],\"<=\"&E$4),0)","v":0},0]
[null,1917,0,{"$f":"IF(COUNTIF(B$6:B102,B102)=1,SUMIFS(data[بدهکار],data[کل],B102,data[تاریخ],\">=\"&E$3,data[تاریخ],\"<=\"&E$4),0)","v":0},{"$f":"IF(COUNTIF(B$6:B102,B102)=2,SUMIFS(data[بستانکار],data[کل],B102,data[تاریخ],\">=\"&E$3,data[تاریخ],\"<=\"&E$4),0)","v":0},0]
[null,1918,0,{"$f":"IF(COUNTIF(B$6:B103,B103)=1,SUMIFS(data[بدهکار],data[کل],B103,data[تاریخ],\">=\"&E$3,data[تاریخ],\"<=\"&E$4),0)","v":0},{"$f":"IF(COUNTIF(B$6:B103,B103)=2,SUMIFS(data[بستانکار],data[کل],B103,data[تاریخ],\">=\"&E$3,data[تاریخ],\"<=\"&E$4),0)","v":0},{"$f":"D103+E103","v":0}]
[null,1919,0,{"$f":"IF(COUNTIF(B$6:B104,B104)=1,SUMIFS(data[بدهکار],data[کل],B104,data[تاریخ],\">=\"&E$3,data[تاریخ],\"<=\"&E$4),0)","v":0},{"$f":"IF(COUNTIF(B$6:B104,B104)=2,SUMIFS(data[بستانکار],data[کل],B104,data[تاریخ],\">=\"&E$3,data[تاریخ],\"<=\"&E$4),0)","v":0},0]
[null,1920,0,{"$f":"IF(COUNTIF(B$6:B105,B105)=1,SUMIFS(data[بدهکار],data[کل],B105,data[تاریخ],\">=\"&E$3,data[تاریخ],\"<=\"&E$4),0)","v":0},{"$f":"IF(COUNTIF(B$6:B105,B105)=2,SUMIFS(data[بستانکار],data[کل],B105,data[تاریخ],\">=\"&E$3,data[تاریخ],\"<=\"&E$4),0)","v":0},0]
[null,2010,"جذب هزینه های تبدیل دوایر تولیدی",{"$f":"IF(COUNTIF(B$6:B106,B106)=1,SUMIFS(data[بدهکار],data[کل],B106,data[تاریخ],\">=\"&E$3,data[تاریخ],\"<=\"&E$4),0)","v":0},{"$f":"IF(COUNTIF(B$6:B106,B106)=2,SUMIFS(data[بستانکار],data[کل],B106,data[تاریخ],\">=\"&E$3,data[تاریخ],\"<=\"&E$4),0)","v":0},0]
[null,2011,"تسهیم هزینه های دوایر خدماتی",{"$f":"IF(COUNTIF(B$6:B107,B107)=1,SUMIFS(data[بدهکار],data[کل],B107,data[تاریخ],\">=\"&E$3,data[تاریخ],\"<=\"&E$4),0)","v":0},{"$f":"IF(COUNTIF(B$6:B107,B107)=2,SUMIFS(data[بستانکار],data[کل],B107,data[تاریخ],\">=\"&E$3,data[تاریخ],\"<=\"&E$4),0)","v":0},0]
[null,2012,"انحراف مواد اولیه",{"$f":"IF(COUNTIF(B$6:B108,B108)=1,SUMIFS(data[بدهکار],data[کل],B108,data[تاریخ],\">=\"&E$3,data[تاریخ],\"<=\"&E$4),0)","v":0},{"$f":"IF(COUNTIF(B$6:B108,B108)=2,SUMIFS(data[بستانکار],data[کل],B108,data[تاریخ],\">=\"&E$3,data[تاریخ],\"<=\"&E$4),0)","v":0},{"$f":"D108+E108","v":0}]
[null,2013,"انحراف هزینه های تبدیل",{"$f":"IF(COUNTIF(B$6:B109,B109)=1,SUMIFS(data[بدهکار],data[کل],B109,data[تاریخ],\">=\"&E$3,data[تاریخ],\"<=\"&E$4),0)","v":0},{"$f":"IF(COUNTIF(B$6:B109,B109)=2,SUMIFS(data[بستانکار],data[کل],B109,data[تاریخ],\">=\"&E$3,data[تاریخ],\"<=\"&E$4),0)","v":0},0]
[null,2014,"انتقال هزینه های تبدیل تولید",{"$f":"IF(COUNTIF(B$6:B110,B110)=1,SUMIFS(data[بدهکار],data[کل],B110,data[تاریخ],\">=\"&E$3,data[تاریخ],\"<=\"&E$4),0)","v":0},{"$f":"IF(COUNTIF(B$6:B110,B110)=2,SUMIFS(data[بستانکار],data[کل],B110,data[تاریخ],\">=\"&E$3,data[تاریخ],\"<=\"&E$4),0)","v":0},{"$f":"D110+E110","v":0}]
[null,2015,0,{"$f":"IF(COUNTIF(B$6:B111,B111)=1,SUMIFS(data[بدهکار],data[کل],B111,data[تاریخ],\">=\"&E$3,data[تاریخ],\"<=\"&E$4),0)","v":0},{"$f":"IF(COUNTIF(B$6:B111,B111)=2,SUMIFS(data[بستانکار],data[کل],B111,data[تاریخ],\">=\"&E$3,data[تاریخ],\"<=\"&E$4),0)","v":0},0]
[null,2016,0,{"$f":"IF(COUNTIF(B$6:B112,B112)=1,SUMIFS(data[بدهکار],data[کل],B112,data[تاریخ],\">=\"&E$3,data[تاریخ],\"<=\"&E$4),0)","v":0},{"$f":"IF(COUNTIF(B$6:B112,B112)=2,SUMIFS(data[بستانکار],data[کل],B112,data[تاریخ],\">=\"&E$3,data[تاریخ],\"<=\"&E$4),0)","v":0},0]
[null,2017,0,{"$f":"IF(COUNTIF(B$6:B113,B113)=1,SUMIFS(data[بدهکار],data[کل],B113,data[تاریخ],\">=\"&E$3,data[تاریخ],\"<=\"&E$4),0)","v":0},{"$f":"IF(COUNTIF(B$6:B113,B113)=2,SUMIFS(data[بستانکار],data[کل],B113,data[تاریخ],\">=\"&E$3,data[تاریخ],\"<=\"&E$4),0)","v":0},0]
[null,2018,0,{"$f":"IF(COUNTIF(B$6:B114,B114)=1,SUMIFS(data[بدهکار],data[کل],B114,data[تاریخ],\">=\"&E$3,data[تاریخ],\"<=\"&E$4),0)","v":0},{"$f":"IF(COUNTIF(B$6:B114,B114)=2,SUMIFS(data[بستانکار],data[کل],B114,data[تاریخ],\">=\"&E$3,data[تاریخ],\"<=\"&E$4),0)","v":0},0]
[null,2019,0,{"$f":"IF(COUNTIF(B$6:B115,B115)=1,SUMIFS(data[بدهکار],data[کل],B115,data[تاریخ],\">=\"&E$3,data[تاریخ],\"<=\"&E$4),0)","v":0},{"$f":"IF(COUNTIF(B$6:B115,B115)=2,SUMIFS(data[بستانکار],data[کل],B115,data[تاریخ],\">=\"&E$3,data[تاریخ],\"<=\"&E$4),0)","v":0},0]
[null,2020,0,{"$f":"IF(COUNTIF(B$6:B116,B116)=1,SUMIFS(data[بدهکار],data[کل],B116,data[تاریخ],\">=\"&E$3,data[تاریخ],\"<=\"&E$4),0)","v":0},{"$f":"IF(COUNTIF(B$6:B116,B116)=2,SUMIFS(data[بستانکار],data[کل],B116,data[تاریخ],\">=\"&E$3,data[تاریخ],\"<=\"&E$4),0)","v":0},0]
[null,2110,"حسابهای انتظامی به نفع شرکت",{"$f":"IF(COUNTIF(B$6:B117,B117)=1,SUMIFS(data[بدهکار],data[کل],B117,data[تاریخ],\">=\"&E$3,data[تاریخ],\"<=\"&E$4),0)","v":0},{"$f":"IF(COUNTIF(B$6:B117,B117)=2,SUMIFS(data[بستانکار],data[کل],B117,data[تاریخ],\">=\"&E$3,data[تاریخ],\"<=\"&E$4),0)","v":0},0]
[null,2111,"حسابهای انتظامی عهده شرکت",{"$f":"IF(COUNTIF(B$6:B118,B118)=1,SUMIFS(data[بدهکار],data[کل],B118,data[تاریخ],\">=\"&E$3,data[تاریخ],\"<=\"&E$4),0)","v":0},{"$f":"IF(COUNTIF(B$6:B118,B118)=2,SUMIFS(data[بستانکار],data[کل],B118,data[تاریخ],\">=\"&E$3,data[تاریخ],\"<=\"&E$4),0)","v":0},0]
[null,2112,0,{"$f":"IF(COUNTIF(B$6:B119,B119)=1,SUMIFS(data[بدهکار],data[کل],B119,data[تاریخ],\">=\"&E$3,data[تاریخ],\"<=\"&E$4),0)","v":0},{"$f":"IF(COUNTIF(B$6:B119,B119)=2,SUMIFS(data[بستانکار],data[کل],B119,data[تاریخ],\">=\"&E$3,data[تاریخ],\"<=\"&E$4),0)","v":0},0]
[null,2113,0,{"$f":"IF(COUNTIF(B$6:B120,B120)=1,SUMIFS(data[بدهکار],data[کل],B120,data[تاریخ],\">=\"&E$3,data[تاریخ],\"<=\"&E$4),0)","v":0},{"$f":"IF(COUNTIF(B$6:B120,B120)=2,SUMIFS(data[بستانکار],data[کل],B120,data[تاریخ],\">=\"&E$3,data[تاریخ],\"<=\"&E$4),0)","v":0},0]
[null,2114,0,{"$f":"IF(COUNTIF(B$6:B121,B121)=1,SUMIFS(data[بدهکار],data[کل],B121,data[تاریخ],\">=\"&E$3,data[تاریخ],\"<=\"&E$4),0)","v":0},{"$f":"IF(COUNTIF(B$6:B121,B121)=2,SUMIFS(data[بستانکار],data[کل],B121,data[تاریخ],\">=\"&E$3,data[تاریخ],\"<=\"&E$4),0)","v":0},0]
[null,2115,0,{"$f":"IF(COUNTIF(B$6:B122,B122)=1,SUMIFS(data[بدهکار],data[کل],B122,data[تاریخ],\">=\"&E$3,data[تاریخ],\"<=\"&E$4),0)","v":0},{"$f":"IF(COUNTIF(B$6:B122,B122)=2,SUMIFS(data[بستانکار],data[کل],B122,data[تاریخ],\">=\"&E$3,data[تاریخ],\"<=\"&E$4),0)","v":0},0]
[null,2116,0,{"$f":"IF(COUNTIF(B$6:B123,B123)=1,SUMIFS(data[بدهکار],data[کل],B123,data[تاریخ],\">=\"&E$3,data[تاریخ],\"<=\"&E$4),0)","v":0},{"$f":"IF(COUNTIF(B$6:B123,B123)=2,SUMIFS(data[بستانکار],data[کل],B123,data[تاریخ],\">=\"&E$3,data[تاریخ],\"<=\"&E$4),0)","v":0},0]
[null,2117,0,{"$f":"IF(COUNTIF(B$6:B124,B124)=1,SUMIFS(data[بدهکار],data[کل],B124,data[تاریخ],\">=\"&E$3,data[تاریخ],\"<=\"&E$4),0)","v":0},{"$f":"IF(COUNTIF(B$6:B124,B124)=2,SUMIFS(data[بستانکار],data[کل],B124,data[تاریخ],\">=\"&E$3,data[تاریخ],\"<=\"&E$4),0)","v":0},0]
[null,2118,0,{"$f":"IF(COUNTIF(B$6:B125,B125)=1,SUMIFS(data[بدهکار],data[کل],B125,data[تاریخ],\">=\"&E$3,data[تاریخ],\"<=\"&E$4),0)","v":0},{"$f":"IF(COUNTIF(B$6:B125,B125)=2,SUMIFS(data[بستانکار],data[کل],B125,data[تاریخ],\">=\"&E$3,data[تاریخ],\"<=\"&E$4),0)","v":0},0]
[null,2119,0,{"$f":"IF(COUNTIF(B$6:B126,B126)=1,SUMIFS(data[بدهکار],data[کل],B126,data[تاریخ],\">=\"&E$3,data[تاریخ],\"<=\"&E$4),0)","v":0},{"$f":"IF(COUNTIF(B$6:B126,B126)=2,SUMIFS(data[بستانکار],data[کل],B126,data[تاریخ],\">=\"&E$3,data[تاریخ],\"<=\"&E$4),0)","v":0},0]
[null,2120,0,{"$f":"IF(COUNTIF(B$6:B127,B127)=1,SUMIFS(data[بدهکار],data[کل],B127,data[تاریخ],\">=\"&E$3,data[تاریخ],\"<=\"&E$4),0)","v":0},{"$f":"IF(COUNTIF(B$6:B127,B127)=2,SUMIFS(data[بستانکار],data[کل],B127,data[تاریخ],\">=\"&E$3,data[تاریخ],\"<=\"&E$4),0)","v":0},0]
[null,2210,"طرف حسابهای انتظامی",{"$f":"IF(COUNTIF(B$6:B128,B128)=1,SUMIFS(data[بدهکار],data[کل],B128,data[تاریخ],\">=\"&E$3,data[تاریخ],\"<=\"&E$4),0)","v":0},{"$f":"IF(COUNTIF(B$6:B128,B128)=2,SUMIFS(data[بستانکار],data[کل],B128,data[تاریخ],\">=\"&E$3,data[تاریخ],\"<=\"&E$4),0)","v":0},0]
[null,2211,0,{"$f":"IF(COUNTIF(B$6:B129,B129)=1,SUMIFS(data[بدهکار],data[کل],B129,data[تاریخ],\">=\"&E$3,data[تاریخ],\"<=\"&E$4),0)","v":0},{"$f":"IF(COUNTIF(B$6:B129,B129)=2,SUMIFS(data[بستانکار],data[کل],B129,data[تاریخ],\">=\"&E$3,data[تاریخ],\"<=\"&E$4),0)","v":0},0]
[null,2212,0,{"$f":"IF(COUNTIF(B$6:B130,B130)=1,SUMIFS(data[بدهکار],data[کل],B130,data[تاریخ],\">=\"&E$3,data[تاریخ],\"<=\"&E$4),0)","v":0},{"$f":"IF(COUNTIF(B$6:B130,B130)=2,SUMIFS(data[بستانکار],data[کل],B130,data[تاریخ],\">=\"&E$3,data[تاریخ],\"<=\"&E$4),0)","v":0},0]
[null,2213,0,{"$f":"IF(COUNTIF(B$6:B131,B131)=1,SUMIFS(data[بدهکار],data[کل],B131,data[تاریخ],\">=\"&E$3,data[تاریخ],\"<=\"&E$4),0)","v":0},{"$f":"IF(COUNTIF(B$6:B131,B131)=2,SUMIFS(data[بستانکار],data[کل],B131,data[تاریخ],\">=\"&E$3,data[تاریخ],\"<=\"&E$4),0)","v":0},0]
[null,2214,0,{"$f":"IF(COUNTIF(B$6:B132,B132)=1,SUMIFS(data[بدهکار],data[کل],B132,data[تاریخ],\">=\"&E$3,data[تاریخ],\"<=\"&E$4),0)","v":0},{"$f":"IF(COUNTIF(B$6:B132,B132)=2,SUMIFS(data[بستانکار],data[کل],B132,data[تاریخ],\">=\"&E$3,data[تاریخ],\"<=\"&E$4),0)","v":0},0]
[null,2215,0,{"$f":"IF(COUNTIF(B$6:B133,B133)=1,SUMIFS(data[بدهکار],data[کل],B133,data[تاریخ],\">=\"&E$3,data[تاریخ],\"<=\"&E$4),0)","v":0},{"$f":"IF(COUNTIF(B$6:B133,B133)=2,SUMIFS(data[بستانکار],data[کل],B133,data[تاریخ],\">=\"&E$3,data[تاریخ],\"<=\"&E$4),0)","v":0},0]
[null,2216,0,{"$f":"IF(COUNTIF(B$6:B134,B134)=1,SUMIFS(data[بدهکار],data[کل],B134,data[تاریخ],\">=\"&E$3,data[تاریخ],\"<=\"&E$4),0)","v":0},{"$f":"IF(COUNTIF(B$6:B134,B134)=2,SUMIFS(data[بستانکار],data[کل],B134,data[تاریخ],\">=\"&E$3,data[تاریخ],\"<=\"&E$4),0)","v":0},0]
[null,2217,{"$f":"VLOOKUP(B135,koli,2,FALSE)","v":0},{"$f":"IF(COUNTIF(B$6:B135,B135)=1,SUMIFS(data[بدهکار],data[کل],B135,data[تاریخ],\">=\"&E$3,data[تاریخ],\"<=\"&E$4),0)","v":0},{"$f":"IF(COUNTIF(B$6:B135,B135)=2,SUMIFS(data[بستانکار],data[کل],B135,data[تاریخ],\">=\"&E$3,data[تاریخ],\"<=\"&E$4),0)","v":0},0]
[null,2218,0,{"$f":"IF(COUNTIF(B$6:B136,B136)=1,SUMIFS(data[بدهکار],data[کل],B136,data[تاریخ],\">=\"&E$3,data[تاریخ],\"<=\"&E$4),0)","v":0},{"$f":"IF(COUNTIF(B$6:B136,B136)=2,SUMIFS(data[بستانکار],data[کل],B136,data[تاریخ],\">=\"&E$3,data[تاریخ],\"<=\"&E$4),0)","v":0},0]
[null,2219,0,{"$f":"IF(COUNTIF(B$6:B137,B137)=1,SUMIFS(data[بدهکار],data[کل],B137,data[تاریخ],\">=\"&E$3,data[تاریخ],\"<=\"&E$4),0)","v":0},{"$f":"IF(COUNTIF(B$6:B137,B137)=2,SUMIFS(data[بستانکار],data[کل],B137,data[تاریخ],\">=\"&E$3,data[تاریخ],\"<=\"&E$4),0)","v":0},0]
[null,2220,0,{"$f":"IF(COUNTIF(B$6:B138,B138)=1,SUMIFS(data[بدهکار],data[کل],B138,data[تاریخ],\">=\"&E$3,data[تاریخ],\"<=\"&E$4),0)","v":0},{"$f":"IF(COUNTIF(B$6:B138,B138)=2,SUMIFS(data[بستانکار],data[کل],B138,data[تاریخ],\">=\"&E$3,data[تاریخ],\"<=\"&E$4),0)","v":0},0]
[null,2310,0,{"$f":"IF(COUNTIF(B$6:B139,B139)=1,SUMIFS(data[بدهکار],data[کل],B139,data[تاریخ],\">=\"&E$3,data[تاریخ],\"<=\"&E$4),0)","v":0},{"$f":"IF(COUNTIF(B$6:B139,B139)=2,SUMIFS(data[بستانکار],data[کل],B139,data[تاریخ],\">=\"&E$3,data[تاریخ],\"<=\"&E$4),0)","v":0},0]
[null,2311,0,{"$f":"IF(COUNTIF(B$6:B140,B140)=1,SUMIFS(data[بدهکار],data[کل],B140,data[تاریخ],\">=\"&E$3,data[تاریخ],\"<=\"&E$4),0)","v":0},{"$f":"IF(COUNTIF(B$6:B140,B140)=2,SUMIFS(data[بستانکار],data[کل],B140,data[تاریخ],\">=\"&E$3,data[تاریخ],\"<=\"&E$4),0)","v":0},0]
[null,2312,0,{"$f":"IF(COUNTIF(B$6:B141,B141)=1,SUMIFS(data[بدهکار],data[کل],B141,data[تاریخ],\">=\"&E$3,data[تاریخ],\"<=\"&E$4),0)","v":0},{"$f":"IF(COUNTIF(B$6:B141,B141)=2,SUMIFS(data[بستانکار],data[کل],B141,data[تاریخ],\">=\"&E$3,data[تاریخ],\"<=\"&E$4),0)","v":0},0]
[null,2313,0,{"$f":"IF(COUNTIF(B$6:B142,B142)=1,SUMIFS(data[بدهکار],data[کل],B142,data[تاریخ],\">=\"&E$3,data[تاریخ],\"<=\"&E$4),0)","v":0},{"$f":"IF(COUNTIF(B$6:B142,B142)=2,SUMIFS(data[بستانکار],data[کل],B142,data[تاریخ],\">=\"&E$3,data[تاریخ],\"<=\"&E$4),0)","v":0},{"$f":"D142+E142","v":0}]
[null,2314,0,{"$f":"IF(COUNTIF(B$6:B143,B143)=1,SUMIFS(data[بدهکار],data[کل],B143,data[تاریخ],\">=\"&E$3,data[تاریخ],\"<=\"&E$4),0)","v":0},{"$f":"IF(COUNTIF(B$6:B143,B143)=2,SUMIFS(data[بستانکار],data[کل],B143,data[تاریخ],\">=\"&E$3,data[تاریخ],\"<=\"&E$4),0)","v":0},0]
[null,2315,0,{"$f":"IF(COUNTIF(B$6:B144,B144)=1,SUMIFS(data[بدهکار],data[کل],B144,data[تاریخ],\">=\"&E$3,data[تاریخ],\"<=\"&E$4),0)","v":0},{"$f":"IF(COUNTIF(B$6:B144,B144)=2,SUMIFS(data[بستانکار],data[کل],B144,data[تاریخ],\">=\"&E$3,data[تاریخ],\"<=\"&E$4),0)","v":0},0]
[null,2316,0,{"$f":"IF(COUNTIF(B$6:B145,B145)=1,SUMIFS(data[بدهکار],data[کل],B145,data[تاریخ],\">=\"&E$3,data[تاریخ],\"<=\"&E$4),0)","v":0},{"$f":"IF(COUNTIF(B$6:B145,B145)=2,SUMIFS(data[بستانکار],data[کل],B145,data[تاریخ],\">=\"&E$3,data[تاریخ],\"<=\"&E$4),0)","v":0},0]
[null,2317,0,{"$f":"IF(COUNTIF(B$6:B146,B146)=1,SUMIFS(data[بدهکار],data[کل],B146,data[تاریخ],\">=\"&E$3,data[تاریخ],\"<=\"&E$4),0)","v":0},{"$f":"IF(COUNTIF(B$6:B146,B146)=2,SUMIFS(data[بستانکار],data[کل],B146,data[تاریخ],\">=\"&E$3,data[تاریخ],\"<=\"&E$4),0)","v":0},0]
[null,2318,0,{"$f":"IF(COUNTIF(B$6:B147,B147)=1,SUMIFS(data[بدهکار],data[کل],B147,data[تاریخ],\">=\"&E$3,data[تاریخ],\"<=\"&E$4),0)","v":0},{"$f":"IF(COUNTIF(B$6:B147,B147)=2,SUMIFS(data[بستانکار],data[کل],B147,data[تاریخ],\">=\"&E$3,data[تاریخ],\"<=\"&E$4),0)","v":0},0]
[null,2319,0,{"$f":"IF(COUNTIF(B$6:B148,B148)=1,SUMIFS(data[بدهکار],data[کل],B148,data[تاریخ],\">=\"&E$3,data[تاریخ],\"<=\"&E$4),0)","v":0},{"$f":"IF(COUNTIF(B$6:B148,B148)=2,SUMIFS(data[بستانکار],data[کل],B148,data[تاریخ],\">=\"&E$3,data[تاریخ],\"<=\"&E$4),0)","v":0},0]
[null,2320,0,{"$f":"IF(COUNTIF(B$6:B149,B149)=1,SUMIFS(data[بدهکار],data[کل],B149,data[تاریخ],\">=\"&E$3,data[تاریخ],\"<=\"&E$4),0)","v":0},{"$f":"IF(COUNTIF(B$6:B149,B149)=2,SUMIFS(data[بستانکار],data[کل],B149,data[تاریخ],\">=\"&E$3,data[تاریخ],\"<=\"&E$4),0)","v":0},0]
[null,2410,0,{"$f":"IF(COUNTIF(B$6:B150,B150)=1,SUMIFS(data[بدهکار],data[کل],B150,data[تاریخ],\">=\"&E$3,data[تاریخ],\"<=\"&E$4),0)","v":0},{"$f":"IF(COUNTIF(B$6:B150,B150)=2,SUMIFS(data[بستانکار],data[کل],B150,data[تاریخ],\">=\"&E$3,data[تاریخ],\"<=\"&E$4),0)","v":0},0]
[null,2411,0,{"$f":"IF(COUNTIF(B$6:B151,B151)=1,SUMIFS(data[بدهکار],data[کل],B151,data[تاریخ],\">=\"&E$3,data[تاریخ],\"<=\"&E$4),0)","v":0},{"$f":"IF(COUNTIF(B$6:B151,B151)=2,SUMIFS(data[بستانکار],data[کل],B151,data[تاریخ],\">=\"&E$3,data[تاریخ],\"<=\"&E$4),0)","v":0},0]
[null,2412,0,{"$f":"IF(COUNTIF(B$6:B152,B152)=1,SUMIFS(data[بدهکار],data[کل],B152,data[تاریخ],\">=\"&E$3,data[تاریخ],\"<=\"&E$4),0)","v":0},{"$f":"IF(COUNTIF(B$6:B152,B152)=2,SUMIFS(data[بستانکار],data[کل],B152,data[تاریخ],\">=\"&E$3,data[تاریخ],\"<=\"&E$4),0)","v":0},0]
[null,2413,0,{"$f":"IF(COUNTIF(B$6:B153,B153)=1,SUMIFS(data[بدهکار],data[کل],B153,data[تاریخ],\">=\"&E$3,data[تاریخ],\"<=\"&E$4),0)","v":0},{"$f":"IF(COUNTIF(B$6:B153,B153)=2,SUMIFS(data[بستانکار],data[کل],B153,data[تاریخ],\">=\"&E$3,data[تاریخ],\"<=\"&E$4),0)","v":0},0]
[null,2414,0,{"$f":"IF(COUNTIF(B$6:B154,B154)=1,SUMIFS(data[بدهکار],data[کل],B154,data[تاریخ],\">=\"&E$3,data[تاریخ],\"<=\"&E$4),0)","v":0},{"$f":"IF(COUNTIF(B$6:B154,B154)=2,SUMIFS(data[بستانکار],data[کل],B154,data[تاریخ],\">=\"&E$3,data[تاریخ],\"<=\"&E$4),0)","v":0},0]
[null,2415,0,{"$f":"IF(COUNTIF(B$6:B155,B155)=1,SUMIFS(data[بدهکار],data[کل],B155,data[تاریخ],\">=\"&E$3,data[تاریخ],\"<=\"&E$4),0)","v":0},{"$f":"IF(COUNTIF(B$6:B155,B155)=2,SUMIFS(data[بستانکار],data[کل],B155,data[تاریخ],\">=\"&E$3,data[تاریخ],\"<=\"&E$4),0)","v":0},0]
[null,2416,0,{"$f":"IF(COUNTIF(B$6:B156,B156)=1,SUMIFS(data[بدهکار],data[کل],B156,data[تاریخ],\">=\"&E$3,data[تاریخ],\"<=\"&E$4),0)","v":0},{"$f":"IF(COUNTIF(B$6:B156,B156)=2,SUMIFS(data[بستانکار],data[کل],B156,data[تاریخ],\">=\"&E$3,data[تاریخ],\"<=\"&E$4),0)","v":0},0]
[null,2417,0,{"$f":"IF(COUNTIF(B$6:B157,B157)=1,SUMIFS(data[بدهکار],data[کل],B157,data[تاریخ],\">=\"&E$3,data[تاریخ],\"<=\"&E$4),0)","v":0},{"$f":"IF(COUNTIF(B$6:B157,B157)=2,SUMIFS(data[بستانکار],data[کل],B157,data[تاریخ],\">=\"&E$3,data[تاریخ],\"<=\"&E$4),0)","v":0},0]
[null,2418,0,{"$f":"IF(COUNTIF(B$6:B158,B158)=1,SUMIFS(data[بدهکار],data[کل],B158,data[تاریخ],\">=\"&E$3,data[تاریخ],\"<=\"&E$4),0)","v":0},{"$f":"IF(COUNTIF(B$6:B158,B158)=2,SUMIFS(data[بستانکار],data[کل],B158,data[تاریخ],\">=\"&E$3,data[تاریخ],\"<=\"&E$4),0)","v":0},0]
[null,2419,0,{"$f":"IF(COUNTIF(B$6:B159,B159)=1,SUMIFS(data[بدهکار],data[کل],B159,data[تاریخ],\">=\"&E$3,data[تاریخ],\"<=\"&E$4),0)","v":0},{"$f":"IF(COUNTIF(B$6:B159,B159)=2,SUMIFS(data[بستانکار],data[کل],B159,data[تاریخ],\">=\"&E$3,data[تاریخ],\"<=\"&E$4),0)","v":0},0]
[null,2420,0,{"$f":"IF(COUNTIF(B$6:B160,B160)=1,SUMIFS(data[بدهکار],data[کل],B160,data[تاریخ],\">=\"&E$3,data[تاریخ],\"<=\"&E$4),0)","v":0},{"$f":"IF(COUNTIF(B$6:B160,B160)=2,SUMIFS(data[بستانکار],data[کل],B160,data[تاریخ],\">=\"&E$3,data[تاریخ],\"<=\"&E$4),0)","v":0},0]
[null,2510,"افتتاحیه / اختتامیه",{"$f":"IF(COUNTIF(B$6:B161,B161)=1,SUMIFS(data[بدهکار],data[کل],B161,data[تاریخ],\">=\"&E$3,data[تاریخ],\"<=\"&E$4),0)","v":0},{"$f":"IF(COUNTIF(B$6:B161,B161)=2,SUMIFS(data[بستانکار],data[کل],B161,data[تاریخ],\">=\"&E$3,data[تاریخ],\"<=\"&E$4),0)","v":0},0]
[null,2511,"حسابهای بلاتکلیف",{"$f":"IF(COUNTIF(B$6:B162,B162)=1,SUMIFS(data[بدهکار],data[کل],B162,data[تاریخ],\">=\"&E$3,data[تاریخ],\"<=\"&E$4),0)","v":0},{"$f":"IF(COUNTIF(B$6:B162,B162)=2,SUMIFS(data[بستانکار],data[کل],B162,data[تاریخ],\">=\"&E$3,data[تاریخ],\"<=\"&E$4),0)","v":0},0]
[null,2512,0,{"$f":"IF(COUNTIF(B$6:B163,B163)=1,SUMIFS(data[بدهکار],data[کل],B163,data[تاریخ],\">=\"&E$3,data[تاریخ],\"<=\"&E$4),0)","v":0},{"$f":"IF(COUNTIF(B$6:B163,B163)=2,SUMIFS(data[بستانکار],data[کل],B163,data[تاریخ],\">=\"&E$3,data[تاریخ],\"<=\"&E$4),0)","v":0},0]
[null,1110,"موجودی نقد و بانک",{"$f":"IF(COUNTIF(B$6:B164,B164)=1,SUMIFS(data[بدهکار],data[کل],B164,data[تاریخ],\">=\"&E$3,data[تاریخ],\"<=\"&E$4),0)","v":0},{"$f":"IF(COUNTIF(B$6:B164,B164)=2,SUMIFS(data[بستانکار],data[کل],B164,data[تاریخ],\">=\"&E$3,data[تاریخ],\"<=\"&E$4),0)","v":0},0]
[null,1111,"سپرده های کوتاه مدت",{"$f":"IF(COUNTIF(B$6:B165,B165)=1,SUMIFS(data[بدهکار],data[کل],B165,data[تاریخ],\">=\"&E$3,data[تاریخ],\"<=\"&E$4),0)","v":0},{"$f":"IF(COUNTIF(B$6:B165,B165)=2,SUMIFS(data[بستانکار],data[کل],B165,data[تاریخ],\">=\"&E$3,data[تاریخ],\"<=\"&E$4),0)","v":0},0]
[null,1112,"اسناد دریافتنی",{"$f":"IF(COUNTIF(B$6:B166,B166)=1,SUMIFS(data[بدهکار],data[کل],B166,data[تاریخ],\">=\"&E$3,data[تاریخ],\"<=\"&E$4),0)","v":0},{"$f":"IF(COUNTIF(B$6:B166,B166)=2,SUMIFS(data[بستانکار],data[کل],B166,data[تاریخ],\">=\"&E$3,data[تاریخ],\"<=\"&E$4),0)","v":0},0]
[null,1113,"حسابهای دریافتنی تجاری",{"$f":"IF(COUNTIF(B$6:B167,B167)=1,SUMIFS(data[بدهکار],data[کل],B167,data[تاریخ],\">=\"&E$3,data[تاریخ],\"<=\"&E$4),0)","v":0},{"$f":"IF(COUNTIF(B$6:B167,B167)=2,SUMIFS(data[بستانکار],data[کل],B167,data[تاریخ],\">=\"&E$3,data[تاریخ],\"<=\"&E$4),0)","v":0},0]
[null,1114,"سایر حسابهای دریافتنی",{"$f":"IF(COUNTIF(B$6:B168,B168)=1,SUMIFS(data[بدهکار],data[کل],B168,data[تاریخ],\">=\"&E$3,data[تاریخ],\"<=\"&E$4),0)","v":0},{"$f":"IF(COUNTIF(B$6:B168,B168)=2,SUMIFS(data[بستانکار],data[کل],B168,data[تاریخ],\">=\"&E$3,data[تاریخ],\"<=\"&E$4),0)","v":0},0]
[null,1115,"سرمایه گذاری های کوتاه مدت",{"$f":"IF(COUNTIF(B$6:B169,B169)=1,SUMIFS(data[بدهکار],data[کل],B169,data[تاریخ],\">=\"&E$3,data[تاریخ],\"<=\"&E$4),0)","v":0},{"$f":"IF(COUNTIF(B$6:B169,B169)=2,SUMIFS(data[بستانکار],data[کل],B169,data[تاریخ],\">=\"&E$3,data[تاریخ],\"<=\"&E$4),0)","v":0},0]
[null,1116,"موجودی مواد و کالا",{"$f":"IF(COUNTIF(B$6:B170,B170)=1,SUMIFS(data[بدهکار],data[کل],B170,data[تاریخ],\">=\"&E$3,data[تاریخ],\"<=\"&E$4),0)","v":0},{"$f":"IF(COUNTIF(B$6:B170,B170)=2,SUMIFS(data[بستانکار],data[کل],B170,data[تاریخ],\">=\"&E$3,data[تاریخ],\"<=\"&E$4),0)","v":0},0]
[null,1117,"کار درجریان ساخت",{"$f":"IF(COUNTIF(B$6:B171,B171)=1,SUMIFS(data[بدهکار],data[کل],B171,data[تاریخ],\">=\"&E$3,data[تاریخ],\"<=\"&E$4),0)","v":0},{"$f":"IF(COUNTIF(B$6:B171,B171)=2,SUMIFS(data[بستانکار],data[کل],B171,data[تاریخ],\">=\"&E$3,data[تاریخ],\"<=\"&E$4),0)","v":0},0]
[null,1118,"سفارشات و اقلام در راه",{"$f":"IF(COUNTIF(B$6:B172,B172)=1,SUMIFS(data[بدهکار],data[کل],B172,data[تاریخ],\">=\"&E$3,data[تاریخ],\"<=\"&E$4),0)","v":0},{"$f":"IF(COUNTIF(B$6:B172,B172)=2,SUMIFS(data[بستانکار],data[کل],B172,data[تاریخ],\">=\"&E$3,data[تاریخ],\"<=\"&E$4),0)","v":0},0]
[null,1119,"پیش پرداختها",{"$f":"IF(COUNTIF(B$6:B173,B173)=1,SUMIFS(data[بدهکار],data[کل],B173,data[تاریخ],\">=\"&E$3,data[تاریخ],\"<=\"&E$4),0)","v":0},{"$f":"IF(COUNTIF(B$6:B173,B173)=2,SUMIFS(data[بستانکار],data[کل],B173,data[تاریخ],\">=\"&E$3,data[تاریخ],\"<=\"&E$4),0)","v":0},0]
[null,1120,0,{"$f":"IF(COUNTIF(B$6:B174,B174)=1,SUMIFS(data[بدهکار],data[کل],B174,data[تاریخ],\">=\"&E$3,data[تاریخ],\"<=\"&E$4),0)","v":0},{"$f":"IF(COUNTIF(B$6:B174,B174)=2,SUMIFS(data[بستانکار],data[کل],B174,data[تاریخ],\">=\"&E$3,data[تاریخ],\"<=\"&E$4),0)","v":0},{"$f":"D174+E174","v":0}]
[null,1210,"اموال ، ماشین آلات و تجهیزات",{"$f":"IF(COUNTIF(B$6:B175,B175)=1,SUMIFS(data[بدهکار],data[کل],B175,data[تاریخ],\">=\"&E$3,data[تاریخ],\"<=\"&E$4),0)","v":0},{"$f":"IF(COUNTIF(B$6:B175,B175)=2,SUMIFS(data[بستانکار],data[کل],B175,data[تاریخ],\">=\"&E$3,data[تاریخ],\"<=\"&E$4),0)","v":0},0]
[null,1211,"استهلاک انباشته اموال ، ماشین آلات و تجهیزات",{"$f":"IF(COUNTIF(B$6:B176,B176)=1,SUMIFS(data[بدهکار],data[کل],B176,data[تاریخ],\">=\"&E$3,data[تاریخ],\"<=\"&E$4),0)","v":0},{"$f":"IF(COUNTIF(B$6:B176,B176)=2,SUMIFS(data[بستانکار],data[کل],B176,data[تاریخ],\">=\"&E$3,data[تاریخ],\"<=\"&E$4),0)","v":0},0]
[null,1212,"زمین و املاک",{"$f":"IF(COUNTIF(B$6:B177,B177)=1,SUMIFS(data[بدهکار],data[کل],B177,data[تاریخ],\">=\"&E$3,data[تاریخ],\"<=\"&E$4),0)","v":0},{"$f":"IF(COUNTIF(B$6:B177,B177)=2,SUMIFS(data[بستانکار],data[کل],B177,data[تاریخ],\">=\"&E$3,data[تاریخ],\"<=\"&E$4),0)","v":0},0]
[null,1213,"دارائیهای ثابت در جریان تکمیل",{"$f":"IF(COUNTIF(B$6:B178,B178)=1,SUMIFS(data[بدهکار],data[کل],B178,data[تاریخ],\">=\"&E$3,data[تاریخ],\"<=\"&E$4),0)","v":0},{"$f":"IF(COUNTIF(B$6:B178,B178)=2,SUMIFS(data[بستانکار],data[کل],B178,data[تاریخ],\">=\"&E$3,data[تاریخ],\"<=\"&E$4),0)","v":0},0]
[null,1214,"سرمایه کذاری های بلند مدت",{"$f":"IF(COUNTIF(B$6:B179,B179)=1,SUMIFS(data[بدهکار],data[کل],B179,data[تاریخ],\">=\"&E$3,data[تاریخ],\"<=\"&E$4),0)","v":0},{"$f":"IF(COUNTIF(B$6:B179,B179)=2,SUMIFS(data[بستانکار],data[کل],B179,data[تاریخ],\">=\"&E$3,data[تاریخ],\"<=\"&E$4),0)","v":0},0]
[null,1215,"سپرده هاو مطالبات بلند مدت",{"$f":"IF(COUNTIF(B$6:B180,B180)=1,SUMIFS(data[بدهکار],data[کل],B180,data[تاریخ],\">=\"&E$3,data[تاریخ],\"<=\"&E$4),0)","v":0},{"$f":"IF(COUNTIF(B$6:B180,B180)=2,SUMIFS(data[بستانکار],data[کل],B180,data[تاریخ],\">=\"&E$3,data[تاریخ],\"<=\"&E$4),0)","v":0},0]
[null,1216,"هزینه سنوات آتی (مخارج انتقالی به آتی)",{"$f":"IF(COUNTIF(B$6:B181,B181)=1,SUMIFS(data[بدهکار],data[کل],B181,data[تاریخ],\">=\"&E$3,data[تاریخ],\"<=\"&E$4),0)","v":0},{"$f":"IF(COUNTIF(B$6:B181,B181)=2,SUMIFS(data[بستانکار],data[کل],B181,data[تاریخ],\">=\"&E$3,data[تاریخ],\"<=\"&E$4),0)","v":0},0]
[null,1217,"سایر دارائیها",{"$f":"IF(COUNTIF(B$6:B182,B182)=1,SUMIFS(data[بدهکار],data[کل],B182,data[تاریخ],\">=\"&E$3,data[تاریخ],\"<=\"&E$4),0)","v":0},{"$f":"IF(COUNTIF(B$6:B182,B182)=2,SUMIFS(data[بستانکار],data[کل],B182,data[تاریخ],\">=\"&E$3,data[تاریخ],\"<=\"&E$4),0)","v":0},0]
[null,1218,0,{"$f":"IF(COUNTIF(B$6:B183,B183)=1,SUMIFS(data[بدهکار],data[کل],B183,data[تاریخ],\">=\"&E$3,data[تاریخ],\"<=\"&E$4),0)","v":0},{"$f":"IF(COUNTIF(B$6:B183,B183)=2,SUMIFS(data[بستانکار],data[کل],B183,data[تاریخ],\">=\"&E$3,data[تاریخ],\"<=\"&E$4),0)","v":0},0]
[null,1219,0,{"$f":"IF(COUNTIF(B$6:B184,B184)=1,SUMIFS(data[بدهکار],data[کل],B184,data[تاریخ],\">=\"&E$3,data[تاریخ],\"<=\"&E$4),0)","v":0},{"$f":"IF(COUNTIF(B$6:B184,B184)=2,SUMIFS(data[بستانکار],data[کل],B184,data[تاریخ],\">=\"&E$3,data[تاریخ],\"<=\"&E$4),0)","v":0},0]
[null,1220,0,{"$f":"IF(COUNTIF(B$6:B185,B185)=1,SUMIFS(data[بدهکار],data[کل],B185,data[تاریخ],\">=\"&E$3,data[تاریخ],\"<=\"&E$4),0)","v":0},{"$f":"IF(COUNTIF(B$6:B185,B185)=2,SUMIFS(data[بستانکار],data[کل],B185,data[تاریخ],\">=\"&E$3,data[تاریخ],\"<=\"&E$4),0)","v":0},0]
[null,1310,"حسابهای پرداختنی تجاری",{"$f":"IF(COUNTIF(B$6:B186,B186)=1,SUMIFS(data[بدهکار],data[کل],B186,data[تاریخ],\">=\"&E$3,data[تاریخ],\"<=\"&E$4),0)","v":0},{"$f":"IF(COUNTIF(B$6:B186,B186)=2,SUMIFS(data[بستانکار],data[کل],B186,data[تاریخ],\">=\"&E$3,data[تاریخ],\"<=\"&E$4),0)","v":0},0]
[null,1311,"اسناد پرداختنی کوتاه مدت",{"$f":"IF(COUNTIF(B$6:B187,B187)=1,SUMIFS(data[بدهکار],data[کل],B187,data[تاریخ],\">=\"&E$3,data[تاریخ],\"<=\"&E$4),0)","v":0},{"$f":"IF(COUNTIF(B$6:B187,B187)=2,SUMIFS(data[بستانکار],data[کل],B187,data[تاریخ],\">=\"&E$3,data[تاریخ],\"<=\"&E$4),0)","v":0},0]
[null,1312,"سایر حسابهای پرداختنی",{"$f":"IF(COUNTIF(B$6:B188,B188)=1,SUMIFS(data[بدهکار],data[کل],B188,data[تاریخ],\">=\"&E$3,data[تاریخ],\"<=\"&E$4),0)","v":0},{"$f":"IF(COUNTIF(B$6:B188,B188)=2,SUMIFS(data[بستانکار],data[کل],B188,data[تاریخ],\">=\"&E$3,data[تاریخ],\"<=\"&E$4),0)","v":0},0]
[null,1313,"سپرده های دریافتی",{"$f":"IF(COUNTIF(B$6:B189,B189)=1,SUMIFS(data[بدهکار],data[کل],B189,data[تاریخ],\">=\"&E$3,data[تاریخ],\"<=\"&E$4),0)","v":0},{"$f":"IF(COUNTIF(B$6:B189,B189)=2,SUMIFS(data[بستانکار],data[کل],B189,data[تاریخ],\">=\"&E$3,data[تاریخ],\"<=\"&E$4),0)","v":0},0]
[null,1314,"پیش دریافتها",{"$f":"IF(COUNTIF(B$6:B190,B190)=1,SUMIFS(data[بدهکار],data[کل],B190,data[تاریخ],\">=\"&E$3,data[تاریخ],\"<=\"&E$4),0)","v":0},{"$f":"IF(COUNTIF(B$6:B190,B190)=2,SUMIFS(data[بستانکار],data[کل],B190,data[تاریخ],\">=\"&E$3,data[تاریخ],\"<=\"&E$4),0)","v":0},0]
[null,1315,"ذخیره مالیات",{"$f":"IF(COUNTIF(B$6:B191,B191)=1,SUMIFS(data[بدهکار],data[کل],B191,data[تاریخ],\">=\"&E$3,data[تاریخ],\"<=\"&E$4),0)","v":0},{"$f":"IF(COUNTIF(B$6:B191,B191)=2,SUMIFS(data[بستانکار],data[کل],B191,data[تاریخ],\">=\"&E$3,data[تاریخ],\"<=\"&E$4),0)","v":0},0]
[null,1316,"سود سهام پیشنهادی و پرداختنی",{"$f":"IF(COUNTIF(B$6:B192,B192)=1,SUMIFS(data[بدهکار],data[کل],B192,data[تاریخ],\">=\"&E$3,data[تاریخ],\"<=\"&E$4),0)","v":0},{"$f":"IF(COUNTIF(B$6:B192,B192)=2,SUMIFS(data[بستانکار],data[کل],B192,data[تاریخ],\">=\"&E$3,data[تاریخ],\"<=\"&E$4),0)","v":0},0]
[null,1317,"تسهیلات و اعتبارات مالی دریافتی",{"$f":"IF(COUNTIF(B$6:B193,B193)=1,SUMIFS(data[بدهکار],data[کل],B193,data[تاریخ],\">=\"&E$3,data[تاریخ],\"<=\"&E$4),0)","v":0},{"$f":"IF(COUNTIF(B$6:B193,B193)=2,SUMIFS(data[بستانکار],data[کل],B193,data[تاریخ],\">=\"&E$3,data[تاریخ],\"<=\"&E$4),0)","v":0},0]
[null,1318,"سایر ذخایر",{"$f":"IF(COUNTIF(B$6:B194,B194)=1,SUMIFS(data[بدهکار],data[کل],B194,data[تاریخ],\">=\"&E$3,data[تاریخ],\"<=\"&E$4),0)","v":0},{"$f":"IF(COUNTIF(B$6:B194,B194)=2,SUMIFS(data[بستانکار],data[کل],B194,data[تاریخ],\">=\"&E$3,data[تاریخ],\"<=\"&E$4),0)","v":0},0]
[null,1319,0,{"$f":"IF(COUNTIF(B$6:B195,B195)=1,SUMIFS(data[بدهکار],data[کل],B195,data[تاریخ],\">=\"&E$3,data[تاریخ],\"<=\"&E$4),0)","v":0},{"$f":"IF(COUNTIF(B$6:B195,B195)=2,SUMIFS(data[بستانکار],data[کل],B195,data[تاریخ],\">=\"&E$3,data[تاریخ],\"<=\"&E$4),0)","v":0},0]
[null,1320,0,{"$f":"IF(COUNTIF(B$6:B196,B196)=1,SUMIFS(data[بدهکار],data[کل],B196,data[تاریخ],\">=\"&E$3,data[تاریخ],\"<=\"&E$4),0)","v":0},{"$f":"IF(COUNTIF(B$6:B196,B196)=2,SUMIFS(data[بستانکار],data[کل],B196,data[تاریخ],\">=\"&E$3,data[تاریخ],\"<=\"&E$4),0)","v":0},0]
[null,1410,"اسناد پرداختنی بلند مدت",{"$f":"IF(COUNTIF(B$6:B197,B197)=1,SUMIFS(data[بدهکار],data[کل],B197,data[تاریخ],\">=\"&E$3,data[تاریخ],\"<=\"&E$4),0)","v":0},{"$f":"IF(COUNTIF(B$6:B197,B197)=2,SUMIFS(data[بستانکار],data[کل],B197,data[تاریخ],\">=\"&E$3,data[تاریخ],\"<=\"&E$4),0)","v":0},0]
[null,1411,"حسابهای پرداختنی بلند مدت",{"$f":"IF(COUNTIF(B$6:B198,B198)=1,SUMIFS(data[بدهکار],data[کل],B198,data[تاریخ],\">=\"&E$3,data[تاریخ],\"<=\"&E$4),0)","v":0},{"$f":"IF(COUNTIF(B$6:B198,B198)=2,SUMIFS(data[بستانکار],data[کل],B198,data[تاریخ],\">=\"&E$3,data[تاریخ],\"<=\"&E$4),0)","v":0},0]
[null,1412,{"$f":"VLOOKUP(B199,koli,2,FALSE)","v":"تسهیلات مالی دریافتی بلند مدت"},{"$f":"IF(COUNTIF(B$6:B199,B199)=1,SUMIFS(data[بدهکار],data[کل],B199,data[تاریخ],\">=\"&E$3,data[تاریخ],\"<=\"&E$4),0)","v":0},{"$f":"IF(COUNTIF(B$6:B199,B199)=2,SUMIFS(data[بستانکار],data[کل],B199,data[تاریخ],\">=\"&E$3,data[تاریخ],\"<=\"&E$4),0)","v":0},0]
[null,1413,"ذخیره مزایای پایان خدمت کارکنان",{"$f":"IF(COUNTIF(B$6:B200,B200)=1,SUMIFS(data[بدهکار],data[کل],B200,data[تاریخ],\">=\"&E$3,data[تاریخ],\"<=\"&E$4),0)","v":0},{"$f":"IF(COUNTIF(B$6:B200,B200)=2,SUMIFS(data[بستانکار],data[کل],B200,data[تاریخ],\">=\"&E$3,data[تاریخ],\"<=\"&E$4),0)","v":0},0]
[null,1414,"در آمدهای انتفالی به دوره های آتی",{"$f":"IF(COUNTIF(B$6:B201,B201)=1,SUMIFS(data[بدهکار],data[کل],B201,data[تاریخ],\">=\"&E$3,data[تاریخ],\"<=\"&E$4),0)","v":0},{"$f":"IF(COUNTIF(B$6:B201,B201)=2,SUMIFS(data[بستانکار],data[کل],B201,data[تاریخ],\">=\"&E$3,data[تاریخ],\"<=\"&E$4),0)","v":0},0]
[null,1415,0,{"$f":"IF(COUNTIF(B$6:B202,B202)=1,SUMIFS(data[بدهکار],data[کل],B202,data[تاریخ],\">=\"&E$3,data[تاریخ],\"<=\"&E$4),0)","v":0},{"$f":"IF(COUNTIF(B$6:B202,B202)=2,SUMIFS(data[بستانکار],data[کل],B202,data[تاریخ],\">=\"&E$3,data[تاریخ],\"<=\"&E$4),0)","v":0},0]
[null,1416,0,{"$f":"IF(COUNTIF(B$6:B203,B203)=1,SUMIFS(data[بدهکار],data[کل],B203,data[تاریخ],\">=\"&E$3,data[تاریخ],\"<=\"&E$4),0)","v":0},{"$f":"IF(COUNTIF(B$6:B203,B203)=2,SUMIFS(data[بستانکار],data[کل],B203,data[تاریخ],\">=\"&E$3,data[تاریخ],\"<=\"&E$4),0)","v":0},0]
[null,1417,0,{"$f":"IF(COUNTIF(B$6:B204,B204)=1,SUMIFS(data[بدهکار],data[کل],B204,data[تاریخ],\">=\"&E$3,data[تاریخ],\"<=\"&E$4),0)","v":0},{"$f":"IF(COUNTIF(B$6:B204,B204)=2,SUMIFS(data[بستانکار],data[کل],B204,data[تاریخ],\">=\"&E$3,data[تاریخ],\"<=\"&E$4),0)","v":0},0]
[null,1418,0,{"$f":"IF(COUNTIF(B$6:B205,B205)=1,SUMIFS(data[بدهکار],data[کل],B205,data[تاریخ],\">=\"&E$3,data[تاریخ],\"<=\"&E$4),0)","v":0},{"$f":"IF(COUNTIF(B$6:B205,B205)=2,SUMIFS(data[بستانکار],data[کل],B205,data[تاریخ],\">=\"&E$3,data[تاریخ],\"<=\"&E$4),0)","v":0},0]
[null,1419,0,{"$f":"IF(COUNTIF(B$6:B206,B206)=1,SUMIFS(data[بدهکار],data[کل],B206,data[تاریخ],\">=\"&E$3,data[تاریخ],\"<=\"&E$4),0)","v":0},{"$f":"IF(COUNTIF(B$6:B206,B206)=2,SUMIFS(data[بستانکار],data[کل],B206,data[تاریخ],\">=\"&E$3,data[تاریخ],\"<=\"&E$4),0)","v":0},{"$f":"D206+E206","v":0}]
[null,1420,0,{"$f":"IF(COUNTIF(B$6:B207,B207)=1,SUMIFS(data[بدهکار],data[کل],B207,data[تاریخ],\">=\"&E$3,data[تاریخ],\"<=\"&E$4),0)","v":0},{"$f":"IF(COUNTIF(B$6:B207,B207)=2,SUMIFS(data[بستانکار],data[کل],B207,data[تاریخ],\">=\"&E$3,data[تاریخ],\"<=\"&E$4),0)","v":0},0]
[null,1510,"سرمایه",{"$f":"IF(COUNTIF(B$6:B208,B208)=1,SUMIFS(data[بدهکار],data[کل],B208,data[تاریخ],\">=\"&E$3,data[تاریخ],\"<=\"&E$4),0)","v":0},{"$f":"IF(COUNTIF(B$6:B208,B208)=2,SUMIFS(data[بستانکار],data[کل],B208,data[تاریخ],\">=\"&E$3,data[تاریخ],\"<=\"&E$4),0)","v":0},0]
[null,1511,"اندوخته قانونی",{"$f":"IF(COUNTIF(B$6:B209,B209)=1,SUMIFS(data[بدهکار],data[کل],B209,data[تاریخ],\">=\"&E$3,data[تاریخ],\"<=\"&E$4),0)","v":0},{"$f":"IF(COUNTIF(B$6:B209,B209)=2,SUMIFS(data[بستانکار],data[کل],B209,data[تاریخ],\">=\"&E$3,data[تاریخ],\"<=\"&E$4),0)","v":0},0]
[null,1512,"سایر اندوخته ها و صرف سهام",{"$f":"IF(COUNTIF(B$6:B210,B210)=1,SUMIFS(data[بدهکار],data[کل],B210,data[تاریخ],\">=\"&E$3,data[تاریخ],\"<=\"&E$4),0)","v":0},{"$f":"IF(COUNTIF(B$6:B210,B210)=2,SUMIFS(data[بستانکار],data[کل],B210,data[تاریخ],\">=\"&E$3,data[تاریخ],\"<=\"&E$4),0)","v":0},0]
[null,1513,"سود (زیان ) انباشته",{"$f":"IF(COUNTIF(B$6:B211,B211)=1,SUMIFS(data[بدهکار],data[کل],B211,data[تاریخ],\">=\"&E$3,data[تاریخ],\"<=\"&E$4),0)","v":0},{"$f":"IF(COUNTIF(B$6:B211,B211)=2,SUMIFS(data[بستانکار],data[کل],B211,data[تاریخ],\">=\"&E$3,data[تاریخ],\"<=\"&E$4),0)","v":0},0]
[null,1514,"سود (زیان ) جاری",{"$f":"IF(COUNTIF(B$6:B212,B212)=1,SUMIFS(data[بدهکار],data[کل],B212,data[تاریخ],\">=\"&E$3,data[تاریخ],\"<=\"&E$4),0)","v":0},{"$f":"IF(COUNTIF(B$6:B212,B212)=2,SUMIFS(data[بستانکار],data[کل],B212,data[تاریخ],\">=\"&E$3,data[تاریخ],\"<=\"&E$4),0)","v":0},0]
[null,1515,"تقسیم سود",{"$f":"IF(COUNTIF(B$6:B213,B213)=1,SUMIFS(data[بدهکار],data[کل],B213,data[تاریخ],\">=\"&E$3,data[تاریخ],\"<=\"&E$4),0)","v":0},{"$f":"IF(COUNTIF(B$6:B213,B213)=2,SUMIFS(data[بستانکار],data[کل],B213,data[تاریخ],\">=\"&E$3,data[تاریخ],\"<=\"&E$4),0)","v":0},0]
[null,1516,0,{"$f":"IF(COUNTIF(B$6:B214,B214)=1,SUMIFS(data[بدهکار],data[کل],B214,data[تاریخ],\">=\"&E$3,data[تاریخ],\"<=\"&E$4),0)","v":0},{"$f":"IF(COUNTIF(B$6:B214,B214)=2,SUMIFS(data[بستانکار],data[کل],B214,data[تاریخ],\">=\"&E$3,data[تاریخ],\"<=\"&E$4),0)","v":0},0]
[null,1517,0,{"$f":"IF(COUNTIF(B$6:B215,B215)=1,SUMIFS(data[بدهکار],data[کل],B215,data[تاریخ],\">=\"&E$3,data[تاریخ],\"<=\"&E$4),0)","v":0},{"$f":"IF(COUNTIF(B$6:B215,B215)=2,SUMIFS(data[بستانکار],data[کل],B215,data[تاریخ],\">=\"&E$3,data[تاریخ],\"<=\"&E$4),0)","v":0},0]
[null,1518,0,{"$f":"IF(COUNTIF(B$6:B216,B216)=1,SUMIFS(data[بدهکار],data[کل],B216,data[تاریخ],\">=\"&E$3,data[تاریخ],\"<=\"&E$4),0)","v":0},{"$f":"IF(COUNTIF(B$6:B216,B216)=2,SUMIFS(data[بستانکار],data[کل],B216,data[تاریخ],\">=\"&E$3,data[تاریخ],\"<=\"&E$4),0)","v":0},0]
[null,1519,0,{"$f":"IF(COUNTIF(B$6:B217,B217)=1,SUMIFS(data[بدهکار],data[کل],B217,data[تاریخ],\">=\"&E$3,data[تاریخ],\"<=\"&E$4),0)","v":0},{"$f":"IF(COUNTIF(B$6:B217,B217)=2,SUMIFS(data[بستانکار],data[کل],B217,data[تاریخ],\">=\"&E$3,data[تاریخ],\"<=\"&E$4),0)","v":0},{"$f":"D217+E217","v":0}]
[null,1520,0,{"$f":"IF(COUNTIF(B$6:B218,B218)=1,SUMIFS(data[بدهکار],data[کل],B218,data[تاریخ],\">=\"&E$3,data[تاریخ],\"<=\"&E$4),0)","v":0},{"$f":"IF(COUNTIF(B$6:B218,B218)=2,SUMIFS(data[بستانکار],data[کل],B218,data[تاریخ],\">=\"&E$3,data[تاریخ],\"<=\"&E$4),0)","v":0},0]
[null,1610,"فروش",{"$f":"IF(COUNTIF(B$6:B219,B219)=1,SUMIFS(data[بدهکار],data[کل],B219,data[تاریخ],\">=\"&E$3,data[تاریخ],\"<=\"&E$4),0)","v":0},{"$f":"IF(COUNTIF(B$6:B219,B219)=2,SUMIFS(data[بستانکار],data[کل],B219,data[تاریخ],\">=\"&E$3,data[تاریخ],\"<=\"&E$4),0)","v":0},0]
[null,1611,"برگشت از فروش و تخفیفات",{"$f":"IF(COUNTIF(B$6:B220,B220)=1,SUMIFS(data[بدهکار],data[کل],B220,data[تاریخ],\">=\"&E$3,data[تاریخ],\"<=\"&E$4),0)","v":0},{"$f":"IF(COUNTIF(B$6:B220,B220)=2,SUMIFS(data[بستانکار],data[کل],B220,data[تاریخ],\">=\"&E$3,data[تاریخ],\"<=\"&E$4),0)","v":0},0]
[null,1612,"سایر درآمد ها و هزینه های عملیاتی",{"$f":"IF(COUNTIF(B$6:B221,B221)=1,SUMIFS(data[بدهکار],data[کل],B221,data[تاریخ],\">=\"&E$3,data[تاریخ],\"<=\"&E$4),0)","v":0},{"$f":"IF(COUNTIF(B$6:B221,B221)=2,SUMIFS(data[بستانکار],data[کل],B221,data[تاریخ],\">=\"&E$3,data[تاریخ],\"<=\"&E$4),0)","v":0},0]
[null,1613,0,{"$f":"IF(COUNTIF(B$6:B222,B222)=1,SUMIFS(data[بدهکار],data[کل],B222,data[تاریخ],\">=\"&E$3,data[تاریخ],\"<=\"&E$4),0)","v":0},{"$f":"IF(COUNTIF(B$6:B222,B222)=2,SUMIFS(data[بستانکار],data[کل],B222,data[تاریخ],\">=\"&E$3,data[تاریخ],\"<=\"&E$4),0)","v":0},0]
[null,1614,0,{"$f":"IF(COUNTIF(B$6:B223,B223)=1,SUMIFS(data[بدهکار],data[کل],B223,data[تاریخ],\">=\"&E$3,data[تاریخ],\"<=\"&E$4),0)","v":0},{"$f":"IF(COUNTIF(B$6:B223,B223)=2,SUMIFS(data[بستانکار],data[کل],B223,data[تاریخ],\">=\"&E$3,data[تاریخ],\"<=\"&E$4),0)","v":0},0]
[null,1615,0,{"$f":"IF(COUNTIF(B$6:B224,B224)=1,SUMIFS(data[بدهکار],data[کل],B224,data[تاریخ],\">=\"&E$3,data[تاریخ],\"<=\"&E$4),0)","v":0},{"$f":"IF(COUNTIF(B$6:B224,B224)=2,SUMIFS(data[بستانکار],data[کل],B224,data[تاریخ],\">=\"&E$3,data[تاریخ],\"<=\"&E$4),0)","v":0},0]
[null,1616,0,{"$f":"IF(COUNTIF(B$6:B225,B225)=1,SUMIFS(data[بدهکار],data[کل],B225,data[تاریخ],\">=\"&E$3,data[تاریخ],\"<=\"&E$4),0)","v":0},{"$f":"IF(COUNTIF(B$6:B225,B225)=2,SUMIFS(data[بستانکار],data[کل],B225,data[تاریخ],\">=\"&E$3,data[تاریخ],\"<=\"&E$4),0)","v":0},0]
[null,1617,0,{"$f":"IF(COUNTIF(B$6:B226,B226)=1,SUMIFS(data[بدهکار],data[کل],B226,data[تاریخ],\">=\"&E$3,data[تاریخ],\"<=\"&E$4),0)","v":0},{"$f":"IF(COUNTIF(B$6:B226,B226)=2,SUMIFS(data[بستانکار],data[کل],B226,data[تاریخ],\">=\"&E$3,data[تاریخ],\"<=\"&E$4),0)","v":0},0]
[null,1618,0,{"$f":"IF(COUNTIF(B$6:B227,B227)=1,SUMIFS(data[بدهکار],data[کل],B227,data[تاریخ],\">=\"&E$3,data[تاریخ],\"<=\"&E$4),0)","v":0},{"$f":"IF(COUNTIF(B$6:B227,B227)=2,SUMIFS(data[بستانکار],data[کل],B227,data[تاریخ],\">=\"&E$3,data[تاریخ],\"<=\"&E$4),0)","v":0},0]
[null,1619,0,{"$f":"IF(COUNTIF(B$6:B228,B228)=1,SUMIFS(data[بدهکار],data[کل],B228,data[تاریخ],\">=\"&E$3,data[تاریخ],\"<=\"&E$4),0)","v":0},{"$f":"IF(COUNTIF(B$6:B228,B228)=2,SUMIFS(data[بستانکار],data[کل],B228,data[تاریخ],\">=\"&E$3,data[تاریخ],\"<=\"&E$4),0)","v":0},0]
[null,1620,0,{"$f":"IF(COUNTIF(B$6:B229,B229)=1,SUMIFS(data[بدهکار],data[کل],B229,data[تاریخ],\">=\"&E$3,data[تاریخ],\"<=\"&E$4),0)","v":0},{"$f":"IF(COUNTIF(B$6:B229,B229)=2,SUMIFS(data[بستانکار],data[کل],B229,data[تاریخ],\">=\"&E$3,data[تاریخ],\"<=\"&E$4),0)","v":0},0]
[null,1710,"قیمت تمام شده کالای فروش رفته",{"$f":"IF(COUNTIF(B$6:B230,B230)=1,SUMIFS(data[بدهکار],data[کل],B230,data[تاریخ],\">=\"&E$3,data[تاریخ],\"<=\"&E$4),0)","v":0},{"$f":"IF(COUNTIF(B$6:B230,B230)=2,SUMIFS(data[بستانکار],data[کل],B230,data[تاریخ],\">=\"&E$3,data[تاریخ],\"<=\"&E$4),0)","v":0},0]
[null,1711,0,{"$f":"IF(COUNTIF(B$6:B231,B231)=1,SUMIFS(data[بدهکار],data[کل],B231,data[تاریخ],\">=\"&E$3,data[تاریخ],\"<=\"&E$4),0)","v":0},{"$f":"IF(COUNTIF(B$6:B231,B231)=2,SUMIFS(data[بستانکار],data[کل],B231,data[تاریخ],\">=\"&E$3,data[تاریخ],\"<=\"&E$4),0)","v":0},0]
[null,1712,0,{"$f":"IF(COUNTIF(B$6:B232,B232)=1,SUMIFS(data[بدهکار],data[کل],B232,data[تاریخ],\">=\"&E$3,data[تاریخ],\"<=\"&E$4),0)","v":0},{"$f":"IF(COUNTIF(B$6:B232,B232)=2,SUMIFS(data[بستانکار],data[کل],B232,data[تاریخ],\">=\"&E$3,data[تاریخ],\"<=\"&E$4),0)","v":0},0]
[null,1713,0,{"$f":"IF(COUNTIF(B$6:B233,B233)=1,SUMIFS(data[بدهکار],data[کل],B233,data[تاریخ],\">=\"&E$3,data[تاریخ],\"<=\"&E$4),0)","v":0},{"$f":"IF(COUNTIF(B$6:B233,B233)=2,SUMIFS(data[بستانکار],data[کل],B233,data[تاریخ],\">=\"&E$3,data[تاریخ],\"<=\"&E$4),0)","v":0},0]
[null,1714,0,{"$f":"IF(COUNTIF(B$6:B234,B234)=1,SUMIFS(data[بدهکار],data[کل],B234,data[تاریخ],\">=\"&E$3,data[تاریخ],\"<=\"&E$4),0)","v":0},{"$f":"IF(COUNTIF(B$6:B234,B234)=2,SUMIFS(data[بستانکار],data[کل],B234,data[تاریخ],\">=\"&E$3,data[تاریخ],\"<=\"&E$4),0)","v":0},0]
[null,1715,0,{"$f":"IF(COUNTIF(B$6:B235,B235)=1,SUMIFS(data[بدهکار],data[کل],B235,data[تاریخ],\">=\"&E$3,data[تاریخ],\"<=\"&E$4),0)","v":0},{"$f":"IF(COUNTIF(B$6:B235,B235)=2,SUMIFS(data[بستانکار],data[کل],B235,data[تاریخ],\">=\"&E$3,data[تاریخ],\"<=\"&E$4),0)","v":0},0]
[null,1716,0,{"$f":"IF(COUNTIF(B$6:B236,B236)=1,SUMIFS(data[بدهکار],data[کل],B236,data[تاریخ],\">=\"&E$3,data[تاریخ],\"<=\"&E$4),0)","v":0},{"$f":"IF(COUNTIF(B$6:B236,B236)=2,SUMIFS(data[بستانکار],data[کل],B236,data[تاریخ],\">=\"&E$3,data[تاریخ],\"<=\"&E$4),0)","v":0},0]
[null,1717,0,{"$f":"IF(COUNTIF(B$6:B237,B237)=1,SUMIFS(data[بدهکار],data[کل],B237,data[تاریخ],\">=\"&E$3,data[تاریخ],\"<=\"&E$4),0)","v":0},{"$f":"IF(COUNTIF(B$6:B237,B237)=2,SUMIFS(data[بستانکار],data[کل],B237,data[تاریخ],\">=\"&E$3,data[تاریخ],\"<=\"&E$4),0)","v":0},0]
[null,1718,0,{"$f":"IF(COUNTIF(B$6:B238,B238)=1,SUMIFS(data[بدهکار],data[کل],B238,data[تاریخ],\">=\"&E$3,data[تاریخ],\"<=\"&E$4),0)","v":0},{"$f":"IF(COUNTIF(B$6:B238,B238)=2,SUMIFS(data[بستانکار],data[کل],B238,data[تاریخ],\">=\"&E$3,data[تاریخ],\"<=\"&E$4),0)","v":0},0]
[null,1719,0,{"$f":"IF(COUNTIF(B$6:B239,B239)=1,SUMIFS(data[بدهکار],data[کل],B239,data[تاریخ],\">=\"&E$3,data[تاریخ],\"<=\"&E$4),0)","v":0},{"$f":"IF(COUNTIF(B$6:B239,B239)=2,SUMIFS(data[بستانکار],data[کل],B239,data[تاریخ],\">=\"&E$3,data[تاریخ],\"<=\"&E$4),0)","v":0},0]
[null,1720,0,{"$f":"IF(COUNTIF(B$6:B240,B240)=1,SUMIFS(data[بدهکار],data[کل],B240,data[تاریخ],\">=\"&E$3,data[تاریخ],\"<=\"&E$4),0)","v":0},{"$f":"IF(COUNTIF(B$6:B240,B240)=2,SUMIFS(data[بستانکار],data[کل],B240,data[تاریخ],\">=\"&E$3,data[تاریخ],\"<=\"&E$4),0)","v":0},0]
[null,1810,"هزینه های حقوق و دستمزد",{"$f":"IF(COUNTIF(B$6:B241,B241)=1,SUMIFS(data[بدهکار],data[کل],B241,data[تاریخ],\">=\"&E$3,data[تاریخ],\"<=\"&E$4),0)","v":0},{"$f":"IF(COUNTIF(B$6:B241,B241)=2,SUMIFS(data[بستانکار],data[کل],B241,data[تاریخ],\">=\"&E$3,data[تاریخ],\"<=\"&E$4),0)","v":0},0]
[null,1811,"هزینه های کارکنان",{"$f":"IF(COUNTIF(B$6:B242,B242)=1,SUMIFS(data[بدهکار],data[کل],B242,data[تاریخ],\">=\"&E$3,data[تاریخ],\"<=\"&E$4),0)","v":0},{"$f":"IF(COUNTIF(B$6:B242,B242)=2,SUMIFS(data[بستانکار],data[کل],B242,data[تاریخ],\">=\"&E$3,data[تاریخ],\"<=\"&E$4),0)","v":0},0]
[null,1812,"هزینه های عملیاتی",{"$f":"IF(COUNTIF(B$6:B243,B243)=1,SUMIFS(data[بدهکار],data[کل],B243,data[تاریخ],\">=\"&E$3,data[تاریخ],\"<=\"&E$4),0)","v":0},{"$f":"IF(COUNTIF(B$6:B243,B243)=2,SUMIFS(data[بستانکار],data[کل],B243,data[تاریخ],\">=\"&E$3,data[تاریخ],\"<=\"&E$4),0)","v":0},0]
[null,1813,"هزینه های استهلاک",{"$f":"IF(COUNTIF(B$6:B244,B244)=1,SUMIFS(data[بدهکار],data[کل],B244,data[تاریخ],\">=\"&E$3,data[تاریخ],\"<=\"&E$4),0)","v":0},{"$f":"IF(COUNTIF(B$6:B244,B244)=2,SUMIFS(data[بستانکار],data[کل],B244,data[تاریخ],\">=\"&E$3,data[تاریخ],\"<=\"&E$4),0)","v":0},0]
[null,1814,0,{"$f":"IF(COUNTIF(B$6:B245,B245)=1,SUMIFS(data[بدهکار],data[کل],B245,data[تاریخ],\">=\"&E$3,data[تاریخ],\"<=\"&E$4),0)","v":0},{"$f":"IF(COUNTIF(B$6:B245,B245)=2,SUMIFS(data[بستانکار],data[کل],B245,data[تاریخ],\">=\"&E$3,data[تاریخ],\"<=\"&E$4),0)","v":0},0]
[null,1815,0,{"$f":"IF(COUNTIF(B$6:B246,B246)=1,SUMIFS(data[بدهکار],data[کل],B246,data[تاریخ],\">=\"&E$3,data[تاریخ],\"<=\"&E$4),0)","v":0},{"$f":"IF(COUNTIF(B$6:B246,B246)=2,SUMIFS(data[بستانکار],data[کل],B246,data[تاریخ],\">=\"&E$3,data[تاریخ],\"<=\"&E$4),0)","v":0},0]
[null,1816,0,{"$f":"IF(COUNTIF(B$6:B247,B247)=1,SUMIFS(data[بدهکار],data[کل],B247,data[تاریخ],\">=\"&E$3,data[تاریخ],\"<=\"&E$4),0)","v":0},{"$f":"IF(COUNTIF(B$6:B247,B247)=2,SUMIFS(data[بستانکار],data[کل],B247,data[تاریخ],\">=\"&E$3,data[تاریخ],\"<=\"&E$4),0)","v":0},0]
[null,1817,0,{"$f":"IF(COUNTIF(B$6:B248,B248)=1,SUMIFS(data[بدهکار],data[کل],B248,data[تاریخ],\">=\"&E$3,data[تاریخ],\"<=\"&E$4),0)","v":0},{"$f":"IF(COUNTIF(B$6:B248,B248)=2,SUMIFS(data[بستانکار],data[کل],B248,data[تاریخ],\">=\"&E$3,data[تاریخ],\"<=\"&E$4),0)","v":0},0]
[null,1818,0,{"$f":"IF(COUNTIF(B$6:B249,B249)=1,SUMIFS(data[بدهکار],data[کل],B249,data[تاریخ],\">=\"&E$3,data[تاریخ],\"<=\"&E$4),0)","v":0},{"$f":"IF(COUNTIF(B$6:B249,B249)=2,SUMIFS(data[بستانکار],data[کل],B249,data[تاریخ],\">=\"&E$3,data[تاریخ],\"<=\"&E$4),0)","v":0},{"$f":"D249+E249","v":0}]
[null,1819,0,{"$f":"IF(COUNTIF(B$6:B250,B250)=1,SUMIFS(data[بدهکار],data[کل],B250,data[تاریخ],\">=\"&E$3,data[تاریخ],\"<=\"&E$4),0)","v":0},{"$f":"IF(COUNTIF(B$6:B250,B250)=2,SUMIFS(data[بستانکار],data[کل],B250,data[تاریخ],\">=\"&E$3,data[تاریخ],\"<=\"&E$4),0)","v":0},0]
[null,1820,0,{"$f":"IF(COUNTIF(B$6:B251,B251)=1,SUMIFS(data[بدهکار],data[کل],B251,data[تاریخ],\">=\"&E$3,data[تاریخ],\"<=\"&E$4),0)","v":0},{"$f":"IF(COUNTIF(B$6:B251,B251)=2,SUMIFS(data[بستانکار],data[کل],B251,data[تاریخ],\">=\"&E$3,data[تاریخ],\"<=\"&E$4),0)","v":0},0]
[null,1910,"هزینه های بازاریابی و توزیع و فروش",{"$f":"IF(COUNTIF(B$6:B252,B252)=1,SUMIFS(data[بدهکار],data[کل],B252,data[تاریخ],\">=\"&E$3,data[تاریخ],\"<=\"&E$4),0)","v":0},{"$f":"IF(COUNTIF(B$6:B252,B252)=2,SUMIFS(data[بستانکار],data[کل],B252,data[تاریخ],\">=\"&E$3,data[تاریخ],\"<=\"&E$4),0)","v":0},0]
[null,1911,"هزینه های مالی",{"$f":"IF(COUNTIF(B$6:B253,B253)=1,SUMIFS(data[بدهکار],data[کل],B253,data[تاریخ],\">=\"&E$3,data[تاریخ],\"<=\"&E$4),0)","v":0},{"$f":"IF(COUNTIF(B$6:B253,B253)=2,SUMIFS(data[بستانکار],data[کل],B253,data[تاریخ],\">=\"&E$3,data[تاریخ],\"<=\"&E$4),0)","v":0},0]
[null,1912,"هزینه های تحقیق و توسعه",{"$f":"IF(COUNTIF(B$6:B254,B254)=1,SUMIFS(data[بدهکار],data[کل],B254,data[تاریخ],\">=\"&E$3,data[تاریخ],\"<=\"&E$4),0)","v":0},{"$f":"IF(COUNTIF(B$6:B254,B254)=2,SUMIFS(data[بستانکار],data[کل],B254,data[تاریخ],\">=\"&E$3,data[تاریخ],\"<=\"&E$4),0)","v":0},0]
[null,1913,"سایر هزینه های اداری و تشکیلاتی",{"$f":"IF(COUNTIF(B$6:B255,B255)=1,SUMIFS(data[بدهکار],data[کل],B255,data[تاریخ],\">=\"&E$3,data[تاریخ],\"<=\"&E$4),0)","v":0},{"$f":"IF(COUNTIF(B$6:B255,B255)=2,SUMIFS(data[بستانکار],data[کل],B255,data[تاریخ],\">=\"&E$3,data[تاریخ],\"<=\"&E$4),0)","v":0},0]
[null,1914,"سایر درآمد ها و هزینه های غیرعملیاتی",{"$f":"IF(COUNTIF(B$6:B256,B256)=1,SUMIFS(data[بدهکار],data[کل],B256,data[تاریخ],\">=\"&E$3,data[تاریخ],\"<=\"&E$4),0)","v":0},{"$f":"IF(COUNTIF(B$6:B256,B256)=2,SUMIFS(data[بستانکار],data[کل],B256,data[تاریخ],\">=\"&E$3,data[تاریخ],\"<=\"&E$4),0)","v":0},0]
[null,1915,"هزینه های غیرمترقبه",{"$f":"IF(COUNTIF(B$6:B257,B257)=1,SUMIFS(data[بدهکار],data[کل],B257,data[تاریخ],\">=\"&E$3,data[تاریخ],\"<=\"&E$4),0)","v":0},{"$f":"IF(COUNTIF(B$6:B257,B257)=2,SUMIFS(data[بستانکار],data[کل],B257,data[تاریخ],\">=\"&E$3,data[تاریخ],\"<=\"&E$4),0)","v":0},0]
[null,1916,0,{"$f":"IF(COUNTIF(B$6:B258,B258)=1,SUMIFS(data[بدهکار],data[کل],B258,data[تاریخ],\">=\"&E$3,data[تاریخ],\"<=\"&E$4),0)","v":0},{"$f":"IF(COUNTIF(B$6:B258,B258)=2,SUMIFS(data[بستانکار],data[کل],B258,data[تاریخ],\">=\"&E$3,data[تاریخ],\"<=\"&E$4),0)","v":0},0]
[null,1917,0,{"$f":"IF(COUNTIF(B$6:B259,B259)=1,SUMIFS(data[بدهکار],data[کل],B259,data[تاریخ],\">=\"&E$3,data[تاریخ],\"<=\"&E$4),0)","v":0},{"$f":"IF(COUNTIF(B$6:B259,B259)=2,SUMIFS(data[بستانکار],data[کل],B259,data[تاریخ],\">=\"&E$3,data[تاریخ],\"<=\"&E$4),0)","v":0},0]
[null,1918,0,{"$f":"IF(COUNTIF(B$6:B260,B260)=1,SUMIFS(data[بدهکار],data[کل],B260,data[تاریخ],\">=\"&E$3,data[تاریخ],\"<=\"&E$4),0)","v":0},{"$f":"IF(COUNTIF(B$6:B260,B260)=2,SUMIFS(data[بستانکار],data[کل],B260,data[تاریخ],\">=\"&E$3,data[تاریخ],\"<=\"&E$4),0)","v":0},0]
[null,1919,0,{"$f":"IF(COUNTIF(B$6:B261,B261)=1,SUMIFS(data[بدهکار],data[کل],B261,data[تاریخ],\">=\"&E$3,data[تاریخ],\"<=\"&E$4),0)","v":0},{"$f":"IF(COUNTIF(B$6:B261,B261)=2,SUMIFS(data[بستانکار],data[کل],B261,data[تاریخ],\">=\"&E$3,data[تاریخ],\"<=\"&E$4),0)","v":0},0]
[null,1920,0,{"$f":"IF(COUNTIF(B$6:B262,B262)=1,SUMIFS(data[بدهکار],data[کل],B262,data[تاریخ],\">=\"&E$3,data[تاریخ],\"<=\"&E$4),0)","v":0},{"$f":"IF(COUNTIF(B$6:B262,B262)=2,SUMIFS(data[بستانکار],data[کل],B262,data[تاریخ],\">=\"&E$3,data[تاریخ],\"<=\"&E$4),0)","v":0},0]
[null,2010,{"$f":"VLOOKUP(B263,koli,2,FALSE)","v":"جذب هزینه های تبدیل دوایر تولیدی"},{"$f":"IF(COUNTIF(B$6:B263,B263)=1,SUMIFS(data[بدهکار],data[کل],B263,data[تاریخ],\">=\"&E$3,data[تاریخ],\"<=\"&E$4),0)","v":0},{"$f":"IF(COUNTIF(B$6:B263,B263)=2,SUMIFS(data[بستانکار],data[کل],B263,data[تاریخ],\">=\"&E$3,data[تاریخ],\"<=\"&E$4),0)","v":0},0]
[null,2011,"تسهیم هزینه های دوایر خدماتی",{"$f":"IF(COUNTIF(B$6:B264,B264)=1,SUMIFS(data[بدهکار],data[کل],B264,data[تاریخ],\">=\"&E$3,data[تاریخ],\"<=\"&E$4),0)","v":0},{"$f":"IF(COUNTIF(B$6:B264,B264)=2,SUMIFS(data[بستانکار],data[کل],B264,data[تاریخ],\">=\"&E$3,data[تاریخ],\"<=\"&E$4),0)","v":0},0]
[null,2012,"انحراف مواد اولیه",{"$f":"IF(COUNTIF(B$6:B265,B265)=1,SUMIFS(data[بدهکار],data[کل],B265,data[تاریخ],\">=\"&E$3,data[تاریخ],\"<=\"&E$4),0)","v":0},{"$f":"IF(COUNTIF(B$6:B265,B265)=2,SUMIFS(data[بستانکار],data[کل],B265,data[تاریخ],\">=\"&E$3,data[تاریخ],\"<=\"&E$4),0)","v":0},0]
[null,2013,"انحراف هزینه های تبدیل",{"$f":"IF(COUNTIF(B$6:B266,B266)=1,SUMIFS(data[بدهکار],data[کل],B266,data[تاریخ],\">=\"&E$3,data[تاریخ],\"<=\"&E$4),0)","v":0},{"$f":"IF(COUNTIF(B$6:B266,B266)=2,SUMIFS(data[بستانکار],data[کل],B266,data[تاریخ],\">=\"&E$3,data[تاریخ],\"<=\"&E$4),0)","v":0},0]
[null,2014,"انتقال هزینه های تبدیل تولید",{"$f":"IF(COUNTIF(B$6:B267,B267)=1,SUMIFS(data[بدهکار],data[کل],B267,data[تاریخ],\">=\"&E$3,data[تاریخ],\"<=\"&E$4),0)","v":0},{"$f":"IF(COUNTIF(B$6:B267,B267)=2,SUMIFS(data[بستانکار],data[کل],B267,data[تاریخ],\">=\"&E$3,data[تاریخ],\"<=\"&E$4),0)","v":0},0]
[null,2015,0,{"$f":"IF(COUNTIF(B$6:B268,B268)=1,SUMIFS(data[بدهکار],data[کل],B268,data[تاریخ],\">=\"&E$3,data[تاریخ],\"<=\"&E$4),0)","v":0},{"$f":"IF(COUNTIF(B$6:B268,B268)=2,SUMIFS(data[بستانکار],data[کل],B268,data[تاریخ],\">=\"&E$3,data[تاریخ],\"<=\"&E$4),0)","v":0},0]
[null,2016,0,{"$f":"IF(COUNTIF(B$6:B269,B269)=1,SUMIFS(data[بدهکار],data[کل],B269,data[تاریخ],\">=\"&E$3,data[تاریخ],\"<=\"&E$4),0)","v":0},{"$f":"IF(COUNTIF(B$6:B269,B269)=2,SUMIFS(data[بستانکار],data[کل],B269,data[تاریخ],\">=\"&E$3,data[تاریخ],\"<=\"&E$4),0)","v":0},0]
[null,2017,0,{"$f":"IF(COUNTIF(B$6:B270,B270)=1,SUMIFS(data[بدهکار],data[کل],B270,data[تاریخ],\">=\"&E$3,data[تاریخ],\"<=\"&E$4),0)","v":0},{"$f":"IF(COUNTIF(B$6:B270,B270)=2,SUMIFS(data[بستانکار],data[کل],B270,data[تاریخ],\">=\"&E$3,data[تاریخ],\"<=\"&E$4),0)","v":0},0]
[null,2018,0,{"$f":"IF(COUNTIF(B$6:B271,B271)=1,SUMIFS(data[بدهکار],data[کل],B271,data[تاریخ],\">=\"&E$3,data[تاریخ],\"<=\"&E$4),0)","v":0},{"$f":"IF(COUNTIF(B$6:B271,B271)=2,SUMIFS(data[بستانکار],data[کل],B271,data[تاریخ],\">=\"&E$3,data[تاریخ],\"<=\"&E$4),0)","v":0},0]
[null,2019,0,{"$f":"IF(COUNTIF(B$6:B272,B272)=1,SUMIFS(data[بدهکار],data[کل],B272,data[تاریخ],\">=\"&E$3,data[تاریخ],\"<=\"&E$4),0)","v":0},{"$f":"IF(COUNTIF(B$6:B272,B272)=2,SUMIFS(data[بستانکار],data[کل],B272,data[تاریخ],\">=\"&E$3,data[تاریخ],\"<=\"&E$4),0)","v":0},0]
[null,2020,0,{"$f":"IF(COUNTIF(B$6:B273,B273)=1,SUMIFS(data[بدهکار],data[کل],B273,data[تاریخ],\">=\"&E$3,data[تاریخ],\"<=\"&E$4),0)","v":0},{"$f":"IF(COUNTIF(B$6:B273,B273)=2,SUMIFS(data[بستانکار],data[کل],B273,data[تاریخ],\">=\"&E$3,data[تاریخ],\"<=\"&E$4),0)","v":0},0]
[null,2110,"حسابهای انتظامی به نفع شرکت",{"$f":"IF(COUNTIF(B$6:B274,B274)=1,SUMIFS(data[بدهکار],data[کل],B274,data[تاریخ],\">=\"&E$3,data[تاریخ],\"<=\"&E$4),0)","v":0},{"$f":"IF(COUNTIF(B$6:B274,B274)=2,SUMIFS(data[بستانکار],data[کل],B274,data[تاریخ],\">=\"&E$3,data[تاریخ],\"<=\"&E$4),0)","v":0},0]
[null,2111,"حسابهای انتظامی عهده شرکت",{"$f":"IF(COUNTIF(B$6:B275,B275)=1,SUMIFS(data[بدهکار],data[کل],B275,data[تاریخ],\">=\"&E$3,data[تاریخ],\"<=\"&E$4),0)","v":0},{"$f":"IF(COUNTIF(B$6:B275,B275)=2,SUMIFS(data[بستانکار],data[کل],B275,data[تاریخ],\">=\"&E$3,data[تاریخ],\"<=\"&E$4),0)","v":0},0]
[null,2112,0,{"$f":"IF(COUNTIF(B$6:B276,B276)=1,SUMIFS(data[بدهکار],data[کل],B276,data[تاریخ],\">=\"&E$3,data[تاریخ],\"<=\"&E$4),0)","v":0},{"$f":"IF(COUNTIF(B$6:B276,B276)=2,SUMIFS(data[بستانکار],data[کل],B276,data[تاریخ],\">=\"&E$3,data[تاریخ],\"<=\"&E$4),0)","v":0},0]
[null,2113,0,{"$f":"IF(COUNTIF(B$6:B277,B277)=1,SUMIFS(data[بدهکار],data[کل],B277,data[تاریخ],\">=\"&E$3,data[تاریخ],\"<=\"&E$4),0)","v":0},{"$f":"IF(COUNTIF(B$6:B277,B277)=2,SUMIFS(data[بستانکار],data[کل],B277,data[تاریخ],\">=\"&E$3,data[تاریخ],\"<=\"&E$4),0)","v":0},0]
[null,2114,0,{"$f":"IF(COUNTIF(B$6:B278,B278)=1,SUMIFS(data[بدهکار],data[کل],B278,data[تاریخ],\">=\"&E$3,data[تاریخ],\"<=\"&E$4),0)","v":0},{"$f":"IF(COUNTIF(B$6:B278,B278)=2,SUMIFS(data[بستانکار],data[کل],B278,data[تاریخ],\">=\"&E$3,data[تاریخ],\"<=\"&E$4),0)","v":0},0]
[null,2115,0,{"$f":"IF(COUNTIF(B$6:B279,B279)=1,SUMIFS(data[بدهکار],data[کل],B279,data[تاریخ],\">=\"&E$3,data[تاریخ],\"<=\"&E$4),0)","v":0},{"$f":"IF(COUNTIF(B$6:B279,B279)=2,SUMIFS(data[بستانکار],data[کل],B279,data[تاریخ],\">=\"&E$3,data[تاریخ],\"<=\"&E$4),0)","v":0},0]
[null,2116,0,{"$f":"IF(COUNTIF(B$6:B280,B280)=1,SUMIFS(data[بدهکار],data[کل],B280,data[تاریخ],\">=\"&E$3,data[تاریخ],\"<=\"&E$4),0)","v":0},{"$f":"IF(COUNTIF(B$6:B280,B280)=2,SUMIFS(data[بستانکار],data[کل],B280,data[تاریخ],\">=\"&E$3,data[تاریخ],\"<=\"&E$4),0)","v":0},0]
[null,2117,0,{"$f":"IF(COUNTIF(B$6:B281,B281)=1,SUMIFS(data[بدهکار],data[کل],B281,data[تاریخ],\">=\"&E$3,data[تاریخ],\"<=\"&E$4),0)","v":0},{"$f":"IF(COUNTIF(B$6:B281,B281)=2,SUMIFS(data[بستانکار],data[کل],B281,data[تاریخ],\">=\"&E$3,data[تاریخ],\"<=\"&E$4),0)","v":0},{"$f":"D281+E281","v":0}]
[null,2118,0,{"$f":"IF(COUNTIF(B$6:B282,B282)=1,SUMIFS(data[بدهکار],data[کل],B282,data[تاریخ],\">=\"&E$3,data[تاریخ],\"<=\"&E$4),0)","v":0},{"$f":"IF(COUNTIF(B$6:B282,B282)=2,SUMIFS(data[بستانکار],data[کل],B282,data[تاریخ],\">=\"&E$3,data[تاریخ],\"<=\"&E$4),0)","v":0},0]
[null,2119,0,{"$f":"IF(COUNTIF(B$6:B283,B283)=1,SUMIFS(data[بدهکار],data[کل],B283,data[تاریخ],\">=\"&E$3,data[تاریخ],\"<=\"&E$4),0)","v":0},{"$f":"IF(COUNTIF(B$6:B283,B283)=2,SUMIFS(data[بستانکار],data[کل],B283,data[تاریخ],\">=\"&E$3,data[تاریخ],\"<=\"&E$4),0)","v":0},0]
[null,2120,0,{"$f":"IF(COUNTIF(B$6:B284,B284)=1,SUMIFS(data[بدهکار],data[کل],B284,data[تاریخ],\">=\"&E$3,data[تاریخ],\"<=\"&E$4),0)","v":0},{"$f":"IF(COUNTIF(B$6:B284,B284)=2,SUMIFS(data[بستانکار],data[کل],B284,data[تاریخ],\">=\"&E$3,data[تاریخ],\"<=\"&E$4),0)","v":0},0]
[null,2210,"طرف حسابهای انتظامی",{"$f":"IF(COUNTIF(B$6:B285,B285)=1,SUMIFS(data[بدهکار],data[کل],B285,data[تاریخ],\">=\"&E$3,data[تاریخ],\"<=\"&E$4),0)","v":0},{"$f":"IF(COUNTIF(B$6:B285,B285)=2,SUMIFS(data[بستانکار],data[کل],B285,data[تاریخ],\">=\"&E$3,data[تاریخ],\"<=\"&E$4),0)","v":0},0]
[null,2211,0,{"$f":"IF(COUNTIF(B$6:B286,B286)=1,SUMIFS(data[بدهکار],data[کل],B286,data[تاریخ],\">=\"&E$3,data[تاریخ],\"<=\"&E$4),0)","v":0},{"$f":"IF(COUNTIF(B$6:B286,B286)=2,SUMIFS(data[بستانکار],data[کل],B286,data[تاریخ],\">=\"&E$3,data[تاریخ],\"<=\"&E$4),0)","v":0},0]
[null,2212,0,{"$f":"IF(COUNTIF(B$6:B287,B287)=1,SUMIFS(data[بدهکار],data[کل],B287,data[تاریخ],\">=\"&E$3,data[تاریخ],\"<=\"&E$4),0)","v":0},{"$f":"IF(COUNTIF(B$6:B287,B287)=2,SUMIFS(data[بستانکار],data[کل],B287,data[تاریخ],\">=\"&E$3,data[تاریخ],\"<=\"&E$4),0)","v":0},0]
[null,2213,0,{"$f":"IF(COUNTIF(B$6:B288,B288)=1,SUMIFS(data[بدهکار],data[کل],B288,data[تاریخ],\">=\"&E$3,data[تاریخ],\"<=\"&E$4),0)","v":0},{"$f":"IF(COUNTIF(B$6:B288,B288)=2,SUMIFS(data[بستانکار],data[کل],B288,data[تاریخ],\">=\"&E$3,data[تاریخ],\"<=\"&E$4),0)","v":0},0]
[null,2214,0,{"$f":"IF(COUNTIF(B$6:B289,B289)=1,SUMIFS(data[بدهکار],data[کل],B289,data[تاریخ],\">=\"&E$3,data[تاریخ],\"<=\"&E$4),0)","v":0},{"$f":"IF(COUNTIF(B$6:B289,B289)=2,SUMIFS(data[بستانکار],data[کل],B289,data[تاریخ],\">=\"&E$3,data[تاریخ],\"<=\"&E$4),0)","v":0},0]
[null,2215,0,{"$f":"IF(COUNTIF(B$6:B290,B290)=1,SUMIFS(data[بدهکار],data[کل],B290,data[تاریخ],\">=\"&E$3,data[تاریخ],\"<=\"&E$4),0)","v":0},{"$f":"IF(COUNTIF(B$6:B290,B290)=2,SUMIFS(data[بستانکار],data[کل],B290,data[تاریخ],\">=\"&E$3,data[تاریخ],\"<=\"&E$4),0)","v":0},0]
[null,2216,0,{"$f":"IF(COUNTIF(B$6:B291,B291)=1,SUMIFS(data[بدهکار],data[کل],B291,data[تاریخ],\">=\"&E$3,data[تاریخ],\"<=\"&E$4),0)","v":0},{"$f":"IF(COUNTIF(B$6:B291,B291)=2,SUMIFS(data[بستانکار],data[کل],B291,data[تاریخ],\">=\"&E$3,data[تاریخ],\"<=\"&E$4),0)","v":0},0]
[null,2217,0,{"$f":"IF(COUNTIF(B$6:B292,B292)=1,SUMIFS(data[بدهکار],data[کل],B292,data[تاریخ],\">=\"&E$3,data[تاریخ],\"<=\"&E$4),0)","v":0},{"$f":"IF(COUNTIF(B$6:B292,B292)=2,SUMIFS(data[بستانکار],data[کل],B292,data[تاریخ],\">=\"&E$3,data[تاریخ],\"<=\"&E$4),0)","v":0},0]
[null,2218,0,{"$f":"IF(COUNTIF(B$6:B293,B293)=1,SUMIFS(data[بدهکار],data[کل],B293,data[تاریخ],\">=\"&E$3,data[تاریخ],\"<=\"&E$4),0)","v":0},{"$f":"IF(COUNTIF(B$6:B293,B293)=2,SUMIFS(data[بستانکار],data[کل],B293,data[تاریخ],\">=\"&E$3,data[تاریخ],\"<=\"&E$4),0)","v":0},0]
[null,2219,0,{"$f":"IF(COUNTIF(B$6:B294,B294)=1,SUMIFS(data[بدهکار],data[کل],B294,data[تاریخ],\">=\"&E$3,data[تاریخ],\"<=\"&E$4),0)","v":0},{"$f":"IF(COUNTIF(B$6:B294,B294)=2,SUMIFS(data[بستانکار],data[کل],B294,data[تاریخ],\">=\"&E$3,data[تاریخ],\"<=\"&E$4),0)","v":0},0]
[null,2220,0,{"$f":"IF(COUNTIF(B$6:B295,B295)=1,SUMIFS(data[بدهکار],data[کل],B295,data[تاریخ],\">=\"&E$3,data[تاریخ],\"<=\"&E$4),0)","v":0},{"$f":"IF(COUNTIF(B$6:B295,B295)=2,SUMIFS(data[بستانکار],data[کل],B295,data[تاریخ],\">=\"&E$3,data[تاریخ],\"<=\"&E$4),0)","v":0},0]
[null,2310,0,{"$f":"IF(COUNTIF(B$6:B296,B296)=1,SUMIFS(data[بدهکار],data[کل],B296,data[تاریخ],\">=\"&E$3,data[تاریخ],\"<=\"&E$4),0)","v":0},{"$f":"IF(COUNTIF(B$6:B296,B296)=2,SUMIFS(data[بستانکار],data[کل],B296,data[تاریخ],\">=\"&E$3,data[تاریخ],\"<=\"&E$4),0)","v":0},0]
[null,2311,0,{"$f":"IF(COUNTIF(B$6:B297,B297)=1,SUMIFS(data[بدهکار],data[کل],B297,data[تاریخ],\">=\"&E$3,data[تاریخ],\"<=\"&E$4),0)","v":0},{"$f":"IF(COUNTIF(B$6:B297,B297)=2,SUMIFS(data[بستانکار],data[کل],B297,data[تاریخ],\">=\"&E$3,data[تاریخ],\"<=\"&E$4),0)","v":0},0]
[null,2312,0,{"$f":"IF(COUNTIF(B$6:B298,B298)=1,SUMIFS(data[بدهکار],data[کل],B298,data[تاریخ],\">=\"&E$3,data[تاریخ],\"<=\"&E$4),0)","v":0},{"$f":"IF(COUNTIF(B$6:B298,B298)=2,SUMIFS(data[بستانکار],data[کل],B298,data[تاریخ],\">=\"&E$3,data[تاریخ],\"<=\"&E$4),0)","v":0},0]
[null,2313,0,{"$f":"IF(COUNTIF(B$6:B299,B299)=1,SUMIFS(data[بدهکار],data[کل],B299,data[تاریخ],\">=\"&E$3,data[تاریخ],\"<=\"&E$4),0)","v":0},{"$f":"IF(COUNTIF(B$6:B299,B299)=2,SUMIFS(data[بستانکار],data[کل],B299,data[تاریخ],\">=\"&E$3,data[تاریخ],\"<=\"&E$4),0)","v":0},0]
[null,2314,0,{"$f":"IF(COUNTIF(B$6:B300,B300)=1,SUMIFS(data[بدهکار],data[کل],B300,data[تاریخ],\">=\"&E$3,data[تاریخ],\"<=\"&E$4),0)","v":0},{"$f":"IF(COUNTIF(B$6:B300,B300)=2,SUMIFS(data[بستانکار],data[کل],B300,data[تاریخ],\">=\"&E$3,data[تاریخ],\"<=\"&E$4),0)","v":0},0]
[null,2315,0,{"$f":"IF(COUNTIF(B$6:B301,B301)=1,SUMIFS(data[بدهکار],data[کل],B301,data[تاریخ],\">=\"&E$3,data[تاریخ],\"<=\"&E$4),0)","v":0},{"$f":"IF(COUNTIF(B$6:B301,B301)=2,SUMIFS(data[بستانکار],data[کل],B301,data[تاریخ],\">=\"&E$3,data[تاریخ],\"<=\"&E$4),0)","v":0},0]
[null,2316,0,{"$f":"IF(COUNTIF(B$6:B302,B302)=1,SUMIFS(data[بدهکار],data[کل],B302,data[تاریخ],\">=\"&E$3,data[تاریخ],\"<=\"&E$4),0)","v":0},{"$f":"IF(COUNTIF(B$6:B302,B302)=2,SUMIFS(data[بستانکار],data[کل],B302,data[تاریخ],\">=\"&E$3,data[تاریخ],\"<=\"&E$4),0)","v":0},0]
[null,2317,0,{"$f":"IF(COUNTIF(B$6:B303,B303)=1,SUMIFS(data[بدهکار],data[کل],B303,data[تاریخ],\">=\"&E$3,data[تاریخ],\"<=\"&E$4),0)","v":0},{"$f":"IF(COUNTIF(B$6:B303,B303)=2,SUMIFS(data[بستانکار],data[کل],B303,data[تاریخ],\">=\"&E$3,data[تاریخ],\"<=\"&E$4),0)","v":0},0]
[null,2318,0,{"$f":"IF(COUNTIF(B$6:B304,B304)=1,SUMIFS(data[بدهکار],data[کل],B304,data[تاریخ],\">=\"&E$3,data[تاریخ],\"<=\"&E$4),0)","v":0},{"$f":"IF(COUNTIF(B$6:B304,B304)=2,SUMIFS(data[بستانکار],data[کل],B304,data[تاریخ],\">=\"&E$3,data[تاریخ],\"<=\"&E$4),0)","v":0},0]
[null,2319,0,{"$f":"IF(COUNTIF(B$6:B305,B305)=1,SUMIFS(data[بدهکار],data[کل],B305,data[تاریخ],\">=\"&E$3,data[تاریخ],\"<=\"&E$4),0)","v":0},{"$f":"IF(COUNTIF(B$6:B305,B305)=2,SUMIFS(data[بستانکار],data[کل],B305,data[تاریخ],\">=\"&E$3,data[تاریخ],\"<=\"&E$4),0)","v":0},0]
[null,2320,0,{"$f":"IF(COUNTIF(B$6:B306,B306)=1,SUMIFS(data[بدهکار],data[کل],B306,data[تاریخ],\">=\"&E$3,data[تاریخ],\"<=\"&E$4),0)","v":0},{"$f":"IF(COUNTIF(B$6:B306,B306)=2,SUMIFS(data[بستانکار],data[کل],B306,data[تاریخ],\">=\"&E$3,data[تاریخ],\"<=\"&E$4),0)","v":0},0]
[null,2410,0,{"$f":"IF(COUNTIF(B$6:B307,B307)=1,SUMIFS(data[بدهکار],data[کل],B307,data[تاریخ],\">=\"&E$3,data[تاریخ],\"<=\"&E$4),0)","v":0},{"$f":"IF(COUNTIF(B$6:B307,B307)=2,SUMIFS(data[بستانکار],data[کل],B307,data[تاریخ],\">=\"&E$3,data[تاریخ],\"<=\"&E$4),0)","v":0},0]
[null,2411,0,{"$f":"IF(COUNTIF(B$6:B308,B308)=1,SUMIFS(data[بدهکار],data[کل],B308,data[تاریخ],\">=\"&E$3,data[تاریخ],\"<=\"&E$4),0)","v":0},{"$f":"IF(COUNTIF(B$6:B308,B308)=2,SUMIFS(data[بستانکار],data[کل],B308,data[تاریخ],\">=\"&E$3,data[تاریخ],\"<=\"&E$4),0)","v":0},0]
[null,2412,0,{"$f":"IF(COUNTIF(B$6:B309,B309)=1,SUMIFS(data[بدهکار],data[کل],B309,data[تاریخ],\">=\"&E$3,data[تاریخ],\"<=\"&E$4),0)","v":0},{"$f":"IF(COUNTIF(B$6:B309,B309)=2,SUMIFS(data[بستانکار],data[کل],B309,data[تاریخ],\">=\"&E$3,data[تاریخ],\"<=\"&E$4),0)","v":0},0]
[null,2413,0,{"$f":"IF(COUNTIF(B$6:B310,B310)=1,SUMIFS(data[بدهکار],data[کل],B310,data[تاریخ],\">=\"&E$3,data[تاریخ],\"<=\"&E$4),0)","v":0},{"$f":"IF(COUNTIF(B$6:B310,B310)=2,SUMIFS(data[بستانکار],data[کل],B310,data[تاریخ],\">=\"&E$3,data[تاریخ],\"<=\"&E$4),0)","v":0},0]
[null,2414,0,{"$f":"IF(COUNTIF(B$6:B311,B311)=1,SUMIFS(data[بدهکار],data[کل],B311,data[تاریخ],\">=\"&E$3,data[تاریخ],\"<=\"&E$4),0)","v":0},{"$f":"IF(COUNTIF(B$6:B311,B311)=2,SUMIFS(data[بستانکار],data[کل],B311,data[تاریخ],\">=\"&E$3,data[تاریخ],\"<=\"&E$4),0)","v":0},0]
[null,2415,0,{"$f":"IF(COUNTIF(B$6:B312,B312)=1,SUMIFS(data[بدهکار],data[کل],B312,data[تاریخ],\">=\"&E$3,data[تاریخ],\"<=\"&E$4),0)","v":0},{"$f":"IF(COUNTIF(B$6:B312,B312)=2,SUMIFS(data[بستانکار],data[کل],B312,data[تاریخ],\">=\"&E$3,data[تاریخ],\"<=\"&E$4),0)","v":0},0]
[null,2416,0,{"$f":"IF(COUNTIF(B$6:B313,B313)=1,SUMIFS(data[بدهکار],data[کل],B313,data[تاریخ],\">=\"&E$3,data[تاریخ],\"<=\"&E$4),0)","v":0},{"$f":"IF(COUNTIF(B$6:B313,B313)=2,SUMIFS(data[بستانکار],data[کل],B313,data[تاریخ],\">=\"&E$3,data[تاریخ],\"<=\"&E$4),0)","v":0},{"$f":"D313+E313","v":0}]
[null,2417,0,{"$f":"IF(COUNTIF(B$6:B314,B314)=1,SUMIFS(data[بدهکار],data[کل],B314,data[تاریخ],\">=\"&E$3,data[تاریخ],\"<=\"&E$4),0)","v":0},{"$f":"IF(COUNTIF(B$6:B314,B314)=2,SUMIFS(data[بستانکار],data[کل],B314,data[تاریخ],\">=\"&E$3,data[تاریخ],\"<=\"&E$4),0)","v":0},0]
[null,2418,0,{"$f":"IF(COUNTIF(B$6:B315,B315)=1,SUMIFS(data[بدهکار],data[کل],B315,data[تاریخ],\">=\"&E$3,data[تاریخ],\"<=\"&E$4),0)","v":0},{"$f":"IF(COUNTIF(B$6:B315,B315)=2,SUMIFS(data[بستانکار],data[کل],B315,data[تاریخ],\">=\"&E$3,data[تاریخ],\"<=\"&E$4),0)","v":0},0]
[null,2419,0,{"$f":"IF(COUNTIF(B$6:B316,B316)=1,SUMIFS(data[بدهکار],data[کل],B316,data[تاریخ],\">=\"&E$3,data[تاریخ],\"<=\"&E$4),0)","v":0},{"$f":"IF(COUNTIF(B$6:B316,B316)=2,SUMIFS(data[بستانکار],data[کل],B316,data[تاریخ],\">=\"&E$3,data[تاریخ],\"<=\"&E$4),0)","v":0},0]
[null,2420,0,{"$f":"IF(COUNTIF(B$6:B317,B317)=1,SUMIFS(data[بدهکار],data[کل],B317,data[تاریخ],\">=\"&E$3,data[تاریخ],\"<=\"&E$4),0)","v":0},{"$f":"IF(COUNTIF(B$6:B317,B317)=2,SUMIFS(data[بستانکار],data[کل],B317,data[تاریخ],\">=\"&E$3,data[تاریخ],\"<=\"&E$4),0)","v":0},0]
[null,2510,"افتتاحیه / اختتامیه",{"$f":"IF(COUNTIF(B$6:B318,B318)=1,SUMIFS(data[بدهکار],data[کل],B318,data[تاریخ],\">=\"&E$3,data[تاریخ],\"<=\"&E$4),0)","v":0},{"$f":"IF(COUNTIF(B$6:B318,B318)=2,SUMIFS(data[بستانکار],data[کل],B318,data[تاریخ],\">=\"&E$3,data[تاریخ],\"<=\"&E$4),0)","v":0},0]
[null,2511,"حسابهای بلاتکلیف",{"$f":"IF(COUNTIF(B$6:B319,B319)=1,SUMIFS(data[بدهکار],data[کل],B319,data[تاریخ],\">=\"&E$3,data[تاریخ],\"<=\"&E$4),0)","v":0},{"$f":"IF(COUNTIF(B$6:B319,B319)=2,SUMIFS(data[بستانکار],data[کل],B319,data[تاریخ],\">=\"&E$3,data[تاریخ],\"<=\"&E$4),0)","v":0},0]
[null,2512,0,{"$f":"IF(COUNTIF(B$6:B320,B320)=1,SUMIFS(data[بدهکار],data[کل],B320,data[تاریخ],\">=\"&E$3,data[تاریخ],\"<=\"&E$4),0)","v":0},{"$f":"IF(COUNTIF(B$6:B320,B320)=2,SUMIFS(data[بستانکار],data[کل],B320,data[تاریخ],\">=\"&E$3,data[تاریخ],\"<=\"&E$4),0)","v":0},0]
[null,"جمع :",{"$f":"AbH(gozaresh[[#Totals],[بدهکار]])&\" ریال\"","v":"صفر ریال"},{"$f":"SUBTOTAL(109,gozaresh[بدهکار])","v":0},{"$f":"SUBTOTAL(109,gozaresh[بستانکار])","v":0}]

{"sheet":"چاپ سند","index":8,"n_rows":70,"n_cols":18,"rows_kept":70,"cut":false,"hidden":false,"merged":[[66,2,66,4],[67,2,67,4],[68,2,68,4],[69,2,69,4],[61,2,61,4],[62,2,62,4],[63,2,63,4],[64,2,64,4],[65,2,65,4],[18,2,18,4],[19,2,19,4],[20,2,20,4],[60,2,60,4],[21,2,21,4],[22,2,22,4],[23,2,23,4],[24,2,24,4],[25,2,25,4],[26,2,26,4],[27,2,27,4],[28,2,28,4],[29,2,29,4],[35,2,35,4],[36,2,36,4],[46,2,46,4],[13,2,13,4],[14,2,14,4],[15,2,15,4],[16,2,16,4],[17,2,17,4],[3,2,3,3],[2,4,2,6],[2,2,2,3],[3,4,3,6],[37,2,37,4],[30,2,30,4],[31,2,31,4],[32,2,32,4],[33,2,33,4],[34,2,34,4],[7,2,7,4],[8,2,8,4],[9,2,9,4],[10,2,10,4],[11,2,11,4],[12,2,12,4],[47,2,47,4],[38,2,38,4],[39,2,39,4],[40,2,40,4],[41,2,41,4],[42,2,42,4],[5,2,5,6],[58,2,58,4],[59,2,59,4],[53,2,53,4],[54,2,54,4],[55,2,55,4],[56,2,56,4],[57,2,57,4],[48,2,48,4],[49,2,49,4],[50,2,50,4],[51,2,51,4],[52,2,52,4],[43,2,43,4],[44,2,44,4],[45,2,45,4]]}
[]
[null,null,null,null,null,null,null,null,null,null,null,null,null,null,null,{"$f":"IF(COUNTIF(data[ش سند],C3)>0,1,0)","v":0}]
[null,"شماره :",1,null,"شرکت نمونه",null,null,"شماره صفحه :","1 از 1",null,null,null,null,null,null,1110,null,{"$f":"SUMIFS(data[بدهکار],data[کل],P3,data[ش سند],C3)","v":0}]
[null,"تاریخ :",{"$f":"IF(COUNTIF(data[ش سند],C3)>0,VLOOKUP(C3,data[],3,FALSE),\"وجود ندارد\")","v":"وجود ندارد"},null,"سند حسابداری",null,null,"تاریخ گزارش :","1394/02/30",null,null,null,null,null,null,1110,null,{"$f":"SUMIFS(data[بستانکار],data[کل],P4,data[ش سند],C3)","v":0}]
[]
[null,"جمع سند :",{"$f":"AbH(H6)&\" ریال\"","v":"صفر ریال"},null,null,null,null,{"$f":"SUM(H9:H70)","v":0},{"$f":"SUM(I9:I70)","v":0},null,null,null,null,null,null,{"$f":"COUNTA(sanad[2])+8","v":8},null,{"$f":"COUNTA(R9:R70)+9","v":9}]
[]
[null,"کد حساب","عنوان حساب کل ( حساب معین / حساب تفصیلی )",null,null,"شرح سند","مبلغ جزء","بدهکار","بستانکار",null,null,null,null,3,null,"2",null,1]
[{"$f":"R9","v":0},{"$f":"IF(A9>1000,A9,IF(A9>0,VLOOKUP(A9,data!A$6:M$5000,7)&\" - \"&VLOOKUP(A9,data!A$6:M$5000,9),0))","v":0},{"$f":"IF(A9>1000,VLOOKUP(A9,koli,2,FALSE),IF(A9>0,VLOOKUP(A9,data!A$6:M$5000,8)&\" / \"&VLOOKUP(A9,data!A$6:M$5000,10),0))","v":0},null,null,{"$f":"IF(A9>1000,\"\",IF(A9>0,VLOOKUP(A9,data!A$6:M$5000,11),0))","v":0},{"$f":"IF(N9<>\"\",N9,\"\")","v":""},{"$f":"IF(AND(A9>1000,G10>0),SUMIFS(data[بدهکار],data[ش سند],C$3,data[کل],A9),\"\")","v":""},{"$f":"IF(AND(A9>1000,H9=\"\"),SUMIFS(data[بستانکار],data[ش سند],C$3,data[کل],A9),\"\")","v":""},null,null,null,null,{"$f":"IF(COUNTIF(data!A$6:A$5000,A9)>0,VLOOKUP(A9,data!A$6:M$5000,12,FALSE)-VLOOKUP(A9,data!A$6:M$5000,13,FALSE),\"\")","v":""}]
[{"$f":"R10","v":0},{"$f":"IF(A10>1000,A10,IF(A10>0,VLOOKUP(A10,data!A$6:M$5000,7)&\" - \"&VLOOKUP(A10,data!A$6:M$5000,9),0))","v":0},{"$f":"IF(A10>1000,VLOOKUP(A10,koli,2,FALSE),IF(A10>0,VLOOKUP(A10,data!A$6:M$5000,8)&\" / \"&VLOOKUP(A10,data!A$6:M$5000,10),0))","v":0},null,null,{"$f":"IF(A10>1000,\"\",IF(A10>0,VLOOKUP(A10,data!A$6:M$5000,11),0))","v":0},{"$f":"IF(N10<>\"\",N10,\"\")","v":""},{"$f":"IF(AND(A10>1000,G11>0),SUMIFS(data[بدهکار],data[ش سند],C$3,data[کل],A10),\"\")","v":""},{"$f":"IF(AND(A10>1000,H10=\"\"),SUMIFS(data[بستانکار],data[ش سند],C$3,data[کل],A10),\"\")","v":""},null,null,null,null,{"$f":"IF(COUNTIF(data!A$6:A$5000,A10)>0,VLOOKUP(A10,data!A$6:M$5000,12,FALSE)-VLOOKUP(A10,data!A$6:M$5000,13,FALSE),\"\")","v":""}]
[0,{"$f":"IF(A11>1000,A11,IF(A11>0,VLOOKUP(A11,data!A$6:M$5000,7)&\" - \"&VLOOKUP(A11,data!A$6:M$5000,9),0))","v":0},{"$f":"IF(A11>1000,VLOOKUP(A11,koli,2,FALSE),IF(A11>0,VLOOKUP(A11,data!A$6:M$5000,8)&\" / \"&VLOOKUP(A11,data!A$6:M$5000,10),0))","v":0},null,null,{"$f":"IF(A11>1000,\"\",IF(A11>0,VLOOKUP(A11,data!A$6:M$5000,11),0))","v":0},"",{"$f":"IF(AND(A11>1000,G12>0),SUMIFS(data[بدهکار],data[ش سند],C$3,data[کل],A11),\"\")","v":""},{"$f":"IF(AND(A11>1000,H11=\"\"),SUMIFS(data[بستانکار],data[ش سند],C$3,data[کل],A11),\"\")","v":""},null,null,null,null,{"$f":"IF(COUNTIF(data!A$6:A$5000,A11)>0,VLOOKUP(A11,data!A$6:M$5000,12,FALSE)-VLOOKUP(A11,data!A$6:M$5000,13,FALSE),\"\")","v":""}]
[0,{"$f":"IF(A12>1000,A12,IF(A12>0,VLOOKUP(A12,data!A$6:M$5000,7)&\" - \"&VLOOKUP(A12,data!A$6:M$5000,9),0))","v":0},{"$f":"IF(A12>1000,VLOOKUP(A12,koli,2,FALSE),IF(A12>0,VLOOKUP(A12,data!A$6:M$5000,8)&\" / \"&VLOOKUP(A12,data!A$6:M$5000,10),0))","v":0},null,null,{"$f":"IF(A12>1000,\"\",IF(A12>0,VLOOKUP(A12,data!A$6:M$5000,11),0))","v":0},"",{"$f":"IF(AND(A12>1000,G13>0),SUMIFS(data[بدهکار],data[ش سند],C$3,data[کل],A12),\"\")","v":""},{"$f":"IF(AND(A12>1000,H12=\"\"),SUMIFS(data[بستانکار],data[ش سند],C$3,data[کل],A12),\"\")","v":""},null,null,null,null,{"$f":"IF(COUNTIF(data!A$6:A$5000,A12)>0,VLOOKUP(A12,data!A$6:M$5000,12,FALSE)-VLOOKUP(A12,data!A$6:M$5000,13,FALSE),\"\")","v":""}]
[0,{"$f":"IF(A13>1000,A13,IF(A13>0,VLOOKUP(A13,data!A$6:M$5000,7)&\" - \"&VLOOKUP(A13,data!A$6:M$5000,9),0))","v":0},{"$f":"IF(A13>1000,VLOOKUP(A13,koli,2,FALSE),IF(A13>0,VLOOKUP(A13,data!A$6:M$5000,8)&\" / \"&VLOOKUP(A13,data!A$6:M$5000,10),0))","v":0},null,null,{"$f":"IF(A13>1000,\"\",IF(A13>0,VLOOKUP(A13,data!A$6:M$5000,11),0))","v":0},"",{"$f":"IF(AND(A13>1000,G14>0),SUMIFS(data[بدهکار],data[ش سند],C$3,data[کل],A13),\"\")","v":""},{"$f":"IF(AND(A13>1000,H13=\"\"),SUMIFS(data[بستانکار],data[ش سند],C$3,data[کل],A13),\"\")","v":""},null,null,null,null,{"$f":"IF(COUNTIF(data!A$6:A$5000,A13)>0,VLOOKUP(A13,data!A$6:M$5000,12,FALSE)-VLOOKUP(A13,data!A$6:M$5000,13,FALSE),\"\")","v":""}]
[0,{"$f":"IF(A14>1000,A14,IF(A14>0,VLOOKUP(A14,data!A$6:M$5000,7)&\" - \"&VLOOKUP(A14,data!A$6:M$5000,9),0))","v":0},{"$f":"IF(A14>1000,VLOOKUP(A14,koli,2,FALSE),IF(A14>0,VLOOKUP(A14,data!A$6:M$5000,8)&\" / \"&VLOOKUP(A14,data!A$6:M$5000,10),0))","v":0},null,null,{"$f":"IF(A14>1000,\"\",IF(A14>0,VLOOKUP(A14,data!A$6:M$5000,11),0))","v":0},"",{"$f":"IF(AND(A14>1000,G15>0),SUMIFS(data[بدهکار],data[ش سند],C$3,data[کل],A14),\"\")","v":""},{"$f":"IF(AND(A14>1000,H14=\"\"),SUMIFS(data[بستانکار],data[ش سند],C$3,data[کل],A14),\"\")","v":""},null,null,null,null,{"$f":"IF(COUNTIF(data!A$6:A$5000,A14)>0,VLOOKUP(A14,data!A$6:M$5000,12,FALSE)-VLOOKUP(A14,data!A$6:M$5000,13,FALSE),\"\")","v":""}]
[0,{"$f":"IF(A15>1000,A15,IF(A15>0,VLOOKUP(A15,data!A$6:M$5000,7)&\" - \"&VLOOKUP(A15,data!A$6:M$5000,9),0))","v":0},{"$f":"IF(A15>1000,VLOOKUP(A15,koli,2,FALSE),IF(A15>0,VLOOKUP(A15,data!A$6:M$5000,8)&\" / \"&VLOOKUP(A15,data!A$6:M$5000,10),0))","v":0},null,null,{"$f":"IF(A15>1000,\"\",IF(A15>0,VLOOKUP(A15,data!A$6:M$5000,11),0))","v":0},"",{"$f":"IF(AND(A15>1000,G16>0),SUMIFS(data[بدهکار],data[ش سند],C$3,data[کل],A15),\"\")","v":""},{"$f":"IF(AND(A15>1000,H15=\"\"),SUMIFS(data[بستانکار],data[ش سند],C$3,data[کل],A15),\"\")","v":""},null,null,null,null,{"$f":"IF(COUNTIF(data!A$6:A$5000,A15)>0,VLOOKUP(A15,data!A$6:M$5000,12,FALSE)-VLOOKUP(A15,data!A$6:M$5000,13,FALSE),\"\")","v":""}]
[0,{"$f":"IF(A16>1000,A16,IF(A16>0,VLOOKUP(A16,data!A$6:M$5000,7)&\" - \"&VLOOKUP(A16,data!A$6:M$5000,9),0))","v":0},{"$f":"IF(A16>1000,VLOOKUP(A16,koli,2,FALSE),IF(A16>0,VLOOKUP(A16,data!A$6:M$5000,8)&\" / \"&VLOOKUP(A16,data!A$6:M$5000,10),0))","v":0},null,null,{"$f":"IF(A16>1000,\"\",IF(A16>0,VLOOKUP(A16,data!A$6:M$5000,11),0))","v":0},"",{"$f":"IF(AND(A16>1000,G17>0),SUMIFS(data[بدهکار],data[ش سند],C$3,data[کل],A16),\"\")","v":""},{"$f":"IF(AND(A16>1000,H16=\"\"),SUMIFS(data[بستانکار],data[ش سند],C$3,data[کل],A16),\"\")","v":""},null,null,null,null,{"$f":"IF(COUNTIF(data!A$6:A$5000,A16)>0,VLOOKUP(A16,data!A$6:M$5000,12,FALSE)-VLOOKUP(A16,data!A$6:M$5000,13,FALSE),\"\")","v":""}]
[0,{"$f":"IF(A17>1000,A17,IF(A17>0,VLOOKUP(A17,data!A$6:M$5000,7)&\" - \"&VLOOKUP(A17,data!A$6:M$5000,9),0))","v":0},{"$f":"IF(A17>1000,VLOOKUP(A17,koli,2,FALSE),IF(A17>0,VLOOKUP(A17,data!A$6:M$5000,8)&\" / \"&VLOOKUP(A17,data!A$6:M$5000,10),0))","v":0},null,null,{"$f":"IF(A17>1000,\"\",IF(A17>0,VLOOKUP(A17,data!A$6:M$5000,11),0))","v":0},"",{"$f":"IF(AND(A17>1000,G18>0),SUMIFS(data[بدهکار],data[ش سند],C$3,data[کل],A17),\"\")","v":""},{"$f":"IF(AND(A17>1000,H17=\"\"),SUMIFS(data[بستانکار],data[ش سند],C$3,data[کل],A17),\"\")","v":""},null,null,null,null,{"$f":"IF(COUNTIF(data!A$6:A$5000,A17)>0,VLOOKUP(A17,data!A$6:M$5000,12,FALSE)-VLOOKUP(A17,data!A$6:M$5000,13,FALSE),\"\")","v":""}]
[0,{"$f":"IF(A18>1000,A18,IF(A18>0,VLOOKUP(A18,data!A$6:M$5000,7)&\" - \"&VLOOKUP(A18,data!A$6:M$5000,9),0))","v":0},{"$f":"IF(A18>1000,VLOOKUP(A18,koli,2,FALSE),IF(A18>0,VLOOKUP(A18,data!A$6:M$5000,8)&\" / \"&VLOOKUP(A18,data!A$6:M$5000,10),0))","v":0},null,null,{"$f":"IF(A18>1000,\"\",IF(A18>0,VLOOKUP(A18,data!A$6:M$5000,11),0))","v":0},"",{"$f":"IF(AND(A18>1000,G19>0),SUMIFS(data[بدهکار],data[ش سند],C$3,data[کل],A18),\"\")","v":""},{"$f":"IF(AND(A18>1000,H18=\"\"),SUMIFS(data[بستانکار],data[ش سند],C$3,data[کل],A18),\"\")","v":""},null,null,null,null,{"$f":"IF(COUNTIF(data!A$6:A$5000,A18)>0,VLOOKUP(A18,data!A$6:M$5000,12,FALSE)-VLOOKUP(A18,data!A$6:M$5000,13,FALSE),\"\")","v":""}]
[0,{"$f":"IF(A19>1000,A19,IF(A19>0,VLOOKUP(A19,data!A$6:M$5000,7)&\" - \"&VLOOKUP(A19,data!A$6:M$5000,9),0))","v":0},{"$f":"IF(A19>1000,VLOOKUP(A19,koli,2,FALSE),IF(A19>0,VLOOKUP(A19,data!A$6:M$5000,8)&\" / \"&VLOOKUP(A19,data!A$6:M$5000,10),0))","v":0},null,null,{"$f":"IF(A19>1000,\"\",IF(A19>0,VLOOKUP(A19,data!A$6:M$5000,11),0))","v":0},"",{"$f":"IF(AND(A19>1000,G20>0),SUMIFS(data[بدهکار],data[ش سند],C$3,data[کل],A19),\"\")","v":""},{"$f":"IF(AND(A19>1000,H19=\"\"),SUMIFS(data[بستانکار],data[ش سند],C$3,data[کل],A19),\"\")","v":""},null,null,null,null,{"$f":"IF(COUNTIF(data!A$6:A$5000,A19)>0,VLOOKUP(A19,data!A$6:M$5000,12,FALSE)-VLOOKUP(A19,data!A$6:M$5000,13,FALSE),\"\")","v":""}]
[0,{"$f":"IF(A20>1000,A20,IF(A20>0,VLOOKUP(A20,data!A$6:M$5000,7)&\" - \"&VLOOKUP(A20,data!A$6:M$5000,9),0))","v":0},{"$f":"IF(A20>1000,VLOOKUP(A20,koli,2,FALSE),IF(A20>0,VLOOKUP(A20,data!A$6:M$5000,8)&\" / \"&VLOOKUP(A20,data!A$6:M$5000,10),0))","v":0},null,null,{"$f":"IF(A20>1000,\"\",IF(A20>0,VLOOKUP(A20,data!A$6:M$5000,11),0))","v":0},"",{"$f":"IF(AND(A20>1000,G21>0),SUMIFS(data[بدهکار],data[ش سند],C$3,data[کل],A20),\"\")","v":""},{"$f":"IF(AND(A20>1000,H20=\"\"),SUMIFS(data[بستانکار],data[ش سند],C$3,data[کل],A20),\"\")","v":""},null,null,null,null,{"$f":"IF(COUNTIF(data!A$6:A$5000,A20)>0,VLOOKUP(A20,data!A$6:M$5000,12,FALSE)-VLOOKUP(A20,data!A$6:M$5000,13,FALSE),\"\")","v":""}]
[0,{"$f":"IF(A21>1000,A21,IF(A21>0,VLOOKUP(A21,data!A$6:M$5000,7)&\" - \"&VLOOKUP(A21,data!A$6:M$5000,9),0))","v":0},{"$f":"IF(A21>1000,VLOOKUP(A21,koli,2,FALSE),IF(A21>0,VLOOKUP(A21,data!A$6:M$5000,8)&\" / \"&VLOOKUP(A21,data!A$6:M$5000,10),0))","v":0},null,null,{"$f":"IF(A21>1000,\"\",IF(A21>0,VLOOKUP(A21,data!A$6:M$5000,11),0))","v":0},"",{"$f":"IF(AND(A21>1000,G22>0),SUMIFS(data[بدهکار],data[ش سند],C$3,data[کل],A21),\"\")","v":""},{"$f":"IF(AND(A21>1000,H21=\"\"),SUMIFS(data[بستانکار],data[ش سند],C$3,data[کل],A21),\"\")","v":""},null,null,null,null,{"$f":"IF(COUNTIF(data!A$6:A$5000,A21)>0,VLOOKUP(A21,data!A$6:M$5000,12,FALSE)-VLOOKUP(A21,data!A$6:M$5000,13,FALSE),\"\")","v":""}]
[0,{"$f":"IF(A22>1000,A22,IF(A22>0,VLOOKUP(A22,data!A$6:M$5000,7)&\" - \"&VLOOKUP(A22,data!A$6:M$5000,9),0))","v":0},{"$f":"IF(A22>1000,VLOOKUP(A22,koli,2,FALSE),IF(A22>0,VLOOKUP(A22,data!A$6:M$5000,8)&\" / \"&VLOOKUP(A22,data!A$6:M$5000,10),0))","v":0},null,null,{"$f":"IF(A22>1000,\"\",IF(A22>0,VLOOKUP(A22,data!A$6:M$5000,11),0))","v":0},"",{"$f":"IF(AND(A22>1000,G23>0),SUMIFS(data[بدهکار],data[ش سند],C$3,data[کل],A22),\"\")","v":""},{"$f":"IF(AND(A22>1000,H22=\"\"),SUMIFS(data[بستانکار],data[ش سند],C$3,data[کل],A22),\"\")","v":""},null,null,null,null,{"$f":"IF(COUNTIF(data!A$6:A$5000,A22)>0,VLOOKUP(A22,data!A$6:M$5000,12,FALSE)-VLOOKUP(A22,data!A$6:M$5000,13,FALSE),\"\")","v":""}]
[0,{"$f":"IF(A23>1000,A23,IF(A23>0,VLOOKUP(A23,data!A$6:M$5000,7)&\" - \"&VLOOKUP(A23,data!A$6:M$5000,9),0))","v":0},{"$f":"IF(A23>1000,VLOOKUP(A23,koli,2,FALSE),IF(A23>0,VLOOKUP(A23,data!A$6:M$5000,8)&\" / \"&VLOOKUP(A23,data!A$6:M$5000,10),0))","v":0},null,null,{"$f":"IF(A23>1000,\"\",IF(A23>0,VLOOKUP(A23,data!A$6:M$5000,11),0))","v":0},"",{"$f":"IF(AND(A23>1000,G24>0),SUMIFS(data[بدهکار],data[ش سند],C$3,data[کل],A23),\"\")","v":""},{"$f":"IF(AND(A23>1000,H23=\"\"),SUMIFS(data[بستانکار],data[ش سند],C$3,data[کل],A23),\"\")","v":""},null,null,null,null,{"$f":"IF(COUNTIF(data!A$6:A$5000,A23)>0,VLOOKUP(A23,data!A$6:M$5000,12,FALSE)-VLOOKUP(A23,data!A$6:M$5000,13,FALSE),\"\")","v":""}]
[0,{"$f":"IF(A24>1000,A24,IF(A24>0,VLOOKUP(A24,data!A$6:M$5000,7)&\" - \"&VLOOKUP(A24,data!A$6:M$5000,9),0))","v":0},{"$f":"IF(A24>1000,VLOOKUP(A24,koli,2,FALSE),IF(A24>0,VLOOKUP(A24,data!A$6:M$5000,8)&\" / \"&VLOOKUP(A24,data!A$6:M$5000,10),0))","v":0},null,null,{"$f":"IF(A24>1000,\"\",IF(A24>0,VLOOKUP(A24,data!A$6:M$5000,11),0))","v":0},"",{"$f":"IF(AND(A24>1000,G25>0),SUMIFS(data[بدهکار],data[ش سند],C$3,data[کل],A24),\"\")","v":""},{"$f":"IF(AND(A24>1000,H24=\"\"),SUMIFS(data[بستانکار],data[ش سند],C$3,data[کل],A24),\"\")","v":""},null,null,null,null,{"$f":"IF(COUNTIF(data!A$6:A$5000,A24)>0,VLOOKUP(A24,data!A$6:M$5000,12,FALSE)-VLOOKUP(A24,data!A$6:M$5000,13,FALSE),\"\")","v":""}]
[0,{"$f":"IF(A25>1000,A25,IF(A25>0,VLOOKUP(A25,data!A$6:M$5000,7)&\" - \"&VLOOKUP(A25,data!A$6:M$5000,9),0))","v":0},{"$f":"IF(A25>1000,VLOOKUP(A25,koli,2,FALSE),IF(A25>0,VLOOKUP(A25,data!A$6:M$5000,8)&\" / \"&VLOOKUP(A25,data!A$6:M$5000,10),0))","v":0},null,null,{"$f":"IF(A25>1000,\"\",IF(A25>0,VLOOKUP(A25,data!A$6:M$5000,11),0))","v":0},"",{"$f":"IF(AND(A25>1000,G26>0),SUMIFS(data[بدهکار],data[ش سند],C$3,data[کل],A25),\"\")","v":""},{"$f":"IF(AND(A25>1000,H25=\"\"),SUMIFS(data[بستانکار],data[ش سند],C$3,data[کل],A25),\"\")","v":""},null,null,null,null,{"$f":"IF(COUNTIF(data!A$6:A$5000,A25)>0,VLOOKUP(A25,data!A$6:M$5000,12,FALSE)-VLOOKUP(A25,data!A$6:M$5000,13,FALSE),\"\")","v":""}]
[0,{"$f":"IF(A26>1000,A26,IF(A26>0,VLOOKUP(A26,data!A$6:M$5000,7)&\" - \"&VLOOKUP(A26,data!A$6:M$5000,9),0))","v":0},{"$f":"IF(A26>1000,VLOOKUP(A26,koli,2,FALSE),IF(A26>0,VLOOKUP(A26,data!A$6:M$5000,8)&\" / \"&VLOOKUP(A26,data!A$6:M$5000,10),0))","v":0},null,null,{"$f":"IF(A26>1000,\"\",IF(A26>0,VLOOKUP(A26,data!A$6:M$5000,11),0))","v":0},"",{"$f":"IF(AND(A26>1000,G27>0),SUMIFS(data[بدهکار],data[ش سند],C$3,data[کل],A26),\"\")","v":""},{"$f":"IF(AND(A26>1000,H26=\"\"),SUMIFS(data[بستانکار],data[ش سند],C$3,data[کل],A26),\"\")","v":""},null,null,null,null,{"$f":"IF(COUNTIF(data!A$6:A$5000,A26)>0,VLOOKUP(A26,data!A$6:M$5000,12,FALSE)-VLOOKUP(A26,data!A$6:M$5000,13,FALSE),\"\")","v":""}]
[0,{"$f":"IF(A27>1000,A27,IF(A27>0,VLOOKUP(A27,data!A$6:M$5000,7)&\" - \"&VLOOKUP(A27,data!A$6:M$5000,9),0))","v":0},{"$f":"IF(A27>1000,VLOOKUP(A27,koli,2,FALSE),IF(A27>0,VLOOKUP(A27,data!A$6:M$5000,8)&\" / \"&VLOOKUP(A27,data!A$6:M$5000,10),0))","v":0},null,null,{"$f":"IF(A27>1000,\"\",IF(A27>0,VLOOKUP(A27,data!A$6:M$5000,11),0))","v":0},"",{"$f":"IF(AND(A27>1000,G28>0),SUMIFS(data[بدهکار],data[ش سند],C$3,data[کل],A27),\"\")","v":""},{"$f":"IF(AND(A27>1000,H27=\"\"),SUMIFS(data[بستانکار],data[ش سند],C$3,data[کل],A27),\"\")","v":""},null,null,null,null,{"$f":"IF(COUNTIF(data!A$6:A$5000,A27)>0,VLOOKUP(A27,data!A$6:M$5000,12,FALSE)-VLOOKUP(A27,data!A$6:M$5000,13,FALSE),\"\")","v":""}]
[0,{"$f":"IF(A28>1000,A28,IF(A28>0,VLOOKUP(A28,data!A$6:M$5000,7)&\" - \"&VLOOKUP(A28,data!A$6:M$5000,9),0))","v":0},{"$f":"IF(A28>1000,VLOOKUP(A28,koli,2,FALSE),IF(A28>0,VLOOKUP(A28,data!A$6:M$5000,8)&\" / \"&VLOOKUP(A28,data!A$6:M$5000,10),0))","v":0},null,null,{"$f":"IF(A28>1000,\"\",IF(A28>0,VLOOKUP(A28,data!A$6:M$5000,11),0))","v":0},"",{"$f":"IF(AND(A28>1000,G29>0),SUMIFS(data[بدهکار],data[ش سند],C$3,data[کل],A28),\"\")","v":""},{"$f":"IF(AND(A28>1000,H28=\"\"),SUMIFS(data[بستانکار],data[ش سند],C$3,data[کل],A28),\"\")","v":""},null,null,null,null,{"$f":"IF(COUNTIF(data!A$6:A$5000,A28)>0,VLOOKUP(A28,data!A$6:M$5000,12,FALSE)-VLOOKUP(A28,data!A$6:M$5000,13,FALSE),\"\")","v":""}]
[0,{"$f":"IF(A29>1000,A29,IF(A29>0,VLOOKUP(A29,data!A$6:M$5000,7)&\" - \"&VLOOKUP(A29,data!A$6:M$5000,9),0))","v":0},{"$f":"IF(A29>1000,VLOOKUP(A29,koli,2,FALSE),IF(A29>0,VLOOKUP(A29,data!A$6:M$5000,8)&\" / \"&VLOOKUP(A29,data!A$6:M$5000,10),0))","v":0},null,null,{"$f":"IF(A29>1000,\"\",IF(A29>0,VLOOKUP(A29,data!A$6:M$5000,11),0))","v":0},"",{"$f":"IF(AND(A29>1000,G30>0),SUMIFS(data[بدهکار],data[ش سند],C$3,data[کل],A29),\"\")","v":""},{"$f":"IF(AND(A29>1000,H29=\"\"),SUMIFS(data[بستانکار],data[ش سند],C$3,data[کل],A29),\"\")","v":""},null,null,null,null,{"$f":"IF(COUNTIF(data!A$6:A$5000,A29)>0,VLOOKUP(A29,data!A$6:M$5000,12,FALSE)-VLOOKUP(A29,data!A$6:M$5000,13,FALSE),\"\")","v":""}]
[0,{"$f":"IF(A30>1000,A30,IF(A30>0,VLOOKUP(A30,data!A$6:M$5000,7)&\" - \"&VLOOKUP(A30,data!A$6:M$5000,9),0))","v":0},{"$f":"IF(A30>1000,VLOOKUP(A30,koli,2,FALSE),IF(A30>0,VLOOKUP(A30,data!A$6:M$5000,8)&\" / \"&VLOOKUP(A30,data!A$6:M$5000,10),0))","v":0},null,null,{"$f":"IF(A30>1000,\"\",IF(A30>0,VLOOKUP(A30,data!A$6:M$5000,11),0))","v":0},"",{"$f":"IF(AND(A30>1000,G31>0),SUMIFS(data[بدهکار],data[ش سند],C$3,data[کل],A30),\"\")","v":""},{"$f":"IF(AND(A30>1000,H30=\"\"),SUMIFS(data[بستانکار],data[ش سند],C$3,data[کل],A30),\"\")","v":""},null,null,null,null,{"$f":"IF(COUNTIF(data!A$6:A$5000,A30)>0,VLOOKUP(A30,data!A$6:M$5000,12,FALSE)-VLOOKUP(A30,data!A$6:M$5000,13,FALSE),\"\")","v":""}]
[0,{"$f":"IF(A31>1000,A31,IF(A31>0,VLOOKUP(A31,data!A$6:M$5000,7)&\" - \"&VLOOKUP(A31,data!A$6:M$5000,9),0))","v":0},{"$f":"IF(A31>1000,VLOOKUP(A31,koli,2,FALSE),IF(A31>0,VLOOKUP(A31,data!A$6:M$5000,8)&\" / \"&VLOOKUP(A31,data!A$6:M$5000,10),0))","v":0},null,null,{"$f":"IF(A31>1000,\"\",IF(A31>0,VLOOKUP(A31,data!A$6:M$5000,11),0))","v":0},"",{"$f":"IF(AND(A31>1000,G32>0),SUMIFS(data[بدهکار],data[ش سند],C$3,data[کل],A31),\"\")","v":""},{"$f":"IF(AND(A31>1000,H31=\"\"),SUMIFS(data[بستانکار],data[ش سند],C$3,data[کل],A31),\"\")","v":""},null,null,null,null,{"$f":"IF(COUNTIF(data!A$6:A$5000,A31)>0,VLOOKUP(A31,data!A$6:M$5000,12,FALSE)-VLOOKUP(A31,data!A$6:M$5000,13,FALSE),\"\")","v":""}]
[0,{"$f":"IF(A32>1000,A32,IF(A32>0,VLOOKUP(A32,data!A$6:M$5000,7)&\" - \"&VLOOKUP(A32,data!A$6:M$5000,9),0))","v":0},{"$f":"IF(A32>1000,VLOOKUP(A32,koli,2,FALSE),IF(A32>0,VLOOKUP(A32,data!A$6:M$5000,8)&\" / \"&VLOOKUP(A32,data!A$6:M$5000,10),0))","v":0},null,null,{"$f":"IF(A32>1000,\"\",IF(A32>0,VLOOKUP(A32,data!A$6:M$5000,11),0))","v":0},"",{"$f":"IF(AND(A32>1000,G33>0),SUMIFS(data[بدهکار],data[ش سند],C$3,data[کل],A32),\"\")","v":""},{"$f":"IF(AND(A32>1000,H32=\"\"),SUMIFS(data[بستانکار],data[ش سند],C$3,data[کل],A32),\"\")","v":""},null,null,null,null,{"$f":"IF(COUNTIF(data!A$6:A$5000,A32)>0,VLOOKUP(A32,data!A$6:M$5000,12,FALSE)-VLOOKUP(A32,data!A$6:M$5000,13,FALSE),\"\")","v":""}]
[0,{"$f":"IF(A33>1000,A33,IF(A33>0,VLOOKUP(A33,data!A$6:M$5000,7)&\" - \"&VLOOKUP(A33,data!A$6:M$5000,9),0))","v":0},{"$f":"IF(A33>1000,VLOOKUP(A33,koli,2,FALSE),IF(A33>0,VLOOKUP(A33,data!A$6:M$5000,8)&\" / \"&VLOOKUP(A33,data!A$6:M$5000,10),0))","v":0},null,null,{"$f":"IF(A33>1000,\"\",IF(A33>0,VLOOKUP(A33,data!A$6:M$5000,11),0))","v":0},"",{"$f":"IF(AND(A33>1000,G34>0),SUMIFS(data[بدهکار],data[ش سند],C$3,data[کل],A33),\"\")","v":""},{"$f":"IF(AND(A33>1000,H33=\"\"),SUMIFS(data[بستانکار],data[ش سند],C$3,data[کل],A33),\"\")","v":""},null,null,null,null,{"$f":"IF(COUNTIF(data!A$6:A$5000,A33)>0,VLOOKUP(A33,data!A$6:M$5000,12,FALSE)-VLOOKUP(A33,data!A$6:M$5000,13,FALSE),\"\")","v":""}]
[0,{"$f":"IF(A34>1000,A34,IF(A34>0,VLOOKUP(A34,data!A$6:M$5000,7)&\" - \"&VLOOKUP(A34,data!A$6:M$5000,9),0))","v":0},{"$f":"IF(A34>1000,VLOOKUP(A34,koli,2,FALSE),IF(A34>0,VLOOKUP(A34,data!A$6:M$5000,8)&\" / \"&VLOOKUP(A34,data!A$6:M$5000,10),0))","v":0},null,null,{"$f":"IF(A34>1000,\"\",IF(A34>0,VLOOKUP(A34,data!A$6:M$5000,11),0))","v":0},"",{"$f":"IF(AND(A34>1000,G35>0),SUMIFS(data[بدهکار],data[ش سند],C$3,data[کل],A34),\"\")","v":""},{"$f":"IF(AND(A34>1000,H34=\"\"),SUMIFS(data[بستانکار],data[ش سند],C$3,data[کل],A34),\"\")","v":""},null,null,null,null,{"$f":"IF(COUNTIF(data!A$6:A$5000,A34)>0,VLOOKUP(A34,data!A$6:M$5000,12,FALSE)-VLOOKUP(A34,data!A$6:M$5000,13,FALSE),\"\")","v":""}]
[0,{"$f":"IF(A35>1000,A35,IF(A35>0,VLOOKUP(A35,data!A$6:M$5000,7)&\" - \"&VLOOKUP(A35,data!A$6:M$5000,9),0))","v":0},{"$f":"IF(A35>1000,VLOOKUP(A35,koli,2,FALSE),IF(A35>0,VLOOKUP(A35,data!A$6:M$5000,8)&\" / \"&VLOOKUP(A35,data!A$6:M$5000,10),0))","v":0},null,null,{"$f":"IF(A35>1000,\"\",IF(A35>0,VLOOKUP(A35,data!A$6:M$5000,11),0))","v":0},"",{"$f":"IF(AND(A35>1000,G36>0),SUMIFS(data[بدهکار],data[ش سند],C$3,data[کل],A35),\"\")","v":""},{"$f":"IF(AND(A35>1000,H35=\"\"),SUMIFS(data[بستانکار],data[ش سند],C$3,data[کل],A35),\"\")","v":""},null,null,null,null,{"$f":"IF(COUNTIF(data!A$6:A$5000,A35)>0,VLOOKUP(A35,data!A$6:M$5000,12,FALSE)-VLOOKUP(A35,data!A$6:M$5000,13,FALSE),\"\")","v":""}]
[0,{"$f":"IF(A36>1000,A36,IF(A36>0,VLOOKUP(A36,data!A$6:M$5000,7)&\" - \"&VLOOKUP(A36,data!A$6:M$5000,9),0))","v":0},{"$f":"IF(A36>1000,VLOOKUP(A36,koli,2,FALSE),IF(A36>0,VLOOKUP(A36,data!A$6:M$5000,8)&\" / \"&VLOOKUP(A36,data!A$6:M$5000,10),0))","v":0},null,null,{"$f":"IF(A36>1000,\"\",IF(A36>0,VLOOKUP(A36,data!A$6:M$5000,11),0))","v":0},"",{"$f":"IF(AND(A36>1000,G37>0),SUMIFS(data[بدهکار],data[ش سند],C$3,data[کل],A36),\"\")","v":""},{"$f":"IF(AND(A36>1000,H36=\"\"),SUMIFS(data[بستانکار],data[ش سند],C$3,data[کل],A36),\"\")","v":""},null,null,null,null,{"$f":"IF(COUNTIF(data!A$6:A$5000,A36)>0,VLOOKUP(A36,data!A$6:M$5000,12,FALSE)-VLOOKUP(A36,data!A$6:M$5000,13,FALSE),\"\")","v":""}]
[0,{"$f":"IF(A37>1000,A37,IF(A37>0,VLOOKUP(A37,data!A$6:M$5000,7)&\" - \"&VLOOKUP(A37,data!A$6:M$5000,9),0))","v":0},{"$f":"IF(A37>1000,VLOOKUP(A37,koli,2,FALSE),IF(A37>0,VLOOKUP(A37,data!A$6:M$5000,8)&\" / \"&VLOOKUP(A37,data!A$6:M$5000,10),0))","v":0},null,null,{"$f":"IF(A37>1000,\"\",IF(A37>0,VLOOKUP(A37,data!A$6:M$5000,11),0))","v":0},"",{"$f":"IF(AND(A37>1000,G38>0),SUMIFS(data[بدهکار],data[ش سند],C$3,data[کل],A37),\"\")","v":""},{"$f":"IF(AND(A37>1000,H37=\"\"),SUMIFS(data[بستانکار],data[ش سند],C$3,data[کل],A37),\"\")","v":""},null,null,null,null,{"$f":"IF(COUNTIF(data!A$6:A$5000,A37)>0,VLOOKUP(A37,data!A$6:M$5000,12,FALSE)-VLOOKUP(A37,data!A$6:M$5000,13,FALSE),\"\")","v":""}]
[0,{"$f":"IF(A38>1000,A38,IF(A38>0,VLOOKUP(A38,data!A$6:M$5000,7)&\" - \"&VLOOKUP(A38,data!A$6:M$5000,9),0))","v":0},{"$f":"IF(A38>1000,VLOOKUP(A38,koli,2,FALSE),IF(A38>0,VLOOKUP(A38,data!A$6:M$5000,8)&\" / \"&VLOOKUP(A38,data!A$6:M$5000,10),0))","v":0},null,null,{"$f":"IF(A38>1000,\"\",IF(A38>0,VLOOKUP(A38,data!A$6:M$5000,11),0))","v":0},"",{"$f":"IF(AND(A38>1000,G39>0),SUMIFS(data[بدهکار],data[ش سند],C$3,data[کل],A38),\"\")","v":""},{"$f":"IF(AND(A38>1000,H38=\"\"),SUMIFS(data[بستانکار],data[ش سند],C$3,data[کل],A38),\"\")","v":""},null,null,null,null,{"$f":"IF(COUNTIF(data!A$6:A$5000,A38)>0,VLOOKUP(A38,data!A$6:M$5000,12,FALSE)-VLOOKUP(A38,data!A$6:M$5000,13,FALSE),\"\")","v":""}]
[0,{"$f":"IF(A39>1000,A39,IF(A39>0,VLOOKUP(A39,data!A$6:M$5000,7)&\" - \"&VLOOKUP(A39,data!A$6:M$5000,9),0))","v":0},{"$f":"IF(A39>1000,VLOOKUP(A39,koli,2,FALSE),IF(A39>0,VLOOKUP(A39,data!A$6:M$5000,8)&\" / \"&VLOOKUP(A39,data!A$6:M$5000,10),0))","v":0},null,null,{"$f":"IF(A39>1000,\"\",IF(A39>0,VLOOKUP(A39,data!A$6:M$5000,11),0))","v":0},"",{"$f":"IF(AND(A39>1000,G40>0),SUMIFS(data[بدهکار],data[ش سند],C$3,data[کل],A39),\"\")","v":""},{"$f":"IF(AND(A39>1000,H39=\"\"),SUMIFS(data[بستانکار],data[ش سند],C$3,data[کل],A39),\"\")","v":""},null,null,null,null,{"$f":"IF(COUNTIF(data!A$6:A$5000,A39)>0,VLOOKUP(A39,data!A$6:M$5000,12,FALSE)-VLOOKUP(A39,data!A$6:M$5000,13,FALSE),\"\")","v":""}]
[0,{"$f":"IF(A40>1000,A40,IF(A40>0,VLOOKUP(A40,data!A$6:M$5000,7)&\" - \"&VLOOKUP(A40,data!A$6:M$5000,9),0))","v":0},{"$f":"IF(A40>1000,VLOOKUP(A40,koli,2,FALSE),IF(A40>0,VLOOKUP(A40,data!A$6:M$5000,8)&\" / \"&VLOOKUP(A40,data!A$6:M$5000,10),0))","v":0},null,null,{"$f":"IF(A40>1000,\"\",IF(A40>0,VLOOKUP(A40,data!A$6:M$5000,11),0))","v":0},"",{"$f":"IF(AND(A40>1000,G41>0),SUMIFS(data[بدهکار],data[ش سند],C$3,data[کل],A40),\"\")","v":""},{"$f":"IF(AND(A40>1000,H40=\"\"),SUMIFS(data[بستانکار],data[ش سند],C$3,data[کل],A40),\"\")","v":""},null,null,null,null,{"$f":"IF(COUNTIF(data!A$6:A$5000,A40)>0,VLOOKUP(A40,data!A$6:M$5000,12,FALSE)-VLOOKUP(A40,data!A$6:M$5000,13,FALSE),\"\")","v":""}]
[0,{"$f":"IF(A41>1000,A41,IF(A41>0,VLOOKUP(A41,data!A$6:M$5000,7)&\" - \"&VLOOKUP(A41,data!A$6:M$5000,9),0))","v":0},{"$f":"IF(A41>1000,VLOOKUP(A41,koli,2,FALSE),IF(A41>0,VLOOKUP(A41,data!A$6:M$5000,8)&\" / \"&VLOOKUP(A41,data!A$6:M$5000,10),0))","v":0},null,null,{"$f":"IF(A41>1000,\"\",IF(A41>0,VLOOKUP(A41,data!A$6:M$5000,11),0))","v":0},"",{"$f":"IF(AND(A41>1000,G42>0),SUMIFS(data[بدهکار],data[ش سند],C$3,data[کل],A41),\"\")","v":""},{"$f":"IF(AND(A41>1000,H41=\"\"),SUMIFS(data[بستانکار],data[ش سند],C$3,data[کل],A41),\"\")","v":""},null,null,null,null,{"$f":"IF(COUNTIF(data!A$6:A$5000,A41)>0,VLOOKUP(A41,data!A$6:M$5000,12,FALSE)-VLOOKUP(A41,data!A$6:M$5000,13,FALSE),\"\")","v":""}]
[0,{"$f":"IF(A42>1000,A42,IF(A42>0,VLOOKUP(A42,data!A$6:M$5000,7)&\" - \"&VLOOKUP(A42,data!A$6:M$5000,9),0))","v":0},{"$f":"IF(A42>1000,VLOOKUP(A42,koli,2,FALSE),IF(A42>0,VLOOKUP(A42,data!A$6:M$5000,8)&\" / \"&VLOOKUP(A42,data!A$6:M$5000,10),0))","v":0},null,null,{"$f":"IF(A42>1000,\"\",IF(A42>0,VLOOKUP(A42,data!A$6:M$5000,11),0))","v":0},"",{"$f":"IF(AND(A42>1000,G43>0),SUMIFS(data[بدهکار],data[ش سند],C$3,data[کل],A42),\"\")","v":""},{"$f":"IF(AND(A42>1000,H42=\"\"),SUMIFS(data[بستانکار],data[ش سند],C$3,data[کل],A42),\"\")","v":""},null,null,null,null,{"$f":"IF(COUNTIF(data!A$6:A$5000,A42)>0,VLOOKUP(A42,data!A$6:M$5000,12,FALSE)-VLOOKUP(A42,data!A$6:M$5000,13,FALSE),\"\")","v":""}]
[0,{"$f":"IF(A43>1000,A43,IF(A43>0,VLOOKUP(A43,data!A$6:M$5000,7)&\" - \"&VLOOKUP(A43,data!A$6:M$5000,9),0))","v":0},{"$f":"IF(A43>1000,VLOOKUP(A43,koli,2,FALSE),IF(A43>0,VLOOKUP(A43,data!A$6:M$5000,8)&\" / \"&VLOOKUP(A43,data!A$6:M$5000,10),0))","v":0},null,null,{"$f":"IF(A43>1000,\"\",IF(A43>0,VLOOKUP(A43,data!A$6:M$5000,11),0))","v":0},"",{"$f":"IF(AND(A43>1000,G44>0),SUMIFS(data[بدهکار],data[ش سند],C$3,data[کل],A43),\"\")","v":""},{"$f":"IF(AND(A43>1000,H43=\"\"),SUMIFS(data[بستانکار],data[ش سند],C$3,data[کل],A43),\"\")","v":""},null,null,null,null,{"$f":"IF(COUNTIF(data!A$6:A$5000,A43)>0,VLOOKUP(A43,data!A$6:M$5000,12,FALSE)-VLOOKUP(A43,data!A$6:M$5000,13,FALSE),\"\")","v":""}]
[0,{"$f":"IF(A44>1000,A44,IF(A44>0,VLOOKUP(A44,data!A$6:M$5000,7)&\" - \"&VLOOKUP(A44,data!A$6:M$5000,9),0))","v":0},{"$f":"IF(A44>1000,VLOOKUP(A44,koli,2,FALSE),IF(A44>0,VLOOKUP(A44,data!A$6:M$5000,8)&\" / \"&VLOOKUP(A44,data!A$6:M$5000,10),0))","v":0},null,null,{"$f":"IF(A44>1000,\"\",IF(A44>0,VLOOKUP(A44,data!A$6:M$5000,11),0))","v":0},"",{"$f":"IF(AND(A44>1000,G45>0),SUMIFS(data[بدهکار],data[ش سند],C$3,data[کل],A44),\"\")","v":""},{"$f":"IF(AND(A44>1000,H44=\"\"),SUMIFS(data[بستانکار],data[ش سند],C$3,data[کل],A44),\"\")","v":""},null,null,null,null,{"$f":"IF(COUNTIF(data!A$6:A$5000,A44)>0,VLOOKUP(A44,data!A$6:M$5000,12,FALSE)-VLOOKUP(A44,data!A$6:M$5000,13,FALSE),\"\")","v":""}]
[0,{"$f":"IF(A45>1000,A45,IF(A45>0,VLOOKUP(A45,data!A$6:M$5000,7)&\" - \"&VLOOKUP(A45,data!A$6:M$5000,9),0))","v":0},{"$f":"IF(A45>1000,VLOOKUP(A45,koli,2,FALSE),IF(A45>0,VLOOKUP(A45,data!A$6:M$5000,8)&\" / \"&VLOOKUP(A45,data!A$6:M$5000,10),0))","v":0},null,null,{"$f":"IF(A45>1000,\"\",IF(A45>0,VLOOKUP(A45,data!A$6:M$5000,11),0))","v":0},"",{"$f":"IF(AND(A45>1000,G46>0),SUMIFS(data[بدهکار],data[ش سند],C$3,data[کل],A45),\"\")","v":""},{"$f":"IF(AND(A45>1000,H45=\"\"),SUMIFS(data[بستانکار],data[ش سند],C$3,data[کل],A45),\"\")","v":""},null,null,null,null,{"$f":"IF(COUNTIF(data!A$6:A$5000,A45)>0,VLOOKUP(A45,data!A$6:M$5000,12,FALSE)-VLOOKUP(A45,data!A$6:M$5000,13,FALSE),\"\")","v":""}]
[0,{"$f":"IF(A46>1000,A46,IF(A46>0,VLOOKUP(A46,data!A$6:M$5000,7)&\" - \"&VLOOKUP(A46,data!A$6:M$5000,9),0))","v":0},{"$f":"IF(A46>1000,VLOOKUP(A46,koli,2,FALSE),IF(A46>0,VLOOKUP(A46,data!A$6:M$5000,8)&\" / \"&VLOOKUP(A46,data!A$6:M$5000,10),0))","v":0},null,null,{"$f":"IF(A46>1000,\"\",IF(A46>0,VLOOKUP(A46,data!A$6:M$5000,11),0))","v":0},"",{"$f":"IF(AND(A46>1000,G47>0),SUMIFS(data[بدهکار],data[ش سند],C$3,data[کل],A46),\"\")","v":""},{"$f":"IF(AND(A46>1000,H46=\"\"),SUMIFS(data[بستانکار],data[ش سند],C$3,data[کل],A46),\"\")","v":""},null,null,null,null,{"$f":"IF(COUNTIF(data!A$6:A$5000,A46)>0,VLOOKUP(A46,data!A$6:M$5000,12,FALSE)-VLOOKUP(A46,data!A$6:M$5000,13,FALSE),\"\")","v":""}]
[0,{"$f":"IF(A47>1000,A47,IF(A47>0,VLOOKUP(A47,data!A$6:M$5000,7)&\" - \"&VLOOKUP(A47,data!A$6:M$5000,9),0))","v":0},{"$f":"IF(A47>1000,VLOOKUP(A47,koli,2,FALSE),IF(A47>0,VLOOKUP(A47,data!A$6:M$5000,8)&\" / \"&VLOOKUP(A47,data!A$6:M$5000,10),0))","v":0},null,null,{"$f":"IF(A47>1000,\"\",IF(A47>0,VLOOKUP(A47,data!A$6:M$5000,11),0))","v":0},"",{"$f":"IF(AND(A47>1000,G48>0),SUMIFS(data[بدهکار],data[ش سند],C$3,data[کل],A47),\"\")","v":""},{"$f":"IF(AND(A47>1000,H47=\"\"),SUMIFS(data[بستانکار],data[ش سند],C$3,data[کل],A47),\"\")","v":""},null,null,null,null,{"$f":"IF(COUNTIF(data!A$6:A$5000,A47)>0,VLOOKUP(A47,data!A$6:M$5000,12,FALSE)-VLOOKUP(A47,data!A$6:M$5000,13,FALSE),\"\")","v":""}]
[0,{"$f":"IF(A48>1000,A48,IF(A48>0,VLOOKUP(A48,data!A$6:M$5000,7)&\" - \"&VLOOKUP(A48,data!A$6:M$5000,9),0))","v":0},{"$f":"IF(A48>1000,VLOOKUP(A48,koli,2,FALSE),IF(A48>0,VLOOKUP(A48,data!A$6:M$5000,8)&\" / \"&VLOOKUP(A48,data!A$6:M$5000,10),0))","v":0},null,null,{"$f":"IF(A48>1000,\"\",IF(A48>0,VLOOKUP(A48,data!A$6:M$5000,11),0))","v":0},"",{"$f":"IF(AND(A48>1000,G49>0),SUMIFS(data[بدهکار],data[ش سند],C$3,data[کل],A48),\"\")","v":""},{"$f":"IF(AND(A48>1000,H48=\"\"),SUMIFS(data[بستانکار],data[ش سند],C$3,data[کل],A48),\"\")","v":""},null,null,null,null,{"$f":"IF(COUNTIF(data!A$6:A$5000,A48)>0,VLOOKUP(A48,data!A$6:M$5000,12,FALSE)-VLOOKUP(A48,data!A$6:M$5000,13,FALSE),\"\")","v":""}]
[0,{"$f":"IF(A49>1000,A49,IF(A49>0,VLOOKUP(A49,data!A$6:M$5000,7)&\" - \"&VLOOKUP(A49,data!A$6:M$5000,9),0))","v":0},{"$f":"IF(A49>1000,VLOOKUP(A49,koli,2,FALSE),IF(A49>0,VLOOKUP(A49,data!A$6:M$5000,8)&\" / \"&VLOOKUP(A49,data!A$6:M$5000,10),0))","v":0},null,null,{"$f":"IF(A49>1000,\"\",IF(A49>0,VLOOKUP(A49,data!A$6:M$5000,11),0))","v":0},"",{"$f":"IF(AND(A49>1000,G50>0),SUMIFS(data[بدهکار],data[ش سند],C$3,data[کل],A49),\"\")","v":""},{"$f":"IF(AND(A49>1000,H49=\"\"),SUMIFS(data[بستانکار],data[ش سند],C$3,data[کل],A49),\"\")","v":""},null,null,null,null,{"$f":"IF(COUNTIF(data!A$6:A$5000,A49)>0,VLOOKUP(A49,data!A$6:M$5000,12,FALSE)-VLOOKUP(A49,data!A$6:M$5000,13,FALSE),\"\")","v":""}]
[0,{"$f":"IF(A50>1000,A50,IF(A50>0,VLOOKUP(A50,data!A$6:M$5000,7)&\" - \"&VLOOKUP(A50,data!A$6:M$5000,9),0))","v":0},{"$f":"IF(A50>1000,VLOOKUP(A50,koli,2,FALSE),IF(A50>0,VLOOKUP(A50,data!A$6:M$5000,8)&\" / \"&VLOOKUP(A50,data!A$6:M$5000,10),0))","v":0},null,null,{"$f":"IF(A50>1000,\"\",IF(A50>0,VLOOKUP(A50,data!A$6:M$5000,11),0))","v":0},"",{"$f":"IF(AND(A50>1000,G51>0),SUMIFS(data[بدهکار],data[ش سند],C$3,data[کل],A50),\"\")","v":""},{"$f":"IF(AND(A50>1000,H50=\"\"),SUMIFS(data[بستانکار],data[ش سند],C$3,data[کل],A50),\"\")","v":""},null,null,null,null,{"$f":"IF(COUNTIF(data!A$6:A$5000,A50)>0,VLOOKUP(A50,data!A$6:M$5000,12,FALSE)-VLOOKUP(A50,data!A$6:M$5000,13,FALSE),\"\")","v":""}]
[0,{"$f":"IF(A51>1000,A51,IF(A51>0,VLOOKUP(A51,data!A$6:M$5000,7)&\" - \"&VLOOKUP(A51,data!A$6:M$5000,9),0))","v":0},{"$f":"IF(A51>1000,VLOOKUP(A51,koli,2,FALSE),IF(A51>0,VLOOKUP(A51,data!A$6:M$5000,8)&\" / \"&VLOOKUP(A51,data!A$6:M$5000,10),0))","v":0},null,null,{"$f":"IF(A51>1000,\"\",IF(A51>0,VLOOKUP(A51,data!A$6:M$5000,11),0))","v":0},"",{"$f":"IF(AND(A51>1000,G52>0),SUMIFS(data[بدهکار],data[ش سند],C$3,data[کل],A51),\"\")","v":""},{"$f":"IF(AND(A51>1000,H51=\"\"),SUMIFS(data[بستانکار],data[ش سند],C$3,data[کل],A51),\"\")","v":""},null,null,null,null,{"$f":"IF(COUNTIF(data!A$6:A$5000,A51)>0,VLOOKUP(A51,data!A$6:M$5000,12,FALSE)-VLOOKUP(A51,data!A$6:M$5000,13,FALSE),\"\")","v":""}]
[0,{"$f":"IF(A52>1000,A52,IF(A52>0,VLOOKUP(A52,data!A$6:M$5000,7)&\" - \"&VLOOKUP(A52,data!A$6:M$5000,9),0))","v":0},{"$f":"IF(A52>1000,VLOOKUP(A52,koli,2,FALSE),IF(A52>0,VLOOKUP(A52,data!A$6:M$5000,8)&\" / \"&VLOOKUP(A52,data!A$6:M$5000,10),0))","v":0},null,null,{"$f":"IF(A52>1000,\"\",IF(A52>0,VLOOKUP(A52,data!A$6:M$5000,11),0))","v":0},"",{"$f":"IF(AND(A52>1000,G53>0),SUMIFS(data[بدهکار],data[ش سند],C$3,data[کل],A52),\"\")","v":""},{"$f":"IF(AND(A52>1000,H52=\"\"),SUMIFS(data[بستانکار],data[ش سند],C$3,data[کل],A52),\"\")","v":""},null,null,null,null,{"$f":"IF(COUNTIF(data!A$6:A$5000,A52)>0,VLOOKUP(A52,data!A$6:M$5000,12,FALSE)-VLOOKUP(A52,data!A$6:M$5000,13,FALSE),\"\")","v":""}]
[0,{"$f":"IF(A53>1000,A53,IF(A53>0,VLOOKUP(A53,data!A$6:M$5000,7)&\" - \"&VLOOKUP(A53,data!A$6:M$5000,9),0))","v":0},{"$f":"IF(A53>1000,VLOOKUP(A53,koli,2,FALSE),IF(A53>0,VLOOKUP(A53,data!A$6:M$5000,8)&\" / \"&VLOOKUP(A53,data!A$6:M$5000,10),0))","v":0},null,null,{"$f":"IF(A53>1000,\"\",IF(A53>0,VLOOKUP(A53,data!A$6:M$5000,11),0))","v":0},"",{"$f":"IF(AND(A53>1000,G54>0),SUMIFS(data[بدهکار],data[ش سند],C$3,data[کل],A53),\"\")","v":""},{"$f":"IF(AND(A53>1000,H53=\"\"),SUMIFS(data[بستانکار],data[ش سند],C$3,data[کل],A53),\"\")","v":""},null,null,null,null,{"$f":"IF(COUNTIF(data!A$6:A$5000,A53)>0,VLOOKUP(A53,data!A$6:M$5000,12,FALSE)-VLOOKUP(A53,data!A$6:M$5000,13,FALSE),\"\")","v":""}]
[0,{"$f":"IF(A54>1000,A54,IF(A54>0,VLOOKUP(A54,data!A$6:M$5000,7)&\" - \"&VLOOKUP(A54,data!A$6:M$5000,9),0))","v":0},{"$f":"IF(A54>1000,VLOOKUP(A54,koli,2,FALSE),IF(A54>0,VLOOKUP(A54,data!A$6:M$5000,8)&\" / \"&VLOOKUP(A54,data!A$6:M$5000,10),0))","v":0},null,null,{"$f":"IF(A54>1000,\"\",IF(A54>0,VLOOKUP(A54,data!A$6:M$5000,11),0))","v":0},"",{"$f":"IF(AND(A54>1000,G55>0),SUMIFS(data[بدهکار],data[ش سند],C$3,data[کل],A54),\"\")","v":""},{"$f":"IF(AND(A54>1000,H54=\"\"),SUMIFS(data[بستانکار],data[ش سند],C$3,data[کل],A54),\"\")","v":""},null,null,null,null,{"$f":"IF(COUNTIF(data!A$6:A$5000,A54)>0,VLOOKUP(A54,data!A$6:M$5000,12,FALSE)-VLOOKUP(A54,data!A$6:M$5000,13,FALSE),\"\")","v":""}]
[0,{"$f":"IF(A55>1000,A55,IF(A55>0,VLOOKUP(A55,data!A$6:M$5000,7)&\" - \"&VLOOKUP(A55,data!A$6:M$5000,9),0))","v":0},{"$f":"IF(A55>1000,VLOOKUP(A55,koli,2,FALSE),IF(A55>0,VLOOKUP(A55,data!A$6:M$5000,8)&\" / \"&VLOOKUP(A55,data!A$6:M$5000,10),0))","v":0},null,null,{"$f":"IF(A55>1000,\"\",IF(A55>0,VLOOKUP(A55,data!A$6:M$5000,11),0))","v":0},"",{"$f":"IF(AND(A55>1000,G56>0),SUMIFS(data[بدهکار],data[ش سند],C$3,data[کل],A55),\"\")","v":""},{"$f":"IF(AND(A55>1000,H55=\"\"),SUMIFS(data[بستانکار],data[ش سند],C$3,data[کل],A55),\"\")","v":""},null,null,null,null,{"$f":"IF(COUNTIF(data!A$6:A$5000,A55)>0,VLOOKUP(A55,data!A$6:M$5000,12,FALSE)-VLOOKUP(A55,data!A$6:M$5000,13,FALSE),\"\")","v":""}]
[0,{"$f":"IF(A56>1000,A56,IF(A56>0,VLOOKUP(A56,data!A$6:M$5000,7)&\" - \"&VLOOKUP(A56,data!A$6:M$5000,9),0))","v":0},{"$f":"IF(A56>1000,VLOOKUP(A56,koli,2,FALSE),IF(A56>0,VLOOKUP(A56,data!A$6:M$5000,8)&\" / \"&VLOOKUP(A56,data!A$6:M$5000,10),0))","v":0},null,null,{"$f":"IF(A56>1000,\"\",IF(A56>0,VLOOKUP(A56,data!A$6:M$5000,11),0))","v":0},"",{"$f":"IF(AND(A56>1000,G57>0),SUMIFS(data[بدهکار],data[ش سند],C$3,data[کل],A56),\"\")","v":""},{"$f":"IF(AND(A56>1000,H56=\"\"),SUMIFS(data[بستانکار],data[ش سند],C$3,data[کل],A56),\"\")","v":""},null,null,null,null,{"$f":"IF(COUNTIF(data!A$6:A$5000,A56)>0,VLOOKUP(A56,data!A$6:M$5000,12,FALSE)-VLOOKUP(A56,data!A$6:M$5000,13,FALSE),\"\")","v":""}]
[0,{"$f":"IF(A57>1000,A57,IF(A57>0,VLOOKUP(A57,data!A$6:M$5000,7)&\" - \"&VLOOKUP(A57,data!A$6:M$5000,9),0))","v":0},{"$f":"IF(A57>1000,VLOOKUP(A57,koli,2,FALSE),IF(A57>0,VLOOKUP(A57,data!A$6:M$5000,8)&\" / \"&VLOOKUP(A57,data!A$6:M$5000,10),0))","v":0},null,null,{"$f":"IF(A57>1000,\"\",IF(A57>0,VLOOKUP(A57,data!A$6:M$5000,11),0))","v":0},"",{"$f":"IF(AND(A57>1000,G58>0),SUMIFS(data[بدهکار],data[ش سند],C$3,data[کل],A57),\"\")","v":""},{"$f":"IF(AND(A57>1000,H57=\"\"),SUMIFS(data[بستانکار],data[ش سند],C$3,data[کل],A57),\"\")","v":""},null,null,null,null,{"$f":"IF(COUNTIF(data!A$6:A$5000,A57)>0,VLOOKUP(A57,data!A$6:M$5000,12,FALSE)-VLOOKUP(A57,data!A$6:M$5000,13,FALSE),\"\")","v":""}]
[0,{"$f":"IF(A58>1000,A58,IF(A58>0,VLOOKUP(A58,data!A$6:M$5000,7)&\" - \"&VLOOKUP(A58,data!A$6:M$5000,9),0))","v":0},{"$f":"IF(A58>1000,VLOOKUP(A58,koli,2,FALSE),IF(A58>0,VLOOKUP(A58,data!A$6:M$5000,8)&\" / \"&VLOOKUP(A58,data!A$6:M$5000,10),0))","v":0},null,null,{"$f":"IF(A58>1000,\"\",IF(A58>0,VLOOKUP(A58,data!A$6:M$5000,11),0))","v":0},"",{"$f":"IF(AND(A58>1000,G59>0),SUMIFS(data[بدهکار],data[ش سند],C$3,data[کل],A58),\"\")","v":""},{"$f":"IF(AND(A58>1000,H58=\"\"),SUMIFS(data[بستانکار],data[ش سند],C$3,data[کل],A58),\"\")","v":""},null,null,null,null,{"$f":"IF(COUNTIF(data!A$6:A$5000,A58)>0,VLOOKUP(A58,data!A$6:M$5000,12,FALSE)-VLOOKUP(A58,data!A$6:M$5000,13,FALSE),\"\")","v":""}]
[0,{"$f":"IF(A59>1000,A59,IF(A59>0,VLOOKUP(A59,data!A$6:M$5000,7)&\" - \"&VLOOKUP(A59,data!A$6:M$5000,9),0))","v":0},{"$f":"IF(A59>1000,VLOOKUP(A59,koli,2,FALSE),IF(A59>0,VLOOKUP(A59,data!A$6:M$5000,8)&\" / \"&VLOOKUP(A59,data!A$6:M$5000,10),0))","v":0},null,null,{"$f":"IF(A59>1000,\"\",IF(A59>0,VLOOKUP(A59,data!A$6:M$5000,11),0))","v":0},"",{"$f":"IF(AND(A59>1000,G60>0),SUMIFS(data[بدهکار],data[ش سند],C$3,data[کل],A59),\"\")","v":""},{"$f":"IF(AND(A59>1000,H59=\"\"),SUMIFS(data[بستانکار],data[ش سند],C$3,data[کل],A59),\"\")","v":""},null,null,null,null,{"$f":"IF(COUNTIF(data!A$6:A$5000,A59)>0,VLOOKUP(A59,data!A$6:M$5000,12,FALSE)-VLOOKUP(A59,data!A$6:M$5000,13,FALSE),\"\")","v":""}]
[0,{"$f":"IF(A60>1000,A60,IF(A60>0,VLOOKUP(A60,data!A$6:M$5000,7)&\" - \"&VLOOKUP(A60,data!A$6:M$5000,9),0))","v":0},{"$f":"IF(A60>1000,VLOOKUP(A60,koli,2,FALSE),IF(A60>0,VLOOKUP(A60,data!A$6:M$5000,8)&\" / \"&VLOOKUP(A60,data!A$6:M$5000,10),0))","v":0},null,null,{"$f":"IF(A60>1000,\"\",IF(A60>0,VLOOKUP(A60,data!A$6:M$5000,11),0))","v":0},"",{"$f":"IF(AND(A60>1000,G61>0),SUMIFS(data[بدهکار],data[ش سند],C$3,data[کل],A60),\"\")","v":""},{"$f":"IF(AND(A60>1000,H60=\"\"),SUMIFS(data[بستانکار],data[ش سند],C$3,data[کل],A60),\"\")","v":""},null,null,null,null,{"$f":"IF(COUNTIF(data!A$6:A$5000,A60)>0,VLOOKUP(A60,data!A$6:M$5000,12,FALSE)-VLOOKUP(A60,data!A$6:M$5000,13,FALSE),\"\")","v":""}]
[0,{"$f":"IF(A61>1000,A61,IF(A61>0,VLOOKUP(A61,data!A$6:M$5000,7)&\" - \"&VLOOKUP(A61,data!A$6:M$5000,9),0))","v":0},{"$f":"IF(A61>1000,VLOOKUP(A61,koli,2,FALSE),IF(A61>0,VLOOKUP(A61,data!A$6:M$5000,8)&\" / \"&VLOOKUP(A61,data!A$6:M$5000,10),0))","v":0},null,null,{"$f":"IF(A61>1000,\"\",IF(A61>0,VLOOKUP(A61,data!A$6:M$5000,11),0))","v":0},"",{"$f":"IF(AND(A61>1000,G62>0),SUMIFS(data[بدهکار],data[ش سند],C$3,data[کل],A61),\"\")","v":""},{"$f":"IF(AND(A61>1000,H61=\"\"),SUMIFS(data[بستانکار],data[ش سند],C$3,data[کل],A61),\"\")","v":""},null,null,null,null,{"$f":"IF(COUNTIF(data!A$6:A$5000,A61)>0,VLOOKUP(A61,data!A$6:M$5000,12,FALSE)-VLOOKUP(A61,data!A$6:M$5000,13,FALSE),\"\")","v":""}]
[0,{"$f":"IF(A62>1000,A62,IF(A62>0,VLOOKUP(A62,data!A$6:M$5000,7)&\" - \"&VLOOKUP(A62,data!A$6:M$5000,9),0))","v":0},{"$f":"IF(A62>1000,VLOOKUP(A62,koli,2,FALSE),IF(A62>0,VLOOKUP(A62,data!A$6:M$5000,8)&\" / \"&VLOOKUP(A62,data!A$6:M$5000,10),0))","v":0},null,null,{"$f":"IF(A62>1000,\"\",IF(A62>0,VLOOKUP(A62,data!A$6:M$5000,11),0))","v":0},"",{"$f":"IF(AND(A62>1000,G63>0),SUMIFS(data[بدهکار],data[ش سند],C$3,data[کل],A62),\"\")","v":""},{"$f":"IF(AND(A62>1000,H62=\"\"),SUMIFS(data[بستانکار],data[ش سند],C$3,data[کل],A62),\"\")","v":""},null,null,null,null,{"$f":"IF(COUNTIF(data!A$6:A$5000,A62)>0,VLOOKUP(A62,data!A$6:M$5000,12,FALSE)-VLOOKUP(A62,data!A$6:M$5000,13,FALSE),\"\")","v":""}]
[0,{"$f":"IF(A63>1000,A63,IF(A63>0,VLOOKUP(A63,data!A$6:M$5000,7)&\" - \"&VLOOKUP(A63,data!A$6:M$5000,9),0))","v":0},{"$f":"IF(A63>1000,VLOOKUP(A63,koli,2,FALSE),IF(A63>0,VLOOKUP(A63,data!A$6:M$5000,8)&\" / \"&VLOOKUP(A63,data!A$6:M$5000,10),0))","v":0},null,null,{"$f":"IF(A63>1000,\"\",IF(A63>0,VLOOKUP(A63,data!A$6:M$5000,11),0))","v":0},"",{"$f":"IF(AND(A63>1000,G64>0),SUMIFS(data[بدهکار],data[ش سند],C$3,data[کل],A63),\"\")","v":""},{"$f":"IF(AND(A63>1000,H63=\"\"),SUMIFS(data[بستانکار],data[ش سند],C$3,data[کل],A63),\"\")","v":""},null,null,null,null,{"$f":"IF(COUNTIF(data!A$6:A$5000,A63)>0,VLOOKUP(A63,data!A$6:M$5000,12,FALSE)-VLOOKUP(A63,data!A$6:M$5000,13,FALSE),\"\")","v":""}]
[0,{"$f":"IF(A64>1000,A64,IF(A64>0,VLOOKUP(A64,data!A$6:M$5000,7)&\" - \"&VLOOKUP(A64,data!A$6:M$5000,9),0))","v":0},{"$f":"IF(A64>1000,VLOOKUP(A64,koli,2,FALSE),IF(A64>0,VLOOKUP(A64,data!A$6:M$5000,8)&\" / \"&VLOOKUP(A64,data!A$6:M$5000,10),0))","v":0},null,null,{"$f":"IF(A64>1000,\"\",IF(A64>0,VLOOKUP(A64,data!A$6:M$5000,11),0))","v":0},"",{"$f":"IF(AND(A64>1000,G65>0),SUMIFS(data[بدهکار],data[ش سند],C$3,data[کل],A64),\"\")","v":""},{"$f":"IF(AND(A64>1000,H64=\"\"),SUMIFS(data[بستانکار],data[ش سند],C$3,data[کل],A64),\"\")","v":""},null,null,null,null,{"$f":"IF(COUNTIF(data!A$6:A$5000,A64)>0,VLOOKUP(A64,data!A$6:M$5000,12,FALSE)-VLOOKUP(A64,data!A$6:M$5000,13,FALSE),\"\")","v":""}]
[0,{"$f":"IF(A65>1000,A65,IF(A65>0,VLOOKUP(A65,data!A$6:M$5000,7)&\" - \"&VLOOKUP(A65,data!A$6:M$5000,9),0))","v":0},{"$f":"IF(A65>1000,VLOOKUP(A65,koli,2,FALSE),IF(A65>0,VLOOKUP(A65,data!A$6:M$5000,8)&\" / \"&VLOOKUP(A65,data!A$6:M$5000,10),0))","v":0},null,null,{"$f":"IF(A65>1000,\"\",IF(A65>0,VLOOKUP(A65,data!A$6:M$5000,11),0))","v":0},"",{"$f":"IF(AND(A65>1000,G66>0),SUMIFS(data[بدهکار],data[ش سند],C$3,data[کل],A65),\"\")","v":""},{"$f":"IF(AND(A65>1000,H65=\"\"),SUMIFS(data[بستانکار],data[ش سند],C$3,data[کل],A65),\"\")","v":""},null,null,null,null,{"$f":"IF(COUNTIF(data!A$6:A$5000,A65)>0,VLOOKUP(A65,data!A$6:M$5000,12,FALSE)-VLOOKUP(A65,data!A$6:M$5000,13,FALSE),\"\")","v":""}]
[0,{"$f":"IF(A66>1000,A66,IF(A66>0,VLOOKUP(A66,data!A$6:M$5000,7)&\" - \"&VLOOKUP(A66,data!A$6:M$5000,9),0))","v":0},{"$f":"IF(A66>1000,VLOOKUP(A66,koli,2,FALSE),IF(A66>0,VLOOKUP(A66,data!A$6:M$5000,8)&\" / \"&VLOOKUP(A66,data!A$6:M$5000,10),0))","v":0},null,null,{"$f":"IF(A66>1000,\"\",IF(A66>0,VLOOKUP(A66,data!A$6:M$5000,11),0))","v":0},"",{"$f":"IF(AND(A66>1000,G67>0),SUMIFS(data[بدهکار],data[ش سند],C$3,data[کل],A66),\"\")","v":""},{"$f":"IF(AND(A66>1000,H66=\"\"),SUMIFS(data[بستانکار],data[ش سند],C$3,data[کل],A66),\"\")","v":""},null,null,null,null,{"$f":"IF(COUNTIF(data!A$6:A$5000,A66)>0,VLOOKUP(A66,data!A$6:M$5000,12,FALSE)-VLOOKUP(A66,data!A$6:M$5000,13,FALSE),\"\")","v":""}]
[0,{"$f":"IF(A67>1000,A67,IF(A67>0,VLOOKUP(A67,data!A$6:M$5000,7)&\" - \"&VLOOKUP(A67,data!A$6:M$5000,9),0))","v":0},{"$f":"IF(A67>1000,VLOOKUP(A67,koli,2,FALSE),IF(A67>0,VLOOKUP(A67,data!A$6:M$5000,8)&\" / \"&VLOOKUP(A67,data!A$6:M$5000,10),0))","v":0},null,null,{"$f":"IF(A67>1000,\"\",IF(A67>0,VLOOKUP(A67,data!A$6:M$5000,11),0))","v":0},"",{"$f":"IF(AND(A67>1000,G68>0),SUMIFS(data[بدهکار],data[ش سند],C$3,data[کل],A67),\"\")","v":""},{"$f":"IF(AND(A67>1000,H67=\"\"),SUMIFS(data[بستانکار],data[ش سند],C$3,data[کل],A67),\"\")","v":""},null,null,null,null,{"$f":"IF(COUNTIF(data!A$6:A$5000,A67)>0,VLOOKUP(A67,data!A$6:M$5000,12,FALSE)-VLOOKUP(A67,data!A$6:M$5000,13,FALSE),\"\")","v":""}]
[0,{"$f":"IF(A68>1000,A68,IF(A68>0,VLOOKUP(A68,data!A$6:M$5000,7)&\" - \"&VLOOKUP(A68,data!A$6:M$5000,9),0))","v":0},{"$f":"IF(A68>1000,VLOOKUP(A68,koli,2,FALSE),IF(A68>0,VLOOKUP(A68,data!A$6:M$5000,8)&\" / \"&VLOOKUP(A68,data!A$6:M$5000,10),0))","v":0},null,null,{"$f":"IF(A68>1000,\"\",IF(A68>0,VLOOKUP(A68,data!A$6:M$5000,11),0))","v":0},"",{"$f":"IF(AND(A68>1000,G69>0),SUMIFS(data[بدهکار],data[ش سند],C$3,data[کل],A68),\"\")","v":""},{"$f":"IF(AND(A68>1000,H68=\"\"),SUMIFS(data[بستانکار],data[ش سند],C$3,data[کل],A68),\"\")","v":""},null,null,null,null,{"$f":"IF(COUNTIF(data!A$6:A$5000,A68)>0,VLOOKUP(A68,data!A$6:M$5000,12,FALSE)-VLOOKUP(A68,data!A$6:M$5000,13,FALSE),\"\")","v":""}]
[0,{"$f":"IF(A69>1000,A69,IF(A69>0,VLOOKUP(A69,data!A$6:M$5000,7)&\" - \"&VLOOKUP(A69,data!A$6:M$5000,9),0))","v":0},{"$f":"IF(A69>1000,VLOOKUP(A69,koli,2,FALSE),IF(A69>0,VLOOKUP(A69,data!A$6:M$5000,8)&\" / \"&VLOOKUP(A69,data!A$6:M$5000,10),0))","v":0},null,null,{"$f":"IF(A69>1000,\"\",IF(A69>0,VLOOKUP(A69,data!A$6:M$5000,11),0))","v":0},"",{"$f":"IF(AND(A69>1000,G70>0),SUMIFS(data[بدهکار],data[ش سند],C$3,data[کل],A69),\"\")","v":""},{"$f":"IF(AND(A69>1000,H69=\"\"),SUMIFS(data[بستانکار],data[ش سند],C$3,data[کل],A69),\"\")","v":""},null,null,null,null,{"$f":"IF(COUNTIF(data!A$6:A$5000,A69)>0,VLOOKUP(A69,data!A$6:M$5000,12,FALSE)-VLOOKUP(A69,data!A$6:M$5000,13,FALSE),\"\")","v":""}]
[0,{"$f":"IF(A70>1000,A70,IF(A70>0,VLOOKUP(A70,data!A$6:M$5000,7)&\" - \"&VLOOKUP(A70,data!A$6:M$5000,9),0))","v":0},{"$f":"IF(A70>1000,VLOOKUP(A70,koli,2,FALSE),IF(A70>0,VLOOKUP(A70,data!A$6:M$5000,8)&\" / \"&VLOOKUP(A70,data!A$6:M$5000,10),0))","v":0},null,null,{"$f":"IF(A70>1000,\"\",IF(A70>0,VLOOKUP(A70,data!A$6:M$5000,11),0))","v":0},{"$f":"IF(N70<>\"\",N70,\"\")","v":""},{"$f":"IF(AND(A70>1000,G71>0),SUMIFS(data[بدهکار],data[ش سند],C$3,data[کل],A70),\"\")","v":""},{"$f":"IF(AND(A70>1000,H70=\"\"),SUMIFS(data[بستانکار],data[ش سند],C$3,data[کل],A70),\"\")","v":""},null,null,null,null,{"$f":"IF(COUNTIF(data!A$6:A$5000,A70)>0,VLOOKUP(A70,data!A$6:M$5000,12,FALSE)-VLOOKUP(A70,data!A$6:M$5000,13,FALSE),\"\")","v":""}]

{"sheet":"صورت حساب","index":9,"n_rows":511,"n_cols":8,"rows_kept":511,"cut":false,"hidden":false,"merged":[[1,1,1,7],[2,1,2,7],[7,2,7,3]]}
[]
[null,"شرکت نمونه "]
[null,"گردش حساب "]
[]
[{"$f":"IF(H5<>\"\",1,IF(H7<>\"\",2,0))","v":1},"کد کل ",1110,"عنوان کل :",{"$f":"IF(COUNTIF(koli,C5)>0,VLOOKUP(C5,koli,2,FALSE),\"وجود ندارد\")","v":"موجودی نقد و بانک"},null,"از سند :",1]
[{"$f":"COUNTA(B11:B511)+11","v":11},"کد معین ",111001,"عنوان معین :",{"$f":"IF(COUNTIF(moein[کد معین],C6)>0,VLOOKUP(C6,moein[کد معین]:moein[شرح معین],2,FALSE),\"وجود ندارد\")","v":"صندوق ریالی"},null,"تا سند :",3]
[null,"کد تفصیلی ",1001,"عنوان تفصیلی :",{"$f":"IF(COUNTIF(tafseel[],C7)>0,VLOOKUP(C7,tafseel[],3,FALSE),\"وجود ندارد\")","v":"بانک نمونه شعبه فلان"},null,"از تاریخ :"]
[null,"صفحه  :",null,null,null,null,"تا تاریخ :"]
[]
[{"$f":"\"\"","v":""},"ردیف ","شماره سند ","تاریخ سند ","شرح سند","بدهکار ","بستانکار ","مانده"]
[null,null,{"$f":"IF(COUNTIF(data!A$6:A$5000,B11)>0,VLOOKUP(B11,data!A$6:M$5000,2,FALSE),\"\")","v":""},{"$f":"IF(COUNTIF(data!A$6:A$5000,B11)>0,VLOOKUP(B11,data!A$6:M$5000,4,FALSE),\"\")","v":""},{"$f":"IF(COUNTIF(data!A$6:A$5000,B11)>0,VLOOKUP(B11,data!A$6:M$5000,11,FALSE),\"\")","v":""},{"$f":"IF(COUNTIF(data!A$6:A$5000,B11)>0,VLOOKUP(B11,data!A$6:M$5000,12,FALSE),\"\")","v":""},{"$f":"IF(COUNTIF(data!A$6:A$5000,B11)>0,VLOOKUP(B11,data!A$6:M$5000,13,FALSE),\"\")","v":""},{"$f":"IF(B11>0,SUM(F$10:F11)-SUM(G$10:G11),\"\")","v":""}]
[null,null,{"$f":"IF(COUNTIF(data!A$6:A$5000,B12)>0,VLOOKUP(B12,data!A$6:M$5000,2,FALSE),\"\")","v":""},{"$f":"IF(COUNTIF(data!A$6:A$5000,B12)>0,VLOOKUP(B12,data!A$6:M$5000,4,FALSE),\"\")","v":""},{"$f":"IF(COUNTIF(data!A$6:A$5000,B12)>0,VLOOKUP(B12,data!A$6:M$5000,11,FALSE),\"\")","v":""},{"$f":"IF(COUNTIF(data!A$6:A$5000,B12)>0,VLOOKUP(B12,data!A$6:M$5000,12,FALSE),\"\")","v":""},{"$f":"IF(COUNTIF(data!A$6:A$5000,B12)>0,VLOOKUP(B12,data!A$6:M$5000,13,FALSE),\"\")","v":""},{"$f":"IF(B12>0,SUM(F$10:F12)-SUM(G$10:G12),\"\")","v":""}]
[null,null,{"$f":"IF(COUNTIF(data!A$6:A$5000,B13)>0,VLOOKUP(B13,data!A$6:M$5000,2,FALSE),\"\")","v":""},{"$f":"IF(COUNTIF(data!A$6:A$5000,B13)>0,VLOOKUP(B13,data!A$6:M$5000,4,FALSE),\"\")","v":""},{"$f":"IF(COUNTIF(data!A$6:A$5000,B13)>0,VLOOKUP(B13,data!A$6:M$5000,11,FALSE),\"\")","v":""},{"$f":"IF(COUNTIF(data!A$6:A$5000,B13)>0,VLOOKUP(B13,data!A$6:M$5000,12,FALSE),\"\")","v":""},{"$f":"IF(COUNTIF(data!A$6:A$5000,B13)>0,VLOOKUP(B13,data!A$6:M$5000,13,FALSE),\"\")","v":""},{"$f":"IF(B13>0,SUM(F$10:F13)-SUM(G$10:G13),\"\")","v":""}]
[null,null,{"$f":"IF(COUNTIF(data!A$6:A$5000,B14)>0,VLOOKUP(B14,data!A$6:M$5000,2,FALSE),\"\")","v":""},{"$f":"IF(COUNTIF(data!A$6:A$5000,B14)>0,VLOOKUP(B14,data!A$6:M$5000,4,FALSE),\"\")","v":""},{"$f":"IF(COUNTIF(data!A$6:A$5000,B14)>0,VLOOKUP(B14,data!A$6:M$5000,11,FALSE),\"\")","v":""},{"$f":"IF(COUNTIF(data!A$6:A$5000,B14)>0,VLOOKUP(B14,data!A$6:M$5000,12,FALSE),\"\")","v":""},{"$f":"IF(COUNTIF(data!A$6:A$5000,B14)>0,VLOOKUP(B14,data!A$6:M$5000,13,FALSE),\"\")","v":""},{"$f":"IF(B14>0,SUM(F$10:F14)-SUM(G$10:G14),\"\")","v":""}]
[null,null,{"$f":"IF(COUNTIF(data!A$6:A$5000,B15)>0,VLOOKUP(B15,data!A$6:M$5000,2,FALSE),\"\")","v":""},{"$f":"IF(COUNTIF(data!A$6:A$5000,B15)>0,VLOOKUP(B15,data!A$6:M$5000,4,FALSE),\"\")","v":""},{"$f":"IF(COUNTIF(data!A$6:A$5000,B15)>0,VLOOKUP(B15,data!A$6:M$5000,11,FALSE),\"\")","v":""},{"$f":"IF(COUNTIF(data!A$6:A$5000,B15)>0,VLOOKUP(B15,data!A$6:M$5000,12,FALSE),\"\")","v":""},{"$f":"IF(COUNTIF(data!A$6:A$5000,B15)>0,VLOOKUP(B15,data!A$6:M$5000,13,FALSE),\"\")","v":""},{"$f":"IF(B15>0,SUM(F$10:F15)-SUM(G$10:G15),\"\")","v":""}]
[null,null,{"$f":"IF(COUNTIF(data!A$6:A$5000,B16)>0,VLOOKUP(B16,data!A$6:M$5000,2,FALSE),\"\")","v":""},{"$f":"IF(COUNTIF(data!A$6:A$5000,B16)>0,VLOOKUP(B16,data!A$6:M$5000,4,FALSE),\"\")","v":""},{"$f":"IF(COUNTIF(data!A$6:A$5000,B16)>0,VLOOKUP(B16,data!A$6:M$5000,11,FALSE),\"\")","v":""},{"$f":"IF(COUNTIF(data!A$6:A$5000,B16)>0,VLOOKUP(B16,data!A$6:M$5000,12,FALSE),\"\")","v":""},{"$f":"IF(COUNTIF(data!A$6:A$5000,B16)>0,VLOOKUP(B16,data!A$6:M$5000,13,FALSE),\"\")","v":""},{"$f":"IF(B16>0,SUM(F$10:F16)-SUM(G$10:G16),\"\")","v":""}]
[null,null,{"$f":"IF(COUNTIF(data!A$6:A$5000,B17)>0,VLOOKUP(B17,data!A$6:M$5000,2,FALSE),\"\")","v":""},{"$f":"IF(COUNTIF(data!A$6:A$5000,B17)>0,VLOOKUP(B17,data!A$6:M$5000,4,FALSE),\"\")","v":""},{"$f":"IF(COUNTIF(data!A$6:A$5000,B17)>0,VLOOKUP(B17,data!A$6:M$5000,11,FALSE),\"\")","v":""},{"$f":"IF(COUNTIF(data!A$6:A$5000,B17)>0,VLOOKUP(B17,data!A$6:M$5000,12,FALSE),\"\")","v":""},{"$f":"IF(COUNTIF(data!A$6:A$5000,B17)>0,VLOOKUP(B17,data!A$6:M$5000,13,FALSE),\"\")","v":""},{"$f":"IF(B17>0,SUM(F$10:F17)-SUM(G$10:G17),\"\")","v":""}]
[null,null,{"$f":"IF(COUNTIF(data!A$6:A$5000,B18)>0,VLOOKUP(B18,data!A$6:M$5000,2,FALSE),\"\")","v":""},{"$f":"IF(COUNTIF(data!A$6:A$5000,B18)>0,VLOOKUP(B18,data!A$6:M$5000,4,FALSE),\"\")","v":""},{"$f":"IF(COUNTIF(data!A$6:A$5000,B18)>0,VLOOKUP(B18,data!A$6:M$5000,11,FALSE),\"\")","v":""},{"$f":"IF(COUNTIF(data!A$6:A$5000,B18)>0,VLOOKUP(B18,data!A$6:M$5000,12,FALSE),\"\")","v":""},{"$f":"IF(COUNTIF(data!A$6:A$5000,B18)>0,VLOOKUP(B18,data!A$6:M$5000,13,FALSE),\"\")","v":""},{"$f":"IF(B18>0,SUM(F$10:F18)-SUM(G$10:G18),\"\")","v":""}]
[null,null,{"$f":"IF(COUNTIF(data!A$6:A$5000,B19)>0,VLOOKUP(B19,data!A$6:M$5000,2,FALSE),\"\")","v":""},{"$f":"IF(COUNTIF(data!A$6:A$5000,B19)>0,VLOOKUP(B19,data!A$6:M$5000,4,FALSE),\"\")","v":""},{"$f":"IF(COUNTIF(data!A$6:A$5000,B19)>0,VLOOKUP(B19,data!A$6:M$5000,11,FALSE),\"\")","v":""},{"$f":"IF(COUNTIF(data!A$6:A$5000,B19)>0,VLOOKUP(B19,data!A$6:M$5000,12,FALSE),\"\")","v":""},{"$f":"IF(COUNTIF(data!A$6:A$5000,B19)>0,VLOOKUP(B19,data!A$6:M$5000,13,FALSE),\"\")","v":""},{"$f":"IF(B19>0,SUM(F$10:F19)-SUM(G$10:G19),\"\")","v":""}]
[null,null,{"$f":"IF(COUNTIF(data!A$6:A$5000,B20)>0,VLOOKUP(B20,data!A$6:M$5000,2,FALSE),\"\")","v":""},{"$f":"IF(COUNTIF(data!A$6:A$5000,B20)>0,VLOOKUP(B20,data!A$6:M$5000,4,FALSE),\"\")","v":""},{"$f":"IF(COUNTIF(data!A$6:A$5000,B20)>0,VLOOKUP(B20,data!A$6:M$5000,11,FALSE),\"\")","v":""},{"$f":"IF(COUNTIF(data!A$6:A$5000,B20)>0,VLOOKUP(B20,data!A$6:M$5000,12,FALSE),\"\")","v":""},{"$f":"IF(COUNTIF(data!A$6:A$5000,B20)>0,VLOOKUP(B20,data!A$6:M$5000,13,FALSE),\"\")","v":""},{"$f":"IF(B20>0,SUM(F$10:F20)-SUM(G$10:G20),\"\")","v":""}]
[null,null,{"$f":"IF(COUNTIF(data!A$6:A$5000,B21)>0,VLOOKUP(B21,data!A$6:M$5000,2,FALSE),\"\")","v":""},{"$f":"IF(COUNTIF(data!A$6:A$5000,B21)>0,VLOOKUP(B21,data!A$6:M$5000,4,FALSE),\"\")","v":""},{"$f":"IF(COUNTIF(data!A$6:A$5000,B21)>0,VLOOKUP(B21,data!A$6:M$5000,11,FALSE),\"\")","v":""},{"$f":"IF(COUNTIF(data!A$6:A$5000,B21)>0,VLOOKUP(B21,data!A$6:M$5000,12,FALSE),\"\")","v":""},{"$f":"IF(COUNTIF(data!A$6:A$5000,B21)>0,VLOOKUP(B21,data!A$6:M$5000,13,FALSE),\"\")","v":""},{"$f":"IF(B21>0,SUM(F$10:F21)-SUM(G$10:G21),\"\")","v":""}]
[null,null,{"$f":"IF(COUNTIF(data!A$6:A$5000,B22)>0,VLOOKUP(B22,data!A$6:M$5000,2,FALSE),\"\")","v":""},{"$f":"IF(COUNTIF(data!A$6:A$5000,B22)>0,VLOOKUP(B22,data!A$6:M$5000,4,FALSE),\"\")","v":""},{"$f":"IF(COUNTIF(data!A$6:A$5000,B22)>0,VLOOKUP(B22,data!A$6:M$5000,11,FALSE),\"\")","v":""},{"$f":"IF(COUNTIF(data!A$6:A$5000,B22)>0,VLOOKUP(B22,data!A$6:M$5000,12,FALSE),\"\")","v":""},{"$f":"IF(COUNTIF(data!A$6:A$5000,B22)>0,VLOOKUP(B22,data!A$6:M$5000,13,FALSE),\"\")","v":""},{"$f":"IF(B22>0,SUM(F$10:F22)-SUM(G$10:G22),\"\")","v":""}]
[null,null,{"$f":"IF(COUNTIF(data!A$6:A$5000,B23)>0,VLOOKUP(B23,data!A$6:M$5000,2,FALSE),\"\")","v":""},{"$f":"IF(COUNTIF(data!A$6:A$5000,B23)>0,VLOOKUP(B23,data!A$6:M$5000,4,FALSE),\"\")","v":""},{"$f":"IF(COUNTIF(data!A$6:A$5000,B23)>0,VLOOKUP(B23,data!A$6:M$5000,11,FALSE),\"\")","v":""},{"$f":"IF(COUNTIF(data!A$6:A$5000,B23)>0,VLOOKUP(B23,data!A$6:M$5000,12,FALSE),\"\")","v":""},{"$f":"IF(COUNTIF(data!A$6:A$5000,B23)>0,VLOOKUP(B23,data!A$6:M$5000,13,FALSE),\"\")","v":""},{"$f":"IF(B23>0,SUM(F$10:F23)-SUM(G$10:G23),\"\")","v":""}]
[null,null,{"$f":"IF(COUNTIF(data!A$6:A$5000,B24)>0,VLOOKUP(B24,data!A$6:M$5000,2,FALSE),\"\")","v":""},{"$f":"IF(COUNTIF(data!A$6:A$5000,B24)>0,VLOOKUP(B24,data!A$6:M$5000,4,FALSE),\"\")","v":""},{"$f":"IF(COUNTIF(data!A$6:A$5000,B24)>0,VLOOKUP(B24,data!A$6:M$5000,11,FALSE),\"\")","v":""},{"$f":"IF(COUNTIF(data!A$6:A$5000,B24)>0,VLOOKUP(B24,data!A$6:M$5000,12,FALSE),\"\")","v":""},{"$f":"IF(COUNTIF(data!A$6:A$5000,B24)>0,VLOOKUP(B24,data!A$6:M$5000,13,FALSE),\"\")","v":""},{"$f":"IF(B24>0,SUM(F$10:F24)-SUM(G$10:G24),\"\")","v":""}]
[null,null,{"$f":"IF(COUNTIF(data!A$6:A$5000,B25)>0,VLOOKUP(B25,data!A$6:M$5000,2,FALSE),\"\")","v":""},{"$f":"IF(COUNTIF(data!A$6:A$5000,B25)>0,VLOOKUP(B25,data!A$6:M$5000,4,FALSE),\"\")","v":""},{"$f":"IF(COUNTIF(data!A$6:A$5000,B25)>0,VLOOKUP(B25,data!A$6:M$5000,11,FALSE),\"\")","v":""},{"$f":"IF(COUNTIF(data!A$6:A$5000,B25)>0,VLOOKUP(B25,data!A$6:M$5000,12,FALSE),\"\")","v":""},{"$f":"IF(COUNTIF(data!A$6:A$5000,B25)>0,VLOOKUP(B25,data!A$6:M$5000,13,FALSE),\"\")","v":""},{"$f":"IF(B25>0,SUM(F$10:F25)-SUM(G$10:G25),\"\")","v":""}]
[null,null,{"$f":"IF(COUNTIF(data!A$6:A$5000,B26)>0,VLOOKUP(B26,data!A$6:M$5000,2,FALSE),\"\")","v":""},{"$f":"IF(COUNTIF(data!A$6:A$5000,B26)>0,VLOOKUP(B26,data!A$6:M$5000,4,FALSE),\"\")","v":""},{"$f":"IF(COUNTIF(data!A$6:A$5000,B26)>0,VLOOKUP(B26,data!A$6:M$5000,11,FALSE),\"\")","v":""},{"$f":"IF(COUNTIF(data!A$6:A$5000,B26)>0,VLOOKUP(B26,data!A$6:M$5000,12,FALSE),\"\")","v":""},{"$f":"IF(COUNTIF(data!A$6:A$5000,B26)>0,VLOOKUP(B26,data!A$6:M$5000,13,FALSE),\"\")","v":""},{"$f":"IF(B26>0,SUM(F$10:F26)-SUM(G$10:G26),\"\")","v":""}]
[null,null,{"$f":"IF(COUNTIF(data!A$6:A$5000,B27)>0,VLOOKUP(B27,data!A$6:M$5000,2,FALSE),\"\")","v":""},{"$f":"IF(COUNTIF(data!A$6:A$5000,B27)>0,VLOOKUP(B27,data!A$6:M$5000,4,FALSE),\"\")","v":""},{"$f":"IF(COUNTIF(data!A$6:A$5000,B27)>0,VLOOKUP(B27,data!A$6:M$5000,11,FALSE),\"\")","v":""},{"$f":"IF(COUNTIF(data!A$6:A$5000,B27)>0,VLOOKUP(B27,data!A$6:M$5000,12,FALSE),\"\")","v":""},{"$f":"IF(COUNTIF(data!A$6:A$5000,B27)>0,VLOOKUP(B27,data!A$6:M$5000,13,FALSE),\"\")","v":""},{"$f":"IF(B27>0,SUM(F$10:F27)-SUM(G$10:G27),\"\")","v":""}]
[null,null,{"$f":"IF(COUNTIF(data!A$6:A$5000,B28)>0,VLOOKUP(B28,data!A$6:M$5000,2,FALSE),\"\")","v":""},{"$f":"IF(COUNTIF(data!A$6:A$5000,B28)>0,VLOOKUP(B28,data!A$6:M$5000,4,FALSE),\"\")","v":""},{"$f":"IF(COUNTIF(data!A$6:A$5000,B28)>0,VLOOKUP(B28,data!A$6:M$5000,11,FALSE),\"\")","v":""},{"$f":"IF(COUNTIF(data!A$6:A$5000,B28)>0,VLOOKUP(B28,data!A$6:M$5000,12,FALSE),\"\")","v":""},{"$f":"IF(COUNTIF(data!A$6:A$5000,B28)>0,VLOOKUP(B28,data!A$6:M$5000,13,FALSE),\"\")","v":""},{"$f":"IF(B28>0,SUM(F$10:F28)-SUM(G$10:G28),\"\")","v":""}]
[null,null,{"$f":"IF(COUNTIF(data!A$6:A$5000,B29)>0,VLOOKUP(B29,data!A$6:M$5000,2,FALSE),\"\")","v":""},{"$f":"IF(COUNTIF(data!A$6:A$5000,B29)>0,VLOOKUP(B29,data!A$6:M$5000,4,FALSE),\"\")","v":""},{"$f":"IF(COUNTIF(data!A$6:A$5000,B29)>0,VLOOKUP(B29,data!A$6:M$5000,11,FALSE),\"\")","v":""},{"$f":"IF(COUNTIF(data!A$6:A$5000,B29)>0,VLOOKUP(B29,data!A$6:M$5000,12,FALSE),\"\")","v":""},{"$f":"IF(COUNTIF(data!A$6:A$5000,B29)>0,VLOOKUP(B29,data!A$6:M$5000,13,FALSE),\"\")","v":""},{"$f":"IF(B29>0,SUM(F$10:F29)-SUM(G$10:G29),\"\")","v":""}]
[null,null,{"$f":"IF(COUNTIF(data!A$6:A$5000,B30)>0,VLOOKUP(B30,data!A$6:M$5000,2,FALSE),\"\")","v":""},{"$f":"IF(COUNTIF(data!A$6:A$5000,B30)>0,VLOOKUP(B30,data!A$6:M$5000,4,FALSE),\"\")","v":""},{"$f":"IF(COUNTIF(data!A$6:A$5000,B30)>0,VLOOKUP(B30,data!A$6:M$5000,11,FALSE),\"\")","v":""},{"$f":"IF(COUNTIF(data!A$6:A$5000,B30)>0,VLOOKUP(B30,data!A$6:M$5000,12,FALSE),\"\")","v":""},{"$f":"IF(COUNTIF(data!A$6:A$5000,B30)>0,VLOOKUP(B30,data!A$6:M$5000,13,FALSE),\"\")","v":""},{"$f":"IF(B30>0,SUM(F$10:F30)-SUM(G$10:G30),\"\")","v":""}]
[null,null,{"$f":"IF(COUNTIF(data!A$6:A$5000,B31)>0,VLOOKUP(B31,data!A$6:M$5000,2,FALSE),\"\")","v":""},{"$f":"IF(COUNTIF(data!A$6:A$5000,B31)>0,VLOOKUP(B31,data!A$6:M$5000,4,FALSE),\"\")","v":""},{"$f":"IF(COUNTIF(data!A$6:A$5000,B31)>0,VLOOKUP(B31,data!A$6:M$5000,11,FALSE),\"\")","v":""},{"$f":"IF(COUNTIF(data!A$6:A$5000,B31)>0,VLOOKUP(B31,data!A$6:M$5000,12,FALSE),\"\")","v":""},{"$f":"IF(COUNTIF(data!A$6:A$5000,B31)>0,VLOOKUP(B31,data!A$6:M$5000,13,FALSE),\"\")","v":""},{"$f":"IF(B31>0,SUM(F$10:F31)-SUM(G$10:G31),\"\")","v":""}]
[null,null,{"$f":"IF(COUNTIF(data!A$6:A$5000,B32)>0,VLOOKUP(B32,data!A$6:M$5000,2,FALSE),\"\")","v":""},{"$f":"IF(COUNTIF(data!A$6:A$5000,B32)>0,VLOOKUP(B32,data!A$6:M$5000,4,FALSE),\"\")","v":""},{"$f":"IF(COUNTIF(data!A$6:A$5000,B32)>0,VLOOKUP(B32,data!A$6:M$5000,11,FALSE),\"\")","v":""},{"$f":"IF(COUNTIF(data!A$6:A$5000,B32)>0,VLOOKUP(B32,data!A$6:M$5000,12,FALSE),\"\")","v":""},{"$f":"IF(COUNTIF(data!A$6:A$5000,B32)>0,VLOOKUP(B32,data!A$6:M$5000,13,FALSE),\"\")","v":""},{"$f":"IF(B32>0,SUM(F$10:F32)-SUM(G$10:G32),\"\")","v":""}]
[null,null,{"$f":"IF(COUNTIF(data!A$6:A$5000,B33)>0,VLOOKUP(B33,data!A$6:M$5000,2,FALSE),\"\")","v":""},{"$f":"IF(COUNTIF(data!A$6:A$5000,B33)>0,VLOOKUP(B33,data!A$6:M$5000,4,FALSE),\"\")","v":""},{"$f":"IF(COUNTIF(data!A$6:A$5000,B33)>0,VLOOKUP(B33,data!A$6:M$5000,11,FALSE),\"\")","v":""},{"$f":"IF(COUNTIF(data!A$6:A$5000,B33)>0,VLOOKUP(B33,data!A$6:M$5000,12,FALSE),\"\")","v":""},{"$f":"IF(COUNTIF(data!A$6:A$5000,B33)>0,VLOOKUP(B33,data!A$6:M$5000,13,FALSE),\"\")","v":""},{"$f":"IF(B33>0,SUM(F$10:F33)-SUM(G$10:G33),\"\")","v":""}]
[null,null,{"$f":"IF(COUNTIF(data!A$6:A$5000,B34)>0,VLOOKUP(B34,data!A$6:M$5000,2,FALSE),\"\")","v":""},{"$f":"IF(COUNTIF(data!A$6:A$5000,B34)>0,VLOOKUP(B34,data!A$6:M$5000,4,FALSE),\"\")","v":""},{"$f":"IF(COUNTIF(data!A$6:A$5000,B34)>0,VLOOKUP(B34,data!A$6:M$5000,11,FALSE),\"\")","v":""},{"$f":"IF(COUNTIF(data!A$6:A$5000,B34)>0,VLOOKUP(B34,data!A$6:M$5000,12,FALSE),\"\")","v":""},{"$f":"IF(COUNTIF(data!A$6:A$5000,B34)>0,VLOOKUP(B34,data!A$6:M$5000,13,FALSE),\"\")","v":""},{"$f":"IF(B34>0,SUM(F$10:F34)-SUM(G$10:G34),\"\")","v":""}]
[null,null,{"$f":"IF(COUNTIF(data!A$6:A$5000,B35)>0,VLOOKUP(B35,data!A$6:M$5000,2,FALSE),\"\")","v":""},{"$f":"IF(COUNTIF(data!A$6:A$5000,B35)>0,VLOOKUP(B35,data!A$6:M$5000,4,FALSE),\"\")","v":""},{"$f":"IF(COUNTIF(data!A$6:A$5000,B35)>0,VLOOKUP(B35,data!A$6:M$5000,11,FALSE),\"\")","v":""},{"$f":"IF(COUNTIF(data!A$6:A$5000,B35)>0,VLOOKUP(B35,data!A$6:M$5000,12,FALSE),\"\")","v":""},{"$f":"IF(COUNTIF(data!A$6:A$5000,B35)>0,VLOOKUP(B35,data!A$6:M$5000,13,FALSE),\"\")","v":""},{"$f":"IF(B35>0,SUM(F$10:F35)-SUM(G$10:G35),\"\")","v":""}]
[null,null,{"$f":"IF(COUNTIF(data!A$6:A$5000,B36)>0,VLOOKUP(B36,data!A$6:M$5000,2,FALSE),\"\")","v":""},{"$f":"IF(COUNTIF(data!A$6:A$5000,B36)>0,VLOOKUP(B36,data!A$6:M$5000,4,FALSE),\"\")","v":""},{"$f":"IF(COUNTIF(data!A$6:A$5000,B36)>0,VLOOKUP(B36,data!A$6:M$5000,11,FALSE),\"\")","v":""},{"$f":"IF(COUNTIF(data!A$6:A$5000,B36)>0,VLOOKUP(B36,data!A$6:M$5000,12,FALSE),\"\")","v":""},{"$f":"IF(COUNTIF(data!A$6:A$5000,B36)>0,VLOOKUP(B36,data!A$6:M$5000,13,FALSE),\"\")","v":""},{"$f":"IF(B36>0,SUM(F$10:F36)-SUM(G$10:G36),\"\")","v":""}]
[null,null,{"$f":"IF(COUNTIF(data!A$6:A$5000,B37)>0,VLOOKUP(B37,data!A$6:M$5000,2,FALSE),\"\")","v":""},{"$f":"IF(COUNTIF(data!A$6:A$5000,B37)>0,VLOOKUP(B37,data!A$6:M$5000,4,FALSE),\"\")","v":""},{"$f":"IF(COUNTIF(data!A$6:A$5000,B37)>0,VLOOKUP(B37,data!A$6:M$5000,11,FALSE),\"\")","v":""},{"$f":"IF(COUNTIF(data!A$6:A$5000,B37)>0,VLOOKUP(B37,data!A$6:M$5000,12,FALSE),\"\")","v":""},{"$f":"IF(COUNTIF(data!A$6:A$5000,B37)>0,VLOOKUP(B37,data!A$6:M$5000,13,FALSE),\"\")","v":""},{"$f":"IF(B37>0,SUM(F$10:F37)-SUM(G$10:G37),\"\")","v":""}]
[null,null,{"$f":"IF(COUNTIF(data!A$6:A$5000,B38)>0,VLOOKUP(B38,data!A$6:M$5000,2,FALSE),\"\")","v":""},{"$f":"IF(COUNTIF(data!A$6:A$5000,B38)>0,VLOOKUP(B38,data!A$6:M$5000,4,FALSE),\"\")","v":""},{"$f":"IF(COUNTIF(data!A$6:A$5000,B38)>0,VLOOKUP(B38,data!A$6:M$5000,11,FALSE),\"\")","v":""},{"$f":"IF(COUNTIF(data!A$6:A$5000,B38)>0,VLOOKUP(B38,data!A$6:M$5000,12,FALSE),\"\")","v":""},{"$f":"IF(COUNTIF(data!A$6:A$5000,B38)>0,VLOOKUP(B38,data!A$6:M$5000,13,FALSE),\"\")","v":""},{"$f":"IF(B38>0,SUM(F$10:F38)-SUM(G$10:G38),\"\")","v":""}]
[null,null,{"$f":"IF(COUNTIF(data!A$6:A$5000,B39)>0,VLOOKUP(B39,data!A$6:M$5000,2,FALSE),\"\")","v":""},{"$f":"IF(COUNTIF(data!A$6:A$5000,B39)>0,VLOOKUP(B39,data!A$6:M$5000,4,FALSE),\"\")","v":""},{"$f":"IF(COUNTIF(data!A$6:A$5000,B39)>0,VLOOKUP(B39,data!A$6:M$5000,11,FALSE),\"\")","v":""},{"$f":"IF(COUNTIF(data!A$6:A$5000,B39)>0,VLOOKUP(B39,data!A$6:M$5000,12,FALSE),\"\")","v":""},{"$f":"IF(COUNTIF(data!A$6:A$5000,B39)>0,VLOOKUP(B39,data!A$6:M$5000,13,FALSE),\"\")","v":""},{"$f":"IF(B39>0,SUM(F$10:F39)-SUM(G$10:G39),\"\")","v":""}]
[null,null,{"$f":"IF(COUNTIF(data!A$6:A$5000,B40)>0,VLOOKUP(B40,data!A$6:M$5000,2,FALSE),\"\")","v":""},{"$f":"IF(COUNTIF(data!A$6:A$5000,B40)>0,VLOOKUP(B40,data!A$6:M$5000,4,FALSE),\"\")","v":""},{"$f":"IF(COUNTIF(data!A$6:A$5000,B40)>0,VLOOKUP(B40,data!A$6:M$5000,11,FALSE),\"\")","v":""},{"$f":"IF(COUNTIF(data!A$6:A$5000,B40)>0,VLOOKUP(B40,data!A$6:M$5000,12,FALSE),\"\")","v":""},{"$f":"IF(COUNTIF(data!A$6:A$5000,B40)>0,VLOOKUP(B40,data!A$6:M$5000,13,FALSE),\"\")","v":""},{"$f":"IF(B40>0,SUM(F$10:F40)-SUM(G$10:G40),\"\")","v":""}]
[null,null,{"$f":"IF(COUNTIF(data!A$6:A$5000,B41)>0,VLOOKUP(B41,data!A$6:M$5000,2,FALSE),\"\")","v":""},{"$f":"IF(COUNTIF(data!A$6:A$5000,B41)>0,VLOOKUP(B41,data!A$6:M$5000,4,FALSE),\"\")","v":""},{"$f":"IF(COUNTIF(data!A$6:A$5000,B41)>0,VLOOKUP(B41,data!A$6:M$5000,11,FALSE),\"\")","v":""},{"$f":"IF(COUNTIF(data!A$6:A$5000,B41)>0,VLOOKUP(B41,data!A$6:M$5000,12,FALSE),\"\")","v":""},{"$f":"IF(COUNTIF(data!A$6:A$5000,B41)>0,VLOOKUP(B41,data!A$6:M$5000,13,FALSE),\"\")","v":""},{"$f":"IF(B41>0,SUM(F$10:F41)-SUM(G$10:G41),\"\")","v":""}]
[null,null,{"$f":"IF(COUNTIF(data!A$6:A$5000,B42)>0,VLOOKUP(B42,data!A$6:M$5000,2,FALSE),\"\")","v":""},{"$f":"IF(COUNTIF(data!A$6:A$5000,B42)>0,VLOOKUP(B42,data!A$6:M$5000,4,FALSE),\"\")","v":""},{"$f":"IF(COUNTIF(data!A$6:A$5000,B42)>0,VLOOKUP(B42,data!A$6:M$5000,11,FALSE),\"\")","v":""},{"$f":"IF(COUNTIF(data!A$6:A$5000,B42)>0,VLOOKUP(B42,data!A$6:M$5000,12,FALSE),\"\")","v":""},{"$f":"IF(COUNTIF(data!A$6:A$5000,B42)>0,VLOOKUP(B42,data!A$6:M$5000,13,FALSE),\"\")","v":""},{"$f":"IF(B42>0,SUM(F$10:F42)-SUM(G$10:G42),\"\")","v":""}]
[null,null,{"$f":"IF(COUNTIF(data!A$6:A$5000,B43)>0,VLOOKUP(B43,data!A$6:M$5000,2,FALSE),\"\")","v":""},{"$f":"IF(COUNTIF(data!A$6:A$5000,B43)>0,VLOOKUP(B43,data!A$6:M$5000,4,FALSE),\"\")","v":""},{"$f":"IF(COUNTIF(data!A$6:A$5000,B43)>0,VLOOKUP(B43,data!A$6:M$5000,11,FALSE),\"\")","v":""},{"$f":"IF(COUNTIF(data!A$6:A$5000,B43)>0,VLOOKUP(B43,data!A$6:M$5000,12,FALSE),\"\")","v":""},{"$f":"IF(COUNTIF(data!A$6:A$5000,B43)>0,VLOOKUP(B43,data!A$6:M$5000,13,FALSE),\"\")","v":""},{"$f":"IF(B43>0,SUM(F$10:F43)-SUM(G$10:G43),\"\")","v":""}]
[null,null,{"$f":"IF(COUNTIF(data!A$6:A$5000,B44)>0,VLOOKUP(B44,data!A$6:M$5000,2,FALSE),\"\")","v":""},{"$f":"IF(COUNTIF(data!A$6:A$5000,B44)>0,VLOOKUP(B44,data!A$6:M$5000,4,FALSE),\"\")","v":""},{"$f":"IF(COUNTIF(data!A$6:A$5000,B44)>0,VLOOKUP(B44,data!A$6:M$5000,11,FALSE),\"\")","v":""},{"$f":"IF(COUNTIF(data!A$6:A$5000,B44)>0,VLOOKUP(B44,data!A$6:M$5000,12,FALSE),\"\")","v":""},{"$f":"IF(COUNTIF(data!A$6:A$5000,B44)>0,VLOOKUP(B44,data!A$6:M$5000,13,FALSE),\"\")","v":""},{"$f":"IF(B44>0,SUM(F$10:F44)-SUM(G$10:G44),\"\")","v":""}]
[null,null,{"$f":"IF(COUNTIF(data!A$6:A$5000,B45)>0,VLOOKUP(B45,data!A$6:M$5000,2,FALSE),\"\")","v":""},{"$f":"IF(COUNTIF(data!A$6:A$5000,B45)>0,VLOOKUP(B45,data!A$6:M$5000,4,FALSE),\"\")","v":""},{"$f":"IF(COUNTIF(data!A$6:A$5000,B45)>0,VLOOKUP(B45,data!A$6:M$5000,11,FALSE),\"\")","v":""},{"$f":"IF(COUNTIF(data!A$6:A$5000,B45)>0,VLOOKUP(B45,data!A$6:M$5000,12,FALSE),\"\")","v":""},{"$f":"IF(COUNTIF(data!A$6:A$5000,B45)>0,VLOOKUP(B45,data!A$6:M$5000,13,FALSE),\"\")","v":""},{"$f":"IF(B45>0,SUM(F$10:F45)-SUM(G$10:G45),\"\")","v":""}]
[null,null,{"$f":"IF(COUNTIF(data!A$6:A$5000,B46)>0,VLOOKUP(B46,data!A$6:M$5000,2,FALSE),\"\")","v":""},{"$f":"IF(COUNTIF(data!A$6:A$5000,B46)>0,VLOOKUP(B46,data!A$6:M$5000,4,FALSE),\"\")","v":""},{"$f":"IF(COUNTIF(data!A$6:A$5000,B46)>0,VLOOKUP(B46,data!A$6:M$5000,11,FALSE),\"\")","v":""},{"$f":"IF(COUNTIF(data!A$6:A$5000,B46)>0,VLOOKUP(B46,data!A$6:M$5000,12,FALSE),\"\")","v":""},{"$f":"IF(COUNTIF(data!A$6:A$5000,B46)>0,VLOOKUP(B46,data!A$6:M$5000,13,FALSE),\"\")","v":""},{"$f":"IF(B46>0,SUM(F$10:F46)-SUM(G$10:G46),\"\")","v":""}]
[null,null,{"$f":"IF(COUNTIF(data!A$6:A$5000,B47)>0,VLOOKUP(B47,data!A$6:M$5000,2,FALSE),\"\")","v":""},{"$f":"IF(COUNTIF(data!A$6:A$5000,B47)>0,VLOOKUP(B47,data!A$6:M$5000,4,FALSE),\"\")","v":""},{"$f":"IF(COUNTIF(data!A$6:A$5000,B47)>0,VLOOKUP(B47,data!A$6:M$5000,11,FALSE),\"\")","v":""},{"$f":"IF(COUNTIF(data!A$6:A$5000,B47)>0,VLOOKUP(B47,data!A$6:M$5000,12,FALSE),\"\")","v":""},{"$f":"IF(COUNTIF(data!A$6:A$5000,B47)>0,VLOOKUP(B47,data!A$6:M$5000,13,FALSE),\"\")","v":""},{"$f":"IF(B47>0,SUM(F$10:F47)-SUM(G$10:G47),\"\")","v":""}]
[null,null,{"$f":"IF(COUNTIF(data!A$6:A$5000,B48)>0,VLOOKUP(B48,data!A$6:M$5000,2,FALSE),\"\")","v":""},{"$f":"IF(COUNTIF(data!A$6:A$5000,B48)>0,VLOOKUP(B48,data!A$6:M$5000,4,FALSE),\"\")","v":""},{"$f":"IF(COUNTIF(data!A$6:A$5000,B48)>0,VLOOKUP(B48,data!A$6:M$5000,11,FALSE),\"\")","v":""},{"$f":"IF(COUNTIF(data!A$6:A$5000,B48)>0,VLOOKUP(B48,data!A$6:M$5000,12,FALSE),\"\")","v":""},{"$f":"IF(COUNTIF(data!A$6:A$5000,B48)>0,VLOOKUP(B48,data!A$6:M$5000,13,FALSE),\"\")","v":""},{"$f":"IF(B48>0,SUM(F$10:F48)-SUM(G$10:G48),\"\")","v":""}]
[null,null,{"$f":"IF(COUNTIF(data!A$6:A$5000,B49)>0,VLOOKUP(B49,data!A$6:M$5000,2,FALSE),\"\")","v":""},{"$f":"IF(COUNTIF(data!A$6:A$5000,B49)>0,VLOOKUP(B49,data!A$6:M$5000,4,FALSE),\"\")","v":""},{"$f":"IF(COUNTIF(data!A$6:A$5000,B49)>0,VLOOKUP(B49,data!A$6:M$5000,11,FALSE),\"\")","v":""},{"$f":"IF(COUNTIF(data!A$6:A$5000,B49)>0,VLOOKUP(B49,data!A$6:M$5000,12,FALSE),\"\")","v":""},{"$f":"IF(COUNTIF(data!A$6:A$5000,B49)>0,VLOOKUP(B49,data!A$6:M$5000,13,FALSE),\"\")","v":""},{"$f":"IF(B49>0,SUM(F$10:F49)-SUM(G$10:G49),\"\")","v":""}]
[null,null,{"$f":"IF(COUNTIF(data!A$6:A$5000,B50)>0,VLOOKUP(B50,data!A$6:M$5000,2,FALSE),\"\")","v":""},{"$f":"IF(COUNTIF(data!A$6:A$5000,B50)>0,VLOOKUP(B50,data!A$6:M$5000,4,FALSE),\"\")","v":""},{"$f":"IF(COUNTIF(data!A$6:A$5000,B50)>0,VLOOKUP(B50,data!A$6:M$5000,11,FALSE),\"\")","v":""},{"$f":"IF(COUNTIF(data!A$6:A$5000,B50)>0,VLOOKUP(B50,data!A$6:M$5000,12,FALSE),\"\")","v":""},{"$f":"IF(COUNTIF(data!A$6:A$5000,B50)>0,VLOOKUP(B50,data!A$6:M$5000,13,FALSE),\"\")","v":""},{"$f":"IF(B50>0,SUM(F$10:F50)-SUM(G$10:G50),\"\")","v":""}]
[null,null,{"$f":"IF(COUNTIF(data!A$6:A$5000,B51)>0,VLOOKUP(B51,data!A$6:M$5000,2,FALSE),\"\")","v":""},{"$f":"IF(COUNTIF(data!A$6:A$5000,B51)>0,VLOOKUP(B51,data!A$6:M$5000,4,FALSE),\"\")","v":""},{"$f":"IF(COUNTIF(data!A$6:A$5000,B51)>0,VLOOKUP(B51,data!A$6:M$5000,11,FALSE),\"\")","v":""},{"$f":"IF(COUNTIF(data!A$6:A$5000,B51)>0,VLOOKUP(B51,data!A$6:M$5000,12,FALSE),\"\")","v":""},{"$f":"IF(COUNTIF(data!A$6:A$5000,B51)>0,VLOOKUP(B51,data!A$6:M$5000,13,FALSE),\"\")","v":""},{"$f":"IF(B51>0,SUM(F$10:F51)-SUM(G$10:G51),\"\")","v":""}]
[null,null,{"$f":"IF(COUNTIF(data!A$6:A$5000,B52)>0,VLOOKUP(B52,data!A$6:M$5000,2,FALSE),\"\")","v":""},{"$f":"IF(COUNTIF(data!A$6:A$5000,B52)>0,VLOOKUP(B52,data!A$6:M$5000,4,FALSE),\"\")","v":""},{"$f":"IF(COUNTIF(data!A$6:A$5000,B52)>0,VLOOKUP(B52,data!A$6:M$5000,11,FALSE),\"\")","v":""},{"$f":"IF(COUNTIF(data!A$6:A$5000,B52)>0,VLOOKUP(B52,data!A$6:M$5000,12,FALSE),\"\")","v":""},{"$f":"IF(COUNTIF(data!A$6:A$5000,B52)>0,VLOOKUP(B52,data!A$6:M$5000,13,FALSE),\"\")","v":""},{"$f":"IF(B52>0,SUM(F$10:F52)-SUM(G$10:G52),\"\")","v":""}]
[null,null,{"$f":"IF(COUNTIF(data!A$6:A$5000,B53)>0,VLOOKUP(B53,data!A$6:M$5000,2,FALSE),\"\")","v":""},{"$f":"IF(COUNTIF(data!A$6:A$5000,B53)>0,VLOOKUP(B53,data!A$6:M$5000,4,FALSE),\"\")","v":""},{"$f":"IF(COUNTIF(data!A$6:A$5000,B53)>0,VLOOKUP(B53,data!A$6:M$5000,11,FALSE),\"\")","v":""},{"$f":"IF(COUNTIF(data!A$6:A$5000,B53)>0,VLOOKUP(B53,data!A$6:M$5000,12,FALSE),\"\")","v":""},{"$f":"IF(COUNTIF(data!A$6:A$5000,B53)>0,VLOOKUP(B53,data!A$6:M$5000,13,FALSE),\"\")","v":""},{"$f":"IF(B53>0,SUM(F$10:F53)-SUM(G$10:G53),\"\")","v":""}]
[null,null,{"$f":"IF(COUNTIF(data!A$6:A$5000,B54)>0,VLOOKUP(B54,data!A$6:M$5000,2,FALSE),\"\")","v":""},{"$f":"IF(COUNTIF(data!A$6:A$5000,B54)>0,VLOOKUP(B54,data!A$6:M$5000,4,FALSE),\"\")","v":""},{"$f":"IF(COUNTIF(data!A$6:A$5000,B54)>0,VLOOKUP(B54,data!A$6:M$5000,11,FALSE),\"\")","v":""},{"$f":"IF(COUNTIF(data!A$6:A$5000,B54)>0,VLOOKUP(B54,data!A$6:M$5000,12,FALSE),\"\")","v":""},{"$f":"IF(COUNTIF(data!A$6:A$5000,B54)>0,VLOOKUP(B54,data!A$6:M$5000,13,FALSE),\"\")","v":""},{"$f":"IF(B54>0,SUM(F$10:F54)-SUM(G$10:G54),\"\")","v":""}]
[null,null,{"$f":"IF(COUNTIF(data!A$6:A$5000,B55)>0,VLOOKUP(B55,data!A$6:M$5000,2,FALSE),\"\")","v":""},{"$f":"IF(COUNTIF(data!A$6:A$5000,B55)>0,VLOOKUP(B55,data!A$6:M$5000,4,FALSE),\"\")","v":""},{"$f":"IF(COUNTIF(data!A$6:A$5000,B55)>0,VLOOKUP(B55,data!A$6:M$5000,11,FALSE),\"\")","v":""},{"$f":"IF(COUNTIF(data!A$6:A$5000,B55)>0,VLOOKUP(B55,data!A$6:M$5000,12,FALSE),\"\")","v":""},{"$f":"IF(COUNTIF(data!A$6:A$5000,B55)>0,VLOOKUP(B55,data!A$6:M$5000,13,FALSE),\"\")","v":""},{"$f":"IF(B55>0,SUM(F$10:F55)-SUM(G$10:G55),\"\")","v":""}]
[null,null,{"$f":"IF(COUNTIF(data!A$6:A$5000,B56)>0,VLOOKUP(B56,data!A$6:M$5000,2,FALSE),\"\")","v":""},{"$f":"IF(COUNTIF(data!A$6:A$5000,B56)>0,VLOOKUP(B56,data!A$6:M$5000,4,FALSE),\"\")","v":""},{"$f":"IF(COUNTIF(data!A$6:A$5000,B56)>0,VLOOKUP(B56,data!A$6:M$5000,11,FALSE),\"\")","v":""},{"$f":"IF(COUNTIF(data!A$6:A$5000,B56)>0,VLOOKUP(B56,data!A$6:M$5000,12,FALSE),\"\")","v":""},{"$f":"IF(COUNTIF(data!A$6:A$5000,B56)>0,VLOOKUP(B56,data!A$6:M$5000,13,FALSE),\"\")","v":""},{"$f":"IF(B56>0,SUM(F$10:F56)-SUM(G$10:G56),\"\")","v":""}]
[null,null,{"$f":"IF(COUNTIF(data!A$6:A$5000,B57)>0,VLOOKUP(B57,data!A$6:M$5000,2,FALSE),\"\")","v":""},{"$f":"IF(COUNTIF(data!A$6:A$5000,B57)>0,VLOOKUP(B57,data!A$6:M$5000,4,FALSE),\"\")","v":""},{"$f":"IF(COUNTIF(data!A$6:A$5000,B57)>0,VLOOKUP(B57,data!A$6:M$5000,11,FALSE),\"\")","v":""},{"$f":"IF(COUNTIF(data!A$6:A$5000,B57)>0,VLOOKUP(B57,data!A$6:M$5000,12,FALSE),\"\")","v":""},{"$f":"IF(COUNTIF(data!A$6:A$5000,B57)>0,VLOOKUP(B57,data!A$6:M$5000,13,FALSE),\"\")","v":""},{"$f":"IF(B57>0,SUM(F$10:F57)-SUM(G$10:G57),\"\")","v":""}]
[null,null,{"$f":"IF(COUNTIF(data!A$6:A$5000,B58)>0,VLOOKUP(B58,data!A$6:M$5000,2,FALSE),\"\")","v":""},{"$f":"IF(COUNTIF(data!A$6:A$5000,B58)>0,VLOOKUP(B58,data!A$6:M$5000,4,FALSE),\"\")","v":""},{"$f":"IF(COUNTIF(data!A$6:A$5000,B58)>0,VLOOKUP(B58,data!A$6:M$5000,11,FALSE),\"\")","v":""},{"$f":"IF(COUNTIF(data!A$6:A$5000,B58)>0,VLOOKUP(B58,data!A$6:M$5000,12,FALSE),\"\")","v":""},{"$f":"IF(COUNTIF(data!A$6:A$5000,B58)>0,VLOOKUP(B58,data!A$6:M$5000,13,FALSE),\"\")","v":""},{"$f":"IF(B58>0,SUM(F$10:F58)-SUM(G$10:G58),\"\")","v":""}]
[null,null,{"$f":"IF(COUNTIF(data!A$6:A$5000,B59)>0,VLOOKUP(B59,data!A$6:M$5000,2,FALSE),\"\")","v":""},{"$f":"IF(COUNTIF(data!A$6:A$5000,B59)>0,VLOOKUP(B59,data!A$6:M$5000,4,FALSE),\"\")","v":""},{"$f":"IF(COUNTIF(data!A$6:A$5000,B59)>0,VLOOKUP(B59,data!A$6:M$5000,11,FALSE),\"\")","v":""},{"$f":"IF(COUNTIF(data!A$6:A$5000,B59)>0,VLOOKUP(B59,data!A$6:M$5000,12,FALSE),\"\")","v":""},{"$f":"IF(COUNTIF(data!A$6:A$5000,B59)>0,VLOOKUP(B59,data!A$6:M$5000,13,FALSE),\"\")","v":""},{"$f":"IF(B59>0,SUM(F$10:F59)-SUM(G$10:G59),\"\")","v":""}]
[null,null,{"$f":"IF(COUNTIF(data!A$6:A$5000,B60)>0,VLOOKUP(B60,data!A$6:M$5000,2,FALSE),\"\")","v":""},{"$f":"IF(COUNTIF(data!A$6:A$5000,B60)>0,VLOOKUP(B60,data!A$6:M$5000,4,FALSE),\"\")","v":""},{"$f":"IF(COUNTIF(data!A$6:A$5000,B60)>0,VLOOKUP(B60,data!A$6:M$5000,11,FALSE),\"\")","v":""},{"$f":"IF(COUNTIF(data!A$6:A$5000,B60)>0,VLOOKUP(B60,data!A$6:M$5000,12,FALSE),\"\")","v":""},{"$f":"IF(COUNTIF(data!A$6:A$5000,B60)>0,VLOOKUP(B60,data!A$6:M$5000,13,FALSE),\"\")","v":""},{"$f":"IF(B60>0,SUM(F$10:F60)-SUM(G$10:G60),\"\")","v":""}]
[null,null,{"$f":"IF(COUNTIF(data!A$6:A$5000,B61)>0,VLOOKUP(B61,data!A$6:M$5000,2,FALSE),\"\")","v":""},{"$f":"IF(COUNTIF(data!A$6:A$5000,B61)>0,VLOOKUP(B61,data!A$6:M$5000,4,FALSE),\"\")","v":""},{"$f":"IF(COUNTIF(data!A$6:A$5000,B61)>0,VLOOKUP(B61,data!A$6:M$5000,11,FALSE),\"\")","v":""},{"$f":"IF(COUNTIF(data!A$6:A$5000,B61)>0,VLOOKUP(B61,data!A$6:M$5000,12,FALSE),\"\")","v":""},{"$f":"IF(COUNTIF(data!A$6:A$5000,B61)>0,VLOOKUP(B61,data!A$6:M$5000,13,FALSE),\"\")","v":""},{"$f":"IF(B61>0,SUM(F$10:F61)-SUM(G$10:G61),\"\")","v":""}]
[null,null,{"$f":"IF(COUNTIF(data!A$6:A$5000,B62)>0,VLOOKUP(B62,data!A$6:M$5000,2,FALSE),\"\")","v":""},{"$f":"IF(COUNTIF(data!A$6:A$5000,B62)>0,VLOOKUP(B62,data!A$6:M$5000,4,FALSE),\"\")","v":""},{"$f":"IF(COUNTIF(data!A$6:A$5000,B62)>0,VLOOKUP(B62,data!A$6:M$5000,11,FALSE),\"\")","v":""},{"$f":"IF(COUNTIF(data!A$6:A$5000,B62)>0,VLOOKUP(B62,data!A$6:M$5000,12,FALSE),\"\")","v":""},{"$f":"IF(COUNTIF(data!A$6:A$5000,B62)>0,VLOOKUP(B62,data!A$6:M$5000,13,FALSE),\"\")","v":""},{"$f":"IF(B62>0,SUM(F$10:F62)-SUM(G$10:G62),\"\")","v":""}]
[null,null,{"$f":"IF(COUNTIF(data!A$6:A$5000,B63)>0,VLOOKUP(B63,data!A$6:M$5000,2,FALSE),\"\")","v":""},{"$f":"IF(COUNTIF(data!A$6:A$5000,B63)>0,VLOOKUP(B63,data!A$6:M$5000,4,FALSE),\"\")","v":""},{"$f":"IF(COUNTIF(data!A$6:A$5000,B63)>0,VLOOKUP(B63,data!A$6:M$5000,11,FALSE),\"\")","v":""},{"$f":"IF(COUNTIF(data!A$6:A$5000,B63)>0,VLOOKUP(B63,data!A$6:M$5000,12,FALSE),\"\")","v":""},{"$f":"IF(COUNTIF(data!A$6:A$5000,B63)>0,VLOOKUP(B63,data!A$6:M$5000,13,FALSE),\"\")","v":""},{"$f":"IF(B63>0,SUM(F$10:F63)-SUM(G$10:G63),\"\")","v":""}]
[null,null,{"$f":"IF(COUNTIF(data!A$6:A$5000,B64)>0,VLOOKUP(B64,data!A$6:M$5000,2,FALSE),\"\")","v":""},{"$f":"IF(COUNTIF(data!A$6:A$5000,B64)>0,VLOOKUP(B64,data!A$6:M$5000,4,FALSE),\"\")","v":""},{"$f":"IF(COUNTIF(data!A$6:A$5000,B64)>0,VLOOKUP(B64,data!A$6:M$5000,11,FALSE),\"\")","v":""},{"$f":"IF(COUNTIF(data!A$6:A$5000,B64)>0,VLOOKUP(B64,data!A$6:M$5000,12,FALSE),\"\")","v":""},{"$f":"IF(COUNTIF(data!A$6:A$5000,B64)>0,VLOOKUP(B64,data!A$6:M$5000,13,FALSE),\"\")","v":""},{"$f":"IF(B64>0,SUM(F$10:F64)-SUM(G$10:G64),\"\")","v":""}]
[null,null,{"$f":"IF(COUNTIF(data!A$6:A$5000,B65)>0,VLOOKUP(B65,data!A$6:M$5000,2,FALSE),\"\")","v":""},{"$f":"IF(COUNTIF(data!A$6:A$5000,B65)>0,VLOOKUP(B65,data!A$6:M$5000,4,FALSE),\"\")","v":""},{"$f":"IF(COUNTIF(data!A$6:A$5000,B65)>0,VLOOKUP(B65,data!A$6:M$5000,11,FALSE),\"\")","v":""},{"$f":"IF(COUNTIF(data!A$6:A$5000,B65)>0,VLOOKUP(B65,data!A$6:M$5000,12,FALSE),\"\")","v":""},{"$f":"IF(COUNTIF(data!A$6:A$5000,B65)>0,VLOOKUP(B65,data!A$6:M$5000,13,FALSE),\"\")","v":""},{"$f":"IF(B65>0,SUM(F$10:F65)-SUM(G$10:G65),\"\")","v":""}]
[null,null,{"$f":"IF(COUNTIF(data!A$6:A$5000,B66)>0,VLOOKUP(B66,data!A$6:M$5000,2,FALSE),\"\")","v":""},{"$f":"IF(COUNTIF(data!A$6:A$5000,B66)>0,VLOOKUP(B66,data!A$6:M$5000,4,FALSE),\"\")","v":""},{"$f":"IF(COUNTIF(data!A$6:A$5000,B66)>0,VLOOKUP(B66,data!A$6:M$5000,11,FALSE),\"\")","v":""},{"$f":"IF(COUNTIF(data!A$6:A$5000,B66)>0,VLOOKUP(B66,data!A$6:M$5000,12,FALSE),\"\")","v":""},{"$f":"IF(COUNTIF(data!A$6:A$5000,B66)>0,VLOOKUP(B66,data!A$6:M$5000,13,FALSE),\"\")","v":""},{"$f":"IF(B66>0,SUM(F$10:F66)-SUM(G$10:G66),\"\")","v":""}]
[null,null,{"$f":"IF(COUNTIF(data!A$6:A$5000,B67)>0,VLOOKUP(B67,data!A$6:M$5000,2,FALSE),\"\")","v":""},{"$f":"IF(COUNTIF(data!A$6:A$5000,B67)>0,VLOOKUP(B67,data!A$6:M$5000,4,FALSE),\"\")","v":""},{"$f":"IF(COUNTIF(data!A$6:A$5000,B67)>0,VLOOKUP(B67,data!A$6:M$5000,11,FALSE),\"\")","v":""},{"$f":"IF(COUNTIF(data!A$6:A$5000,B67)>0,VLOOKUP(B67,data!A$6:M$5000,12,FALSE),\"\")","v":""},{"$f":"IF(COUNTIF(data!A$6:A$5000,B67)>0,VLOOKUP(B67,data!A$6:M$5000,13,FALSE),\"\")","v":""},{"$f":"IF(B67>0,SUM(F$10:F67)-SUM(G$10:G67),\"\")","v":""}]
[null,null,{"$f":"IF(COUNTIF(data!A$6:A$5000,B68)>0,VLOOKUP(B68,data!A$6:M$5000,2,FALSE),\"\")","v":""},{"$f":"IF(COUNTIF(data!A$6:A$5000,B68)>0,VLOOKUP(B68,data!A$6:M$5000,4,FALSE),\"\")","v":""},{"$f":"IF(COUNTIF(data!A$6:A$5000,B68)>0,VLOOKUP(B68,data!A$6:M$5000,11,FALSE),\"\")","v":""},{"$f":"IF(COUNTIF(data!A$6:A$5000,B68)>0,VLOOKUP(B68,data!A$6:M$5000,12,FALSE),\"\")","v":""},{"$f":"IF(COUNTIF(data!A$6:A$5000,B68)>0,VLOOKUP(B68,data!A$6:M$5000,13,FALSE),\"\")","v":""},{"$f":"IF(B68>0,SUM(F$10:F68)-SUM(G$10:G68),\"\")","v":""}]
[null,null,{"$f":"IF(COUNTIF(data!A$6:A$5000,B69)>0,VLOOKUP(B69,data!A$6:M$5000,2,FALSE),\"\")","v":""},{"$f":"IF(COUNTIF(data!A$6:A$5000,B69)>0,VLOOKUP(B69,data!A$6:M$5000,4,FALSE),\"\")","v":""},{"$f":"IF(COUNTIF(data!A$6:A$5000,B69)>0,VLOOKUP(B69,data!A$6:M$5000,11,FALSE),\"\")","v":""},{"$f":"IF(COUNTIF(data!A$6:A$5000,B69)>0,VLOOKUP(B69,data!A$6:M$5000,12,FALSE),\"\")","v":""},{"$f":"IF(COUNTIF(data!A$6:A$5000,B69)>0,VLOOKUP(B69,data!A$6:M$5000,13,FALSE),\"\")","v":""},{"$f":"IF(B69>0,SUM(F$10:F69)-SUM(G$10:G69),\"\")","v":""}]
[null,null,{"$f":"IF(COUNTIF(data!A$6:A$5000,B70)>0,VLOOKUP(B70,data!A$6:M$5000,2,FALSE),\"\")","v":""},{"$f":"IF(COUNTIF(data!A$6:A$5000,B70)>0,VLOOKUP(B70,data!A$6:M$5000,4,FALSE),\"\")","v":""},{"$f":"IF(COUNTIF(data!A$6:A$5000,B70)>0,VLOOKUP(B70,data!A$6:M$5000,11,FALSE),\"\")","v":""},{"$f":"IF(COUNTIF(data!A$6:A$5000,B70)>0,VLOOKUP(B70,data!A$6:M$5000,12,FALSE),\"\")","v":""},{"$f":"IF(COUNTIF(data!A$6:A$5000,B70)>0,VLOOKUP(B70,data!A$6:M$5000,13,FALSE),\"\")","v":""},{"$f":"IF(B70>0,SUM(F$10:F70)-SUM(G$10:G70),\"\")","v":""}]
[null,null,{"$f":"IF(COUNTIF(data!A$6:A$5000,B71)>0,VLOOKUP(B71,data!A$6:M$5000,2,FALSE),\"\")","v":""},{"$f":"IF(COUNTIF(data!A$6:A$5000,B71)>0,VLOOKUP(B71,data!A$6:M$5000,4,FALSE),\"\")","v":""},{"$f":"IF(COUNTIF(data!A$6:A$5000,B71)>0,VLOOKUP(B71,data!A$6:M$5000,11,FALSE),\"\")","v":""},{"$f":"IF(COUNTIF(data!A$6:A$5000,B71)>0,VLOOKUP(B71,data!A$6:M$5000,12,FALSE),\"\")","v":""},{"$f":"IF(COUNTIF(data!A$6:A$5000,B71)>0,VLOOKUP(B71,data!A$6:M$5000,13,FALSE),\"\")","v":""},{"$f":"IF(B71>0,SUM(F$10:F71)-SUM(G$10:G71),\"\")","v":""}]
[null,null,{"$f":"IF(COUNTIF(data!A$6:A$5000,B72)>0,VLOOKUP(B72,data!A$6:M$5000,2,FALSE),\"\")","v":""},{"$f":"IF(COUNTIF(data!A$6:A$5000,B72)>0,VLOOKUP(B72,data!A$6:M$5000,4,FALSE),\"\")","v":""},{"$f":"IF(COUNTIF(data!A$6:A$5000,B72)>0,VLOOKUP(B72,data!A$6:M$5000,11,FALSE),\"\")","v":""},{"$f":"IF(COUNTIF(data!A$6:A$5000,B72)>0,VLOOKUP(B72,data!A$6:M$5000,12,FALSE),\"\")","v":""},{"$f":"IF(COUNTIF(data!A$6:A$5000,B72)>0,VLOOKUP(B72,data!A$6:M$5000,13,FALSE),\"\")","v":""},{"$f":"IF(B72>0,SUM(F$10:F72)-SUM(G$10:G72),\"\")","v":""}]
[null,null,{"$f":"IF(COUNTIF(data!A$6:A$5000,B73)>0,VLOOKUP(B73,data!A$6:M$5000,2,FALSE),\"\")","v":""},{"$f":"IF(COUNTIF(data!A$6:A$5000,B73)>0,VLOOKUP(B73,data!A$6:M$5000,4,FALSE),\"\")","v":""},{"$f":"IF(COUNTIF(data!A$6:A$5000,B73)>0,VLOOKUP(B73,data!A$6:M$5000,11,FALSE),\"\")","v":""},{"$f":"IF(COUNTIF(data!A$6:A$5000,B73)>0,VLOOKUP(B73,data!A$6:M$5000,12,FALSE),\"\")","v":""},{"$f":"IF(COUNTIF(data!A$6:A$5000,B73)>0,VLOOKUP(B73,data!A$6:M$5000,13,FALSE),\"\")","v":""},{"$f":"IF(B73>0,SUM(F$10:F73)-SUM(G$10:G73),\"\")","v":""}]
[null,null,{"$f":"IF(COUNTIF(data!A$6:A$5000,B74)>0,VLOOKUP(B74,data!A$6:M$5000,2,FALSE),\"\")","v":""},{"$f":"IF(COUNTIF(data!A$6:A$5000,B74)>0,VLOOKUP(B74,data!A$6:M$5000,4,FALSE),\"\")","v":""},{"$f":"IF(COUNTIF(data!A$6:A$5000,B74)>0,VLOOKUP(B74,data!A$6:M$5000,11,FALSE),\"\")","v":""},{"$f":"IF(COUNTIF(data!A$6:A$5000,B74)>0,VLOOKUP(B74,data!A$6:M$5000,12,FALSE),\"\")","v":""},{"$f":"IF(COUNTIF(data!A$6:A$5000,B74)>0,VLOOKUP(B74,data!A$6:M$5000,13,FALSE),\"\")","v":""},{"$f":"IF(B74>0,SUM(F$10:F74)-SUM(G$10:G74),\"\")","v":""}]
[null,null,{"$f":"IF(COUNTIF(data!A$6:A$5000,B75)>0,VLOOKUP(B75,data!A$6:M$5000,2,FALSE),\"\")","v":""},{"$f":"IF(COUNTIF(data!A$6:A$5000,B75)>0,VLOOKUP(B75,data!A$6:M$5000,4,FALSE),\"\")","v":""},{"$f":"IF(COUNTIF(data!A$6:A$5000,B75)>0,VLOOKUP(B75,data!A$6:M$5000,11,FALSE),\"\")","v":""},{"$f":"IF(COUNTIF(data!A$6:A$5000,B75)>0,VLOOKUP(B75,data!A$6:M$5000,12,FALSE),\"\")","v":""},{"$f":"IF(COUNTIF(data!A$6:A$5000,B75)>0,VLOOKUP(B75,data!A$6:M$5000,13,FALSE),\"\")","v":""},{"$f":"IF(B75>0,SUM(F$10:F75)-SUM(G$10:G75),\"\")","v":""}]
[null,null,{"$f":"IF(COUNTIF(data!A$6:A$5000,B76)>0,VLOOKUP(B76,data!A$6:M$5000,2,FALSE),\"\")","v":""},{"$f":"IF(COUNTIF(data!A$6:A$5000,B76)>0,VLOOKUP(B76,data!A$6:M$5000,4,FALSE),\"\")","v":""},{"$f":"IF(COUNTIF(data!A$6:A$5000,B76)>0,VLOOKUP(B76,data!A$6:M$5000,11,FALSE),\"\")","v":""},{"$f":"IF(COUNTIF(data!A$6:A$5000,B76)>0,VLOOKUP(B76,data!A$6:M$5000,12,FALSE),\"\")","v":""},{"$f":"IF(COUNTIF(data!A$6:A$5000,B76)>0,VLOOKUP(B76,data!A$6:M$5000,13,FALSE),\"\")","v":""},{"$f":"IF(B76>0,SUM(F$10:F76)-SUM(G$10:G76),\"\")","v":""}]
[null,null,{"$f":"IF(COUNTIF(data!A$6:A$5000,B77)>0,VLOOKUP(B77,data!A$6:M$5000,2,FALSE),\"\")","v":""},{"$f":"IF(COUNTIF(data!A$6:A$5000,B77)>0,VLOOKUP(B77,data!A$6:M$5000,4,FALSE),\"\")","v":""},{"$f":"IF(COUNTIF(data!A$6:A$5000,B77)>0,VLOOKUP(B77,data!A$6:M$5000,11,FALSE),\"\")","v":""},{"$f":"IF(COUNTIF(data!A$6:A$5000,B77)>0,VLOOKUP(B77,data!A$6:M$5000,12,FALSE),\"\")","v":""},{"$f":"IF(COUNTIF(data!A$6:A$5000,B77)>0,VLOOKUP(B77,data!A$6:M$5000,13,FALSE),\"\")","v":""},{"$f":"IF(B77>0,SUM(F$10:F77)-SUM(G$10:G77),\"\")","v":""}]
[null,null,{"$f":"IF(COUNTIF(data!A$6:A$5000,B78)>0,VLOOKUP(B78,data!A$6:M$5000,2,FALSE),\"\")","v":""},{"$f":"IF(COUNTIF(data!A$6:A$5000,B78)>0,VLOOKUP(B78,data!A$6:M$5000,4,FALSE),\"\")","v":""},{"$f":"IF(COUNTIF(data!A$6:A$5000,B78)>0,VLOOKUP(B78,data!A$6:M$5000,11,FALSE),\"\")","v":""},{"$f":"IF(COUNTIF(data!A$6:A$5000,B78)>0,VLOOKUP(B78,data!A$6:M$5000,12,FALSE),\"\")","v":""},{"$f":"IF(COUNTIF(data!A$6:A$5000,B78)>0,VLOOKUP(B78,data!A$6:M$5000,13,FALSE),\"\")","v":""},{"$f":"IF(B78>0,SUM(F$10:F78)-SUM(G$10:G78),\"\")","v":""}]
[null,null,{"$f":"IF(COUNTIF(data!A$6:A$5000,B79)>0,VLOOKUP(B79,data!A$6:M$5000,2,FALSE),\"\")","v":""},{"$f":"IF(COUNTIF(data!A$6:A$5000,B79)>0,VLOOKUP(B79,data!A$6:M$5000,4,FALSE),\"\")","v":""},{"$f":"IF(COUNTIF(data!A$6:A$5000,B79)>0,VLOOKUP(B79,data!A$6:M$5000,11,FALSE),\"\")","v":""},{"$f":"IF(COUNTIF(data!A$6:A$5000,B79)>0,VLOOKUP(B79,data!A$6:M$5000,12,FALSE),\"\")","v":""},{"$f":"IF(COUNTIF(data!A$6:A$5000,B79)>0,VLOOKUP(B79,data!A$6:M$5000,13,FALSE),\"\")","v":""},{"$f":"IF(B79>0,SUM(F$10:F79)-SUM(G$10:G79),\"\")","v":""}]
[null,null,{"$f":"IF(COUNTIF(data!A$6:A$5000,B80)>0,VLOOKUP(B80,data!A$6:M$5000,2,FALSE),\"\")","v":""},{"$f":"IF(COUNTIF(data!A$6:A$5000,B80)>0,VLOOKUP(B80,data!A$6:M$5000,4,FALSE),\"\")","v":""},{"$f":"IF(COUNTIF(data!A$6:A$5000,B80)>0,VLOOKUP(B80,data!A$6:M$5000,11,FALSE),\"\")","v":""},{"$f":"IF(COUNTIF(data!A$6:A$5000,B80)>0,VLOOKUP(B80,data!A$6:M$5000,12,FALSE),\"\")","v":""},{"$f":"IF(COUNTIF(data!A$6:A$5000,B80)>0,VLOOKUP(B80,data!A$6:M$5000,13,FALSE),\"\")","v":""},{"$f":"IF(B80>0,SUM(F$10:F80)-SUM(G$10:G80),\"\")","v":""}]
[null,null,{"$f":"IF(COUNTIF(data!A$6:A$5000,B81)>0,VLOOKUP(B81,data!A$6:M$5000,2,FALSE),\"\")","v":""},{"$f":"IF(COUNTIF(data!A$6:A$5000,B81)>0,VLOOKUP(B81,data!A$6:M$5000,4,FALSE),\"\")","v":""},{"$f":"IF(COUNTIF(data!A$6:A$5000,B81)>0,VLOOKUP(B81,data!A$6:M$5000,11,FALSE),\"\")","v":""},{"$f":"IF(COUNTIF(data!A$6:A$5000,B81)>0,VLOOKUP(B81,data!A$6:M$5000,12,FALSE),\"\")","v":""},{"$f":"IF(COUNTIF(data!A$6:A$5000,B81)>0,VLOOKUP(B81,data!A$6:M$5000,13,FALSE),\"\")","v":""},{"$f":"IF(B81>0,SUM(F$10:F81)-SUM(G$10:G81),\"\")","v":""}]
[null,null,{"$f":"IF(COUNTIF(data!A$6:A$5000,B82)>0,VLOOKUP(B82,data!A$6:M$5000,2,FALSE),\"\")","v":""},{"$f":"IF(COUNTIF(data!A$6:A$5000,B82)>0,VLOOKUP(B82,data!A$6:M$5000,4,FALSE),\"\")","v":""},{"$f":"IF(COUNTIF(data!A$6:A$5000,B82)>0,VLOOKUP(B82,data!A$6:M$5000,11,FALSE),\"\")","v":""},{"$f":"IF(COUNTIF(data!A$6:A$5000,B82)>0,VLOOKUP(B82,data!A$6:M$5000,12,FALSE),\"\")","v":""},{"$f":"IF(COUNTIF(data!A$6:A$5000,B82)>0,VLOOKUP(B82,data!A$6:M$5000,13,FALSE),\"\")","v":""},{"$f":"IF(B82>0,SUM(F$10:F82)-SUM(G$10:G82),\"\")","v":""}]
[null,null,{"$f":"IF(COUNTIF(data!A$6:A$5000,B83)>0,VLOOKUP(B83,data!A$6:M$5000,2,FALSE),\"\")","v":""},{"$f":"IF(COUNTIF(data!A$6:A$5000,B83)>0,VLOOKUP(B83,data!A$6:M$5000,4,FALSE),\"\")","v":""},{"$f":"IF(COUNTIF(data!A$6:A$5000,B83)>0,VLOOKUP(B83,data!A$6:M$5000,11,FALSE),\"\")","v":""},{"$f":"IF(COUNTIF(data!A$6:A$5000,B83)>0,VLOOKUP(B83,data!A$6:M$5000,12,FALSE),\"\")","v":""},{"$f":"IF(COUNTIF(data!A$6:A$5000,B83)>0,VLOOKUP(B83,data!A$6:M$5000,13,FALSE),\"\")","v":""},{"$f":"IF(B83>0,SUM(F$10:F83)-SUM(G$10:G83),\"\")","v":""}]
[null,null,{"$f":"IF(COUNTIF(data!A$6:A$5000,B84)>0,VLOOKUP(B84,data!A$6:M$5000,2,FALSE),\"\")","v":""},{"$f":"IF(COUNTIF(data!A$6:A$5000,B84)>0,VLOOKUP(B84,data!A$6:M$5000,4,FALSE),\"\")","v":""},{"$f":"IF(COUNTIF(data!A$6:A$5000,B84)>0,VLOOKUP(B84,data!A$6:M$5000,11,FALSE),\"\")","v":""},{"$f":"IF(COUNTIF(data!A$6:A$5000,B84)>0,VLOOKUP(B84,data!A$6:M$5000,12,FALSE),\"\")","v":""},{"$f":"IF(COUNTIF(data!A$6:A$5000,B84)>0,VLOOKUP(B84,data!A$6:M$5000,13,FALSE),\"\")","v":""},{"$f":"IF(B84>0,SUM(F$10:F84)-SUM(G$10:G84),\"\")","v":""}]
[null,null,{"$f":"IF(COUNTIF(data!A$6:A$5000,B85)>0,VLOOKUP(B85,data!A$6:M$5000,2,FALSE),\"\")","v":""},{"$f":"IF(COUNTIF(data!A$6:A$5000,B85)>0,VLOOKUP(B85,data!A$6:M$5000,4,FALSE),\"\")","v":""},{"$f":"IF(COUNTIF(data!A$6:A$5000,B85)>0,VLOOKUP(B85,data!A$6:M$5000,11,FALSE),\"\")","v":""},{"$f":"IF(COUNTIF(data!A$6:A$5000,B85)>0,VLOOKUP(B85,data!A$6:M$5000,12,FALSE),\"\")","v":""},{"$f":"IF(COUNTIF(data!A$6:A$5000,B85)>0,VLOOKUP(B85,data!A$6:M$5000,13,FALSE),\"\")","v":""},{"$f":"IF(B85>0,SUM(F$10:F85)-SUM(G$10:G85),\"\")","v":""}]
[null,null,{"$f":"IF(COUNTIF(data!A$6:A$5000,B86)>0,VLOOKUP(B86,data!A$6:M$5000,2,FALSE),\"\")","v":""},{"$f":"IF(COUNTIF(data!A$6:A$5000,B86)>0,VLOOKUP(B86,data!A$6:M$5000,4,FALSE),\"\")","v":""},{"$f":"IF(COUNTIF(data!A$6:A$5000,B86)>0,VLOOKUP(B86,data!A$6:M$5000,11,FALSE),\"\")","v":""},{"$f":"IF(COUNTIF(data!A$6:A$5000,B86)>0,VLOOKUP(B86,data!A$6:M$5000,12,FALSE),\"\")","v":""},{"$f":"IF(COUNTIF(data!A$6:A$5000,B86)>0,VLOOKUP(B86,data!A$6:M$5000,13,FALSE),\"\")","v":""},{"$f":"IF(B86>0,SUM(F$10:F86)-SUM(G$10:G86),\"\")","v":""}]
[null,null,{"$f":"IF(COUNTIF(data!A$6:A$5000,B87)>0,VLOOKUP(B87,data!A$6:M$5000,2,FALSE),\"\")","v":""},{"$f":"IF(COUNTIF(data!A$6:A$5000,B87)>0,VLOOKUP(B87,data!A$6:M$5000,4,FALSE),\"\")","v":""},{"$f":"IF(COUNTIF(data!A$6:A$5000,B87)>0,VLOOKUP(B87,data!A$6:M$5000,11,FALSE),\"\")","v":""},{"$f":"IF(COUNTIF(data!A$6:A$5000,B87)>0,VLOOKUP(B87,data!A$6:M$5000,12,FALSE),\"\")","v":""},{"$f":"IF(COUNTIF(data!A$6:A$5000,B87)>0,VLOOKUP(B87,data!A$6:M$5000,13,FALSE),\"\")","v":""},{"$f":"IF(B87>0,SUM(F$10:F87)-SUM(G$10:G87),\"\")","v":""}]
[null,null,{"$f":"IF(COUNTIF(data!A$6:A$5000,B88)>0,VLOOKUP(B88,data!A$6:M$5000,2,FALSE),\"\")","v":""},{"$f":"IF(COUNTIF(data!A$6:A$5000,B88)>0,VLOOKUP(B88,data!A$6:M$5000,4,FALSE),\"\")","v":""},{"$f":"IF(COUNTIF(data!A$6:A$5000,B88)>0,VLOOKUP(B88,data!A$6:M$5000,11,FALSE),\"\")","v":""},{"$f":"IF(COUNTIF(data!A$6:A$5000,B88)>0,VLOOKUP(B88,data!A$6:M$5000,12,FALSE),\"\")","v":""},{"$f":"IF(COUNTIF(data!A$6:A$5000,B88)>0,VLOOKUP(B88,data!A$6:M$5000,13,FALSE),\"\")","v":""},{"$f":"IF(B88>0,SUM(F$10:F88)-SUM(G$10:G88),\"\")","v":""}]
[null,null,{"$f":"IF(COUNTIF(data!A$6:A$5000,B89)>0,VLOOKUP(B89,data!A$6:M$5000,2,FALSE),\"\")","v":""},{"$f":"IF(COUNTIF(data!A$6:A$5000,B89)>0,VLOOKUP(B89,data!A$6:M$5000,4,FALSE),\"\")","v":""},{"$f":"IF(COUNTIF(data!A$6:A$5000,B89)>0,VLOOKUP(B89,data!A$6:M$5000,11,FALSE),\"\")","v":""},{"$f":"IF(COUNTIF(data!A$6:A$5000,B89)>0,VLOOKUP(B89,data!A$6:M$5000,12,FALSE),\"\")","v":""},{"$f":"IF(COUNTIF(data!A$6:A$5000,B89)>0,VLOOKUP(B89,data!A$6:M$5000,13,FALSE),\"\")","v":""},{"$f":"IF(B89>0,SUM(F$10:F89)-SUM(G$10:G89),\"\")","v":""}]
[null,null,{"$f":"IF(COUNTIF(data!A$6:A$5000,B90)>0,VLOOKUP(B90,data!A$6:M$5000,2,FALSE),\"\")","v":""},{"$f":"IF(COUNTIF(data!A$6:A$5000,B90)>0,VLOOKUP(B90,data!A$6:M$5000,4,FALSE),\"\")","v":""},{"$f":"IF(COUNTIF(data!A$6:A$5000,B90)>0,VLOOKUP(B90,data!A$6:M$5000,11,FALSE),\"\")","v":""},{"$f":"IF(COUNTIF(data!A$6:A$5000,B90)>0,VLOOKUP(B90,data!A$6:M$5000,12,FALSE),\"\")","v":""},{"$f":"IF(COUNTIF(data!A$6:A$5000,B90)>0,VLOOKUP(B90,data!A$6:M$5000,13,FALSE),\"\")","v":""},{"$f":"IF(B90>0,SUM(F$10:F90)-SUM(G$10:G90),\"\")","v":""}]
[null,null,{"$f":"IF(COUNTIF(data!A$6:A$5000,B91)>0,VLOOKUP(B91,data!A$6:M$5000,2,FALSE),\"\")","v":""},{"$f":"IF(COUNTIF(data!A$6:A$5000,B91)>0,VLOOKUP(B91,data!A$6:M$5000,4,FALSE),\"\")","v":""},{"$f":"IF(COUNTIF(data!A$6:A$5000,B91)>0,VLOOKUP(B91,data!A$6:M$5000,11,FALSE),\"\")","v":""},{"$f":"IF(COUNTIF(data!A$6:A$5000,B91)>0,VLOOKUP(B91,data!A$6:M$5000,12,FALSE),\"\")","v":""},{"$f":"IF(COUNTIF(data!A$6:A$5000,B91)>0,VLOOKUP(B91,data!A$6:M$5000,13,FALSE),\"\")","v":""},{"$f":"IF(B91>0,SUM(F$10:F91)-SUM(G$10:G91),\"\")","v":""}]
[null,null,{"$f":"IF(COUNTIF(data!A$6:A$5000,B92)>0,VLOOKUP(B92,data!A$6:M$5000,2,FALSE),\"\")","v":""},{"$f":"IF(COUNTIF(data!A$6:A$5000,B92)>0,VLOOKUP(B92,data!A$6:M$5000,4,FALSE),\"\")","v":""},{"$f":"IF(COUNTIF(data!A$6:A$5000,B92)>0,VLOOKUP(B92,data!A$6:M$5000,11,FALSE),\"\")","v":""},{"$f":"IF(COUNTIF(data!A$6:A$5000,B92)>0,VLOOKUP(B92,data!A$6:M$5000,12,FALSE),\"\")","v":""},{"$f":"IF(COUNTIF(data!A$6:A$5000,B92)>0,VLOOKUP(B92,data!A$6:M$5000,13,FALSE),\"\")","v":""},{"$f":"IF(B92>0,SUM(F$10:F92)-SUM(G$10:G92),\"\")","v":""}]
[null,null,{"$f":"IF(COUNTIF(data!A$6:A$5000,B93)>0,VLOOKUP(B93,data!A$6:M$5000,2,FALSE),\"\")","v":""},{"$f":"IF(COUNTIF(data!A$6:A$5000,B93)>0,VLOOKUP(B93,data!A$6:M$5000,4,FALSE),\"\")","v":""},{"$f":"IF(COUNTIF(data!A$6:A$5000,B93)>0,VLOOKUP(B93,data!A$6:M$5000,11,FALSE),\"\")","v":""},{"$f":"IF(COUNTIF(data!A$6:A$5000,B93)>0,VLOOKUP(B93,data!A$6:M$5000,12,FALSE),\"\")","v":""},{"$f":"IF(COUNTIF(data!A$6:A$5000,B93)>0,VLOOKUP(B93,data!A$6:M$5000,13,FALSE),\"\")","v":""},{"$f":"IF(B93>0,SUM(F$10:F93)-SUM(G$10:G93),\"\")","v":""}]
[null,null,{"$f":"IF(COUNTIF(data!A$6:A$5000,B94)>0,VLOOKUP(B94,data!A$6:M$5000,2,FALSE),\"\")","v":""},{"$f":"IF(COUNTIF(data!A$6:A$5000,B94)>0,VLOOKUP(B94,data!A$6:M$5000,4,FALSE),\"\")","v":""},{"$f":"IF(COUNTIF(data!A$6:A$5000,B94)>0,VLOOKUP(B94,data!A$6:M$5000,11,FALSE),\"\")","v":""},{"$f":"IF(COUNTIF(data!A$6:A$5000,B94)>0,VLOOKUP(B94,data!A$6:M$5000,12,FALSE),\"\")","v":""},{"$f":"IF(COUNTIF(data!A$6:A$5000,B94)>0,VLOOKUP(B94,data!A$6:M$5000,13,FALSE),\"\")","v":""},{"$f":"IF(B94>0,SUM(F$10:F94)-SUM(G$10:G94),\"\")","v":""}]
[null,null,{"$f":"IF(COUNTIF(data!A$6:A$5000,B95)>0,VLOOKUP(B95,data!A$6:M$5000,2,FALSE),\"\")","v":""},{"$f":"IF(COUNTIF(data!A$6:A$5000,B95)>0,VLOOKUP(B95,data!A$6:M$5000,4,FALSE),\"\")","v":""},{"$f":"IF(COUNTIF(data!A$6:A$5000,B95)>0,VLOOKUP(B95,data!A$6:M$5000,11,FALSE),\"\")","v":""},{"$f":"IF(COUNTIF(data!A$6:A$5000,B95)>0,VLOOKUP(B95,data!A$6:M$5000,12,FALSE),\"\")","v":""},{"$f":"IF(COUNTIF(data!A$6:A$5000,B95)>0,VLOOKUP(B95,data!A$6:M$5000,13,FALSE),\"\")","v":""},{"$f":"IF(B95>0,SUM(F$10:F95)-SUM(G$10:G95),\"\")","v":""}]
[null,null,{"$f":"IF(COUNTIF(data!A$6:A$5000,B96)>0,VLOOKUP(B96,data!A$6:M$5000,2,FALSE),\"\")","v":""},{"$f":"IF(COUNTIF(data!A$6:A$5000,B96)>0,VLOOKUP(B96,data!A$6:M$5000,4,FALSE),\"\")","v":""},{"$f":"IF(COUNTIF(data!A$6:A$5000,B96)>0,VLOOKUP(B96,data!A$6:M$5000,11,FALSE),\"\")","v":""},{"$f":"IF(COUNTIF(data!A$6:A$5000,B96)>0,VLOOKUP(B96,data!A$6:M$5000,12,FALSE),\"\")","v":""},{"$f":"IF(COUNTIF(data!A$6:A$5000,B96)>0,VLOOKUP(B96,data!A$6:M$5000,13,FALSE),\"\")","v":""},{"$f":"IF(B96>0,SUM(F$10:F96)-SUM(G$10:G96),\"\")","v":""}]
[null,null,{"$f":"IF(COUNTIF(data!A$6:A$5000,B97)>0,VLOOKUP(B97,data!A$6:M$5000,2,FALSE),\"\")","v":""},{"$f":"IF(COUNTIF(data!A$6:A$5000,B97)>0,VLOOKUP(B97,data!A$6:M$5000,4,FALSE),\"\")","v":""},{"$f":"IF(COUNTIF(data!A$6:A$5000,B97)>0,VLOOKUP(B97,data!A$6:M$5000,11,FALSE),\"\")","v":""},{"$f":"IF(COUNTIF(data!A$6:A$5000,B97)>0,VLOOKUP(B97,data!A$6:M$5000,12,FALSE),\"\")","v":""},{"$f":"IF(COUNTIF(data!A$6:A$5000,B97)>0,VLOOKUP(B97,data!A$6:M$5000,13,FALSE),\"\")","v":""},{"$f":"IF(B97>0,SUM(F$10:F97)-SUM(G$10:G97),\"\")","v":""}]
[null,null,{"$f":"IF(COUNTIF(data!A$6:A$5000,B98)>0,VLOOKUP(B98,data!A$6:M$5000,2,FALSE),\"\")","v":""},{"$f":"IF(COUNTIF(data!A$6:A$5000,B98)>0,VLOOKUP(B98,data!A$6:M$5000,4,FALSE),\"\")","v":""},{"$f":"IF(COUNTIF(data!A$6:A$5000,B98)>0,VLOOKUP(B98,data!A$6:M$5000,11,FALSE),\"\")","v":""},{"$f":"IF(COUNTIF(data!A$6:A$5000,B98)>0,VLOOKUP(B98,data!A$6:M$5000,12,FALSE),\"\")","v":""},{"$f":"IF(COUNTIF(data!A$6:A$5000,B98)>0,VLOOKUP(B98,data!A$6:M$5000,13,FALSE),\"\")","v":""},{"$f":"IF(B98>0,SUM(F$10:F98)-SUM(G$10:G98),\"\")","v":""}]
[null,null,{"$f":"IF(COUNTIF(data!A$6:A$5000,B99)>0,VLOOKUP(B99,data!A$6:M$5000,2,FALSE),\"\")","v":""},{"$f":"IF(COUNTIF(data!A$6:A$5000,B99)>0,VLOOKUP(B99,data!A$6:M$5000,4,FALSE),\"\")","v":""},{"$f":"IF(COUNTIF(data!A$6:A$5000,B99)>0,VLOOKUP(B99,data!A$6:M$5000,11,FALSE),\"\")","v":""},{"$f":"IF(COUNTIF(data!A$6:A$5000,B99)>0,VLOOKUP(B99,data!A$6:M$5000,12,FALSE),\"\")","v":""},{"$f":"IF(COUNTIF(data!A$6:A$5000,B99)>0,VLOOKUP(B99,data!A$6:M$5000,13,FALSE),\"\")","v":""},{"$f":"IF(B99>0,SUM(F$10:F99)-SUM(G$10:G99),\"\")","v":""}]
[null,null,{"$f":"IF(COUNTIF(data!A$6:A$5000,B100)>0,VLOOKUP(B100,data!A$6:M$5000,2,FALSE),\"\")","v":""},{"$f":"IF(COUNTIF(data!A$6:A$5000,B100)>0,VLOOKUP(B100,data!A$6:M$5000,4,FALSE),\"\")","v":""},{"$f":"IF(COUNTIF(data!A$6:A$5000,B100)>0,VLOOKUP(B100,data!A$6:M$5000,11,FALSE),\"\")","v":""},{"$f":"IF(COUNTIF(data!A$6:A$5000,B100)>0,VLOOKUP(B100,data!A$6:M$5000,12,FALSE),\"\")","v":""},{"$f":"IF(COUNTIF(data!A$6:A$5000,B100)>0,VLOOKUP(B100,data!A$6:M$5000,13,FALSE),\"\")","v":""},{"$f":"IF(B100>0,SUM(F$10:F100)-SUM(G$10:G100),\"\")","v":""}]
[null,null,{"$f":"IF(COUNTIF(data!A$6:A$5000,B101)>0,VLOOKUP(B101,data!A$6:M$5000,2,FALSE),\"\")","v":""},{"$f":"IF(COUNTIF(data!A$6:A$5000,B101)>0,VLOOKUP(B101,data!A$6:M$5000,4,FALSE),\"\")","v":""},{"$f":"IF(COUNTIF(data!A$6:A$5000,B101)>0,VLOOKUP(B101,data!A$6:M$5000,11,FALSE),\"\")","v":""},{"$f":"IF(COUNTIF(data!A$6:A$5000,B101)>0,VLOOKUP(B101,data!A$6:M$5000,12,FALSE),\"\")","v":""},{"$f":"IF(COUNTIF(data!A$6:A$5000,B101)>0,VLOOKUP(B101,data!A$6:M$5000,13,FALSE),\"\")","v":""},{"$f":"IF(B101>0,SUM(F$10:F101)-SUM(G$10:G101),\"\")","v":""}]
[null,null,{"$f":"IF(COUNTIF(data!A$6:A$5000,B102)>0,VLOOKUP(B102,data!A$6:M$5000,2,FALSE),\"\")","v":""},{"$f":"IF(COUNTIF(data!A$6:A$5000,B102)>0,VLOOKUP(B102,data!A$6:M$5000,4,FALSE),\"\")","v":""},{"$f":"IF(COUNTIF(data!A$6:A$5000,B102)>0,VLOOKUP(B102,data!A$6:M$5000,11,FALSE),\"\")","v":""},{"$f":"IF(COUNTIF(data!A$6:A$5000,B102)>0,VLOOKUP(B102,data!A$6:M$5000,12,FALSE),\"\")","v":""},{"$f":"IF(COUNTIF(data!A$6:A$5000,B102)>0,VLOOKUP(B102,data!A$6:M$5000,13,FALSE),\"\")","v":""},{"$f":"IF(B102>0,SUM(F$10:F102)-SUM(G$10:G102),\"\")","v":""}]
[null,null,{"$f":"IF(COUNTIF(data!A$6:A$5000,B103)>0,VLOOKUP(B103,data!A$6:M$5000,2,FALSE),\"\")","v":""},{"$f":"IF(COUNTIF(data!A$6:A$5000,B103)>0,VLOOKUP(B103,data!A$6:M$5000,4,FALSE),\"\")","v":""},{"$f":"IF(COUNTIF(data!A$6:A$5000,B103)>0,VLOOKUP(B103,data!A$6:M$5000,11,FALSE),\"\")","v":""},{"$f":"IF(COUNTIF(data!A$6:A$5000,B103)>0,VLOOKUP(B103,data!A$6:M$5000,12,FALSE),\"\")","v":""},{"$f":"IF(COUNTIF(data!A$6:A$5000,B103)>0,VLOOKUP(B103,data!A$6:M$5000,13,FALSE),\"\")","v":""},{"$f":"IF(B103>0,SUM(F$10:F103)-SUM(G$10:G103),\"\")","v":""}]
[null,null,{"$f":"IF(COUNTIF(data!A$6:A$5000,B104)>0,VLOOKUP(B104,data!A$6:M$5000,2,FALSE),\"\")","v":""},{"$f":"IF(COUNTIF(data!A$6:A$5000,B104)>0,VLOOKUP(B104,data!A$6:M$5000,4,FALSE),\"\")","v":""},{"$f":"IF(COUNTIF(data!A$6:A$5000,B104)>0,VLOOKUP(B104,data!A$6:M$5000,11,FALSE),\"\")","v":""},{"$f":"IF(COUNTIF(data!A$6:A$5000,B104)>0,VLOOKUP(B104,data!A$6:M$5000,12,FALSE),\"\")","v":""},{"$f":"IF(COUNTIF(data!A$6:A$5000,B104)>0,VLOOKUP(B104,data!A$6:M$5000,13,FALSE),\"\")","v":""},{"$f":"IF(B104>0,SUM(F$10:F104)-SUM(G$10:G104),\"\")","v":""}]
[null,null,{"$f":"IF(COUNTIF(data!A$6:A$5000,B105)>0,VLOOKUP(B105,data!A$6:M$5000,2,FALSE),\"\")","v":""},{"$f":"IF(COUNTIF(data!A$6:A$5000,B105)>0,VLOOKUP(B105,data!A$6:M$5000,4,FALSE),\"\")","v":""},{"$f":"IF(COUNTIF(data!A$6:A$5000,B105)>0,VLOOKUP(B105,data!A$6:M$5000,11,FALSE),\"\")","v":""},{"$f":"IF(COUNTIF(data!A$6:A$5000,B105)>0,VLOOKUP(B105,data!A$6:M$5000,12,FALSE),\"\")","v":""},{"$f":"IF(COUNTIF(data!A$6:A$5000,B105)>0,VLOOKUP(B105,data!A$6:M$5000,13,FALSE),\"\")","v":""},{"$f":"IF(B105>0,SUM(F$10:F105)-SUM(G$10:G105),\"\")","v":""}]
[null,null,{"$f":"IF(COUNTIF(data!A$6:A$5000,B106)>0,VLOOKUP(B106,data!A$6:M$5000,2,FALSE),\"\")","v":""},{"$f":"IF(COUNTIF(data!A$6:A$5000,B106)>0,VLOOKUP(B106,data!A$6:M$5000,4,FALSE),\"\")","v":""},{"$f":"IF(COUNTIF(data!A$6:A$5000,B106)>0,VLOOKUP(B106,data!A$6:M$5000,11,FALSE),\"\")","v":""},{"$f":"IF(COUNTIF(data!A$6:A$5000,B106)>0,VLOOKUP(B106,data!A$6:M$5000,12,FALSE),\"\")","v":""},{"$f":"IF(COUNTIF(data!A$6:A$5000,B106)>0,VLOOKUP(B106,data!A$6:M$5000,13,FALSE),\"\")","v":""},{"$f":"IF(B106>0,SUM(F$10:F106)-SUM(G$10:G106),\"\")","v":""}]
[null,null,{"$f":"IF(COUNTIF(data!A$6:A$5000,B107)>0,VLOOKUP(B107,data!A$6:M$5000,2,FALSE),\"\")","v":""},{"$f":"IF(COUNTIF(data!A$6:A$5000,B107)>0,VLOOKUP(B107,data!A$6:M$5000,4,FALSE),\"\")","v":""},{"$f":"IF(COUNTIF(data!A$6:A$5000,B107)>0,VLOOKUP(B107,data!A$6:M$5000,11,FALSE),\"\")","v":""},{"$f":"IF(COUNTIF(data!A$6:A$5000,B107)>0,VLOOKUP(B107,data!A$6:M$5000,12,FALSE),\"\")","v":""},{"$f":"IF(COUNTIF(data!A$6:A$5000,B107)>0,VLOOKUP(B107,data!A$6:M$5000,13,FALSE),\"\")","v":""},{"$f":"IF(B107>0,SUM(F$10:F107)-SUM(G$10:G107),\"\")","v":""}]
[null,null,{"$f":"IF(COUNTIF(data!A$6:A$5000,B108)>0,VLOOKUP(B108,data!A$6:M$5000,2,FALSE),\"\")","v":""},{"$f":"IF(COUNTIF(data!A$6:A$5000,B108)>0,VLOOKUP(B108,data!A$6:M$5000,4,FALSE),\"\")","v":""},{"$f":"IF(COUNTIF(data!A$6:A$5000,B108)>0,VLOOKUP(B108,data!A$6:M$5000,11,FALSE),\"\")","v":""},{"$f":"IF(COUNTIF(data!A$6:A$5000,B108)>0,VLOOKUP(B108,data!A$6:M$5000,12,FALSE),\"\")","v":""},{"$f":"IF(COUNTIF(data!A$6:A$5000,B108)>0,VLOOKUP(B108,data!A$6:M$5000,13,FALSE),\"\")","v":""},{"$f":"IF(B108>0,SUM(F$10:F108)-SUM(G$10:G108),\"\")","v":""}]
[null,null,{"$f":"IF(COUNTIF(data!A$6:A$5000,B109)>0,VLOOKUP(B109,data!A$6:M$5000,2,FALSE),\"\")","v":""},{"$f":"IF(COUNTIF(data!A$6:A$5000,B109)>0,VLOOKUP(B109,data!A$6:M$5000,4,FALSE),\"\")","v":""},{"$f":"IF(COUNTIF(data!A$6:A$5000,B109)>0,VLOOKUP(B109,data!A$6:M$5000,11,FALSE),\"\")","v":""},{"$f":"IF(COUNTIF(data!A$6:A$5000,B109)>0,VLOOKUP(B109,data!A$6:M$5000,12,FALSE),\"\")","v":""},{"$f":"IF(COUNTIF(data!A$6:A$5000,B109)>0,VLOOKUP(B109,data!A$6:M$5000,13,FALSE),\"\")","v":""},{"$f":"IF(B109>0,SUM(F$10:F109)-SUM(G$10:G109),\"\")","v":""}]
[null,null,{"$f":"IF(COUNTIF(data!A$6:A$5000,B110)>0,VLOOKUP(B110,data!A$6:M$5000,2,FALSE),\"\")","v":""},{"$f":"IF(COUNTIF(data!A$6:A$5000,B110)>0,VLOOKUP(B110,data!A$6:M$5000,4,FALSE),\"\")","v":""},{"$f":"IF(COUNTIF(data!A$6:A$5000,B110)>0,VLOOKUP(B110,data!A$6:M$5000,11,FALSE),\"\")","v":""},{"$f":"IF(COUNTIF(data!A$6:A$5000,B110)>0,VLOOKUP(B110,data!A$6:M$5000,12,FALSE),\"\")","v":""},{"$f":"IF(COUNTIF(data!A$6:A$5000,B110)>0,VLOOKUP(B110,data!A$6:M$5000,13,FALSE),\"\")","v":""},{"$f":"IF(B110>0,SUM(F$10:F110)-SUM(G$10:G110),\"\")","v":""}]
[null,null,{"$f":"IF(COUNTIF(data!A$6:A$5000,B111)>0,VLOOKUP(B111,data!A$6:M$5000,2,FALSE),\"\")","v":""},{"$f":"IF(COUNTIF(data!A$6:A$5000,B111)>0,VLOOKUP(B111,data!A$6:M$5000,4,FALSE),\"\")","v":""},{"$f":"IF(COUNTIF(data!A$6:A$5000,B111)>0,VLOOKUP(B111,data!A$6:M$5000,11,FALSE),\"\")","v":""},{"$f":"IF(COUNTIF(data!A$6:A$5000,B111)>0,VLOOKUP(B111,data!A$6:M$5000,12,FALSE),\"\")","v":""},{"$f":"IF(COUNTIF(data!A$6:A$5000,B111)>0,VLOOKUP(B111,data!A$6:M$5000,13,FALSE),\"\")","v":""},{"$f":"IF(B111>0,SUM(F$10:F111)-SUM(G$10:G111),\"\")","v":""}]
[null,null,{"$f":"IF(COUNTIF(data!A$6:A$5000,B112)>0,VLOOKUP(B112,data!A$6:M$5000,2,FALSE),\"\")","v":""},{"$f":"IF(COUNTIF(data!A$6:A$5000,B112)>0,VLOOKUP(B112,data!A$6:M$5000,4,FALSE),\"\")","v":""},{"$f":"IF(COUNTIF(data!A$6:A$5000,B112)>0,VLOOKUP(B112,data!A$6:M$5000,11,FALSE),\"\")","v":""},{"$f":"IF(COUNTIF(data!A$6:A$5000,B112)>0,VLOOKUP(B112,data!A$6:M$5000,12,FALSE),\"\")","v":""},{"$f":"IF(COUNTIF(data!A$6:A$5000,B112)>0,VLOOKUP(B112,data!A$6:M$5000,13,FALSE),\"\")","v":""},{"$f":"IF(B112>0,SUM(F$10:F112)-SUM(G$10:G112),\"\")","v":""}]
[null,null,{"$f":"IF(COUNTIF(data!A$6:A$5000,B113)>0,VLOOKUP(B113,data!A$6:M$5000,2,FALSE),\"\")","v":""},{"$f":"IF(COUNTIF(data!A$6:A$5000,B113)>0,VLOOKUP(B113,data!A$6:M$5000,4,FALSE),\"\")","v":""},{"$f":"IF(COUNTIF(data!A$6:A$5000,B113)>0,VLOOKUP(B113,data!A$6:M$5000,11,FALSE),\"\")","v":""},{"$f":"IF(COUNTIF(data!A$6:A$5000,B113)>0,VLOOKUP(B113,data!A$6:M$5000,12,FALSE),\"\")","v":""},{"$f":"IF(COUNTIF(data!A$6:A$5000,B113)>0,VLOOKUP(B113,data!A$6:M$5000,13,FALSE),\"\")","v":""},{"$f":"IF(B113>0,SUM(F$10:F113)-SUM(G$10:G113),\"\")","v":""}]
[null,null,{"$f":"IF(COUNTIF(data!A$6:A$5000,B114)>0,VLOOKUP(B114,data!A$6:M$5000,2,FALSE),\"\")","v":""},{"$f":"IF(COUNTIF(data!A$6:A$5000,B114)>0,VLOOKUP(B114,data!A$6:M$5000,4,FALSE),\"\")","v":""},{"$f":"IF(COUNTIF(data!A$6:A$5000,B114)>0,VLOOKUP(B114,data!A$6:M$5000,11,FALSE),\"\")","v":""},{"$f":"IF(COUNTIF(data!A$6:A$5000,B114)>0,VLOOKUP(B114,data!A$6:M$5000,12,FALSE),\"\")","v":""},{"$f":"IF(COUNTIF(data!A$6:A$5000,B114)>0,VLOOKUP(B114,data!A$6:M$5000,13,FALSE),\"\")","v":""},{"$f":"IF(B114>0,SUM(F$10:F114)-SUM(G$10:G114),\"\")","v":""}]
[null,null,{"$f":"IF(COUNTIF(data!A$6:A$5000,B115)>0,VLOOKUP(B115,data!A$6:M$5000,2,FALSE),\"\")","v":""},{"$f":"IF(COUNTIF(data!A$6:A$5000,B115)>0,VLOOKUP(B115,data!A$6:M$5000,4,FALSE),\"\")","v":""},{"$f":"IF(COUNTIF(data!A$6:A$5000,B115)>0,VLOOKUP(B115,data!A$6:M$5000,11,FALSE),\"\")","v":""},{"$f":"IF(COUNTIF(data!A$6:A$5000,B115)>0,VLOOKUP(B115,data!A$6:M$5000,12,FALSE),\"\")","v":""},{"$f":"IF(COUNTIF(data!A$6:A$5000,B115)>0,VLOOKUP(B115,data!A$6:M$5000,13,FALSE),\"\")","v":""},{"$f":"IF(B115>0,SUM(F$10:F115)-SUM(G$10:G115),\"\")","v":""}]
[null,null,{"$f":"IF(COUNTIF(data!A$6:A$5000,B116)>0,VLOOKUP(B116,data!A$6:M$5000,2,FALSE),\"\")","v":""},{"$f":"IF(COUNTIF(data!A$6:A$5000,B116)>0,VLOOKUP(B116,data!A$6:M$5000,4,FALSE),\"\")","v":""},{"$f":"IF(COUNTIF(data!A$6:A$5000,B116)>0,VLOOKUP(B116,data!A$6:M$5000,11,FALSE),\"\")","v":""},{"$f":"IF(COUNTIF(data!A$6:A$5000,B116)>0,VLOOKUP(B116,data!A$6:M$5000,12,FALSE),\"\")","v":""},{"$f":"IF(COUNTIF(data!A$6:A$5000,B116)>0,VLOOKUP(B116,data!A$6:M$5000,13,FALSE),\"\")","v":""},{"$f":"IF(B116>0,SUM(F$10:F116)-SUM(G$10:G116),\"\")","v":""}]
[null,null,{"$f":"IF(COUNTIF(data!A$6:A$5000,B117)>0,VLOOKUP(B117,data!A$6:M$5000,2,FALSE),\"\")","v":""},{"$f":"IF(COUNTIF(data!A$6:A$5000,B117)>0,VLOOKUP(B117,data!A$6:M$5000,4,FALSE),\"\")","v":""},{"$f":"IF(COUNTIF(data!A$6:A$5000,B117)>0,VLOOKUP(B117,data!A$6:M$5000,11,FALSE),\"\")","v":""},{"$f":"IF(COUNTIF(data!A$6:A$5000,B117)>0,VLOOKUP(B117,data!A$6:M$5000,12,FALSE),\"\")","v":""},{"$f":"IF(COUNTIF(data!A$6:A$5000,B117)>0,VLOOKUP(B117,data!A$6:M$5000,13,FALSE),\"\")","v":""},{"$f":"IF(B117>0,SUM(F$10:F117)-SUM(G$10:G117),\"\")","v":""}]
[null,null,{"$f":"IF(COUNTIF(data!A$6:A$5000,B118)>0,VLOOKUP(B118,data!A$6:M$5000,2,FALSE),\"\")","v":""},{"$f":"IF(COUNTIF(data!A$6:A$5000,B118)>0,VLOOKUP(B118,data!A$6:M$5000,4,FALSE),\"\")","v":""},{"$f":"IF(COUNTIF(data!A$6:A$5000,B118)>0,VLOOKUP(B118,data!A$6:M$5000,11,FALSE),\"\")","v":""},{"$f":"IF(COUNTIF(data!A$6:A$5000,B118)>0,VLOOKUP(B118,data!A$6:M$5000,12,FALSE),\"\")","v":""},{"$f":"IF(COUNTIF(data!A$6:A$5000,B118)>0,VLOOKUP(B118,data!A$6:M$5000,13,FALSE),\"\")","v":""},{"$f":"IF(B118>0,SUM(F$10:F118)-SUM(G$10:G118),\"\")","v":""}]
[null,null,{"$f":"IF(COUNTIF(data!A$6:A$5000,B119)>0,VLOOKUP(B119,data!A$6:M$5000,2,FALSE),\"\")","v":""},{"$f":"IF(COUNTIF(data!A$6:A$5000,B119)>0,VLOOKUP(B119,data!A$6:M$5000,4,FALSE),\"\")","v":""},{"$f":"IF(COUNTIF(data!A$6:A$5000,B119)>0,VLOOKUP(B119,data!A$6:M$5000,11,FALSE),\"\")","v":""},{"$f":"IF(COUNTIF(data!A$6:A$5000,B119)>0,VLOOKUP(B119,data!A$6:M$5000,12,FALSE),\"\")","v":""},{"$f":"IF(COUNTIF(data!A$6:A$5000,B119)>0,VLOOKUP(B119,data!A$6:M$5000,13,FALSE),\"\")","v":""},{"$f":"IF(B119>0,SUM(F$10:F119)-SUM(G$10:G119),\"\")","v":""}]
[null,null,{"$f":"IF(COUNTIF(data!A$6:A$5000,B120)>0,VLOOKUP(B120,data!A$6:M$5000,2,FALSE),\"\")","v":""},{"$f":"IF(COUNTIF(data!A$6:A$5000,B120)>0,VLOOKUP(B120,data!A$6:M$5000,4,FALSE),\"\")","v":""},{"$f":"IF(COUNTIF(data!A$6:A$5000,B120)>0,VLOOKUP(B120,data!A$6:M$5000,11,FALSE),\"\")","v":""},{"$f":"IF(COUNTIF(data!A$6:A$5000,B120)>0,VLOOKUP(B120,data!A$6:M$5000,12,FALSE),\"\")","v":""},{"$f":"IF(COUNTIF(data!A$6:A$5000,B120)>0,VLOOKUP(B120,data!A$6:M$5000,13,FALSE),\"\")","v":""},{"$f":"IF(B120>0,SUM(F$10:F120)-SUM(G$10:G120),\"\")","v":""}]
[null,null,{"$f":"IF(COUNTIF(data!A$6:A$5000,B121)>0,VLOOKUP(B121,data!A$6:M$5000,2,FALSE),\"\")","v":""},{"$f":"IF(COUNTIF(data!A$6:A$5000,B121)>0,VLOOKUP(B121,data!A$6:M$5000,4,FALSE),\"\")","v":""},{"$f":"IF(COUNTIF(data!A$6:A$5000,B121)>0,VLOOKUP(B121,data!A$6:M$5000,11,FALSE),\"\")","v":""},{"$f":"IF(COUNTIF(data!A$6:A$5000,B121)>0,VLOOKUP(B121,data!A$6:M$5000,12,FALSE),\"\")","v":""},{"$f":"IF(COUNTIF(data!A$6:A$5000,B121)>0,VLOOKUP(B121,data!A$6:M$5000,13,FALSE),\"\")","v":""},{"$f":"IF(B121>0,SUM(F$10:F121)-SUM(G$10:G121),\"\")","v":""}]
[null,null,{"$f":"IF(COUNTIF(data!A$6:A$5000,B122)>0,VLOOKUP(B122,data!A$6:M$5000,2,FALSE),\"\")","v":""},{"$f":"IF(COUNTIF(data!A$6:A$5000,B122)>0,VLOOKUP(B122,data!A$6:M$5000,4,FALSE),\"\")","v":""},{"$f":"IF(COUNTIF(data!A$6:A$5000,B122)>0,VLOOKUP(B122,data!A$6:M$5000,11,FALSE),\"\")","v":""},{"$f":"IF(COUNTIF(data!A$6:A$5000,B122)>0,VLOOKUP(B122,data!A$6:M$5000,12,FALSE),\"\")","v":""},{"$f":"IF(COUNTIF(data!A$6:A$5000,B122)>0,VLOOKUP(B122,data!A$6:M$5000,13,FALSE),\"\")","v":""},{"$f":"IF(B122>0,SUM(F$10:F122)-SUM(G$10:G122),\"\")","v":""}]
[null,null,{"$f":"IF(COUNTIF(data!A$6:A$5000,B123)>0,VLOOKUP(B123,data!A$6:M$5000,2,FALSE),\"\")","v":""},{"$f":"IF(COUNTIF(data!A$6:A$5000,B123)>0,VLOOKUP(B123,data!A$6:M$5000,4,FALSE),\"\")","v":""},{"$f":"IF(COUNTIF(data!A$6:A$5000,B123)>0,VLOOKUP(B123,data!A$6:M$5000,11,FALSE),\"\")","v":""},{"$f":"IF(COUNTIF(data!A$6:A$5000,B123)>0,VLOOKUP(B123,data!A$6:M$5000,12,FALSE),\"\")","v":""},{"$f":"IF(COUNTIF(data!A$6:A$5000,B123)>0,VLOOKUP(B123,data!A$6:M$5000,13,FALSE),\"\")","v":""},{"$f":"IF(B123>0,SUM(F$10:F123)-SUM(G$10:G123),\"\")","v":""}]
[null,null,{"$f":"IF(COUNTIF(data!A$6:A$5000,B124)>0,VLOOKUP(B124,data!A$6:M$5000,2,FALSE),\"\")","v":""},{"$f":"IF(COUNTIF(data!A$6:A$5000,B124)>0,VLOOKUP(B124,data!A$6:M$5000,4,FALSE),\"\")","v":""},{"$f":"IF(COUNTIF(data!A$6:A$5000,B124)>0,VLOOKUP(B124,data!A$6:M$5000,11,FALSE),\"\")","v":""},{"$f":"IF(COUNTIF(data!A$6:A$5000,B124)>0,VLOOKUP(B124,data!A$6:M$5000,12,FALSE),\"\")","v":""},{"$f":"IF(COUNTIF(data!A$6:A$5000,B124)>0,VLOOKUP(B124,data!A$6:M$5000,13,FALSE),\"\")","v":""},{"$f":"IF(B124>0,SUM(F$10:F124)-SUM(G$10:G124),\"\")","v":""}]
[null,null,{"$f":"IF(COUNTIF(data!A$6:A$5000,B125)>0,VLOOKUP(B125,data!A$6:M$5000,2,FALSE),\"\")","v":""},{"$f":"IF(COUNTIF(data!A$6:A$5000,B125)>0,VLOOKUP(B125,data!A$6:M$5000,4,FALSE),\"\")","v":""},{"$f":"IF(COUNTIF(data!A$6:A$5000,B125)>0,VLOOKUP(B125,data!A$6:M$5000,11,FALSE),\"\")","v":""},{"$f":"IF(COUNTIF(data!A$6:A$5000,B125)>0,VLOOKUP(B125,data!A$6:M$5000,12,FALSE),\"\")","v":""},{"$f":"IF(COUNTIF(data!A$6:A$5000,B125)>0,VLOOKUP(B125,data!A$6:M$5000,13,FALSE),\"\")","v":""},{"$f":"IF(B125>0,SUM(F$10:F125)-SUM(G$10:G125),\"\")","v":""}]
[null,null,{"$f":"IF(COUNTIF(data!A$6:A$5000,B126)>0,VLOOKUP(B126,data!A$6:M$5000,2,FALSE),\"\")","v":""},{"$f":"IF(COUNTIF(data!A$6:A$5000,B126)>0,VLOOKUP(B126,data!A$6:M$5000,4,FALSE),\"\")","v":""},{"$f":"IF(COUNTIF(data!A$6:A$5000,B126)>0,VLOOKUP(B126,data!A$6:M$5000,11,FALSE),\"\")","v":""},{"$f":"IF(COUNTIF(data!A$6:A$5000,B126)>0,VLOOKUP(B126,data!A$6:M$5000,12,FALSE),\"\")","v":""},{"$f":"IF(COUNTIF(data!A$6:A$5000,B126)>0,VLOOKUP(B126,data!A$6:M$5000,13,FALSE),\"\")","v":""},{"$f":"IF(B126>0,SUM(F$10:F126)-SUM(G$10:G126),\"\")","v":""}]
[null,null,{"$f":"IF(COUNTIF(data!A$6:A$5000,B127)>0,VLOOKUP(B127,data!A$6:M$5000,2,FALSE),\"\")","v":""},{"$f":"IF(COUNTIF(data!A$6:A$5000,B127)>0,VLOOKUP(B127,data!A$6:M$5000,4,FALSE),\"\")","v":""},{"$f":"IF(COUNTIF(data!A$6:A$5000,B127)>0,VLOOKUP(B127,data!A$6:M$5000,11,FALSE),\"\")","v":""},{"$f":"IF(COUNTIF(data!A$6:A$5000,B127)>0,VLOOKUP(B127,data!A$6:M$5000,12,FALSE),\"\")","v":""},{"$f":"IF(COUNTIF(data!A$6:A$5000,B127)>0,VLOOKUP(B127,data!A$6:M$5000,13,FALSE),\"\")","v":""},{"$f":"IF(B127>0,SUM(F$10:F127)-SUM(G$10:G127),\"\")","v":""}]
[null,null,{"$f":"IF(COUNTIF(data!A$6:A$5000,B128)>0,VLOOKUP(B128,data!A$6:M$5000,2,FALSE),\"\")","v":""},{"$f":"IF(COUNTIF(data!A$6:A$5000,B128)>0,VLOOKUP(B128,data!A$6:M$5000,4,FALSE),\"\")","v":""},{"$f":"IF(COUNTIF(data!A$6:A$5000,B128)>0,VLOOKUP(B128,data!A$6:M$5000,11,FALSE),\"\")","v":""},{"$f":"IF(COUNTIF(data!A$6:A$5000,B128)>0,VLOOKUP(B128,data!A$6:M$5000,12,FALSE),\"\")","v":""},{"$f":"IF(COUNTIF(data!A$6:A$5000,B128)>0,VLOOKUP(B128,data!A$6:M$5000,13,FALSE),\"\")","v":""},{"$f":"IF(B128>0,SUM(F$10:F128)-SUM(G$10:G128),\"\")","v":""}]
[null,null,{"$f":"IF(COUNTIF(data!A$6:A$5000,B129)>0,VLOOKUP(B129,data!A$6:M$5000,2,FALSE),\"\")","v":""},{"$f":"IF(COUNTIF(data!A$6:A$5000,B129)>0,VLOOKUP(B129,data!A$6:M$5000,4,FALSE),\"\")","v":""},{"$f":"IF(COUNTIF(data!A$6:A$5000,B129)>0,VLOOKUP(B129,data!A$6:M$5000,11,FALSE),\"\")","v":""},{"$f":"IF(COUNTIF(data!A$6:A$5000,B129)>0,VLOOKUP(B129,data!A$6:M$5000,12,FALSE),\"\")","v":""},{"$f":"IF(COUNTIF(data!A$6:A$5000,B129)>0,VLOOKUP(B129,data!A$6:M$5000,13,FALSE),\"\")","v":""},{"$f":"IF(B129>0,SUM(F$10:F129)-SUM(G$10:G129),\"\")","v":""}]
[null,null,{"$f":"IF(COUNTIF(data!A$6:A$5000,B130)>0,VLOOKUP(B130,data!A$6:M$5000,2,FALSE),\"\")","v":""},{"$f":"IF(COUNTIF(data!A$6:A$5000,B130)>0,VLOOKUP(B130,data!A$6:M$5000,4,FALSE),\"\")","v":""},{"$f":"IF(COUNTIF(data!A$6:A$5000,B130)>0,VLOOKUP(B130,data!A$6:M$5000,11,FALSE),\"\")","v":""},{"$f":"IF(COUNTIF(data!A$6:A$5000,B130)>0,VLOOKUP(B130,data!A$6:M$5000,12,FALSE),\"\")","v":""},{"$f":"IF(COUNTIF(data!A$6:A$5000,B130)>0,VLOOKUP(B130,data!A$6:M$5000,13,FALSE),\"\")","v":""},{"$f":"IF(B130>0,SUM(F$10:F130)-SUM(G$10:G130),\"\")","v":""}]
[null,null,{"$f":"IF(COUNTIF(data!A$6:A$5000,B131)>0,VLOOKUP(B131,data!A$6:M$5000,2,FALSE),\"\")","v":""},{"$f":"IF(COUNTIF(data!A$6:A$5000,B131)>0,VLOOKUP(B131,data!A$6:M$5000,4,FALSE),\"\")","v":""},{"$f":"IF(COUNTIF(data!A$6:A$5000,B131)>0,VLOOKUP(B131,data!A$6:M$5000,11,FALSE),\"\")","v":""},{"$f":"IF(COUNTIF(data!A$6:A$5000,B131)>0,VLOOKUP(B131,data!A$6:M$5000,12,FALSE),\"\")","v":""},{"$f":"IF(COUNTIF(data!A$6:A$5000,B131)>0,VLOOKUP(B131,data!A$6:M$5000,13,FALSE),\"\")","v":""},{"$f":"IF(B131>0,SUM(F$10:F131)-SUM(G$10:G131),\"\")","v":""}]
[null,null,{"$f":"IF(COUNTIF(data!A$6:A$5000,B132)>0,VLOOKUP(B132,data!A$6:M$5000,2,FALSE),\"\")","v":""},{"$f":"IF(COUNTIF(data!A$6:A$5000,B132)>0,VLOOKUP(B132,data!A$6:M$5000,4,FALSE),\"\")","v":""},{"$f":"IF(COUNTIF(data!A$6:A$5000,B132)>0,VLOOKUP(B132,data!A$6:M$5000,11,FALSE),\"\")","v":""},{"$f":"IF(COUNTIF(data!A$6:A$5000,B132)>0,VLOOKUP(B132,data!A$6:M$5000,12,FALSE),\"\")","v":""},{"$f":"IF(COUNTIF(data!A$6:A$5000,B132)>0,VLOOKUP(B132,data!A$6:M$5000,13,FALSE),\"\")","v":""},{"$f":"IF(B132>0,SUM(F$10:F132)-SUM(G$10:G132),\"\")","v":""}]
[null,null,{"$f":"IF(COUNTIF(data!A$6:A$5000,B133)>0,VLOOKUP(B133,data!A$6:M$5000,2,FALSE),\"\")","v":""},{"$f":"IF(COUNTIF(data!A$6:A$5000,B133)>0,VLOOKUP(B133,data!A$6:M$5000,4,FALSE),\"\")","v":""},{"$f":"IF(COUNTIF(data!A$6:A$5000,B133)>0,VLOOKUP(B133,data!A$6:M$5000,11,FALSE),\"\")","v":""},{"$f":"IF(COUNTIF(data!A$6:A$5000,B133)>0,VLOOKUP(B133,data!A$6:M$5000,12,FALSE),\"\")","v":""},{"$f":"IF(COUNTIF(data!A$6:A$5000,B133)>0,VLOOKUP(B133,data!A$6:M$5000,13,FALSE),\"\")","v":""},{"$f":"IF(B133>0,SUM(F$10:F133)-SUM(G$10:G133),\"\")","v":""}]
[null,null,{"$f":"IF(COUNTIF(data!A$6:A$5000,B134)>0,VLOOKUP(B134,data!A$6:M$5000,2,FALSE),\"\")","v":""},{"$f":"IF(COUNTIF(data!A$6:A$5000,B134)>0,VLOOKUP(B134,data!A$6:M$5000,4,FALSE),\"\")","v":""},{"$f":"IF(COUNTIF(data!A$6:A$5000,B134)>0,VLOOKUP(B134,data!A$6:M$5000,11,FALSE),\"\")","v":""},{"$f":"IF(COUNTIF(data!A$6:A$5000,B134)>0,VLOOKUP(B134,data!A$6:M$5000,12,FALSE),\"\")","v":""},{"$f":"IF(COUNTIF(data!A$6:A$5000,B134)>0,VLOOKUP(B134,data!A$6:M$5000,13,FALSE),\"\")","v":""},{"$f":"IF(B134>0,SUM(F$10:F134)-SUM(G$10:G134),\"\")","v":""}]
[null,null,{"$f":"IF(COUNTIF(data!A$6:A$5000,B135)>0,VLOOKUP(B135,data!A$6:M$5000,2,FALSE),\"\")","v":""},{"$f":"IF(COUNTIF(data!A$6:A$5000,B135)>0,VLOOKUP(B135,data!A$6:M$5000,4,FALSE),\"\")","v":""},{"$f":"IF(COUNTIF(data!A$6:A$5000,B135)>0,VLOOKUP(B135,data!A$6:M$5000,11,FALSE),\"\")","v":""},{"$f":"IF(COUNTIF(data!A$6:A$5000,B135)>0,VLOOKUP(B135,data!A$6:M$5000,12,FALSE),\"\")","v":""},{"$f":"IF(COUNTIF(data!A$6:A$5000,B135)>0,VLOOKUP(B135,data!A$6:M$5000,13,FALSE),\"\")","v":""},{"$f":"IF(B135>0,SUM(F$10:F135)-SUM(G$10:G135),\"\")","v":""}]
[null,null,{"$f":"IF(COUNTIF(data!A$6:A$5000,B136)>0,VLOOKUP(B136,data!A$6:M$5000,2,FALSE),\"\")","v":""},{"$f":"IF(COUNTIF(data!A$6:A$5000,B136)>0,VLOOKUP(B136,data!A$6:M$5000,4,FALSE),\"\")","v":""},{"$f":"IF(COUNTIF(data!A$6:A$5000,B136)>0,VLOOKUP(B136,data!A$6:M$5000,11,FALSE),\"\")","v":""},{"$f":"IF(COUNTIF(data!A$6:A$5000,B136)>0,VLOOKUP(B136,data!A$6:M$5000,12,FALSE),\"\")","v":""},{"$f":"IF(COUNTIF(data!A$6:A$5000,B136)>0,VLOOKUP(B136,data!A$6:M$5000,13,FALSE),\"\")","v":""},{"$f":"IF(B136>0,SUM(F$10:F136)-SUM(G$10:G136),\"\")","v":""}]
[null,null,{"$f":"IF(COUNTIF(data!A$6:A$5000,B137)>0,VLOOKUP(B137,data!A$6:M$5000,2,FALSE),\"\")","v":""},{"$f":"IF(COUNTIF(data!A$6:A$5000,B137)>0,VLOOKUP(B137,data!A$6:M$5000,4,FALSE),\"\")","v":""},{"$f":"IF(COUNTIF(data!A$6:A$5000,B137)>0,VLOOKUP(B137,data!A$6:M$5000,11,FALSE),\"\")","v":""},{"$f":"IF(COUNTIF(data!A$6:A$5000,B137)>0,VLOOKUP(B137,data!A$6:M$5000,12,FALSE),\"\")","v":""},{"$f":"IF(COUNTIF(data!A$6:A$5000,B137)>0,VLOOKUP(B137,data!A$6:M$5000,13,FALSE),\"\")","v":""},{"$f":"IF(B137>0,SUM(F$10:F137)-SUM(G$10:G137),\"\")","v":""}]
[null,null,{"$f":"IF(COUNTIF(data!A$6:A$5000,B138)>0,VLOOKUP(B138,data!A$6:M$5000,2,FALSE),\"\")","v":""},{"$f":"IF(COUNTIF(data!A$6:A$5000,B138)>0,VLOOKUP(B138,data!A$6:M$5000,4,FALSE),\"\")","v":""},{"$f":"IF(COUNTIF(data!A$6:A$5000,B138)>0,VLOOKUP(B138,data!A$6:M$5000,11,FALSE),\"\")","v":""},{"$f":"IF(COUNTIF(data!A$6:A$5000,B138)>0,VLOOKUP(B138,data!A$6:M$5000,12,FALSE),\"\")","v":""},{"$f":"IF(COUNTIF(data!A$6:A$5000,B138)>0,VLOOKUP(B138,data!A$6:M$5000,13,FALSE),\"\")","v":""},{"$f":"IF(B138>0,SUM(F$10:F138)-SUM(G$10:G138),\"\")","v":""}]
[null,null,{"$f":"IF(COUNTIF(data!A$6:A$5000,B139)>0,VLOOKUP(B139,data!A$6:M$5000,2,FALSE),\"\")","v":""},{"$f":"IF(COUNTIF(data!A$6:A$5000,B139)>0,VLOOKUP(B139,data!A$6:M$5000,4,FALSE),\"\")","v":""},{"$f":"IF(COUNTIF(data!A$6:A$5000,B139)>0,VLOOKUP(B139,data!A$6:M$5000,11,FALSE),\"\")","v":""},{"$f":"IF(COUNTIF(data!A$6:A$5000,B139)>0,VLOOKUP(B139,data!A$6:M$5000,12,FALSE),\"\")","v":""},{"$f":"IF(COUNTIF(data!A$6:A$5000,B139)>0,VLOOKUP(B139,data!A$6:M$5000,13,FALSE),\"\")","v":""},{"$f":"IF(B139>0,SUM(F$10:F139)-SUM(G$10:G139),\"\")","v":""}]
[null,null,{"$f":"IF(COUNTIF(data!A$6:A$5000,B140)>0,VLOOKUP(B140,data!A$6:M$5000,2,FALSE),\"\")","v":""},{"$f":"IF(COUNTIF(data!A$6:A$5000,B140)>0,VLOOKUP(B140,data!A$6:M$5000,4,FALSE),\"\")","v":""},{"$f":"IF(COUNTIF(data!A$6:A$5000,B140)>0,VLOOKUP(B140,data!A$6:M$5000,11,FALSE),\"\")","v":""},{"$f":"IF(COUNTIF(data!A$6:A$5000,B140)>0,VLOOKUP(B140,data!A$6:M$5000,12,FALSE),\"\")","v":""},{"$f":"IF(COUNTIF(data!A$6:A$5000,B140)>0,VLOOKUP(B140,data!A$6:M$5000,13,FALSE),\"\")","v":""},{"$f":"IF(B140>0,SUM(F$10:F140)-SUM(G$10:G140),\"\")","v":""}]
[null,null,{"$f":"IF(COUNTIF(data!A$6:A$5000,B141)>0,VLOOKUP(B141,data!A$6:M$5000,2,FALSE),\"\")","v":""},{"$f":"IF(COUNTIF(data!A$6:A$5000,B141)>0,VLOOKUP(B141,data!A$6:M$5000,4,FALSE),\"\")","v":""},{"$f":"IF(COUNTIF(data!A$6:A$5000,B141)>0,VLOOKUP(B141,data!A$6:M$5000,11,FALSE),\"\")","v":""},{"$f":"IF(COUNTIF(data!A$6:A$5000,B141)>0,VLOOKUP(B141,data!A$6:M$5000,12,FALSE),\"\")","v":""},{"$f":"IF(COUNTIF(data!A$6:A$5000,B141)>0,VLOOKUP(B141,data!A$6:M$5000,13,FALSE),\"\")","v":""},{"$f":"IF(B141>0,SUM(F$10:F141)-SUM(G$10:G141),\"\")","v":""}]
[null,null,{"$f":"IF(COUNTIF(data!A$6:A$5000,B142)>0,VLOOKUP(B142,data!A$6:M$5000,2,FALSE),\"\")","v":""},{"$f":"IF(COUNTIF(data!A$6:A$5000,B142)>0,VLOOKUP(B142,data!A$6:M$5000,4,FALSE),\"\")","v":""},{"$f":"IF(COUNTIF(data!A$6:A$5000,B142)>0,VLOOKUP(B142,data!A$6:M$5000,11,FALSE),\"\")","v":""},{"$f":"IF(COUNTIF(data!A$6:A$5000,B142)>0,VLOOKUP(B142,data!A$6:M$5000,12,FALSE),\"\")","v":""},{"$f":"IF(COUNTIF(data!A$6:A$5000,B142)>0,VLOOKUP(B142,data!A$6:M$5000,13,FALSE),\"\")","v":""},{"$f":"IF(B142>0,SUM(F$10:F142)-SUM(G$10:G142),\"\")","v":""}]
[null,null,{"$f":"IF(COUNTIF(data!A$6:A$5000,B143)>0,VLOOKUP(B143,data!A$6:M$5000,2,FALSE),\"\")","v":""},{"$f":"IF(COUNTIF(data!A$6:A$5000,B143)>0,VLOOKUP(B143,data!A$6:M$5000,4,FALSE),\"\")","v":""},{"$f":"IF(COUNTIF(data!A$6:A$5000,B143)>0,VLOOKUP(B143,data!A$6:M$5000,11,FALSE),\"\")","v":""},{"$f":"IF(COUNTIF(data!A$6:A$5000,B143)>0,VLOOKUP(B143,data!A$6:M$5000,12,FALSE),\"\")","v":""},{"$f":"IF(COUNTIF(data!A$6:A$5000,B143)>0,VLOOKUP(B143,data!A$6:M$5000,13,FALSE),\"\")","v":""},{"$f":"IF(B143>0,SUM(F$10:F143)-SUM(G$10:G143),\"\")","v":""}]
[null,null,{"$f":"IF(COUNTIF(data!A$6:A$5000,B144)>0,VLOOKUP(B144,data!A$6:M$5000,2,FALSE),\"\")","v":""},{"$f":"IF(COUNTIF(data!A$6:A$5000,B144)>0,VLOOKUP(B144,data!A$6:M$5000,4,FALSE),\"\")","v":""},{"$f":"IF(COUNTIF(data!A$6:A$5000,B144)>0,VLOOKUP(B144,data!A$6:M$5000,11,FALSE),\"\")","v":""},{"$f":"IF(COUNTIF(data!A$6:A$5000,B144)>0,VLOOKUP(B144,data!A$6:M$5000,12,FALSE),\"\")","v":""},{"$f":"IF(COUNTIF(data!A$6:A$5000,B144)>0,VLOOKUP(B144,data!A$6:M$5000,13,FALSE),\"\")","v":""},{"$f":"IF(B144>0,SUM(F$10:F144)-SUM(G$10:G144),\"\")","v":""}]
[null,null,{"$f":"IF(COUNTIF(data!A$6:A$5000,B145)>0,VLOOKUP(B145,data!A$6:M$5000,2,FALSE),\"\")","v":""},{"$f":"IF(COUNTIF(data!A$6:A$5000,B145)>0,VLOOKUP(B145,data!A$6:M$5000,4,FALSE),\"\")","v":""},{"$f":"IF(COUNTIF(data!A$6:A$5000,B145)>0,VLOOKUP(B145,data!A$6:M$5000,11,FALSE),\"\")","v":""},{"$f":"IF(COUNTIF(data!A$6:A$5000,B145)>0,VLOOKUP(B145,data!A$6:M$5000,12,FALSE),\"\")","v":""},{"$f":"IF(COUNTIF(data!A$6:A$5000,B145)>0,VLOOKUP(B145,data!A$6:M$5000,13,FALSE),\"\")","v":""},{"$f":"IF(B145>0,SUM(F$10:F145)-SUM(G$10:G145),\"\")","v":""}]
[null,null,{"$f":"IF(COUNTIF(data!A$6:A$5000,B146)>0,VLOOKUP(B146,data!A$6:M$5000,2,FALSE),\"\")","v":""},{"$f":"IF(COUNTIF(data!A$6:A$5000,B146)>0,VLOOKUP(B146,data!A$6:M$5000,4,FALSE),\"\")","v":""},{"$f":"IF(COUNTIF(data!A$6:A$5000,B146)>0,VLOOKUP(B146,data!A$6:M$5000,11,FALSE),\"\")","v":""},{"$f":"IF(COUNTIF(data!A$6:A$5000,B146)>0,VLOOKUP(B146,data!A$6:M$5000,12,FALSE),\"\")","v":""},{"$f":"IF(COUNTIF(data!A$6:A$5000,B146)>0,VLOOKUP(B146,data!A$6:M$5000,13,FALSE),\"\")","v":""},{"$f":"IF(B146>0,SUM(F$10:F146)-SUM(G$10:G146),\"\")","v":""}]
[null,null,{"$f":"IF(COUNTIF(data!A$6:A$5000,B147)>0,VLOOKUP(B147,data!A$6:M$5000,2,FALSE),\"\")","v":""},{"$f":"IF(COUNTIF(data!A$6:A$5000,B147)>0,VLOOKUP(B147,data!A$6:M$5000,4,FALSE),\"\")","v":""},{"$f":"IF(COUNTIF(data!A$6:A$5000,B147)>0,VLOOKUP(B147,data!A$6:M$5000,11,FALSE),\"\")","v":""},{"$f":"IF(COUNTIF(data!A$6:A$5000,B147)>0,VLOOKUP(B147,data!A$6:M$5000,12,FALSE),\"\")","v":""},{"$f":"IF(COUNTIF(data!A$6:A$5000,B147)>0,VLOOKUP(B147,data!A$6:M$5000,13,FALSE),\"\")","v":""},{"$f":"IF(B147>0,SUM(F$10:F147)-SUM(G$10:G147),\"\")","v":""}]
[null,null,{"$f":"IF(COUNTIF(data!A$6:A$5000,B148)>0,VLOOKUP(B148,data!A$6:M$5000,2,FALSE),\"\")","v":""},{"$f":"IF(COUNTIF(data!A$6:A$5000,B148)>0,VLOOKUP(B148,data!A$6:M$5000,4,FALSE),\"\")","v":""},{"$f":"IF(COUNTIF(data!A$6:A$5000,B148)>0,VLOOKUP(B148,data!A$6:M$5000,11,FALSE),\"\")","v":""},{"$f":"IF(COUNTIF(data!A$6:A$5000,B148)>0,VLOOKUP(B148,data!A$6:M$5000,12,FALSE),\"\")","v":""},{"$f":"IF(COUNTIF(data!A$6:A$5000,B148)>0,VLOOKUP(B148,data!A$6:M$5000,13,FALSE),\"\")","v":""},{"$f":"IF(B148>0,SUM(F$10:F148)-SUM(G$10:G148),\"\")","v":""}]
[null,null,{"$f":"IF(COUNTIF(data!A$6:A$5000,B149)>0,VLOOKUP(B149,data!A$6:M$5000,2,FALSE),\"\")","v":""},{"$f":"IF(COUNTIF(data!A$6:A$5000,B149)>0,VLOOKUP(B149,data!A$6:M$5000,4,FALSE),\"\")","v":""},{"$f":"IF(COUNTIF(data!A$6:A$5000,B149)>0,VLOOKUP(B149,data!A$6:M$5000,11,FALSE),\"\")","v":""},{"$f":"IF(COUNTIF(data!A$6:A$5000,B149)>0,VLOOKUP(B149,data!A$6:M$5000,12,FALSE),\"\")","v":""},{"$f":"IF(COUNTIF(data!A$6:A$5000,B149)>0,VLOOKUP(B149,data!A$6:M$5000,13,FALSE),\"\")","v":""},{"$f":"IF(B149>0,SUM(F$10:F149)-SUM(G$10:G149),\"\")","v":""}]
[null,null,{"$f":"IF(COUNTIF(data!A$6:A$5000,B150)>0,VLOOKUP(B150,data!A$6:M$5000,2,FALSE),\"\")","v":""},{"$f":"IF(COUNTIF(data!A$6:A$5000,B150)>0,VLOOKUP(B150,data!A$6:M$5000,4,FALSE),\"\")","v":""},{"$f":"IF(COUNTIF(data!A$6:A$5000,B150)>0,VLOOKUP(B150,data!A$6:M$5000,11,FALSE),\"\")","v":""},{"$f":"IF(COUNTIF(data!A$6:A$5000,B150)>0,VLOOKUP(B150,data!A$6:M$5000,12,FALSE),\"\")","v":""},{"$f":"IF(COUNTIF(data!A$6:A$5000,B150)>0,VLOOKUP(B150,data!A$6:M$5000,13,FALSE),\"\")","v":""},{"$f":"IF(B150>0,SUM(F$10:F150)-SUM(G$10:G150),\"\")","v":""}]
[null,null,{"$f":"IF(COUNTIF(data!A$6:A$5000,B151)>0,VLOOKUP(B151,data!A$6:M$5000,2,FALSE),\"\")","v":""},{"$f":"IF(COUNTIF(data!A$6:A$5000,B151)>0,VLOOKUP(B151,data!A$6:M$5000,4,FALSE),\"\")","v":""},{"$f":"IF(COUNTIF(data!A$6:A$5000,B151)>0,VLOOKUP(B151,data!A$6:M$5000,11,FALSE),\"\")","v":""},{"$f":"IF(COUNTIF(data!A$6:A$5000,B151)>0,VLOOKUP(B151,data!A$6:M$5000,12,FALSE),\"\")","v":""},{"$f":"IF(COUNTIF(data!A$6:A$5000,B151)>0,VLOOKUP(B151,data!A$6:M$5000,13,FALSE),\"\")","v":""},{"$f":"IF(B151>0,SUM(F$10:F151)-SUM(G$10:G151),\"\")","v":""}]
[null,null,{"$f":"IF(COUNTIF(data!A$6:A$5000,B152)>0,VLOOKUP(B152,data!A$6:M$5000,2,FALSE),\"\")","v":""},{"$f":"IF(COUNTIF(data!A$6:A$5000,B152)>0,VLOOKUP(B152,data!A$6:M$5000,4,FALSE),\"\")","v":""},{"$f":"IF(COUNTIF(data!A$6:A$5000,B152)>0,VLOOKUP(B152,data!A$6:M$5000,11,FALSE),\"\")","v":""},{"$f":"IF(COUNTIF(data!A$6:A$5000,B152)>0,VLOOKUP(B152,data!A$6:M$5000,12,FALSE),\"\")","v":""},{"$f":"IF(COUNTIF(data!A$6:A$5000,B152)>0,VLOOKUP(B152,data!A$6:M$5000,13,FALSE),\"\")","v":""},{"$f":"IF(B152>0,SUM(F$10:F152)-SUM(G$10:G152),\"\")","v":""}]
[null,null,{"$f":"IF(COUNTIF(data!A$6:A$5000,B153)>0,VLOOKUP(B153,data!A$6:M$5000,2,FALSE),\"\")","v":""},{"$f":"IF(COUNTIF(data!A$6:A$5000,B153)>0,VLOOKUP(B153,data!A$6:M$5000,4,FALSE),\"\")","v":""},{"$f":"IF(COUNTIF(data!A$6:A$5000,B153)>0,VLOOKUP(B153,data!A$6:M$5000,11,FALSE),\"\")","v":""},{"$f":"IF(COUNTIF(data!A$6:A$5000,B153)>0,VLOOKUP(B153,data!A$6:M$5000,12,FALSE),\"\")","v":""},{"$f":"IF(COUNTIF(data!A$6:A$5000,B153)>0,VLOOKUP(B153,data!A$6:M$5000,13,FALSE),\"\")","v":""},{"$f":"IF(B153>0,SUM(F$10:F153)-SUM(G$10:G153),\"\")","v":""}]
[null,null,{"$f":"IF(COUNTIF(data!A$6:A$5000,B154)>0,VLOOKUP(B154,data!A$6:M$5000,2,FALSE),\"\")","v":""},{"$f":"IF(COUNTIF(data!A$6:A$5000,B154)>0,VLOOKUP(B154,data!A$6:M$5000,4,FALSE),\"\")","v":""},{"$f":"IF(COUNTIF(data!A$6:A$5000,B154)>0,VLOOKUP(B154,data!A$6:M$5000,11,FALSE),\"\")","v":""},{"$f":"IF(COUNTIF(data!A$6:A$5000,B154)>0,VLOOKUP(B154,data!A$6:M$5000,12,FALSE),\"\")","v":""},{"$f":"IF(COUNTIF(data!A$6:A$5000,B154)>0,VLOOKUP(B154,data!A$6:M$5000,13,FALSE),\"\")","v":""},{"$f":"IF(B154>0,SUM(F$10:F154)-SUM(G$10:G154),\"\")","v":""}]
[null,null,{"$f":"IF(COUNTIF(data!A$6:A$5000,B155)>0,VLOOKUP(B155,data!A$6:M$5000,2,FALSE),\"\")","v":""},{"$f":"IF(COUNTIF(data!A$6:A$5000,B155)>0,VLOOKUP(B155,data!A$6:M$5000,4,FALSE),\"\")","v":""},{"$f":"IF(COUNTIF(data!A$6:A$5000,B155)>0,VLOOKUP(B155,data!A$6:M$5000,11,FALSE),\"\")","v":""},{"$f":"IF(COUNTIF(data!A$6:A$5000,B155)>0,VLOOKUP(B155,data!A$6:M$5000,12,FALSE),\"\")","v":""},{"$f":"IF(COUNTIF(data!A$6:A$5000,B155)>0,VLOOKUP(B155,data!A$6:M$5000,13,FALSE),\"\")","v":""},{"$f":"IF(B155>0,SUM(F$10:F155)-SUM(G$10:G155),\"\")","v":""}]
[null,null,{"$f":"IF(COUNTIF(data!A$6:A$5000,B156)>0,VLOOKUP(B156,data!A$6:M$5000,2,FALSE),\"\")","v":""},{"$f":"IF(COUNTIF(data!A$6:A$5000,B156)>0,VLOOKUP(B156,data!A$6:M$5000,4,FALSE),\"\")","v":""},{"$f":"IF(COUNTIF(data!A$6:A$5000,B156)>0,VLOOKUP(B156,data!A$6:M$5000,11,FALSE),\"\")","v":""},{"$f":"IF(COUNTIF(data!A$6:A$5000,B156)>0,VLOOKUP(B156,data!A$6:M$5000,12,FALSE),\"\")","v":""},{"$f":"IF(COUNTIF(data!A$6:A$5000,B156)>0,VLOOKUP(B156,data!A$6:M$5000,13,FALSE),\"\")","v":""},{"$f":"IF(B156>0,SUM(F$10:F156)-SUM(G$10:G156),\"\")","v":""}]
[null,null,{"$f":"IF(COUNTIF(data!A$6:A$5000,B157)>0,VLOOKUP(B157,data!A$6:M$5000,2,FALSE),\"\")","v":""},{"$f":"IF(COUNTIF(data!A$6:A$5000,B157)>0,VLOOKUP(B157,data!A$6:M$5000,4,FALSE),\"\")","v":""},{"$f":"IF(COUNTIF(data!A$6:A$5000,B157)>0,VLOOKUP(B157,data!A$6:M$5000,11,FALSE),\"\")","v":""},{"$f":"IF(COUNTIF(data!A$6:A$5000,B157)>0,VLOOKUP(B157,data!A$6:M$5000,12,FALSE),\"\")","v":""},{"$f":"IF(COUNTIF(data!A$6:A$5000,B157)>0,VLOOKUP(B157,data!A$6:M$5000,13,FALSE),\"\")","v":""},{"$f":"IF(B157>0,SUM(F$10:F157)-SUM(G$10:G157),\"\")","v":""}]
[null,null,{"$f":"IF(COUNTIF(data!A$6:A$5000,B158)>0,VLOOKUP(B158,data!A$6:M$5000,2,FALSE),\"\")","v":""},{"$f":"IF(COUNTIF(data!A$6:A$5000,B158)>0,VLOOKUP(B158,data!A$6:M$5000,4,FALSE),\"\")","v":""},{"$f":"IF(COUNTIF(data!A$6:A$5000,B158)>0,VLOOKUP(B158,data!A$6:M$5000,11,FALSE),\"\")","v":""},{"$f":"IF(COUNTIF(data!A$6:A$5000,B158)>0,VLOOKUP(B158,data!A$6:M$5000,12,FALSE),\"\")","v":""},{"$f":"IF(COUNTIF(data!A$6:A$5000,B158)>0,VLOOKUP(B158,data!A$6:M$5000,13,FALSE),\"\")","v":""},{"$f":"IF(B158>0,SUM(F$10:F158)-SUM(G$10:G158),\"\")","v":""}]
[null,null,{"$f":"IF(COUNTIF(data!A$6:A$5000,B159)>0,VLOOKUP(B159,data!A$6:M$5000,2,FALSE),\"\")","v":""},{"$f":"IF(COUNTIF(data!A$6:A$5000,B159)>0,VLOOKUP(B159,data!A$6:M$5000,4,FALSE),\"\")","v":""},{"$f":"IF(COUNTIF(data!A$6:A$5000,B159)>0,VLOOKUP(B159,data!A$6:M$5000,11,FALSE),\"\")","v":""},{"$f":"IF(COUNTIF(data!A$6:A$5000,B159)>0,VLOOKUP(B159,data!A$6:M$5000,12,FALSE),\"\")","v":""},{"$f":"IF(COUNTIF(data!A$6:A$5000,B159)>0,VLOOKUP(B159,data!A$6:M$5000,13,FALSE),\"\")","v":""},{"$f":"IF(B159>0,SUM(F$10:F159)-SUM(G$10:G159),\"\")","v":""}]
[null,null,{"$f":"IF(COUNTIF(data!A$6:A$5000,B160)>0,VLOOKUP(B160,data!A$6:M$5000,2,FALSE),\"\")","v":""},{"$f":"IF(COUNTIF(data!A$6:A$5000,B160)>0,VLOOKUP(B160,data!A$6:M$5000,4,FALSE),\"\")","v":""},{"$f":"IF(COUNTIF(data!A$6:A$5000,B160)>0,VLOOKUP(B160,data!A$6:M$5000,11,FALSE),\"\")","v":""},{"$f":"IF(COUNTIF(data!A$6:A$5000,B160)>0,VLOOKUP(B160,data!A$6:M$5000,12,FALSE),\"\")","v":""},{"$f":"IF(COUNTIF(data!A$6:A$5000,B160)>0,VLOOKUP(B160,data!A$6:M$5000,13,FALSE),\"\")","v":""},{"$f":"IF(B160>0,SUM(F$10:F160)-SUM(G$10:G160),\"\")","v":""}]
[null,null,{"$f":"IF(COUNTIF(data!A$6:A$5000,B161)>0,VLOOKUP(B161,data!A$6:M$5000,2,FALSE),\"\")","v":""},{"$f":"IF(COUNTIF(data!A$6:A$5000,B161)>0,VLOOKUP(B161,data!A$6:M$5000,4,FALSE),\"\")","v":""},{"$f":"IF(COUNTIF(data!A$6:A$5000,B161)>0,VLOOKUP(B161,data!A$6:M$5000,11,FALSE),\"\")","v":""},{"$f":"IF(COUNTIF(data!A$6:A$5000,B161)>0,VLOOKUP(B161,data!A$6:M$5000,12,FALSE),\"\")","v":""},{"$f":"IF(COUNTIF(data!A$6:A$5000,B161)>0,VLOOKUP(B161,data!A$6:M$5000,13,FALSE),\"\")","v":""},{"$f":"IF(B161>0,SUM(F$10:F161)-SUM(G$10:G161),\"\")","v":""}]
[null,null,{"$f":"IF(COUNTIF(data!A$6:A$5000,B162)>0,VLOOKUP(B162,data!A$6:M$5000,2,FALSE),\"\")","v":""},{"$f":"IF(COUNTIF(data!A$6:A$5000,B162)>0,VLOOKUP(B162,data!A$6:M$5000,4,FALSE),\"\")","v":""},{"$f":"IF(COUNTIF(data!A$6:A$5000,B162)>0,VLOOKUP(B162,data!A$6:M$5000,11,FALSE),\"\")","v":""},{"$f":"IF(COUNTIF(data!A$6:A$5000,B162)>0,VLOOKUP(B162,data!A$6:M$5000,12,FALSE),\"\")","v":""},{"$f":"IF(COUNTIF(data!A$6:A$5000,B162)>0,VLOOKUP(B162,data!A$6:M$5000,13,FALSE),\"\")","v":""},{"$f":"IF(B162>0,SUM(F$10:F162)-SUM(G$10:G162),\"\")","v":""}]
[null,null,{"$f":"IF(COUNTIF(data!A$6:A$5000,B163)>0,VLOOKUP(B163,data!A$6:M$5000,2,FALSE),\"\")","v":""},{"$f":"IF(COUNTIF(data!A$6:A$5000,B163)>0,VLOOKUP(B163,data!A$6:M$5000,4,FALSE),\"\")","v":""},{"$f":"IF(COUNTIF(data!A$6:A$5000,B163)>0,VLOOKUP(B163,data!A$6:M$5000,11,FALSE),\"\")","v":""},{"$f":"IF(COUNTIF(data!A$6:A$5000,B163)>0,VLOOKUP(B163,data!A$6:M$5000,12,FALSE),\"\")","v":""},{"$f":"IF(COUNTIF(data!A$6:A$5000,B163)>0,VLOOKUP(B163,data!A$6:M$5000,13,FALSE),\"\")","v":""},{"$f":"IF(B163>0,SUM(F$10:F163)-SUM(G$10:G163),\"\")","v":""}]
[null,null,{"$f":"IF(COUNTIF(data!A$6:A$5000,B164)>0,VLOOKUP(B164,data!A$6:M$5000,2,FALSE),\"\")","v":""},{"$f":"IF(COUNTIF(data!A$6:A$5000,B164)>0,VLOOKUP(B164,data!A$6:M$5000,4,FALSE),\"\")","v":""},{"$f":"IF(COUNTIF(data!A$6:A$5000,B164)>0,VLOOKUP(B164,data!A$6:M$5000,11,FALSE),\"\")","v":""},{"$f":"IF(COUNTIF(data!A$6:A$5000,B164)>0,VLOOKUP(B164,data!A$6:M$5000,12,FALSE),\"\")","v":""},{"$f":"IF(COUNTIF(data!A$6:A$5000,B164)>0,VLOOKUP(B164,data!A$6:M$5000,13,FALSE),\"\")","v":""},{"$f":"IF(B164>0,SUM(F$10:F164)-SUM(G$10:G164),\"\")","v":""}]
[null,null,{"$f":"IF(COUNTIF(data!A$6:A$5000,B165)>0,VLOOKUP(B165,data!A$6:M$5000,2,FALSE),\"\")","v":""},{"$f":"IF(COUNTIF(data!A$6:A$5000,B165)>0,VLOOKUP(B165,data!A$6:M$5000,4,FALSE),\"\")","v":""},{"$f":"IF(COUNTIF(data!A$6:A$5000,B165)>0,VLOOKUP(B165,data!A$6:M$5000,11,FALSE),\"\")","v":""},{"$f":"IF(COUNTIF(data!A$6:A$5000,B165)>0,VLOOKUP(B165,data!A$6:M$5000,12,FALSE),\"\")","v":""},{"$f":"IF(COUNTIF(data!A$6:A$5000,B165)>0,VLOOKUP(B165,data!A$6:M$5000,13,FALSE),\"\")","v":""},{"$f":"IF(B165>0,SUM(F$10:F165)-SUM(G$10:G165),\"\")","v":""}]
[null,null,{"$f":"IF(COUNTIF(data!A$6:A$5000,B166)>0,VLOOKUP(B166,data!A$6:M$5000,2,FALSE),\"\")","v":""},{"$f":"IF(COUNTIF(data!A$6:A$5000,B166)>0,VLOOKUP(B166,data!A$6:M$5000,4,FALSE),\"\")","v":""},{"$f":"IF(COUNTIF(data!A$6:A$5000,B166)>0,VLOOKUP(B166,data!A$6:M$5000,11,FALSE),\"\")","v":""},{"$f":"IF(COUNTIF(data!A$6:A$5000,B166)>0,VLOOKUP(B166,data!A$6:M$5000,12,FALSE),\"\")","v":""},{"$f":"IF(COUNTIF(data!A$6:A$5000,B166)>0,VLOOKUP(B166,data!A$6:M$5000,13,FALSE),\"\")","v":""},{"$f":"IF(B166>0,SUM(F$10:F166)-SUM(G$10:G166),\"\")","v":""}]
[null,null,{"$f":"IF(COUNTIF(data!A$6:A$5000,B167)>0,VLOOKUP(B167,data!A$6:M$5000,2,FALSE),\"\")","v":""},{"$f":"IF(COUNTIF(data!A$6:A$5000,B167)>0,VLOOKUP(B167,data!A$6:M$5000,4,FALSE),\"\")","v":""},{"$f":"IF(COUNTIF(data!A$6:A$5000,B167)>0,VLOOKUP(B167,data!A$6:M$5000,11,FALSE),\"\")","v":""},{"$f":"IF(COUNTIF(data!A$6:A$5000,B167)>0,VLOOKUP(B167,data!A$6:M$5000,12,FALSE),\"\")","v":""},{"$f":"IF(COUNTIF(data!A$6:A$5000,B167)>0,VLOOKUP(B167,data!A$6:M$5000,13,FALSE),\"\")","v":""},{"$f":"IF(B167>0,SUM(F$10:F167)-SUM(G$10:G167),\"\")","v":""}]
[null,null,{"$f":"IF(COUNTIF(data!A$6:A$5000,B168)>0,VLOOKUP(B168,data!A$6:M$5000,2,FALSE),\"\")","v":""},{"$f":"IF(COUNTIF(data!A$6:A$5000,B168)>0,VLOOKUP(B168,data!A$6:M$5000,4,FALSE),\"\")","v":""},{"$f":"IF(COUNTIF(data!A$6:A$5000,B168)>0,VLOOKUP(B168,data!A$6:M$5000,11,FALSE),\"\")","v":""},{"$f":"IF(COUNTIF(data!A$6:A$5000,B168)>0,VLOOKUP(B168,data!A$6:M$5000,12,FALSE),\"\")","v":""},{"$f":"IF(COUNTIF(data!A$6:A$5000,B168)>0,VLOOKUP(B168,data!A$6:M$5000,13,FALSE),\"\")","v":""},{"$f":"IF(B168>0,SUM(F$10:F168)-SUM(G$10:G168),\"\")","v":""}]
[null,null,{"$f":"IF(COUNTIF(data!A$6:A$5000,B169)>0,VLOOKUP(B169,data!A$6:M$5000,2,FALSE),\"\")","v":""},{"$f":"IF(COUNTIF(data!A$6:A$5000,B169)>0,VLOOKUP(B169,data!A$6:M$5000,4,FALSE),\"\")","v":""},{"$f":"IF(COUNTIF(data!A$6:A$5000,B169)>0,VLOOKUP(B169,data!A$6:M$5000,11,FALSE),\"\")","v":""},{"$f":"IF(COUNTIF(data!A$6:A$5000,B169)>0,VLOOKUP(B169,data!A$6:M$5000,12,FALSE),\"\")","v":""},{"$f":"IF(COUNTIF(data!A$6:A$5000,B169)>0,VLOOKUP(B169,data!A$6:M$5000,13,FALSE),\"\")","v":""},{"$f":"IF(B169>0,SUM(F$10:F169)-SUM(G$10:G169),\"\")","v":""}]
[null,null,{"$f":"IF(COUNTIF(data!A$6:A$5000,B170)>0,VLOOKUP(B170,data!A$6:M$5000,2,FALSE),\"\")","v":""},{"$f":"IF(COUNTIF(data!A$6:A$5000,B170)>0,VLOOKUP(B170,data!A$6:M$5000,4,FALSE),\"\")","v":""},{"$f":"IF(COUNTIF(data!A$6:A$5000,B170)>0,VLOOKUP(B170,data!A$6:M$5000,11,FALSE),\"\")","v":""},{"$f":"IF(COUNTIF(data!A$6:A$5000,B170)>0,VLOOKUP(B170,data!A$6:M$5000,12,FALSE),\"\")","v":""},{"$f":"IF(COUNTIF(data!A$6:A$5000,B170)>0,VLOOKUP(B170,data!A$6:M$5000,13,FALSE),\"\")","v":""},{"$f":"IF(B170>0,SUM(F$10:F170)-SUM(G$10:G170),\"\")","v":""}]
[null,null,{"$f":"IF(COUNTIF(data!A$6:A$5000,B171)>0,VLOOKUP(B171,data!A$6:M$5000,2,FALSE),\"\")","v":""},{"$f":"IF(COUNTIF(data!A$6:A$5000,B171)>0,VLOOKUP(B171,data!A$6:M$5000,4,FALSE),\"\")","v":""},{"$f":"IF(COUNTIF(data!A$6:A$5000,B171)>0,VLOOKUP(B171,data!A$6:M$5000,11,FALSE),\"\")","v":""},{"$f":"IF(COUNTIF(data!A$6:A$5000,B171)>0,VLOOKUP(B171,data!A$6:M$5000,12,FALSE),\"\")","v":""},{"$f":"IF(COUNTIF(data!A$6:A$5000,B171)>0,VLOOKUP(B171,data!A$6:M$5000,13,FALSE),\"\")","v":""},{"$f":"IF(B171>0,SUM(F$10:F171)-SUM(G$10:G171),\"\")","v":""}]
[null,null,{"$f":"IF(COUNTIF(data!A$6:A$5000,B172)>0,VLOOKUP(B172,data!A$6:M$5000,2,FALSE),\"\")","v":""},{"$f":"IF(COUNTIF(data!A$6:A$5000,B172)>0,VLOOKUP(B172,data!A$6:M$5000,4,FALSE),\"\")","v":""},{"$f":"IF(COUNTIF(data!A$6:A$5000,B172)>0,VLOOKUP(B172,data!A$6:M$5000,11,FALSE),\"\")","v":""},{"$f":"IF(COUNTIF(data!A$6:A$5000,B172)>0,VLOOKUP(B172,data!A$6:M$5000,12,FALSE),\"\")","v":""},{"$f":"IF(COUNTIF(data!A$6:A$5000,B172)>0,VLOOKUP(B172,data!A$6:M$5000,13,FALSE),\"\")","v":""},{"$f":"IF(B172>0,SUM(F$10:F172)-SUM(G$10:G172),\"\")","v":""}]
[null,null,{"$f":"IF(COUNTIF(data!A$6:A$5000,B173)>0,VLOOKUP(B173,data!A$6:M$5000,2,FALSE),\"\")","v":""},{"$f":"IF(COUNTIF(data!A$6:A$5000,B173)>0,VLOOKUP(B173,data!A$6:M$5000,4,FALSE),\"\")","v":""},{"$f":"IF(COUNTIF(data!A$6:A$5000,B173)>0,VLOOKUP(B173,data!A$6:M$5000,11,FALSE),\"\")","v":""},{"$f":"IF(COUNTIF(data!A$6:A$5000,B173)>0,VLOOKUP(B173,data!A$6:M$5000,12,FALSE),\"\")","v":""},{"$f":"IF(COUNTIF(data!A$6:A$5000,B173)>0,VLOOKUP(B173,data!A$6:M$5000,13,FALSE),\"\")","v":""},{"$f":"IF(B173>0,SUM(F$10:F173)-SUM(G$10:G173),\"\")","v":""}]
[null,null,{"$f":"IF(COUNTIF(data!A$6:A$5000,B174)>0,VLOOKUP(B174,data!A$6:M$5000,2,FALSE),\"\")","v":""},{"$f":"IF(COUNTIF(data!A$6:A$5000,B174)>0,VLOOKUP(B174,data!A$6:M$5000,4,FALSE),\"\")","v":""},{"$f":"IF(COUNTIF(data!A$6:A$5000,B174)>0,VLOOKUP(B174,data!A$6:M$5000,11,FALSE),\"\")","v":""},{"$f":"IF(COUNTIF(data!A$6:A$5000,B174)>0,VLOOKUP(B174,data!A$6:M$5000,12,FALSE),\"\")","v":""},{"$f":"IF(COUNTIF(data!A$6:A$5000,B174)>0,VLOOKUP(B174,data!A$6:M$5000,13,FALSE),\"\")","v":""},{"$f":"IF(B174>0,SUM(F$10:F174)-SUM(G$10:G174),\"\")","v":""}]
[null,null,{"$f":"IF(COUNTIF(data!A$6:A$5000,B175)>0,VLOOKUP(B175,data!A$6:M$5000,2,FALSE),\"\")","v":""},{"$f":"IF(COUNTIF(data!A$6:A$5000,B175)>0,VLOOKUP(B175,data!A$6:M$5000,4,FALSE),\"\")","v":""},{"$f":"IF(COUNTIF(data!A$6:A$5000,B175)>0,VLOOKUP(B175,data!A$6:M$5000,11,FALSE),\"\")","v":""},{"$f":"IF(COUNTIF(data!A$6:A$5000,B175)>0,VLOOKUP(B175,data!A$6:M$5000,12,FALSE),\"\")","v":""},{"$f":"IF(COUNTIF(data!A$6:A$5000,B175)>0,VLOOKUP(B175,data!A$6:M$5000,13,FALSE),\"\")","v":""},{"$f":"IF(B175>0,SUM(F$10:F175)-SUM(G$10:G175),\"\")","v":""}]
[null,null,{"$f":"IF(COUNTIF(data!A$6:A$5000,B176)>0,VLOOKUP(B176,data!A$6:M$5000,2,FALSE),\"\")","v":""},{"$f":"IF(COUNTIF(data!A$6:A$5000,B176)>0,VLOOKUP(B176,data!A$6:M$5000,4,FALSE),\"\")","v":""},{"$f":"IF(COUNTIF(data!A$6:A$5000,B176)>0,VLOOKUP(B176,data!A$6:M$5000,11,FALSE),\"\")","v":""},{"$f":"IF(COUNTIF(data!A$6:A$5000,B176)>0,VLOOKUP(B176,data!A$6:M$5000,12,FALSE),\"\")","v":""},{"$f":"IF(COUNTIF(data!A$6:A$5000,B176)>0,VLOOKUP(B176,data!A$6:M$5000,13,FALSE),\"\")","v":""},{"$f":"IF(B176>0,SUM(F$10:F176)-SUM(G$10:G176),\"\")","v":""}]
[null,null,{"$f":"IF(COUNTIF(data!A$6:A$5000,B177)>0,VLOOKUP(B177,data!A$6:M$5000,2,FALSE),\"\")","v":""},{"$f":"IF(COUNTIF(data!A$6:A$5000,B177)>0,VLOOKUP(B177,data!A$6:M$5000,4,FALSE),\"\")","v":""},{"$f":"IF(COUNTIF(data!A$6:A$5000,B177)>0,VLOOKUP(B177,data!A$6:M$5000,11,FALSE),\"\")","v":""},{"$f":"IF(COUNTIF(data!A$6:A$5000,B177)>0,VLOOKUP(B177,data!A$6:M$5000,12,FALSE),\"\")","v":""},{"$f":"IF(COUNTIF(data!A$6:A$5000,B177)>0,VLOOKUP(B177,data!A$6:M$5000,13,FALSE),\"\")","v":""},{"$f":"IF(B177>0,SUM(F$10:F177)-SUM(G$10:G177),\"\")","v":""}]
[null,null,{"$f":"IF(COUNTIF(data!A$6:A$5000,B178)>0,VLOOKUP(B178,data!A$6:M$5000,2,FALSE),\"\")","v":""},{"$f":"IF(COUNTIF(data!A$6:A$5000,B178)>0,VLOOKUP(B178,data!A$6:M$5000,4,FALSE),\"\")","v":""},{"$f":"IF(COUNTIF(data!A$6:A$5000,B178)>0,VLOOKUP(B178,data!A$6:M$5000,11,FALSE),\"\")","v":""},{"$f":"IF(COUNTIF(data!A$6:A$5000,B178)>0,VLOOKUP(B178,data!A$6:M$5000,12,FALSE),\"\")","v":""},{"$f":"IF(COUNTIF(data!A$6:A$5000,B178)>0,VLOOKUP(B178,data!A$6:M$5000,13,FALSE),\"\")","v":""},{"$f":"IF(B178>0,SUM(F$10:F178)-SUM(G$10:G178),\"\")","v":""}]
[null,null,{"$f":"IF(COUNTIF(data!A$6:A$5000,B179)>0,VLOOKUP(B179,data!A$6:M$5000,2,FALSE),\"\")","v":""},{"$f":"IF(COUNTIF(data!A$6:A$5000,B179)>0,VLOOKUP(B179,data!A$6:M$5000,4,FALSE),\"\")","v":""},{"$f":"IF(COUNTIF(data!A$6:A$5000,B179)>0,VLOOKUP(B179,data!A$6:M$5000,11,FALSE),\"\")","v":""},{"$f":"IF(COUNTIF(data!A$6:A$5000,B179)>0,VLOOKUP(B179,data!A$6:M$5000,12,FALSE),\"\")","v":""},{"$f":"IF(COUNTIF(data!A$6:A$5000,B179)>0,VLOOKUP(B179,data!A$6:M$5000,13,FALSE),\"\")","v":""},{"$f":"IF(B179>0,SUM(F$10:F179)-SUM(G$10:G179),\"\")","v":""}]
[null,null,{"$f":"IF(COUNTIF(data!A$6:A$5000,B180)>0,VLOOKUP(B180,data!A$6:M$5000,2,FALSE),\"\")","v":""},{"$f":"IF(COUNTIF(data!A$6:A$5000,B180)>0,VLOOKUP(B180,data!A$6:M$5000,4,FALSE),\"\")","v":""},{"$f":"IF(COUNTIF(data!A$6:A$5000,B180)>0,VLOOKUP(B180,data!A$6:M$5000,11,FALSE),\"\")","v":""},{"$f":"IF(COUNTIF(data!A$6:A$5000,B180)>0,VLOOKUP(B180,data!A$6:M$5000,12,FALSE),\"\")","v":""},{"$f":"IF(COUNTIF(data!A$6:A$5000,B180)>0,VLOOKUP(B180,data!A$6:M$5000,13,FALSE),\"\")","v":""},{"$f":"IF(B180>0,SUM(F$10:F180)-SUM(G$10:G180),\"\")","v":""}]
[null,null,{"$f":"IF(COUNTIF(data!A$6:A$5000,B181)>0,VLOOKUP(B181,data!A$6:M$5000,2,FALSE),\"\")","v":""},{"$f":"IF(COUNTIF(data!A$6:A$5000,B181)>0,VLOOKUP(B181,data!A$6:M$5000,4,FALSE),\"\")","v":""},{"$f":"IF(COUNTIF(data!A$6:A$5000,B181)>0,VLOOKUP(B181,data!A$6:M$5000,11,FALSE),\"\")","v":""},{"$f":"IF(COUNTIF(data!A$6:A$5000,B181)>0,VLOOKUP(B181,data!A$6:M$5000,12,FALSE),\"\")","v":""},{"$f":"IF(COUNTIF(data!A$6:A$5000,B181)>0,VLOOKUP(B181,data!A$6:M$5000,13,FALSE),\"\")","v":""},{"$f":"IF(B181>0,SUM(F$10:F181)-SUM(G$10:G181),\"\")","v":""}]
[null,null,{"$f":"IF(COUNTIF(data!A$6:A$5000,B182)>0,VLOOKUP(B182,data!A$6:M$5000,2,FALSE),\"\")","v":""},{"$f":"IF(COUNTIF(data!A$6:A$5000,B182)>0,VLOOKUP(B182,data!A$6:M$5000,4,FALSE),\"\")","v":""},{"$f":"IF(COUNTIF(data!A$6:A$5000,B182)>0,VLOOKUP(B182,data!A$6:M$5000,11,FALSE),\"\")","v":""},{"$f":"IF(COUNTIF(data!A$6:A$5000,B182)>0,VLOOKUP(B182,data!A$6:M$5000,12,FALSE),\"\")","v":""},{"$f":"IF(COUNTIF(data!A$6:A$5000,B182)>0,VLOOKUP(B182,data!A$6:M$5000,13,FALSE),\"\")","v":""},{"$f":"IF(B182>0,SUM(F$10:F182)-SUM(G$10:G182),\"\")","v":""}]
[null,null,{"$f":"IF(COUNTIF(data!A$6:A$5000,B183)>0,VLOOKUP(B183,data!A$6:M$5000,2,FALSE),\"\")","v":""},{"$f":"IF(COUNTIF(data!A$6:A$5000,B183)>0,VLOOKUP(B183,data!A$6:M$5000,4,FALSE),\"\")","v":""},{"$f":"IF(COUNTIF(data!A$6:A$5000,B183)>0,VLOOKUP(B183,data!A$6:M$5000,11,FALSE),\"\")","v":""},{"$f":"IF(COUNTIF(data!A$6:A$5000,B183)>0,VLOOKUP(B183,data!A$6:M$5000,12,FALSE),\"\")","v":""},{"$f":"IF(COUNTIF(data!A$6:A$5000,B183)>0,VLOOKUP(B183,data!A$6:M$5000,13,FALSE),\"\")","v":""},{"$f":"IF(B183>0,SUM(F$10:F183)-SUM(G$10:G183),\"\")","v":""}]
[null,null,{"$f":"IF(COUNTIF(data!A$6:A$5000,B184)>0,VLOOKUP(B184,data!A$6:M$5000,2,FALSE),\"\")","v":""},{"$f":"IF(COUNTIF(data!A$6:A$5000,B184)>0,VLOOKUP(B184,data!A$6:M$5000,4,FALSE),\"\")","v":""},{"$f":"IF(COUNTIF(data!A$6:A$5000,B184)>0,VLOOKUP(B184,data!A$6:M$5000,11,FALSE),\"\")","v":""},{"$f":"IF(COUNTIF(data!A$6:A$5000,B184)>0,VLOOKUP(B184,data!A$6:M$5000,12,FALSE),\"\")","v":""},{"$f":"IF(COUNTIF(data!A$6:A$5000,B184)>0,VLOOKUP(B184,data!A$6:M$5000,13,FALSE),\"\")","v":""},{"$f":"IF(B184>0,SUM(F$10:F184)-SUM(G$10:G184),\"\")","v":""}]
[null,null,{"$f":"IF(COUNTIF(data!A$6:A$5000,B185)>0,VLOOKUP(B185,data!A$6:M$5000,2,FALSE),\"\")","v":""},{"$f":"IF(COUNTIF(data!A$6:A$5000,B185)>0,VLOOKUP(B185,data!A$6:M$5000,4,FALSE),\"\")","v":""},{"$f":"IF(COUNTIF(data!A$6:A$5000,B185)>0,VLOOKUP(B185,data!A$6:M$5000,11,FALSE),\"\")","v":""},{"$f":"IF(COUNTIF(data!A$6:A$5000,B185)>0,VLOOKUP(B185,data!A$6:M$5000,12,FALSE),\"\")","v":""},{"$f":"IF(COUNTIF(data!A$6:A$5000,B185)>0,VLOOKUP(B185,data!A$6:M$5000,13,FALSE),\"\")","v":""},{"$f":"IF(B185>0,SUM(F$10:F185)-SUM(G$10:G185),\"\")","v":""}]
[null,null,{"$f":"IF(COUNTIF(data!A$6:A$5000,B186)>0,VLOOKUP(B186,data!A$6:M$5000,2,FALSE),\"\")","v":""},{"$f":"IF(COUNTIF(data!A$6:A$5000,B186)>0,VLOOKUP(B186,data!A$6:M$5000,4,FALSE),\"\")","v":""},{"$f":"IF(COUNTIF(data!A$6:A$5000,B186)>0,VLOOKUP(B186,data!A$6:M$5000,11,FALSE),\"\")","v":""},{"$f":"IF(COUNTIF(data!A$6:A$5000,B186)>0,VLOOKUP(B186,data!A$6:M$5000,12,FALSE),\"\")","v":""},{"$f":"IF(COUNTIF(data!A$6:A$5000,B186)>0,VLOOKUP(B186,data!A$6:M$5000,13,FALSE),\"\")","v":""},{"$f":"IF(B186>0,SUM(F$10:F186)-SUM(G$10:G186),\"\")","v":""}]
[null,null,{"$f":"IF(COUNTIF(data!A$6:A$5000,B187)>0,VLOOKUP(B187,data!A$6:M$5000,2,FALSE),\"\")","v":""},{"$f":"IF(COUNTIF(data!A$6:A$5000,B187)>0,VLOOKUP(B187,data!A$6:M$5000,4,FALSE),\"\")","v":""},{"$f":"IF(COUNTIF(data!A$6:A$5000,B187)>0,VLOOKUP(B187,data!A$6:M$5000,11,FALSE),\"\")","v":""},{"$f":"IF(COUNTIF(data!A$6:A$5000,B187)>0,VLOOKUP(B187,data!A$6:M$5000,12,FALSE),\"\")","v":""},{"$f":"IF(COUNTIF(data!A$6:A$5000,B187)>0,VLOOKUP(B187,data!A$6:M$5000,13,FALSE),\"\")","v":""},{"$f":"IF(B187>0,SUM(F$10:F187)-SUM(G$10:G187),\"\")","v":""}]
[null,null,{"$f":"IF(COUNTIF(data!A$6:A$5000,B188)>0,VLOOKUP(B188,data!A$6:M$5000,2,FALSE),\"\")","v":""},{"$f":"IF(COUNTIF(data!A$6:A$5000,B188)>0,VLOOKUP(B188,data!A$6:M$5000,4,FALSE),\"\")","v":""},{"$f":"IF(COUNTIF(data!A$6:A$5000,B188)>0,VLOOKUP(B188,data!A$6:M$5000,11,FALSE),\"\")","v":""},{"$f":"IF(COUNTIF(data!A$6:A$5000,B188)>0,VLOOKUP(B188,data!A$6:M$5000,12,FALSE),\"\")","v":""},{"$f":"IF(COUNTIF(data!A$6:A$5000,B188)>0,VLOOKUP(B188,data!A$6:M$5000,13,FALSE),\"\")","v":""},{"$f":"IF(B188>0,SUM(F$10:F188)-SUM(G$10:G188),\"\")","v":""}]
[null,null,{"$f":"IF(COUNTIF(data!A$6:A$5000,B189)>0,VLOOKUP(B189,data!A$6:M$5000,2,FALSE),\"\")","v":""},{"$f":"IF(COUNTIF(data!A$6:A$5000,B189)>0,VLOOKUP(B189,data!A$6:M$5000,4,FALSE),\"\")","v":""},{"$f":"IF(COUNTIF(data!A$6:A$5000,B189)>0,VLOOKUP(B189,data!A$6:M$5000,11,FALSE),\"\")","v":""},{"$f":"IF(COUNTIF(data!A$6:A$5000,B189)>0,VLOOKUP(B189,data!A$6:M$5000,12,FALSE),\"\")","v":""},{"$f":"IF(COUNTIF(data!A$6:A$5000,B189)>0,VLOOKUP(B189,data!A$6:M$5000,13,FALSE),\"\")","v":""},{"$f":"IF(B189>0,SUM(F$10:F189)-SUM(G$10:G189),\"\")","v":""}]
[null,null,{"$f":"IF(COUNTIF(data!A$6:A$5000,B190)>0,VLOOKUP(B190,data!A$6:M$5000,2,FALSE),\"\")","v":""},{"$f":"IF(COUNTIF(data!A$6:A$5000,B190)>0,VLOOKUP(B190,data!A$6:M$5000,4,FALSE),\"\")","v":""},{"$f":"IF(COUNTIF(data!A$6:A$5000,B190)>0,VLOOKUP(B190,data!A$6:M$5000,11,FALSE),\"\")","v":""},{"$f":"IF(COUNTIF(data!A$6:A$5000,B190)>0,VLOOKUP(B190,data!A$6:M$5000,12,FALSE),\"\")","v":""},{"$f":"IF(COUNTIF(data!A$6:A$5000,B190)>0,VLOOKUP(B190,data!A$6:M$5000,13,FALSE),\"\")","v":""},{"$f":"IF(B190>0,SUM(F$10:F190)-SUM(G$10:G190),\"\")","v":""}]
[null,null,{"$f":"IF(COUNTIF(data!A$6:A$5000,B191)>0,VLOOKUP(B191,data!A$6:M$5000,2,FALSE),\"\")","v":""},{"$f":"IF(COUNTIF(data!A$6:A$5000,B191)>0,VLOOKUP(B191,data!A$6:M$5000,4,FALSE),\"\")","v":""},{"$f":"IF(COUNTIF(data!A$6:A$5000,B191)>0,VLOOKUP(B191,data!A$6:M$5000,11,FALSE),\"\")","v":""},{"$f":"IF(COUNTIF(data!A$6:A$5000,B191)>0,VLOOKUP(B191,data!A$6:M$5000,12,FALSE),\"\")","v":""},{"$f":"IF(COUNTIF(data!A$6:A$5000,B191)>0,VLOOKUP(B191,data!A$6:M$5000,13,FALSE),\"\")","v":""},{"$f":"IF(B191>0,SUM(F$10:F191)-SUM(G$10:G191),\"\")","v":""}]
[null,null,{"$f":"IF(COUNTIF(data!A$6:A$5000,B192)>0,VLOOKUP(B192,data!A$6:M$5000,2,FALSE),\"\")","v":""},{"$f":"IF(COUNTIF(data!A$6:A$5000,B192)>0,VLOOKUP(B192,data!A$6:M$5000,4,FALSE),\"\")","v":""},{"$f":"IF(COUNTIF(data!A$6:A$5000,B192)>0,VLOOKUP(B192,data!A$6:M$5000,11,FALSE),\"\")","v":""},{"$f":"IF(COUNTIF(data!A$6:A$5000,B192)>0,VLOOKUP(B192,data!A$6:M$5000,12,FALSE),\"\")","v":""},{"$f":"IF(COUNTIF(data!A$6:A$5000,B192)>0,VLOOKUP(B192,data!A$6:M$5000,13,FALSE),\"\")","v":""},{"$f":"IF(B192>0,SUM(F$10:F192)-SUM(G$10:G192),\"\")","v":""}]
[null,null,{"$f":"IF(COUNTIF(data!A$6:A$5000,B193)>0,VLOOKUP(B193,data!A$6:M$5000,2,FALSE),\"\")","v":""},{"$f":"IF(COUNTIF(data!A$6:A$5000,B193)>0,VLOOKUP(B193,data!A$6:M$5000,4,FALSE),\"\")","v":""},{"$f":"IF(COUNTIF(data!A$6:A$5000,B193)>0,VLOOKUP(B193,data!A$6:M$5000,11,FALSE),\"\")","v":""},{"$f":"IF(COUNTIF(data!A$6:A$5000,B193)>0,VLOOKUP(B193,data!A$6:M$5000,12,FALSE),\"\")","v":""},{"$f":"IF(COUNTIF(data!A$6:A$5000,B193)>0,VLOOKUP(B193,data!A$6:M$5000,13,FALSE),\"\")","v":""},{"$f":"IF(B193>0,SUM(F$10:F193)-SUM(G$10:G193),\"\")","v":""}]
[null,null,{"$f":"IF(COUNTIF(data!A$6:A$5000,B194)>0,VLOOKUP(B194,data!A$6:M$5000,2,FALSE),\"\")","v":""},{"$f":"IF(COUNTIF(data!A$6:A$5000,B194)>0,VLOOKUP(B194,data!A$6:M$5000,4,FALSE),\"\")","v":""},{"$f":"IF(COUNTIF(data!A$6:A$5000,B194)>0,VLOOKUP(B194,data!A$6:M$5000,11,FALSE),\"\")","v":""},{"$f":"IF(COUNTIF(data!A$6:A$5000,B194)>0,VLOOKUP(B194,data!A$6:M$5000,12,FALSE),\"\")","v":""},{"$f":"IF(COUNTIF(data!A$6:A$5000,B194)>0,VLOOKUP(B194,data!A$6:M$5000,13,FALSE),\"\")","v":""},{"$f":"IF(B194>0,SUM(F$10:F194)-SUM(G$10:G194),\"\")","v":""}]
[null,null,{"$f":"IF(COUNTIF(data!A$6:A$5000,B195)>0,VLOOKUP(B195,data!A$6:M$5000,2,FALSE),\"\")","v":""},{"$f":"IF(COUNTIF(data!A$6:A$5000,B195)>0,VLOOKUP(B195,data!A$6:M$5000,4,FALSE),\"\")","v":""},{"$f":"IF(COUNTIF(data!A$6:A$5000,B195)>0,VLOOKUP(B195,data!A$6:M$5000,11,FALSE),\"\")","v":""},{"$f":"IF(COUNTIF(data!A$6:A$5000,B195)>0,VLOOKUP(B195,data!A$6:M$5000,12,FALSE),\"\")","v":""},{"$f":"IF(COUNTIF(data!A$6:A$5000,B195)>0,VLOOKUP(B195,data!A$6:M$5000,13,FALSE),\"\")","v":""},{"$f":"IF(B195>0,SUM(F$10:F195)-SUM(G$10:G195),\"\")","v":""}]
[null,null,{"$f":"IF(COUNTIF(data!A$6:A$5000,B196)>0,VLOOKUP(B196,data!A$6:M$5000,2,FALSE),\"\")","v":""},{"$f":"IF(COUNTIF(data!A$6:A$5000,B196)>0,VLOOKUP(B196,data!A$6:M$5000,4,FALSE),\"\")","v":""},{"$f":"IF(COUNTIF(data!A$6:A$5000,B196)>0,VLOOKUP(B196,data!A$6:M$5000,11,FALSE),\"\")","v":""},{"$f":"IF(COUNTIF(data!A$6:A$5000,B196)>0,VLOOKUP(B196,data!A$6:M$5000,12,FALSE),\"\")","v":""},{"$f":"IF(COUNTIF(data!A$6:A$5000,B196)>0,VLOOKUP(B196,data!A$6:M$5000,13,FALSE),\"\")","v":""},{"$f":"IF(B196>0,SUM(F$10:F196)-SUM(G$10:G196),\"\")","v":""}]
[null,null,{"$f":"IF(COUNTIF(data!A$6:A$5000,B197)>0,VLOOKUP(B197,data!A$6:M$5000,2,FALSE),\"\")","v":""},{"$f":"IF(COUNTIF(data!A$6:A$5000,B197)>0,VLOOKUP(B197,data!A$6:M$5000,4,FALSE),\"\")","v":""},{"$f":"IF(COUNTIF(data!A$6:A$5000,B197)>0,VLOOKUP(B197,data!A$6:M$5000,11,FALSE),\"\")","v":""},{"$f":"IF(COUNTIF(data!A$6:A$5000,B197)>0,VLOOKUP(B197,data!A$6:M$5000,12,FALSE),\"\")","v":""},{"$f":"IF(COUNTIF(data!A$6:A$5000,B197)>0,VLOOKUP(B197,data!A$6:M$5000,13,FALSE),\"\")","v":""},{"$f":"IF(B197>0,SUM(F$10:F197)-SUM(G$10:G197),\"\")","v":""}]
[null,null,{"$f":"IF(COUNTIF(data!A$6:A$5000,B198)>0,VLOOKUP(B198,data!A$6:M$5000,2,FALSE),\"\")","v":""},{"$f":"IF(COUNTIF(data!A$6:A$5000,B198)>0,VLOOKUP(B198,data!A$6:M$5000,4,FALSE),\"\")","v":""},{"$f":"IF(COUNTIF(data!A$6:A$5000,B198)>0,VLOOKUP(B198,data!A$6:M$5000,11,FALSE),\"\")","v":""},{"$f":"IF(COUNTIF(data!A$6:A$5000,B198)>0,VLOOKUP(B198,data!A$6:M$5000,12,FALSE),\"\")","v":""},{"$f":"IF(COUNTIF(data!A$6:A$5000,B198)>0,VLOOKUP(B198,data!A$6:M$5000,13,FALSE),\"\")","v":""},{"$f":"IF(B198>0,SUM(F$10:F198)-SUM(G$10:G198),\"\")","v":""}]
[null,null,{"$f":"IF(COUNTIF(data!A$6:A$5000,B199)>0,VLOOKUP(B199,data!A$6:M$5000,2,FALSE),\"\")","v":""},{"$f":"IF(COUNTIF(data!A$6:A$5000,B199)>0,VLOOKUP(B199,data!A$6:M$5000,4,FALSE),\"\")","v":""},{"$f":"IF(COUNTIF(data!A$6:A$5000,B199)>0,VLOOKUP(B199,data!A$6:M$5000,11,FALSE),\"\")","v":""},{"$f":"IF(COUNTIF(data!A$6:A$5000,B199)>0,VLOOKUP(B199,data!A$6:M$5000,12,FALSE),\"\")","v":""},{"$f":"IF(COUNTIF(data!A$6:A$5000,B199)>0,VLOOKUP(B199,data!A$6:M$5000,13,FALSE),\"\")","v":""},{"$f":"IF(B199>0,SUM(F$10:F199)-SUM(G$10:G199),\"\")","v":""}]
[null,null,{"$f":"IF(COUNTIF(data!A$6:A$5000,B200)>0,VLOOKUP(B200,data!A$6:M$5000,2,FALSE),\"\")","v":""},{"$f":"IF(COUNTIF(data!A$6:A$5000,B200)>0,VLOOKUP(B200,data!A$6:M$5000,4,FALSE),\"\")","v":""},{"$f":"IF(COUNTIF(data!A$6:A$5000,B200)>0,VLOOKUP(B200,data!A$6:M$5000,11,FALSE),\"\")","v":""},{"$f":"IF(COUNTIF(data!A$6:A$5000,B200)>0,VLOOKUP(B200,data!A$6:M$5000,12,FALSE),\"\")","v":""},{"$f":"IF(COUNTIF(data!A$6:A$5000,B200)>0,VLOOKUP(B200,data!A$6:M$5000,13,FALSE),\"\")","v":""},{"$f":"IF(B200>0,SUM(F$10:F200)-SUM(G$10:G200),\"\")","v":""}]
[null,null,{"$f":"IF(COUNTIF(data!A$6:A$5000,B201)>0,VLOOKUP(B201,data!A$6:M$5000,2,FALSE),\"\")","v":""},{"$f":"IF(COUNTIF(data!A$6:A$5000,B201)>0,VLOOKUP(B201,data!A$6:M$5000,4,FALSE),\"\")","v":""},{"$f":"IF(COUNTIF(data!A$6:A$5000,B201)>0,VLOOKUP(B201,data!A$6:M$5000,11,FALSE),\"\")","v":""},{"$f":"IF(COUNTIF(data!A$6:A$5000,B201)>0,VLOOKUP(B201,data!A$6:M$5000,12,FALSE),\"\")","v":""},{"$f":"IF(COUNTIF(data!A$6:A$5000,B201)>0,VLOOKUP(B201,data!A$6:M$5000,13,FALSE),\"\")","v":""},{"$f":"IF(B201>0,SUM(F$10:F201)-SUM(G$10:G201),\"\")","v":""}]
[null,null,{"$f":"IF(COUNTIF(data!A$6:A$5000,B202)>0,VLOOKUP(B202,data!A$6:M$5000,2,FALSE),\"\")","v":""},{"$f":"IF(COUNTIF(data!A$6:A$5000,B202)>0,VLOOKUP(B202,data!A$6:M$5000,4,FALSE),\"\")","v":""},{"$f":"IF(COUNTIF(data!A$6:A$5000,B202)>0,VLOOKUP(B202,data!A$6:M$5000,11,FALSE),\"\")","v":""},{"$f":"IF(COUNTIF(data!A$6:A$5000,B202)>0,VLOOKUP(B202,data!A$6:M$5000,12,FALSE),\"\")","v":""},{"$f":"IF(COUNTIF(data!A$6:A$5000,B202)>0,VLOOKUP(B202,data!A$6:M$5000,13,FALSE),\"\")","v":""},{"$f":"IF(B202>0,SUM(F$10:F202)-SUM(G$10:G202),\"\")","v":""}]
[null,null,{"$f":"IF(COUNTIF(data!A$6:A$5000,B203)>0,VLOOKUP(B203,data!A$6:M$5000,2,FALSE),\"\")","v":""},{"$f":"IF(COUNTIF(data!A$6:A$5000,B203)>0,VLOOKUP(B203,data!A$6:M$5000,4,FALSE),\"\")","v":""},{"$f":"IF(COUNTIF(data!A$6:A$5000,B203)>0,VLOOKUP(B203,data!A$6:M$5000,11,FALSE),\"\")","v":""},{"$f":"IF(COUNTIF(data!A$6:A$5000,B203)>0,VLOOKUP(B203,data!A$6:M$5000,12,FALSE),\"\")","v":""},{"$f":"IF(COUNTIF(data!A$6:A$5000,B203)>0,VLOOKUP(B203,data!A$6:M$5000,13,FALSE),\"\")","v":""},{"$f":"IF(B203>0,SUM(F$10:F203)-SUM(G$10:G203),\"\")","v":""}]
[null,null,{"$f":"IF(COUNTIF(data!A$6:A$5000,B204)>0,VLOOKUP(B204,data!A$6:M$5000,2,FALSE),\"\")","v":""},{"$f":"IF(COUNTIF(data!A$6:A$5000,B204)>0,VLOOKUP(B204,data!A$6:M$5000,4,FALSE),\"\")","v":""},{"$f":"IF(COUNTIF(data!A$6:A$5000,B204)>0,VLOOKUP(B204,data!A$6:M$5000,11,FALSE),\"\")","v":""},{"$f":"IF(COUNTIF(data!A$6:A$5000,B204)>0,VLOOKUP(B204,data!A$6:M$5000,12,FALSE),\"\")","v":""},{"$f":"IF(COUNTIF(data!A$6:A$5000,B204)>0,VLOOKUP(B204,data!A$6:M$5000,13,FALSE),\"\")","v":""},{"$f":"IF(B204>0,SUM(F$10:F204)-SUM(G$10:G204),\"\")","v":""}]
[null,null,{"$f":"IF(COUNTIF(data!A$6:A$5000,B205)>0,VLOOKUP(B205,data!A$6:M$5000,2,FALSE),\"\")","v":""},{"$f":"IF(COUNTIF(data!A$6:A$5000,B205)>0,VLOOKUP(B205,data!A$6:M$5000,4,FALSE),\"\")","v":""},{"$f":"IF(COUNTIF(data!A$6:A$5000,B205)>0,VLOOKUP(B205,data!A$6:M$5000,11,FALSE),\"\")","v":""},{"$f":"IF(COUNTIF(data!A$6:A$5000,B205)>0,VLOOKUP(B205,data!A$6:M$5000,12,FALSE),\"\")","v":""},{"$f":"IF(COUNTIF(data!A$6:A$5000,B205)>0,VLOOKUP(B205,data!A$6:M$5000,13,FALSE),\"\")","v":""},{"$f":"IF(B205>0,SUM(F$10:F205)-SUM(G$10:G205),\"\")","v":""}]
[null,null,{"$f":"IF(COUNTIF(data!A$6:A$5000,B206)>0,VLOOKUP(B206,data!A$6:M$5000,2,FALSE),\"\")","v":""},{"$f":"IF(COUNTIF(data!A$6:A$5000,B206)>0,VLOOKUP(B206,data!A$6:M$5000,4,FALSE),\"\")","v":""},{"$f":"IF(COUNTIF(data!A$6:A$5000,B206)>0,VLOOKUP(B206,data!A$6:M$5000,11,FALSE),\"\")","v":""},{"$f":"IF(COUNTIF(data!A$6:A$5000,B206)>0,VLOOKUP(B206,data!A$6:M$5000,12,FALSE),\"\")","v":""},{"$f":"IF(COUNTIF(data!A$6:A$5000,B206)>0,VLOOKUP(B206,data!A$6:M$5000,13,FALSE),\"\")","v":""},{"$f":"IF(B206>0,SUM(F$10:F206)-SUM(G$10:G206),\"\")","v":""}]
[null,null,{"$f":"IF(COUNTIF(data!A$6:A$5000,B207)>0,VLOOKUP(B207,data!A$6:M$5000,2,FALSE),\"\")","v":""},{"$f":"IF(COUNTIF(data!A$6:A$5000,B207)>0,VLOOKUP(B207,data!A$6:M$5000,4,FALSE),\"\")","v":""},{"$f":"IF(COUNTIF(data!A$6:A$5000,B207)>0,VLOOKUP(B207,data!A$6:M$5000,11,FALSE),\"\")","v":""},{"$f":"IF(COUNTIF(data!A$6:A$5000,B207)>0,VLOOKUP(B207,data!A$6:M$5000,12,FALSE),\"\")","v":""},{"$f":"IF(COUNTIF(data!A$6:A$5000,B207)>0,VLOOKUP(B207,data!A$6:M$5000,13,FALSE),\"\")","v":""},{"$f":"IF(B207>0,SUM(F$10:F207)-SUM(G$10:G207),\"\")","v":""}]
[null,null,{"$f":"IF(COUNTIF(data!A$6:A$5000,B208)>0,VLOOKUP(B208,data!A$6:M$5000,2,FALSE),\"\")","v":""},{"$f":"IF(COUNTIF(data!A$6:A$5000,B208)>0,VLOOKUP(B208,data!A$6:M$5000,4,FALSE),\"\")","v":""},{"$f":"IF(COUNTIF(data!A$6:A$5000,B208)>0,VLOOKUP(B208,data!A$6:M$5000,11,FALSE),\"\")","v":""},{"$f":"IF(COUNTIF(data!A$6:A$5000,B208)>0,VLOOKUP(B208,data!A$6:M$5000,12,FALSE),\"\")","v":""},{"$f":"IF(COUNTIF(data!A$6:A$5000,B208)>0,VLOOKUP(B208,data!A$6:M$5000,13,FALSE),\"\")","v":""},{"$f":"IF(B208>0,SUM(F$10:F208)-SUM(G$10:G208),\"\")","v":""}]
[null,null,{"$f":"IF(COUNTIF(data!A$6:A$5000,B209)>0,VLOOKUP(B209,data!A$6:M$5000,2,FALSE),\"\")","v":""},{"$f":"IF(COUNTIF(data!A$6:A$5000,B209)>0,VLOOKUP(B209,data!A$6:M$5000,4,FALSE),\"\")","v":""},{"$f":"IF(COUNTIF(data!A$6:A$5000,B209)>0,VLOOKUP(B209,data!A$6:M$5000,11,FALSE),\"\")","v":""},{"$f":"IF(COUNTIF(data!A$6:A$5000,B209)>0,VLOOKUP(B209,data!A$6:M$5000,12,FALSE),\"\")","v":""},{"$f":"IF(COUNTIF(data!A$6:A$5000,B209)>0,VLOOKUP(B209,data!A$6:M$5000,13,FALSE),\"\")","v":""},{"$f":"IF(B209>0,SUM(F$10:F209)-SUM(G$10:G209),\"\")","v":""}]
[null,null,{"$f":"IF(COUNTIF(data!A$6:A$5000,B210)>0,VLOOKUP(B210,data!A$6:M$5000,2,FALSE),\"\")","v":""},{"$f":"IF(COUNTIF(data!A$6:A$5000,B210)>0,VLOOKUP(B210,data!A$6:M$5000,4,FALSE),\"\")","v":""},{"$f":"IF(COUNTIF(data!A$6:A$5000,B210)>0,VLOOKUP(B210,data!A$6:M$5000,11,FALSE),\"\")","v":""},{"$f":"IF(COUNTIF(data!A$6:A$5000,B210)>0,VLOOKUP(B210,data!A$6:M$5000,12,FALSE),\"\")","v":""},{"$f":"IF(COUNTIF(data!A$6:A$5000,B210)>0,VLOOKUP(B210,data!A$6:M$5000,13,FALSE),\"\")","v":""},{"$f":"IF(B210>0,SUM(F$10:F210)-SUM(G$10:G210),\"\")","v":""}]
[null,null,{"$f":"IF(COUNTIF(data!A$6:A$5000,B211)>0,VLOOKUP(B211,data!A$6:M$5000,2,FALSE),\"\")","v":""},{"$f":"IF(COUNTIF(data!A$6:A$5000,B211)>0,VLOOKUP(B211,data!A$6:M$5000,4,FALSE),\"\")","v":""},{"$f":"IF(COUNTIF(data!A$6:A$5000,B211)>0,VLOOKUP(B211,data!A$6:M$5000,11,FALSE),\"\")","v":""},{"$f":"IF(COUNTIF(data!A$6:A$5000,B211)>0,VLOOKUP(B211,data!A$6:M$5000,12,FALSE),\"\")","v":""},{"$f":"IF(COUNTIF(data!A$6:A$5000,B211)>0,VLOOKUP(B211,data!A$6:M$5000,13,FALSE),\"\")","v":""},{"$f":"IF(B211>0,SUM(F$10:F211)-SUM(G$10:G211),\"\")","v":""}]
[null,null,{"$f":"IF(COUNTIF(data!A$6:A$5000,B212)>0,VLOOKUP(B212,data!A$6:M$5000,2,FALSE),\"\")","v":""},{"$f":"IF(COUNTIF(data!A$6:A$5000,B212)>0,VLOOKUP(B212,data!A$6:M$5000,4,FALSE),\"\")","v":""},{"$f":"IF(COUNTIF(data!A$6:A$5000,B212)>0,VLOOKUP(B212,data!A$6:M$5000,11,FALSE),\"\")","v":""},{"$f":"IF(COUNTIF(data!A$6:A$5000,B212)>0,VLOOKUP(B212,data!A$6:M$5000,12,FALSE),\"\")","v":""},{"$f":"IF(COUNTIF(data!A$6:A$5000,B212)>0,VLOOKUP(B212,data!A$6:M$5000,13,FALSE),\"\")","v":""},{"$f":"IF(B212>0,SUM(F$10:F212)-SUM(G$10:G212),\"\")","v":""}]
[null,null,{"$f":"IF(COUNTIF(data!A$6:A$5000,B213)>0,VLOOKUP(B213,data!A$6:M$5000,2,FALSE),\"\")","v":""},{"$f":"IF(COUNTIF(data!A$6:A$5000,B213)>0,VLOOKUP(B213,data!A$6:M$5000,4,FALSE),\"\")","v":""},{"$f":"IF(COUNTIF(data!A$6:A$5000,B213)>0,VLOOKUP(B213,data!A$6:M$5000,11,FALSE),\"\")","v":""},{"$f":"IF(COUNTIF(data!A$6:A$5000,B213)>0,VLOOKUP(B213,data!A$6:M$5000,12,FALSE),\"\")","v":""},{"$f":"IF(COUNTIF(data!A$6:A$5000,B213)>0,VLOOKUP(B213,data!A$6:M$5000,13,FALSE),\"\")","v":""},{"$f":"IF(B213>0,SUM(F$10:F213)-SUM(G$10:G213),\"\")","v":""}]
[null,null,{"$f":"IF(COUNTIF(data!A$6:A$5000,B214)>0,VLOOKUP(B214,data!A$6:M$5000,2,FALSE),\"\")","v":""},{"$f":"IF(COUNTIF(data!A$6:A$5000,B214)>0,VLOOKUP(B214,data!A$6:M$5000,4,FALSE),\"\")","v":""},{"$f":"IF(COUNTIF(data!A$6:A$5000,B214)>0,VLOOKUP(B214,data!A$6:M$5000,11,FALSE),\"\")","v":""},{"$f":"IF(COUNTIF(data!A$6:A$5000,B214)>0,VLOOKUP(B214,data!A$6:M$5000,12,FALSE),\"\")","v":""},{"$f":"IF(COUNTIF(data!A$6:A$5000,B214)>0,VLOOKUP(B214,data!A$6:M$5000,13,FALSE),\"\")","v":""},{"$f":"IF(B214>0,SUM(F$10:F214)-SUM(G$10:G214),\"\")","v":""}]
[null,null,{"$f":"IF(COUNTIF(data!A$6:A$5000,B215)>0,VLOOKUP(B215,data!A$6:M$5000,2,FALSE),\"\")","v":""},{"$f":"IF(COUNTIF(data!A$6:A$5000,B215)>0,VLOOKUP(B215,data!A$6:M$5000,4,FALSE),\"\")","v":""},{"$f":"IF(COUNTIF(data!A$6:A$5000,B215)>0,VLOOKUP(B215,data!A$6:M$5000,11,FALSE),\"\")","v":""},{"$f":"IF(COUNTIF(data!A$6:A$5000,B215)>0,VLOOKUP(B215,data!A$6:M$5000,12,FALSE),\"\")","v":""},{"$f":"IF(COUNTIF(data!A$6:A$5000,B215)>0,VLOOKUP(B215,data!A$6:M$5000,13,FALSE),\"\")","v":""},{"$f":"IF(B215>0,SUM(F$10:F215)-SUM(G$10:G215),\"\")","v":""}]
[null,null,{"$f":"IF(COUNTIF(data!A$6:A$5000,B216)>0,VLOOKUP(B216,data!A$6:M$5000,2,FALSE),\"\")","v":""},{"$f":"IF(COUNTIF(data!A$6:A$5000,B216)>0,VLOOKUP(B216,data!A$6:M$5000,4,FALSE),\"\")","v":""},{"$f":"IF(COUNTIF(data!A$6:A$5000,B216)>0,VLOOKUP(B216,data!A$6:M$5000,11,FALSE),\"\")","v":""},{"$f":"IF(COUNTIF(data!A$6:A$5000,B216)>0,VLOOKUP(B216,data!A$6:M$5000,12,FALSE),\"\")","v":""},{"$f":"IF(COUNTIF(data!A$6:A$5000,B216)>0,VLOOKUP(B216,data!A$6:M$5000,13,FALSE),\"\")","v":""},{"$f":"IF(B216>0,SUM(F$10:F216)-SUM(G$10:G216),\"\")","v":""}]
[null,null,{"$f":"IF(COUNTIF(data!A$6:A$5000,B217)>0,VLOOKUP(B217,data!A$6:M$5000,2,FALSE),\"\")","v":""},{"$f":"IF(COUNTIF(data!A$6:A$5000,B217)>0,VLOOKUP(B217,data!A$6:M$5000,4,FALSE),\"\")","v":""},{"$f":"IF(COUNTIF(data!A$6:A$5000,B217)>0,VLOOKUP(B217,data!A$6:M$5000,11,FALSE),\"\")","v":""},{"$f":"IF(COUNTIF(data!A$6:A$5000,B217)>0,VLOOKUP(B217,data!A$6:M$5000,12,FALSE),\"\")","v":""},{"$f":"IF(COUNTIF(data!A$6:A$5000,B217)>0,VLOOKUP(B217,data!A$6:M$5000,13,FALSE),\"\")","v":""},{"$f":"IF(B217>0,SUM(F$10:F217)-SUM(G$10:G217),\"\")","v":""}]
[null,null,{"$f":"IF(COUNTIF(data!A$6:A$5000,B218)>0,VLOOKUP(B218,data!A$6:M$5000,2,FALSE),\"\")","v":""},{"$f":"IF(COUNTIF(data!A$6:A$5000,B218)>0,VLOOKUP(B218,data!A$6:M$5000,4,FALSE),\"\")","v":""},{"$f":"IF(COUNTIF(data!A$6:A$5000,B218)>0,VLOOKUP(B218,data!A$6:M$5000,11,FALSE),\"\")","v":""},{"$f":"IF(COUNTIF(data!A$6:A$5000,B218)>0,VLOOKUP(B218,data!A$6:M$5000,12,FALSE),\"\")","v":""},{"$f":"IF(COUNTIF(data!A$6:A$5000,B218)>0,VLOOKUP(B218,data!A$6:M$5000,13,FALSE),\"\")","v":""},{"$f":"IF(B218>0,SUM(F$10:F218)-SUM(G$10:G218),\"\")","v":""}]
[null,null,{"$f":"IF(COUNTIF(data!A$6:A$5000,B219)>0,VLOOKUP(B219,data!A$6:M$5000,2,FALSE),\"\")","v":""},{"$f":"IF(COUNTIF(data!A$6:A$5000,B219)>0,VLOOKUP(B219,data!A$6:M$5000,4,FALSE),\"\")","v":""},{"$f":"IF(COUNTIF(data!A$6:A$5000,B219)>0,VLOOKUP(B219,data!A$6:M$5000,11,FALSE),\"\")","v":""},{"$f":"IF(COUNTIF(data!A$6:A$5000,B219)>0,VLOOKUP(B219,data!A$6:M$5000,12,FALSE),\"\")","v":""},{"$f":"IF(COUNTIF(data!A$6:A$5000,B219)>0,VLOOKUP(B219,data!A$6:M$5000,13,FALSE),\"\")","v":""},{"$f":"IF(B219>0,SUM(F$10:F219)-SUM(G$10:G219),\"\")","v":""}]
[null,null,{"$f":"IF(COUNTIF(data!A$6:A$5000,B220)>0,VLOOKUP(B220,data!A$6:M$5000,2,FALSE),\"\")","v":""},{"$f":"IF(COUNTIF(data!A$6:A$5000,B220)>0,VLOOKUP(B220,data!A$6:M$5000,4,FALSE),\"\")","v":""},{"$f":"IF(COUNTIF(data!A$6:A$5000,B220)>0,VLOOKUP(B220,data!A$6:M$5000,11,FALSE),\"\")","v":""},{"$f":"IF(COUNTIF(data!A$6:A$5000,B220)>0,VLOOKUP(B220,data!A$6:M$5000,12,FALSE),\"\")","v":""},{"$f":"IF(COUNTIF(data!A$6:A$5000,B220)>0,VLOOKUP(B220,data!A$6:M$5000,13,FALSE),\"\")","v":""},{"$f":"IF(B220>0,SUM(F$10:F220)-SUM(G$10:G220),\"\")","v":""}]
[null,null,{"$f":"IF(COUNTIF(data!A$6:A$5000,B221)>0,VLOOKUP(B221,data!A$6:M$5000,2,FALSE),\"\")","v":""},{"$f":"IF(COUNTIF(data!A$6:A$5000,B221)>0,VLOOKUP(B221,data!A$6:M$5000,4,FALSE),\"\")","v":""},{"$f":"IF(COUNTIF(data!A$6:A$5000,B221)>0,VLOOKUP(B221,data!A$6:M$5000,11,FALSE),\"\")","v":""},{"$f":"IF(COUNTIF(data!A$6:A$5000,B221)>0,VLOOKUP(B221,data!A$6:M$5000,12,FALSE),\"\")","v":""},{"$f":"IF(COUNTIF(data!A$6:A$5000,B221)>0,VLOOKUP(B221,data!A$6:M$5000,13,FALSE),\"\")","v":""},{"$f":"IF(B221>0,SUM(F$10:F221)-SUM(G$10:G221),\"\")","v":""}]
[null,null,{"$f":"IF(COUNTIF(data!A$6:A$5000,B222)>0,VLOOKUP(B222,data!A$6:M$5000,2,FALSE),\"\")","v":""},{"$f":"IF(COUNTIF(data!A$6:A$5000,B222)>0,VLOOKUP(B222,data!A$6:M$5000,4,FALSE),\"\")","v":""},{"$f":"IF(COUNTIF(data!A$6:A$5000,B222)>0,VLOOKUP(B222,data!A$6:M$5000,11,FALSE),\"\")","v":""},{"$f":"IF(COUNTIF(data!A$6:A$5000,B222)>0,VLOOKUP(B222,data!A$6:M$5000,12,FALSE),\"\")","v":""},{"$f":"IF(COUNTIF(data!A$6:A$5000,B222)>0,VLOOKUP(B222,data!A$6:M$5000,13,FALSE),\"\")","v":""},{"$f":"IF(B222>0,SUM(F$10:F222)-SUM(G$10:G222),\"\")","v":""}]
[null,null,{"$f":"IF(COUNTIF(data!A$6:A$5000,B223)>0,VLOOKUP(B223,data!A$6:M$5000,2,FALSE),\"\")","v":""},{"$f":"IF(COUNTIF(data!A$6:A$5000,B223)>0,VLOOKUP(B223,data!A$6:M$5000,4,FALSE),\"\")","v":""},{"$f":"IF(COUNTIF(data!A$6:A$5000,B223)>0,VLOOKUP(B223,data!A$6:M$5000,11,FALSE),\"\")","v":""},{"$f":"IF(COUNTIF(data!A$6:A$5000,B223)>0,VLOOKUP(B223,data!A$6:M$5000,12,FALSE),\"\")","v":""},{"$f":"IF(COUNTIF(data!A$6:A$5000,B223)>0,VLOOKUP(B223,data!A$6:M$5000,13,FALSE),\"\")","v":""},{"$f":"IF(B223>0,SUM(F$10:F223)-SUM(G$10:G223),\"\")","v":""}]
[null,null,{"$f":"IF(COUNTIF(data!A$6:A$5000,B224)>0,VLOOKUP(B224,data!A$6:M$5000,2,FALSE),\"\")","v":""},{"$f":"IF(COUNTIF(data!A$6:A$5000,B224)>0,VLOOKUP(B224,data!A$6:M$5000,4,FALSE),\"\")","v":""},{"$f":"IF(COUNTIF(data!A$6:A$5000,B224)>0,VLOOKUP(B224,data!A$6:M$5000,11,FALSE),\"\")","v":""},{"$f":"IF(COUNTIF(data!A$6:A$5000,B224)>0,VLOOKUP(B224,data!A$6:M$5000,12,FALSE),\"\")","v":""},{"$f":"IF(COUNTIF(data!A$6:A$5000,B224)>0,VLOOKUP(B224,data!A$6:M$5000,13,FALSE),\"\")","v":""},{"$f":"IF(B224>0,SUM(F$10:F224)-SUM(G$10:G224),\"\")","v":""}]
[null,null,{"$f":"IF(COUNTIF(data!A$6:A$5000,B225)>0,VLOOKUP(B225,data!A$6:M$5000,2,FALSE),\"\")","v":""},{"$f":"IF(COUNTIF(data!A$6:A$5000,B225)>0,VLOOKUP(B225,data!A$6:M$5000,4,FALSE),\"\")","v":""},{"$f":"IF(COUNTIF(data!A$6:A$5000,B225)>0,VLOOKUP(B225,data!A$6:M$5000,11,FALSE),\"\")","v":""},{"$f":"IF(COUNTIF(data!A$6:A$5000,B225)>0,VLOOKUP(B225,data!A$6:M$5000,12,FALSE),\"\")","v":""},{"$f":"IF(COUNTIF(data!A$6:A$5000,B225)>0,VLOOKUP(B225,data!A$6:M$5000,13,FALSE),\"\")","v":""},{"$f":"IF(B225>0,SUM(F$10:F225)-SUM(G$10:G225),\"\")","v":""}]
[null,null,{"$f":"IF(COUNTIF(data!A$6:A$5000,B226)>0,VLOOKUP(B226,data!A$6:M$5000,2,FALSE),\"\")","v":""},{"$f":"IF(COUNTIF(data!A$6:A$5000,B226)>0,VLOOKUP(B226,data!A$6:M$5000,4,FALSE),\"\")","v":""},{"$f":"IF(COUNTIF(data!A$6:A$5000,B226)>0,VLOOKUP(B226,data!A$6:M$5000,11,FALSE),\"\")","v":""},{"$f":"IF(COUNTIF(data!A$6:A$5000,B226)>0,VLOOKUP(B226,data!A$6:M$5000,12,FALSE),\"\")","v":""},{"$f":"IF(COUNTIF(data!A$6:A$5000,B226)>0,VLOOKUP(B226,data!A$6:M$5000,13,FALSE),\"\")","v":""},{"$f":"IF(B226>0,SUM(F$10:F226)-SUM(G$10:G226),\"\")","v":""}]
[null,null,{"$f":"IF(COUNTIF(data!A$6:A$5000,B227)>0,VLOOKUP(B227,data!A$6:M$5000,2,FALSE),\"\")","v":""},{"$f":"IF(COUNTIF(data!A$6:A$5000,B227)>0,VLOOKUP(B227,data!A$6:M$5000,4,FALSE),\"\")","v":""},{"$f":"IF(COUNTIF(data!A$6:A$5000,B227)>0,VLOOKUP(B227,data!A$6:M$5000,11,FALSE),\"\")","v":""},{"$f":"IF(COUNTIF(data!A$6:A$5000,B227)>0,VLOOKUP(B227,data!A$6:M$5000,12,FALSE),\"\")","v":""},{"$f":"IF(COUNTIF(data!A$6:A$5000,B227)>0,VLOOKUP(B227,data!A$6:M$5000,13,FALSE),\"\")","v":""},{"$f":"IF(B227>0,SUM(F$10:F227)-SUM(G$10:G227),\"\")","v":""}]
[null,null,{"$f":"IF(COUNTIF(data!A$6:A$5000,B228)>0,VLOOKUP(B228,data!A$6:M$5000,2,FALSE),\"\")","v":""},{"$f":"IF(COUNTIF(data!A$6:A$5000,B228)>0,VLOOKUP(B228,data!A$6:M$5000,4,FALSE),\"\")","v":""},{"$f":"IF(COUNTIF(data!A$6:A$5000,B228)>0,VLOOKUP(B228,data!A$6:M$5000,11,FALSE),\"\")","v":""},{"$f":"IF(COUNTIF(data!A$6:A$5000,B228)>0,VLOOKUP(B228,data!A$6:M$5000,12,FALSE),\"\")","v":""},{"$f":"IF(COUNTIF(data!A$6:A$5000,B228)>0,VLOOKUP(B228,data!A$6:M$5000,13,FALSE),\"\")","v":""},{"$f":"IF(B228>0,SUM(F$10:F228)-SUM(G$10:G228),\"\")","v":""}]
[null,null,{"$f":"IF(COUNTIF(data!A$6:A$5000,B229)>0,VLOOKUP(B229,data!A$6:M$5000,2,FALSE),\"\")","v":""},{"$f":"IF(COUNTIF(data!A$6:A$5000,B229)>0,VLOOKUP(B229,data!A$6:M$5000,4,FALSE),\"\")","v":""},{"$f":"IF(COUNTIF(data!A$6:A$5000,B229)>0,VLOOKUP(B229,data!A$6:M$5000,11,FALSE),\"\")","v":""},{"$f":"IF(COUNTIF(data!A$6:A$5000,B229)>0,VLOOKUP(B229,data!A$6:M$5000,12,FALSE),\"\")","v":""},{"$f":"IF(COUNTIF(data!A$6:A$5000,B229)>0,VLOOKUP(B229,data!A$6:M$5000,13,FALSE),\"\")","v":""},{"$f":"IF(B229>0,SUM(F$10:F229)-SUM(G$10:G229),\"\")","v":""}]
[null,null,{"$f":"IF(COUNTIF(data!A$6:A$5000,B230)>0,VLOOKUP(B230,data!A$6:M$5000,2,FALSE),\"\")","v":""},{"$f":"IF(COUNTIF(data!A$6:A$5000,B230)>0,VLOOKUP(B230,data!A$6:M$5000,4,FALSE),\"\")","v":""},{"$f":"IF(COUNTIF(data!A$6:A$5000,B230)>0,VLOOKUP(B230,data!A$6:M$5000,11,FALSE),\"\")","v":""},{"$f":"IF(COUNTIF(data!A$6:A$5000,B230)>0,VLOOKUP(B230,data!A$6:M$5000,12,FALSE),\"\")","v":""},{"$f":"IF(COUNTIF(data!A$6:A$5000,B230)>0,VLOOKUP(B230,data!A$6:M$5000,13,FALSE),\"\")","v":""},{"$f":"IF(B230>0,SUM(F$10:F230)-SUM(G$10:G230),\"\")","v":""}]
[null,null,{"$f":"IF(COUNTIF(data!A$6:A$5000,B231)>0,VLOOKUP(B231,data!A$6:M$5000,2,FALSE),\"\")","v":""},{"$f":"IF(COUNTIF(data!A$6:A$5000,B231)>0,VLOOKUP(B231,data!A$6:M$5000,4,FALSE),\"\")","v":""},{"$f":"IF(COUNTIF(data!A$6:A$5000,B231)>0,VLOOKUP(B231,data!A$6:M$5000,11,FALSE),\"\")","v":""},{"$f":"IF(COUNTIF(data!A$6:A$5000,B231)>0,VLOOKUP(B231,data!A$6:M$5000,12,FALSE),\"\")","v":""},{"$f":"IF(COUNTIF(data!A$6:A$5000,B231)>0,VLOOKUP(B231,data!A$6:M$5000,13,FALSE),\"\")","v":""},{"$f":"IF(B231>0,SUM(F$10:F231)-SUM(G$10:G231),\"\")","v":""}]
[null,null,{"$f":"IF(COUNTIF(data!A$6:A$5000,B232)>0,VLOOKUP(B232,data!A$6:M$5000,2,FALSE),\"\")","v":""},{"$f":"IF(COUNTIF(data!A$6:A$5000,B232)>0,VLOOKUP(B232,data!A$6:M$5000,4,FALSE),\"\")","v":""},{"$f":"IF(COUNTIF(data!A$6:A$5000,B232)>0,VLOOKUP(B232,data!A$6:M$5000,11,FALSE),\"\")","v":""},{"$f":"IF(COUNTIF(data!A$6:A$5000,B232)>0,VLOOKUP(B232,data!A$6:M$5000,12,FALSE),\"\")","v":""},{"$f":"IF(COUNTIF(data!A$6:A$5000,B232)>0,VLOOKUP(B232,data!A$6:M$5000,13,FALSE),\"\")","v":""},{"$f":"IF(B232>0,SUM(F$10:F232)-SUM(G$10:G232),\"\")","v":""}]
[null,null,{"$f":"IF(COUNTIF(data!A$6:A$5000,B233)>0,VLOOKUP(B233,data!A$6:M$5000,2,FALSE),\"\")","v":""},{"$f":"IF(COUNTIF(data!A$6:A$5000,B233)>0,VLOOKUP(B233,data!A$6:M$5000,4,FALSE),\"\")","v":""},{"$f":"IF(COUNTIF(data!A$6:A$5000,B233)>0,VLOOKUP(B233,data!A$6:M$5000,11,FALSE),\"\")","v":""},{"$f":"IF(COUNTIF(data!A$6:A$5000,B233)>0,VLOOKUP(B233,data!A$6:M$5000,12,FALSE),\"\")","v":""},{"$f":"IF(COUNTIF(data!A$6:A$5000,B233)>0,VLOOKUP(B233,data!A$6:M$5000,13,FALSE),\"\")","v":""},{"$f":"IF(B233>0,SUM(F$10:F233)-SUM(G$10:G233),\"\")","v":""}]
[null,null,{"$f":"IF(COUNTIF(data!A$6:A$5000,B234)>0,VLOOKUP(B234,data!A$6:M$5000,2,FALSE),\"\")","v":""},{"$f":"IF(COUNTIF(data!A$6:A$5000,B234)>0,VLOOKUP(B234,data!A$6:M$5000,4,FALSE),\"\")","v":""},{"$f":"IF(COUNTIF(data!A$6:A$5000,B234)>0,VLOOKUP(B234,data!A$6:M$5000,11,FALSE),\"\")","v":""},{"$f":"IF(COUNTIF(data!A$6:A$5000,B234)>0,VLOOKUP(B234,data!A$6:M$5000,12,FALSE),\"\")","v":""},{"$f":"IF(COUNTIF(data!A$6:A$5000,B234)>0,VLOOKUP(B234,data!A$6:M$5000,13,FALSE),\"\")","v":""},{"$f":"IF(B234>0,SUM(F$10:F234)-SUM(G$10:G234),\"\")","v":""}]
[null,null,{"$f":"IF(COUNTIF(data!A$6:A$5000,B235)>0,VLOOKUP(B235,data!A$6:M$5000,2,FALSE),\"\")","v":""},{"$f":"IF(COUNTIF(data!A$6:A$5000,B235)>0,VLOOKUP(B235,data!A$6:M$5000,4,FALSE),\"\")","v":""},{"$f":"IF(COUNTIF(data!A$6:A$5000,B235)>0,VLOOKUP(B235,data!A$6:M$5000,11,FALSE),\"\")","v":""},{"$f":"IF(COUNTIF(data!A$6:A$5000,B235)>0,VLOOKUP(B235,data!A$6:M$5000,12,FALSE),\"\")","v":""},{"$f":"IF(COUNTIF(data!A$6:A$5000,B235)>0,VLOOKUP(B235,data!A$6:M$5000,13,FALSE),\"\")","v":""},{"$f":"IF(B235>0,SUM(F$10:F235)-SUM(G$10:G235),\"\")","v":""}]
[null,null,{"$f":"IF(COUNTIF(data!A$6:A$5000,B236)>0,VLOOKUP(B236,data!A$6:M$5000,2,FALSE),\"\")","v":""},{"$f":"IF(COUNTIF(data!A$6:A$5000,B236)>0,VLOOKUP(B236,data!A$6:M$5000,4,FALSE),\"\")","v":""},{"$f":"IF(COUNTIF(data!A$6:A$5000,B236)>0,VLOOKUP(B236,data!A$6:M$5000,11,FALSE),\"\")","v":""},{"$f":"IF(COUNTIF(data!A$6:A$5000,B236)>0,VLOOKUP(B236,data!A$6:M$5000,12,FALSE),\"\")","v":""},{"$f":"IF(COUNTIF(data!A$6:A$5000,B236)>0,VLOOKUP(B236,data!A$6:M$5000,13,FALSE),\"\")","v":""},{"$f":"IF(B236>0,SUM(F$10:F236)-SUM(G$10:G236),\"\")","v":""}]
[null,null,{"$f":"IF(COUNTIF(data!A$6:A$5000,B237)>0,VLOOKUP(B237,data!A$6:M$5000,2,FALSE),\"\")","v":""},{"$f":"IF(COUNTIF(data!A$6:A$5000,B237)>0,VLOOKUP(B237,data!A$6:M$5000,4,FALSE),\"\")","v":""},{"$f":"IF(COUNTIF(data!A$6:A$5000,B237)>0,VLOOKUP(B237,data!A$6:M$5000,11,FALSE),\"\")","v":""},{"$f":"IF(COUNTIF(data!A$6:A$5000,B237)>0,VLOOKUP(B237,data!A$6:M$5000,12,FALSE),\"\")","v":""},{"$f":"IF(COUNTIF(data!A$6:A$5000,B237)>0,VLOOKUP(B237,data!A$6:M$5000,13,FALSE),\"\")","v":""},{"$f":"IF(B237>0,SUM(F$10:F237)-SUM(G$10:G237),\"\")","v":""}]
[null,null,{"$f":"IF(COUNTIF(data!A$6:A$5000,B238)>0,VLOOKUP(B238,data!A$6:M$5000,2,FALSE),\"\")","v":""},{"$f":"IF(COUNTIF(data!A$6:A$5000,B238)>0,VLOOKUP(B238,data!A$6:M$5000,4,FALSE),\"\")","v":""},{"$f":"IF(COUNTIF(data!A$6:A$5000,B238)>0,VLOOKUP(B238,data!A$6:M$5000,11,FALSE),\"\")","v":""},{"$f":"IF(COUNTIF(data!A$6:A$5000,B238)>0,VLOOKUP(B238,data!A$6:M$5000,12,FALSE),\"\")","v":""},{"$f":"IF(COUNTIF(data!A$6:A$5000,B238)>0,VLOOKUP(B238,data!A$6:M$5000,13,FALSE),\"\")","v":""},{"$f":"IF(B238>0,SUM(F$10:F238)-SUM(G$10:G238),\"\")","v":""}]
[null,null,{"$f":"IF(COUNTIF(data!A$6:A$5000,B239)>0,VLOOKUP(B239,data!A$6:M$5000,2,FALSE),\"\")","v":""},{"$f":"IF(COUNTIF(data!A$6:A$5000,B239)>0,VLOOKUP(B239,data!A$6:M$5000,4,FALSE),\"\")","v":""},{"$f":"IF(COUNTIF(data!A$6:A$5000,B239)>0,VLOOKUP(B239,data!A$6:M$5000,11,FALSE),\"\")","v":""},{"$f":"IF(COUNTIF(data!A$6:A$5000,B239)>0,VLOOKUP(B239,data!A$6:M$5000,12,FALSE),\"\")","v":""},{"$f":"IF(COUNTIF(data!A$6:A$5000,B239)>0,VLOOKUP(B239,data!A$6:M$5000,13,FALSE),\"\")","v":""},{"$f":"IF(B239>0,SUM(F$10:F239)-SUM(G$10:G239),\"\")","v":""}]
[null,null,{"$f":"IF(COUNTIF(data!A$6:A$5000,B240)>0,VLOOKUP(B240,data!A$6:M$5000,2,FALSE),\"\")","v":""},{"$f":"IF(COUNTIF(data!A$6:A$5000,B240)>0,VLOOKUP(B240,data!A$6:M$5000,4,FALSE),\"\")","v":""},{"$f":"IF(COUNTIF(data!A$6:A$5000,B240)>0,VLOOKUP(B240,data!A$6:M$5000,11,FALSE),\"\")","v":""},{"$f":"IF(COUNTIF(data!A$6:A$5000,B240)>0,VLOOKUP(B240,data!A$6:M$5000,12,FALSE),\"\")","v":""},{"$f":"IF(COUNTIF(data!A$6:A$5000,B240)>0,VLOOKUP(B240,data!A$6:M$5000,13,FALSE),\"\")","v":""},{"$f":"IF(B240>0,SUM(F$10:F240)-SUM(G$10:G240),\"\")","v":""}]
[null,null,{"$f":"IF(COUNTIF(data!A$6:A$5000,B241)>0,VLOOKUP(B241,data!A$6:M$5000,2,FALSE),\"\")","v":""},{"$f":"IF(COUNTIF(data!A$6:A$5000,B241)>0,VLOOKUP(B241,data!A$6:M$5000,4,FALSE),\"\")","v":""},{"$f":"IF(COUNTIF(data!A$6:A$5000,B241)>0,VLOOKUP(B241,data!A$6:M$5000,11,FALSE),\"\")","v":""},{"$f":"IF(COUNTIF(data!A$6:A$5000,B241)>0,VLOOKUP(B241,data!A$6:M$5000,12,FALSE),\"\")","v":""},{"$f":"IF(COUNTIF(data!A$6:A$5000,B241)>0,VLOOKUP(B241,data!A$6:M$5000,13,FALSE),\"\")","v":""},{"$f":"IF(B241>0,SUM(F$10:F241)-SUM(G$10:G241),\"\")","v":""}]
[null,null,{"$f":"IF(COUNTIF(data!A$6:A$5000,B242)>0,VLOOKUP(B242,data!A$6:M$5000,2,FALSE),\"\")","v":""},{"$f":"IF(COUNTIF(data!A$6:A$5000,B242)>0,VLOOKUP(B242,data!A$6:M$5000,4,FALSE),\"\")","v":""},{"$f":"IF(COUNTIF(data!A$6:A$5000,B242)>0,VLOOKUP(B242,data!A$6:M$5000,11,FALSE),\"\")","v":""},{"$f":"IF(COUNTIF(data!A$6:A$5000,B242)>0,VLOOKUP(B242,data!A$6:M$5000,12,FALSE),\"\")","v":""},{"$f":"IF(COUNTIF(data!A$6:A$5000,B242)>0,VLOOKUP(B242,data!A$6:M$5000,13,FALSE),\"\")","v":""},{"$f":"IF(B242>0,SUM(F$10:F242)-SUM(G$10:G242),\"\")","v":""}]
[null,null,{"$f":"IF(COUNTIF(data!A$6:A$5000,B243)>0,VLOOKUP(B243,data!A$6:M$5000,2,FALSE),\"\")","v":""},{"$f":"IF(COUNTIF(data!A$6:A$5000,B243)>0,VLOOKUP(B243,data!A$6:M$5000,4,FALSE),\"\")","v":""},{"$f":"IF(COUNTIF(data!A$6:A$5000,B243)>0,VLOOKUP(B243,data!A$6:M$5000,11,FALSE),\"\")","v":""},{"$f":"IF(COUNTIF(data!A$6:A$5000,B243)>0,VLOOKUP(B243,data!A$6:M$5000,12,FALSE),\"\")","v":""},{"$f":"IF(COUNTIF(data!A$6:A$5000,B243)>0,VLOOKUP(B243,data!A$6:M$5000,13,FALSE),\"\")","v":""},{"$f":"IF(B243>0,SUM(F$10:F243)-SUM(G$10:G243),\"\")","v":""}]
[null,null,{"$f":"IF(COUNTIF(data!A$6:A$5000,B244)>0,VLOOKUP(B244,data!A$6:M$5000,2,FALSE),\"\")","v":""},{"$f":"IF(COUNTIF(data!A$6:A$5000,B244)>0,VLOOKUP(B244,data!A$6:M$5000,4,FALSE),\"\")","v":""},{"$f":"IF(COUNTIF(data!A$6:A$5000,B244)>0,VLOOKUP(B244,data!A$6:M$5000,11,FALSE),\"\")","v":""},{"$f":"IF(COUNTIF(data!A$6:A$5000,B244)>0,VLOOKUP(B244,data!A$6:M$5000,12,FALSE),\"\")","v":""},{"$f":"IF(COUNTIF(data!A$6:A$5000,B244)>0,VLOOKUP(B244,data!A$6:M$5000,13,FALSE),\"\")","v":""},{"$f":"IF(B244>0,SUM(F$10:F244)-SUM(G$10:G244),\"\")","v":""}]
[null,null,{"$f":"IF(COUNTIF(data!A$6:A$5000,B245)>0,VLOOKUP(B245,data!A$6:M$5000,2,FALSE),\"\")","v":""},{"$f":"IF(COUNTIF(data!A$6:A$5000,B245)>0,VLOOKUP(B245,data!A$6:M$5000,4,FALSE),\"\")","v":""},{"$f":"IF(COUNTIF(data!A$6:A$5000,B245)>0,VLOOKUP(B245,data!A$6:M$5000,11,FALSE),\"\")","v":""},{"$f":"IF(COUNTIF(data!A$6:A$5000,B245)>0,VLOOKUP(B245,data!A$6:M$5000,12,FALSE),\"\")","v":""},{"$f":"IF(COUNTIF(data!A$6:A$5000,B245)>0,VLOOKUP(B245,data!A$6:M$5000,13,FALSE),\"\")","v":""},{"$f":"IF(B245>0,SUM(F$10:F245)-SUM(G$10:G245),\"\")","v":""}]
[null,null,{"$f":"IF(COUNTIF(data!A$6:A$5000,B246)>0,VLOOKUP(B246,data!A$6:M$5000,2,FALSE),\"\")","v":""},{"$f":"IF(COUNTIF(data!A$6:A$5000,B246)>0,VLOOKUP(B246,data!A$6:M$5000,4,FALSE),\"\")","v":""},{"$f":"IF(COUNTIF(data!A$6:A$5000,B246)>0,VLOOKUP(B246,data!A$6:M$5000,11,FALSE),\"\")","v":""},{"$f":"IF(COUNTIF(data!A$6:A$5000,B246)>0,VLOOKUP(B246,data!A$6:M$5000,12,FALSE),\"\")","v":""},{"$f":"IF(COUNTIF(data!A$6:A$5000,B246)>0,VLOOKUP(B246,data!A$6:M$5000,13,FALSE),\"\")","v":""},{"$f":"IF(B246>0,SUM(F$10:F246)-SUM(G$10:G246),\"\")","v":""}]
[null,null,{"$f":"IF(COUNTIF(data!A$6:A$5000,B247)>0,VLOOKUP(B247,data!A$6:M$5000,2,FALSE),\"\")","v":""},{"$f":"IF(COUNTIF(data!A$6:A$5000,B247)>0,VLOOKUP(B247,data!A$6:M$5000,4,FALSE),\"\")","v":""},{"$f":"IF(COUNTIF(data!A$6:A$5000,B247)>0,VLOOKUP(B247,data!A$6:M$5000,11,FALSE),\"\")","v":""},{"$f":"IF(COUNTIF(data!A$6:A$5000,B247)>0,VLOOKUP(B247,data!A$6:M$5000,12,FALSE),\"\")","v":""},{"$f":"IF(COUNTIF(data!A$6:A$5000,B247)>0,VLOOKUP(B247,data!A$6:M$5000,13,FALSE),\"\")","v":""},{"$f":"IF(B247>0,SUM(F$10:F247)-SUM(G$10:G247),\"\")","v":""}]
[null,null,{"$f":"IF(COUNTIF(data!A$6:A$5000,B248)>0,VLOOKUP(B248,data!A$6:M$5000,2,FALSE),\"\")","v":""},{"$f":"IF(COUNTIF(data!A$6:A$5000,B248)>0,VLOOKUP(B248,data!A$6:M$5000,4,FALSE),\"\")","v":""},{"$f":"IF(COUNTIF(data!A$6:A$5000,B248)>0,VLOOKUP(B248,data!A$6:M$5000,11,FALSE),\"\")","v":""},{"$f":"IF(COUNTIF(data!A$6:A$5000,B248)>0,VLOOKUP(B248,data!A$6:M$5000,12,FALSE),\"\")","v":""},{"$f":"IF(COUNTIF(data!A$6:A$5000,B248)>0,VLOOKUP(B248,data!A$6:M$5000,13,FALSE),\"\")","v":""},{"$f":"IF(B248>0,SUM(F$10:F248)-SUM(G$10:G248),\"\")","v":""}]
[null,null,{"$f":"IF(COUNTIF(data!A$6:A$5000,B249)>0,VLOOKUP(B249,data!A$6:M$5000,2,FALSE),\"\")","v":""},{"$f":"IF(COUNTIF(data!A$6:A$5000,B249)>0,VLOOKUP(B249,data!A$6:M$5000,4,FALSE),\"\")","v":""},{"$f":"IF(COUNTIF(data!A$6:A$5000,B249)>0,VLOOKUP(B249,data!A$6:M$5000,11,FALSE),\"\")","v":""},{"$f":"IF(COUNTIF(data!A$6:A$5000,B249)>0,VLOOKUP(B249,data!A$6:M$5000,12,FALSE),\"\")","v":""},{"$f":"IF(COUNTIF(data!A$6:A$5000,B249)>0,VLOOKUP(B249,data!A$6:M$5000,13,FALSE),\"\")","v":""},{"$f":"IF(B249>0,SUM(F$10:F249)-SUM(G$10:G249),\"\")","v":""}]
[null,null,{"$f":"IF(COUNTIF(data!A$6:A$5000,B250)>0,VLOOKUP(B250,data!A$6:M$5000,2,FALSE),\"\")","v":""},{"$f":"IF(COUNTIF(data!A$6:A$5000,B250)>0,VLOOKUP(B250,data!A$6:M$5000,4,FALSE),\"\")","v":""},{"$f":"IF(COUNTIF(data!A$6:A$5000,B250)>0,VLOOKUP(B250,data!A$6:M$5000,11,FALSE),\"\")","v":""},{"$f":"IF(COUNTIF(data!A$6:A$5000,B250)>0,VLOOKUP(B250,data!A$6:M$5000,12,FALSE),\"\")","v":""},{"$f":"IF(COUNTIF(data!A$6:A$5000,B250)>0,VLOOKUP(B250,data!A$6:M$5000,13,FALSE),\"\")","v":""},{"$f":"IF(B250>0,SUM(F$10:F250)-SUM(G$10:G250),\"\")","v":""}]
[null,null,{"$f":"IF(COUNTIF(data!A$6:A$5000,B251)>0,VLOOKUP(B251,data!A$6:M$5000,2,FALSE),\"\")","v":""},{"$f":"IF(COUNTIF(data!A$6:A$5000,B251)>0,VLOOKUP(B251,data!A$6:M$5000,4,FALSE),\"\")","v":""},{"$f":"IF(COUNTIF(data!A$6:A$5000,B251)>0,VLOOKUP(B251,data!A$6:M$5000,11,FALSE),\"\")","v":""},{"$f":"IF(COUNTIF(data!A$6:A$5000,B251)>0,VLOOKUP(B251,data!A$6:M$5000,12,FALSE),\"\")","v":""},{"$f":"IF(COUNTIF(data!A$6:A$5000,B251)>0,VLOOKUP(B251,data!A$6:M$5000,13,FALSE),\"\")","v":""},{"$f":"IF(B251>0,SUM(F$10:F251)-SUM(G$10:G251),\"\")","v":""}]
[null,null,{"$f":"IF(COUNTIF(data!A$6:A$5000,B252)>0,VLOOKUP(B252,data!A$6:M$5000,2,FALSE),\"\")","v":""},{"$f":"IF(COUNTIF(data!A$6:A$5000,B252)>0,VLOOKUP(B252,data!A$6:M$5000,4,FALSE),\"\")","v":""},{"$f":"IF(COUNTIF(data!A$6:A$5000,B252)>0,VLOOKUP(B252,data!A$6:M$5000,11,FALSE),\"\")","v":""},{"$f":"IF(COUNTIF(data!A$6:A$5000,B252)>0,VLOOKUP(B252,data!A$6:M$5000,12,FALSE),\"\")","v":""},{"$f":"IF(COUNTIF(data!A$6:A$5000,B252)>0,VLOOKUP(B252,data!A$6:M$5000,13,FALSE),\"\")","v":""},{"$f":"IF(B252>0,SUM(F$10:F252)-SUM(G$10:G252),\"\")","v":""}]
[null,null,{"$f":"IF(COUNTIF(data!A$6:A$5000,B253)>0,VLOOKUP(B253,data!A$6:M$5000,2,FALSE),\"\")","v":""},{"$f":"IF(COUNTIF(data!A$6:A$5000,B253)>0,VLOOKUP(B253,data!A$6:M$5000,4,FALSE),\"\")","v":""},{"$f":"IF(COUNTIF(data!A$6:A$5000,B253)>0,VLOOKUP(B253,data!A$6:M$5000,11,FALSE),\"\")","v":""},{"$f":"IF(COUNTIF(data!A$6:A$5000,B253)>0,VLOOKUP(B253,data!A$6:M$5000,12,FALSE),\"\")","v":""},{"$f":"IF(COUNTIF(data!A$6:A$5000,B253)>0,VLOOKUP(B253,data!A$6:M$5000,13,FALSE),\"\")","v":""},{"$f":"IF(B253>0,SUM(F$10:F253)-SUM(G$10:G253),\"\")","v":""}]
[null,null,{"$f":"IF(COUNTIF(data!A$6:A$5000,B254)>0,VLOOKUP(B254,data!A$6:M$5000,2,FALSE),\"\")","v":""},{"$f":"IF(COUNTIF(data!A$6:A$5000,B254)>0,VLOOKUP(B254,data!A$6:M$5000,4,FALSE),\"\")","v":""},{"$f":"IF(COUNTIF(data!A$6:A$5000,B254)>0,VLOOKUP(B254,data!A$6:M$5000,11,FALSE),\"\")","v":""},{"$f":"IF(COUNTIF(data!A$6:A$5000,B254)>0,VLOOKUP(B254,data!A$6:M$5000,12,FALSE),\"\")","v":""},{"$f":"IF(COUNTIF(data!A$6:A$5000,B254)>0,VLOOKUP(B254,data!A$6:M$5000,13,FALSE),\"\")","v":""},{"$f":"IF(B254>0,SUM(F$10:F254)-SUM(G$10:G254),\"\")","v":""}]
[null,null,{"$f":"IF(COUNTIF(data!A$6:A$5000,B255)>0,VLOOKUP(B255,data!A$6:M$5000,2,FALSE),\"\")","v":""},{"$f":"IF(COUNTIF(data!A$6:A$5000,B255)>0,VLOOKUP(B255,data!A$6:M$5000,4,FALSE),\"\")","v":""},{"$f":"IF(COUNTIF(data!A$6:A$5000,B255)>0,VLOOKUP(B255,data!A$6:M$5000,11,FALSE),\"\")","v":""},{"$f":"IF(COUNTIF(data!A$6:A$5000,B255)>0,VLOOKUP(B255,data!A$6:M$5000,12,FALSE),\"\")","v":""},{"$f":"IF(COUNTIF(data!A$6:A$5000,B255)>0,VLOOKUP(B255,data!A$6:M$5000,13,FALSE),\"\")","v":""},{"$f":"IF(B255>0,SUM(F$10:F255)-SUM(G$10:G255),\"\")","v":""}]
[null,null,{"$f":"IF(COUNTIF(data!A$6:A$5000,B256)>0,VLOOKUP(B256,data!A$6:M$5000,2,FALSE),\"\")","v":""},{"$f":"IF(COUNTIF(data!A$6:A$5000,B256)>0,VLOOKUP(B256,data!A$6:M$5000,4,FALSE),\"\")","v":""},{"$f":"IF(COUNTIF(data!A$6:A$5000,B256)>0,VLOOKUP(B256,data!A$6:M$5000,11,FALSE),\"\")","v":""},{"$f":"IF(COUNTIF(data!A$6:A$5000,B256)>0,VLOOKUP(B256,data!A$6:M$5000,12,FALSE),\"\")","v":""},{"$f":"IF(COUNTIF(data!A$6:A$5000,B256)>0,VLOOKUP(B256,data!A$6:M$5000,13,FALSE),\"\")","v":""},{"$f":"IF(B256>0,SUM(F$10:F256)-SUM(G$10:G256),\"\")","v":""}]
[null,null,{"$f":"IF(COUNTIF(data!A$6:A$5000,B257)>0,VLOOKUP(B257,data!A$6:M$5000,2,FALSE),\"\")","v":""},{"$f":"IF(COUNTIF(data!A$6:A$5000,B257)>0,VLOOKUP(B257,data!A$6:M$5000,4,FALSE),\"\")","v":""},{"$f":"IF(COUNTIF(data!A$6:A$5000,B257)>0,VLOOKUP(B257,data!A$6:M$5000,11,FALSE),\"\")","v":""},{"$f":"IF(COUNTIF(data!A$6:A$5000,B257)>0,VLOOKUP(B257,data!A$6:M$5000,12,FALSE),\"\")","v":""},{"$f":"IF(COUNTIF(data!A$6:A$5000,B257)>0,VLOOKUP(B257,data!A$6:M$5000,13,FALSE),\"\")","v":""},{"$f":"IF(B257>0,SUM(F$10:F257)-SUM(G$10:G257),\"\")","v":""}]
[null,null,{"$f":"IF(COUNTIF(data!A$6:A$5000,B258)>0,VLOOKUP(B258,data!A$6:M$5000,2,FALSE),\"\")","v":""},{"$f":"IF(COUNTIF(data!A$6:A$5000,B258)>0,VLOOKUP(B258,data!A$6:M$5000,4,FALSE),\"\")","v":""},{"$f":"IF(COUNTIF(data!A$6:A$5000,B258)>0,VLOOKUP(B258,data!A$6:M$5000,11,FALSE),\"\")","v":""},{"$f":"IF(COUNTIF(data!A$6:A$5000,B258)>0,VLOOKUP(B258,data!A$6:M$5000,12,FALSE),\"\")","v":""},{"$f":"IF(COUNTIF(data!A$6:A$5000,B258)>0,VLOOKUP(B258,data!A$6:M$5000,13,FALSE),\"\")","v":""},{"$f":"IF(B258>0,SUM(F$10:F258)-SUM(G$10:G258),\"\")","v":""}]
[null,null,{"$f":"IF(COUNTIF(data!A$6:A$5000,B259)>0,VLOOKUP(B259,data!A$6:M$5000,2,FALSE),\"\")","v":""},{"$f":"IF(COUNTIF(data!A$6:A$5000,B259)>0,VLOOKUP(B259,data!A$6:M$5000,4,FALSE),\"\")","v":""},{"$f":"IF(COUNTIF(data!A$6:A$5000,B259)>0,VLOOKUP(B259,data!A$6:M$5000,11,FALSE),\"\")","v":""},{"$f":"IF(COUNTIF(data!A$6:A$5000,B259)>0,VLOOKUP(B259,data!A$6:M$5000,12,FALSE),\"\")","v":""},{"$f":"IF(COUNTIF(data!A$6:A$5000,B259)>0,VLOOKUP(B259,data!A$6:M$5000,13,FALSE),\"\")","v":""},{"$f":"IF(B259>0,SUM(F$10:F259)-SUM(G$10:G259),\"\")","v":""}]
[null,null,{"$f":"IF(COUNTIF(data!A$6:A$5000,B260)>0,VLOOKUP(B260,data!A$6:M$5000,2,FALSE),\"\")","v":""},{"$f":"IF(COUNTIF(data!A$6:A$5000,B260)>0,VLOOKUP(B260,data!A$6:M$5000,4,FALSE),\"\")","v":""},{"$f":"IF(COUNTIF(data!A$6:A$5000,B260)>0,VLOOKUP(B260,data!A$6:M$5000,11,FALSE),\"\")","v":""},{"$f":"IF(COUNTIF(data!A$6:A$5000,B260)>0,VLOOKUP(B260,data!A$6:M$5000,12,FALSE),\"\")","v":""},{"$f":"IF(COUNTIF(data!A$6:A$5000,B260)>0,VLOOKUP(B260,data!A$6:M$5000,13,FALSE),\"\")","v":""},{"$f":"IF(B260>0,SUM(F$10:F260)-SUM(G$10:G260),\"\")","v":""}]
[null,null,{"$f":"IF(COUNTIF(data!A$6:A$5000,B261)>0,VLOOKUP(B261,data!A$6:M$5000,2,FALSE),\"\")","v":""},{"$f":"IF(COUNTIF(data!A$6:A$5000,B261)>0,VLOOKUP(B261,data!A$6:M$5000,4,FALSE),\"\")","v":""},{"$f":"IF(COUNTIF(data!A$6:A$5000,B261)>0,VLOOKUP(B261,data!A$6:M$5000,11,FALSE),\"\")","v":""},{"$f":"IF(COUNTIF(data!A$6:A$5000,B261)>0,VLOOKUP(B261,data!A$6:M$5000,12,FALSE),\"\")","v":""},{"$f":"IF(COUNTIF(data!A$6:A$5000,B261)>0,VLOOKUP(B261,data!A$6:M$5000,13,FALSE),\"\")","v":""},{"$f":"IF(B261>0,SUM(F$10:F261)-SUM(G$10:G261),\"\")","v":""}]
[null,null,{"$f":"IF(COUNTIF(data!A$6:A$5000,B262)>0,VLOOKUP(B262,data!A$6:M$5000,2,FALSE),\"\")","v":""},{"$f":"IF(COUNTIF(data!A$6:A$5000,B262)>0,VLOOKUP(B262,data!A$6:M$5000,4,FALSE),\"\")","v":""},{"$f":"IF(COUNTIF(data!A$6:A$5000,B262)>0,VLOOKUP(B262,data!A$6:M$5000,11,FALSE),\"\")","v":""},{"$f":"IF(COUNTIF(data!A$6:A$5000,B262)>0,VLOOKUP(B262,data!A$6:M$5000,12,FALSE),\"\")","v":""},{"$f":"IF(COUNTIF(data!A$6:A$5000,B262)>0,VLOOKUP(B262,data!A$6:M$5000,13,FALSE),\"\")","v":""},{"$f":"IF(B262>0,SUM(F$10:F262)-SUM(G$10:G262),\"\")","v":""}]
[null,null,{"$f":"IF(COUNTIF(data!A$6:A$5000,B263)>0,VLOOKUP(B263,data!A$6:M$5000,2,FALSE),\"\")","v":""},{"$f":"IF(COUNTIF(data!A$6:A$5000,B263)>0,VLOOKUP(B263,data!A$6:M$5000,4,FALSE),\"\")","v":""},{"$f":"IF(COUNTIF(data!A$6:A$5000,B263)>0,VLOOKUP(B263,data!A$6:M$5000,11,FALSE),\"\")","v":""},{"$f":"IF(COUNTIF(data!A$6:A$5000,B263)>0,VLOOKUP(B263,data!A$6:M$5000,12,FALSE),\"\")","v":""},{"$f":"IF(COUNTIF(data!A$6:A$5000,B263)>0,VLOOKUP(B263,data!A$6:M$5000,13,FALSE),\"\")","v":""},{"$f":"IF(B263>0,SUM(F$10:F263)-SUM(G$10:G263),\"\")","v":""}]
[null,null,{"$f":"IF(COUNTIF(data!A$6:A$5000,B264)>0,VLOOKUP(B264,data!A$6:M$5000,2,FALSE),\"\")","v":""},{"$f":"IF(COUNTIF(data!A$6:A$5000,B264)>0,VLOOKUP(B264,data!A$6:M$5000,4,FALSE),\"\")","v":""},{"$f":"IF(COUNTIF(data!A$6:A$5000,B264)>0,VLOOKUP(B264,data!A$6:M$5000,11,FALSE),\"\")","v":""},{"$f":"IF(COUNTIF(data!A$6:A$5000,B264)>0,VLOOKUP(B264,data!A$6:M$5000,12,FALSE),\"\")","v":""},{"$f":"IF(COUNTIF(data!A$6:A$5000,B264)>0,VLOOKUP(B264,data!A$6:M$5000,13,FALSE),\"\")","v":""},{"$f":"IF(B264>0,SUM(F$10:F264)-SUM(G$10:G264),\"\")","v":""}]
[null,null,{"$f":"IF(COUNTIF(data!A$6:A$5000,B265)>0,VLOOKUP(B265,data!A$6:M$5000,2,FALSE),\"\")","v":""},{"$f":"IF(COUNTIF(data!A$6:A$5000,B265)>0,VLOOKUP(B265,data!A$6:M$5000,4,FALSE),\"\")","v":""},{"$f":"IF(COUNTIF(data!A$6:A$5000,B265)>0,VLOOKUP(B265,data!A$6:M$5000,11,FALSE),\"\")","v":""},{"$f":"IF(COUNTIF(data!A$6:A$5000,B265)>0,VLOOKUP(B265,data!A$6:M$5000,12,FALSE),\"\")","v":""},{"$f":"IF(COUNTIF(data!A$6:A$5000,B265)>0,VLOOKUP(B265,data!A$6:M$5000,13,FALSE),\"\")","v":""},{"$f":"IF(B265>0,SUM(F$10:F265)-SUM(G$10:G265),\"\")","v":""}]
[null,null,{"$f":"IF(COUNTIF(data!A$6:A$5000,B266)>0,VLOOKUP(B266,data!A$6:M$5000,2,FALSE),\"\")","v":""},{"$f":"IF(COUNTIF(data!A$6:A$5000,B266)>0,VLOOKUP(B266,data!A$6:M$5000,4,FALSE),\"\")","v":""},{"$f":"IF(COUNTIF(data!A$6:A$5000,B266)>0,VLOOKUP(B266,data!A$6:M$5000,11,FALSE),\"\")","v":""},{"$f":"IF(COUNTIF(data!A$6:A$5000,B266)>0,VLOOKUP(B266,data!A$6:M$5000,12,FALSE),\"\")","v":""},{"$f":"IF(COUNTIF(data!A$6:A$5000,B266)>0,VLOOKUP(B266,data!A$6:M$5000,13,FALSE),\"\")","v":""},{"$f":"IF(B266>0,SUM(F$10:F266)-SUM(G$10:G266),\"\")","v":""}]
[null,null,{"$f":"IF(COUNTIF(data!A$6:A$5000,B267)>0,VLOOKUP(B267,data!A$6:M$5000,2,FALSE),\"\")","v":""},{"$f":"IF(COUNTIF(data!A$6:A$5000,B267)>0,VLOOKUP(B267,data!A$6:M$5000,4,FALSE),\"\")","v":""},{"$f":"IF(COUNTIF(data!A$6:A$5000,B267)>0,VLOOKUP(B267,data!A$6:M$5000,11,FALSE),\"\")","v":""},{"$f":"IF(COUNTIF(data!A$6:A$5000,B267)>0,VLOOKUP(B267,data!A$6:M$5000,12,FALSE),\"\")","v":""},{"$f":"IF(COUNTIF(data!A$6:A$5000,B267)>0,VLOOKUP(B267,data!A$6:M$5000,13,FALSE),\"\")","v":""},{"$f":"IF(B267>0,SUM(F$10:F267)-SUM(G$10:G267),\"\")","v":""}]
[null,null,{"$f":"IF(COUNTIF(data!A$6:A$5000,B268)>0,VLOOKUP(B268,data!A$6:M$5000,2,FALSE),\"\")","v":""},{"$f":"IF(COUNTIF(data!A$6:A$5000,B268)>0,VLOOKUP(B268,data!A$6:M$5000,4,FALSE),\"\")","v":""},{"$f":"IF(COUNTIF(data!A$6:A$5000,B268)>0,VLOOKUP(B268,data!A$6:M$5000,11,FALSE),\"\")","v":""},{"$f":"IF(COUNTIF(data!A$6:A$5000,B268)>0,VLOOKUP(B268,data!A$6:M$5000,12,FALSE),\"\")","v":""},{"$f":"IF(COUNTIF(data!A$6:A$5000,B268)>0,VLOOKUP(B268,data!A$6:M$5000,13,FALSE),\"\")","v":""},{"$f":"IF(B268>0,SUM(F$10:F268)-SUM(G$10:G268),\"\")","v":""}]
[null,null,{"$f":"IF(COUNTIF(data!A$6:A$5000,B269)>0,VLOOKUP(B269,data!A$6:M$5000,2,FALSE),\"\")","v":""},{"$f":"IF(COUNTIF(data!A$6:A$5000,B269)>0,VLOOKUP(B269,data!A$6:M$5000,4,FALSE),\"\")","v":""},{"$f":"IF(COUNTIF(data!A$6:A$5000,B269)>0,VLOOKUP(B269,data!A$6:M$5000,11,FALSE),\"\")","v":""},{"$f":"IF(COUNTIF(data!A$6:A$5000,B269)>0,VLOOKUP(B269,data!A$6:M$5000,12,FALSE),\"\")","v":""},{"$f":"IF(COUNTIF(data!A$6:A$5000,B269)>0,VLOOKUP(B269,data!A$6:M$5000,13,FALSE),\"\")","v":""},{"$f":"IF(B269>0,SUM(F$10:F269)-SUM(G$10:G269),\"\")","v":""}]
[null,null,{"$f":"IF(COUNTIF(data!A$6:A$5000,B270)>0,VLOOKUP(B270,data!A$6:M$5000,2,FALSE),\"\")","v":""},{"$f":"IF(COUNTIF(data!A$6:A$5000,B270)>0,VLOOKUP(B270,data!A$6:M$5000,4,FALSE),\"\")","v":""},{"$f":"IF(COUNTIF(data!A$6:A$5000,B270)>0,VLOOKUP(B270,data!A$6:M$5000,11,FALSE),\"\")","v":""},{"$f":"IF(COUNTIF(data!A$6:A$5000,B270)>0,VLOOKUP(B270,data!A$6:M$5000,12,FALSE),\"\")","v":""},{"$f":"IF(COUNTIF(data!A$6:A$5000,B270)>0,VLOOKUP(B270,data!A$6:M$5000,13,FALSE),\"\")","v":""},{"$f":"IF(B270>0,SUM(F$10:F270)-SUM(G$10:G270),\"\")","v":""}]
[null,null,{"$f":"IF(COUNTIF(data!A$6:A$5000,B271)>0,VLOOKUP(B271,data!A$6:M$5000,2,FALSE),\"\")","v":""},{"$f":"IF(COUNTIF(data!A$6:A$5000,B271)>0,VLOOKUP(B271,data!A$6:M$5000,4,FALSE),\"\")","v":""},{"$f":"IF(COUNTIF(data!A$6:A$5000,B271)>0,VLOOKUP(B271,data!A$6:M$5000,11,FALSE),\"\")","v":""},{"$f":"IF(COUNTIF(data!A$6:A$5000,B271)>0,VLOOKUP(B271,data!A$6:M$5000,12,FALSE),\"\")","v":""},{"$f":"IF(COUNTIF(data!A$6:A$5000,B271)>0,VLOOKUP(B271,data!A$6:M$5000,13,FALSE),\"\")","v":""},{"$f":"IF(B271>0,SUM(F$10:F271)-SUM(G$10:G271),\"\")","v":""}]
[null,null,{"$f":"IF(COUNTIF(data!A$6:A$5000,B272)>0,VLOOKUP(B272,data!A$6:M$5000,2,FALSE),\"\")","v":""},{"$f":"IF(COUNTIF(data!A$6:A$5000,B272)>0,VLOOKUP(B272,data!A$6:M$5000,4,FALSE),\"\")","v":""},{"$f":"IF(COUNTIF(data!A$6:A$5000,B272)>0,VLOOKUP(B272,data!A$6:M$5000,11,FALSE),\"\")","v":""},{"$f":"IF(COUNTIF(data!A$6:A$5000,B272)>0,VLOOKUP(B272,data!A$6:M$5000,12,FALSE),\"\")","v":""},{"$f":"IF(COUNTIF(data!A$6:A$5000,B272)>0,VLOOKUP(B272,data!A$6:M$5000,13,FALSE),\"\")","v":""},{"$f":"IF(B272>0,SUM(F$10:F272)-SUM(G$10:G272),\"\")","v":""}]
[null,null,{"$f":"IF(COUNTIF(data!A$6:A$5000,B273)>0,VLOOKUP(B273,data!A$6:M$5000,2,FALSE),\"\")","v":""},{"$f":"IF(COUNTIF(data!A$6:A$5000,B273)>0,VLOOKUP(B273,data!A$6:M$5000,4,FALSE),\"\")","v":""},{"$f":"IF(COUNTIF(data!A$6:A$5000,B273)>0,VLOOKUP(B273,data!A$6:M$5000,11,FALSE),\"\")","v":""},{"$f":"IF(COUNTIF(data!A$6:A$5000,B273)>0,VLOOKUP(B273,data!A$6:M$5000,12,FALSE),\"\")","v":""},{"$f":"IF(COUNTIF(data!A$6:A$5000,B273)>0,VLOOKUP(B273,data!A$6:M$5000,13,FALSE),\"\")","v":""},{"$f":"IF(B273>0,SUM(F$10:F273)-SUM(G$10:G273),\"\")","v":""}]
[null,null,{"$f":"IF(COUNTIF(data!A$6:A$5000,B274)>0,VLOOKUP(B274,data!A$6:M$5000,2,FALSE),\"\")","v":""},{"$f":"IF(COUNTIF(data!A$6:A$5000,B274)>0,VLOOKUP(B274,data!A$6:M$5000,4,FALSE),\"\")","v":""},{"$f":"IF(COUNTIF(data!A$6:A$5000,B274)>0,VLOOKUP(B274,data!A$6:M$5000,11,FALSE),\"\")","v":""},{"$f":"IF(COUNTIF(data!A$6:A$5000,B274)>0,VLOOKUP(B274,data!A$6:M$5000,12,FALSE),\"\")","v":""},{"$f":"IF(COUNTIF(data!A$6:A$5000,B274)>0,VLOOKUP(B274,data!A$6:M$5000,13,FALSE),\"\")","v":""},{"$f":"IF(B274>0,SUM(F$10:F274)-SUM(G$10:G274),\"\")","v":""}]
[null,null,{"$f":"IF(COUNTIF(data!A$6:A$5000,B275)>0,VLOOKUP(B275,data!A$6:M$5000,2,FALSE),\"\")","v":""},{"$f":"IF(COUNTIF(data!A$6:A$5000,B275)>0,VLOOKUP(B275,data!A$6:M$5000,4,FALSE),\"\")","v":""},{"$f":"IF(COUNTIF(data!A$6:A$5000,B275)>0,VLOOKUP(B275,data!A$6:M$5000,11,FALSE),\"\")","v":""},{"$f":"IF(COUNTIF(data!A$6:A$5000,B275)>0,VLOOKUP(B275,data!A$6:M$5000,12,FALSE),\"\")","v":""},{"$f":"IF(COUNTIF(data!A$6:A$5000,B275)>0,VLOOKUP(B275,data!A$6:M$5000,13,FALSE),\"\")","v":""},{"$f":"IF(B275>0,SUM(F$10:F275)-SUM(G$10:G275),\"\")","v":""}]
[null,null,{"$f":"IF(COUNTIF(data!A$6:A$5000,B276)>0,VLOOKUP(B276,data!A$6:M$5000,2,FALSE),\"\")","v":""},{"$f":"IF(COUNTIF(data!A$6:A$5000,B276)>0,VLOOKUP(B276,data!A$6:M$5000,4,FALSE),\"\")","v":""},{"$f":"IF(COUNTIF(data!A$6:A$5000,B276)>0,VLOOKUP(B276,data!A$6:M$5000,11,FALSE),\"\")","v":""},{"$f":"IF(COUNTIF(data!A$6:A$5000,B276)>0,VLOOKUP(B276,data!A$6:M$5000,12,FALSE),\"\")","v":""},{"$f":"IF(COUNTIF(data!A$6:A$5000,B276)>0,VLOOKUP(B276,data!A$6:M$5000,13,FALSE),\"\")","v":""},{"$f":"IF(B276>0,SUM(F$10:F276)-SUM(G$10:G276),\"\")","v":""}]
[null,null,{"$f":"IF(COUNTIF(data!A$6:A$5000,B277)>0,VLOOKUP(B277,data!A$6:M$5000,2,FALSE),\"\")","v":""},{"$f":"IF(COUNTIF(data!A$6:A$5000,B277)>0,VLOOKUP(B277,data!A$6:M$5000,4,FALSE),\"\")","v":""},{"$f":"IF(COUNTIF(data!A$6:A$5000,B277)>0,VLOOKUP(B277,data!A$6:M$5000,11,FALSE),\"\")","v":""},{"$f":"IF(COUNTIF(data!A$6:A$5000,B277)>0,VLOOKUP(B277,data!A$6:M$5000,12,FALSE),\"\")","v":""},{"$f":"IF(COUNTIF(data!A$6:A$5000,B277)>0,VLOOKUP(B277,data!A$6:M$5000,13,FALSE),\"\")","v":""},{"$f":"IF(B277>0,SUM(F$10:F277)-SUM(G$10:G277),\"\")","v":""}]
[null,null,{"$f":"IF(COUNTIF(data!A$6:A$5000,B278)>0,VLOOKUP(B278,data!A$6:M$5000,2,FALSE),\"\")","v":""},{"$f":"IF(COUNTIF(data!A$6:A$5000,B278)>0,VLOOKUP(B278,data!A$6:M$5000,4,FALSE),\"\")","v":""},{"$f":"IF(COUNTIF(data!A$6:A$5000,B278)>0,VLOOKUP(B278,data!A$6:M$5000,11,FALSE),\"\")","v":""},{"$f":"IF(COUNTIF(data!A$6:A$5000,B278)>0,VLOOKUP(B278,data!A$6:M$5000,12,FALSE),\"\")","v":""},{"$f":"IF(COUNTIF(data!A$6:A$5000,B278)>0,VLOOKUP(B278,data!A$6:M$5000,13,FALSE),\"\")","v":""},{"$f":"IF(B278>0,SUM(F$10:F278)-SUM(G$10:G278),\"\")","v":""}]
[null,null,{"$f":"IF(COUNTIF(data!A$6:A$5000,B279)>0,VLOOKUP(B279,data!A$6:M$5000,2,FALSE),\"\")","v":""},{"$f":"IF(COUNTIF(data!A$6:A$5000,B279)>0,VLOOKUP(B279,data!A$6:M$5000,4,FALSE),\"\")","v":""},{"$f":"IF(COUNTIF(data!A$6:A$5000,B279)>0,VLOOKUP(B279,data!A$6:M$5000,11,FALSE),\"\")","v":""},{"$f":"IF(COUNTIF(data!A$6:A$5000,B279)>0,VLOOKUP(B279,data!A$6:M$5000,12,FALSE),\"\")","v":""},{"$f":"IF(COUNTIF(data!A$6:A$5000,B279)>0,VLOOKUP(B279,data!A$6:M$5000,13,FALSE),\"\")","v":""},{"$f":"IF(B279>0,SUM(F$10:F279)-SUM(G$10:G279),\"\")","v":""}]
[null,null,{"$f":"IF(COUNTIF(data!A$6:A$5000,B280)>0,VLOOKUP(B280,data!A$6:M$5000,2,FALSE),\"\")","v":""},{"$f":"IF(COUNTIF(data!A$6:A$5000,B280)>0,VLOOKUP(B280,data!A$6:M$5000,4,FALSE),\"\")","v":""},{"$f":"IF(COUNTIF(data!A$6:A$5000,B280)>0,VLOOKUP(B280,data!A$6:M$5000,11,FALSE),\"\")","v":""},{"$f":"IF(COUNTIF(data!A$6:A$5000,B280)>0,VLOOKUP(B280,data!A$6:M$5000,12,FALSE),\"\")","v":""},{"$f":"IF(COUNTIF(data!A$6:A$5000,B280)>0,VLOOKUP(B280,data!A$6:M$5000,13,FALSE),\"\")","v":""},{"$f":"IF(B280>0,SUM(F$10:F280)-SUM(G$10:G280),\"\")","v":""}]
[null,null,{"$f":"IF(COUNTIF(data!A$6:A$5000,B281)>0,VLOOKUP(B281,data!A$6:M$5000,2,FALSE),\"\")","v":""},{"$f":"IF(COUNTIF(data!A$6:A$5000,B281)>0,VLOOKUP(B281,data!A$6:M$5000,4,FALSE),\"\")","v":""},{"$f":"IF(COUNTIF(data!A$6:A$5000,B281)>0,VLOOKUP(B281,data!A$6:M$5000,11,FALSE),\"\")","v":""},{"$f":"IF(COUNTIF(data!A$6:A$5000,B281)>0,VLOOKUP(B281,data!A$6:M$5000,12,FALSE),\"\")","v":""},{"$f":"IF(COUNTIF(data!A$6:A$5000,B281)>0,VLOOKUP(B281,data!A$6:M$5000,13,FALSE),\"\")","v":""},{"$f":"IF(B281>0,SUM(F$10:F281)-SUM(G$10:G281),\"\")","v":""}]
[null,null,{"$f":"IF(COUNTIF(data!A$6:A$5000,B282)>0,VLOOKUP(B282,data!A$6:M$5000,2,FALSE),\"\")","v":""},{"$f":"IF(COUNTIF(data!A$6:A$5000,B282)>0,VLOOKUP(B282,data!A$6:M$5000,4,FALSE),\"\")","v":""},{"$f":"IF(COUNTIF(data!A$6:A$5000,B282)>0,VLOOKUP(B282,data!A$6:M$5000,11,FALSE),\"\")","v":""},{"$f":"IF(COUNTIF(data!A$6:A$5000,B282)>0,VLOOKUP(B282,data!A$6:M$5000,12,FALSE),\"\")","v":""},{"$f":"IF(COUNTIF(data!A$6:A$5000,B282)>0,VLOOKUP(B282,data!A$6:M$5000,13,FALSE),\"\")","v":""},{"$f":"IF(B282>0,SUM(F$10:F282)-SUM(G$10:G282),\"\")","v":""}]
[null,null,{"$f":"IF(COUNTIF(data!A$6:A$5000,B283)>0,VLOOKUP(B283,data!A$6:M$5000,2,FALSE),\"\")","v":""},{"$f":"IF(COUNTIF(data!A$6:A$5000,B283)>0,VLOOKUP(B283,data!A$6:M$5000,4,FALSE),\"\")","v":""},{"$f":"IF(COUNTIF(data!A$6:A$5000,B283)>0,VLOOKUP(B283,data!A$6:M$5000,11,FALSE),\"\")","v":""},{"$f":"IF(COUNTIF(data!A$6:A$5000,B283)>0,VLOOKUP(B283,data!A$6:M$5000,12,FALSE),\"\")","v":""},{"$f":"IF(COUNTIF(data!A$6:A$5000,B283)>0,VLOOKUP(B283,data!A$6:M$5000,13,FALSE),\"\")","v":""},{"$f":"IF(B283>0,SUM(F$10:F283)-SUM(G$10:G283),\"\")","v":""}]
[null,null,{"$f":"IF(COUNTIF(data!A$6:A$5000,B284)>0,VLOOKUP(B284,data!A$6:M$5000,2,FALSE),\"\")","v":""},{"$f":"IF(COUNTIF(data!A$6:A$5000,B284)>0,VLOOKUP(B284,data!A$6:M$5000,4,FALSE),\"\")","v":""},{"$f":"IF(COUNTIF(data!A$6:A$5000,B284)>0,VLOOKUP(B284,data!A$6:M$5000,11,FALSE),\"\")","v":""},{"$f":"IF(COUNTIF(data!A$6:A$5000,B284)>0,VLOOKUP(B284,data!A$6:M$5000,12,FALSE),\"\")","v":""},{"$f":"IF(COUNTIF(data!A$6:A$5000,B284)>0,VLOOKUP(B284,data!A$6:M$5000,13,FALSE),\"\")","v":""},{"$f":"IF(B284>0,SUM(F$10:F284)-SUM(G$10:G284),\"\")","v":""}]
[null,null,{"$f":"IF(COUNTIF(data!A$6:A$5000,B285)>0,VLOOKUP(B285,data!A$6:M$5000,2,FALSE),\"\")","v":""},{"$f":"IF(COUNTIF(data!A$6:A$5000,B285)>0,VLOOKUP(B285,data!A$6:M$5000,4,FALSE),\"\")","v":""},{"$f":"IF(COUNTIF(data!A$6:A$5000,B285)>0,VLOOKUP(B285,data!A$6:M$5000,11,FALSE),\"\")","v":""},{"$f":"IF(COUNTIF(data!A$6:A$5000,B285)>0,VLOOKUP(B285,data!A$6:M$5000,12,FALSE),\"\")","v":""},{"$f":"IF(COUNTIF(data!A$6:A$5000,B285)>0,VLOOKUP(B285,data!A$6:M$5000,13,FALSE),\"\")","v":""},{"$f":"IF(B285>0,SUM(F$10:F285)-SUM(G$10:G285),\"\")","v":""}]
[null,null,{"$f":"IF(COUNTIF(data!A$6:A$5000,B286)>0,VLOOKUP(B286,data!A$6:M$5000,2,FALSE),\"\")","v":""},{"$f":"IF(COUNTIF(data!A$6:A$5000,B286)>0,VLOOKUP(B286,data!A$6:M$5000,4,FALSE),\"\")","v":""},{"$f":"IF(COUNTIF(data!A$6:A$5000,B286)>0,VLOOKUP(B286,data!A$6:M$5000,11,FALSE),\"\")","v":""},{"$f":"IF(COUNTIF(data!A$6:A$5000,B286)>0,VLOOKUP(B286,data!A$6:M$5000,12,FALSE),\"\")","v":""},{"$f":"IF(COUNTIF(data!A$6:A$5000,B286)>0,VLOOKUP(B286,data!A$6:M$5000,13,FALSE),\"\")","v":""},{"$f":"IF(B286>0,SUM(F$10:F286)-SUM(G$10:G286),\"\")","v":""}]
[null,null,{"$f":"IF(COUNTIF(data!A$6:A$5000,B287)>0,VLOOKUP(B287,data!A$6:M$5000,2,FALSE),\"\")","v":""},{"$f":"IF(COUNTIF(data!A$6:A$5000,B287)>0,VLOOKUP(B287,data!A$6:M$5000,4,FALSE),\"\")","v":""},{"$f":"IF(COUNTIF(data!A$6:A$5000,B287)>0,VLOOKUP(B287,data!A$6:M$5000,11,FALSE),\"\")","v":""},{"$f":"IF(COUNTIF(data!A$6:A$5000,B287)>0,VLOOKUP(B287,data!A$6:M$5000,12,FALSE),\"\")","v":""},{"$f":"IF(COUNTIF(data!A$6:A$5000,B287)>0,VLOOKUP(B287,data!A$6:M$5000,13,FALSE),\"\")","v":""},{"$f":"IF(B287>0,SUM(F$10:F287)-SUM(G$10:G287),\"\")","v":""}]
[null,null,{"$f":"IF(COUNTIF(data!A$6:A$5000,B288)>0,VLOOKUP(B288,data!A$6:M$5000,2,FALSE),\"\")","v":""},{"$f":"IF(COUNTIF(data!A$6:A$5000,B288)>0,VLOOKUP(B288,data!A$6:M$5000,4,FALSE),\"\")","v":""},{"$f":"IF(COUNTIF(data!A$6:A$5000,B288)>0,VLOOKUP(B288,data!A$6:M$5000,11,FALSE),\"\")","v":""},{"$f":"IF(COUNTIF(data!A$6:A$5000,B288)>0,VLOOKUP(B288,data!A$6:M$5000,12,FALSE),\"\")","v":""},{"$f":"IF(COUNTIF(data!A$6:A$5000,B288)>0,VLOOKUP(B288,data!A$6:M$5000,13,FALSE),\"\")","v":""},{"$f":"IF(B288>0,SUM(F$10:F288)-SUM(G$10:G288),\"\")","v":""}]
[null,null,{"$f":"IF(COUNTIF(data!A$6:A$5000,B289)>0,VLOOKUP(B289,data!A$6:M$5000,2,FALSE),\"\")","v":""},{"$f":"IF(COUNTIF(data!A$6:A$5000,B289)>0,VLOOKUP(B289,data!A$6:M$5000,4,FALSE),\"\")","v":""},{"$f":"IF(COUNTIF(data!A$6:A$5000,B289)>0,VLOOKUP(B289,data!A$6:M$5000,11,FALSE),\"\")","v":""},{"$f":"IF(COUNTIF(data!A$6:A$5000,B289)>0,VLOOKUP(B289,data!A$6:M$5000,12,FALSE),\"\")","v":""},{"$f":"IF(COUNTIF(data!A$6:A$5000,B289)>0,VLOOKUP(B289,data!A$6:M$5000,13,FALSE),\"\")","v":""},{"$f":"IF(B289>0,SUM(F$10:F289)-SUM(G$10:G289),\"\")","v":""}]
[null,null,{"$f":"IF(COUNTIF(data!A$6:A$5000,B290)>0,VLOOKUP(B290,data!A$6:M$5000,2,FALSE),\"\")","v":""},{"$f":"IF(COUNTIF(data!A$6:A$5000,B290)>0,VLOOKUP(B290,data!A$6:M$5000,4,FALSE),\"\")","v":""},{"$f":"IF(COUNTIF(data!A$6:A$5000,B290)>0,VLOOKUP(B290,data!A$6:M$5000,11,FALSE),\"\")","v":""},{"$f":"IF(COUNTIF(data!A$6:A$5000,B290)>0,VLOOKUP(B290,data!A$6:M$5000,12,FALSE),\"\")","v":""},{"$f":"IF(COUNTIF(data!A$6:A$5000,B290)>0,VLOOKUP(B290,data!A$6:M$5000,13,FALSE),\"\")","v":""},{"$f":"IF(B290>0,SUM(F$10:F290)-SUM(G$10:G290),\"\")","v":""}]
[null,null,{"$f":"IF(COUNTIF(data!A$6:A$5000,B291)>0,VLOOKUP(B291,data!A$6:M$5000,2,FALSE),\"\")","v":""},{"$f":"IF(COUNTIF(data!A$6:A$5000,B291)>0,VLOOKUP(B291,data!A$6:M$5000,4,FALSE),\"\")","v":""},{"$f":"IF(COUNTIF(data!A$6:A$5000,B291)>0,VLOOKUP(B291,data!A$6:M$5000,11,FALSE),\"\")","v":""},{"$f":"IF(COUNTIF(data!A$6:A$5000,B291)>0,VLOOKUP(B291,data!A$6:M$5000,12,FALSE),\"\")","v":""},{"$f":"IF(COUNTIF(data!A$6:A$5000,B291)>0,VLOOKUP(B291,data!A$6:M$5000,13,FALSE),\"\")","v":""},{"$f":"IF(B291>0,SUM(F$10:F291)-SUM(G$10:G291),\"\")","v":""}]
[null,null,{"$f":"IF(COUNTIF(data!A$6:A$5000,B292)>0,VLOOKUP(B292,data!A$6:M$5000,2,FALSE),\"\")","v":""},{"$f":"IF(COUNTIF(data!A$6:A$5000,B292)>0,VLOOKUP(B292,data!A$6:M$5000,4,FALSE),\"\")","v":""},{"$f":"IF(COUNTIF(data!A$6:A$5000,B292)>0,VLOOKUP(B292,data!A$6:M$5000,11,FALSE),\"\")","v":""},{"$f":"IF(COUNTIF(data!A$6:A$5000,B292)>0,VLOOKUP(B292,data!A$6:M$5000,12,FALSE),\"\")","v":""},{"$f":"IF(COUNTIF(data!A$6:A$5000,B292)>0,VLOOKUP(B292,data!A$6:M$5000,13,FALSE),\"\")","v":""},{"$f":"IF(B292>0,SUM(F$10:F292)-SUM(G$10:G292),\"\")","v":""}]
[null,null,{"$f":"IF(COUNTIF(data!A$6:A$5000,B293)>0,VLOOKUP(B293,data!A$6:M$5000,2,FALSE),\"\")","v":""},{"$f":"IF(COUNTIF(data!A$6:A$5000,B293)>0,VLOOKUP(B293,data!A$6:M$5000,4,FALSE),\"\")","v":""},{"$f":"IF(COUNTIF(data!A$6:A$5000,B293)>0,VLOOKUP(B293,data!A$6:M$5000,11,FALSE),\"\")","v":""},{"$f":"IF(COUNTIF(data!A$6:A$5000,B293)>0,VLOOKUP(B293,data!A$6:M$5000,12,FALSE),\"\")","v":""},{"$f":"IF(COUNTIF(data!A$6:A$5000,B293)>0,VLOOKUP(B293,data!A$6:M$5000,13,FALSE),\"\")","v":""},{"$f":"IF(B293>0,SUM(F$10:F293)-SUM(G$10:G293),\"\")","v":""}]
[null,null,{"$f":"IF(COUNTIF(data!A$6:A$5000,B294)>0,VLOOKUP(B294,data!A$6:M$5000,2,FALSE),\"\")","v":""},{"$f":"IF(COUNTIF(data!A$6:A$5000,B294)>0,VLOOKUP(B294,data!A$6:M$5000,4,FALSE),\"\")","v":""},{"$f":"IF(COUNTIF(data!A$6:A$5000,B294)>0,VLOOKUP(B294,data!A$6:M$5000,11,FALSE),\"\")","v":""},{"$f":"IF(COUNTIF(data!A$6:A$5000,B294)>0,VLOOKUP(B294,data!A$6:M$5000,12,FALSE),\"\")","v":""},{"$f":"IF(COUNTIF(data!A$6:A$5000,B294)>0,VLOOKUP(B294,data!A$6:M$5000,13,FALSE),\"\")","v":""},{"$f":"IF(B294>0,SUM(F$10:F294)-SUM(G$10:G294),\"\")","v":""}]
[null,null,{"$f":"IF(COUNTIF(data!A$6:A$5000,B295)>0,VLOOKUP(B295,data!A$6:M$5000,2,FALSE),\"\")","v":""},{"$f":"IF(COUNTIF(data!A$6:A$5000,B295)>0,VLOOKUP(B295,data!A$6:M$5000,4,FALSE),\"\")","v":""},{"$f":"IF(COUNTIF(data!A$6:A$5000,B295)>0,VLOOKUP(B295,data!A$6:M$5000,11,FALSE),\"\")","v":""},{"$f":"IF(COUNTIF(data!A$6:A$5000,B295)>0,VLOOKUP(B295,data!A$6:M$5000,12,FALSE),\"\")","v":""},{"$f":"IF(COUNTIF(data!A$6:A$5000,B295)>0,VLOOKUP(B295,data!A$6:M$5000,13,FALSE),\"\")","v":""},{"$f":"IF(B295>0,SUM(F$10:F295)-SUM(G$10:G295),\"\")","v":""}]
[null,null,{"$f":"IF(COUNTIF(data!A$6:A$5000,B296)>0,VLOOKUP(B296,data!A$6:M$5000,2,FALSE),\"\")","v":""},{"$f":"IF(COUNTIF(data!A$6:A$5000,B296)>0,VLOOKUP(B296,data!A$6:M$5000,4,FALSE),\"\")","v":""},{"$f":"IF(COUNTIF(data!A$6:A$5000,B296)>0,VLOOKUP(B296,data!A$6:M$5000,11,FALSE),\"\")","v":""},{"$f":"IF(COUNTIF(data!A$6:A$5000,B296)>0,VLOOKUP(B296,data!A$6:M$5000,12,FALSE),\"\")","v":""},{"$f":"IF(COUNTIF(data!A$6:A$5000,B296)>0,VLOOKUP(B296,data!A$6:M$5000,13,FALSE),\"\")","v":""},{"$f":"IF(B296>0,SUM(F$10:F296)-SUM(G$10:G296),\"\")","v":""}]
[null,null,{"$f":"IF(COUNTIF(data!A$6:A$5000,B297)>0,VLOOKUP(B297,data!A$6:M$5000,2,FALSE),\"\")","v":""},{"$f":"IF(COUNTIF(data!A$6:A$5000,B297)>0,VLOOKUP(B297,data!A$6:M$5000,4,FALSE),\"\")","v":""},{"$f":"IF(COUNTIF(data!A$6:A$5000,B297)>0,VLOOKUP(B297,data!A$6:M$5000,11,FALSE),\"\")","v":""},{"$f":"IF(COUNTIF(data!A$6:A$5000,B297)>0,VLOOKUP(B297,data!A$6:M$5000,12,FALSE),\"\")","v":""},{"$f":"IF(COUNTIF(data!A$6:A$5000,B297)>0,VLOOKUP(B297,data!A$6:M$5000,13,FALSE),\"\")","v":""},{"$f":"IF(B297>0,SUM(F$10:F297)-SUM(G$10:G297),\"\")","v":""}]
[null,null,{"$f":"IF(COUNTIF(data!A$6:A$5000,B298)>0,VLOOKUP(B298,data!A$6:M$5000,2,FALSE),\"\")","v":""},{"$f":"IF(COUNTIF(data!A$6:A$5000,B298)>0,VLOOKUP(B298,data!A$6:M$5000,4,FALSE),\"\")","v":""},{"$f":"IF(COUNTIF(data!A$6:A$5000,B298)>0,VLOOKUP(B298,data!A$6:M$5000,11,FALSE),\"\")","v":""},{"$f":"IF(COUNTIF(data!A$6:A$5000,B298)>0,VLOOKUP(B298,data!A$6:M$5000,12,FALSE),\"\")","v":""},{"$f":"IF(COUNTIF(data!A$6:A$5000,B298)>0,VLOOKUP(B298,data!A$6:M$5000,13,FALSE),\"\")","v":""},{"$f":"IF(B298>0,SUM(F$10:F298)-SUM(G$10:G298),\"\")","v":""}]
[null,null,{"$f":"IF(COUNTIF(data!A$6:A$5000,B299)>0,VLOOKUP(B299,data!A$6:M$5000,2,FALSE),\"\")","v":""},{"$f":"IF(COUNTIF(data!A$6:A$5000,B299)>0,VLOOKUP(B299,data!A$6:M$5000,4,FALSE),\"\")","v":""},{"$f":"IF(COUNTIF(data!A$6:A$5000,B299)>0,VLOOKUP(B299,data!A$6:M$5000,11,FALSE),\"\")","v":""},{"$f":"IF(COUNTIF(data!A$6:A$5000,B299)>0,VLOOKUP(B299,data!A$6:M$5000,12,FALSE),\"\")","v":""},{"$f":"IF(COUNTIF(data!A$6:A$5000,B299)>0,VLOOKUP(B299,data!A$6:M$5000,13,FALSE),\"\")","v":""},{"$f":"IF(B299>0,SUM(F$10:F299)-SUM(G$10:G299),\"\")","v":""}]
[null,null,{"$f":"IF(COUNTIF(data!A$6:A$5000,B300)>0,VLOOKUP(B300,data!A$6:M$5000,2,FALSE),\"\")","v":""},{"$f":"IF(COUNTIF(data!A$6:A$5000,B300)>0,VLOOKUP(B300,data!A$6:M$5000,4,FALSE),\"\")","v":""},{"$f":"IF(COUNTIF(data!A$6:A$5000,B300)>0,VLOOKUP(B300,data!A$6:M$5000,11,FALSE),\"\")","v":""},{"$f":"IF(COUNTIF(data!A$6:A$5000,B300)>0,VLOOKUP(B300,data!A$6:M$5000,12,FALSE),\"\")","v":""},{"$f":"IF(COUNTIF(data!A$6:A$5000,B300)>0,VLOOKUP(B300,data!A$6:M$5000,13,FALSE),\"\")","v":""},{"$f":"IF(B300>0,SUM(F$10:F300)-SUM(G$10:G300),\"\")","v":""}]
[null,null,{"$f":"IF(COUNTIF(data!A$6:A$5000,B301)>0,VLOOKUP(B301,data!A$6:M$5000,2,FALSE),\"\")","v":""},{"$f":"IF(COUNTIF(data!A$6:A$5000,B301)>0,VLOOKUP(B301,data!A$6:M$5000,4,FALSE),\"\")","v":""},{"$f":"IF(COUNTIF(data!A$6:A$5000,B301)>0,VLOOKUP(B301,data!A$6:M$5000,11,FALSE),\"\")","v":""},{"$f":"IF(COUNTIF(data!A$6:A$5000,B301)>0,VLOOKUP(B301,data!A$6:M$5000,12,FALSE),\"\")","v":""},{"$f":"IF(COUNTIF(data!A$6:A$5000,B301)>0,VLOOKUP(B301,data!A$6:M$5000,13,FALSE),\"\")","v":""},{"$f":"IF(B301>0,SUM(F$10:F301)-SUM(G$10:G301),\"\")","v":""}]
[null,null,{"$f":"IF(COUNTIF(data!A$6:A$5000,B302)>0,VLOOKUP(B302,data!A$6:M$5000,2,FALSE),\"\")","v":""},{"$f":"IF(COUNTIF(data!A$6:A$5000,B302)>0,VLOOKUP(B302,data!A$6:M$5000,4,FALSE),\"\")","v":""},{"$f":"IF(COUNTIF(data!A$6:A$5000,B302)>0,VLOOKUP(B302,data!A$6:M$5000,11,FALSE),\"\")","v":""},{"$f":"IF(COUNTIF(data!A$6:A$5000,B302)>0,VLOOKUP(B302,data!A$6:M$5000,12,FALSE),\"\")","v":""},{"$f":"IF(COUNTIF(data!A$6:A$5000,B302)>0,VLOOKUP(B302,data!A$6:M$5000,13,FALSE),\"\")","v":""},{"$f":"IF(B302>0,SUM(F$10:F302)-SUM(G$10:G302),\"\")","v":""}]
[null,null,{"$f":"IF(COUNTIF(data!A$6:A$5000,B303)>0,VLOOKUP(B303,data!A$6:M$5000,2,FALSE),\"\")","v":""},{"$f":"IF(COUNTIF(data!A$6:A$5000,B303)>0,VLOOKUP(B303,data!A$6:M$5000,4,FALSE),\"\")","v":""},{"$f":"IF(COUNTIF(data!A$6:A$5000,B303)>0,VLOOKUP(B303,data!A$6:M$5000,11,FALSE),\"\")","v":""},{"$f":"IF(COUNTIF(data!A$6:A$5000,B303)>0,VLOOKUP(B303,data!A$6:M$5000,12,FALSE),\"\")","v":""},{"$f":"IF(COUNTIF(data!A$6:A$5000,B303)>0,VLOOKUP(B303,data!A$6:M$5000,13,FALSE),\"\")","v":""},{"$f":"IF(B303>0,SUM(F$10:F303)-SUM(G$10:G303),\"\")","v":""}]
[null,null,{"$f":"IF(COUNTIF(data!A$6:A$5000,B304)>0,VLOOKUP(B304,data!A$6:M$5000,2,FALSE),\"\")","v":""},{"$f":"IF(COUNTIF(data!A$6:A$5000,B304)>0,VLOOKUP(B304,data!A$6:M$5000,4,FALSE),\"\")","v":""},{"$f":"IF(COUNTIF(data!A$6:A$5000,B304)>0,VLOOKUP(B304,data!A$6:M$5000,11,FALSE),\"\")","v":""},{"$f":"IF(COUNTIF(data!A$6:A$5000,B304)>0,VLOOKUP(B304,data!A$6:M$5000,12,FALSE),\"\")","v":""},{"$f":"IF(COUNTIF(data!A$6:A$5000,B304)>0,VLOOKUP(B304,data!A$6:M$5000,13,FALSE),\"\")","v":""},{"$f":"IF(B304>0,SUM(F$10:F304)-SUM(G$10:G304),\"\")","v":""}]
[null,null,{"$f":"IF(COUNTIF(data!A$6:A$5000,B305)>0,VLOOKUP(B305,data!A$6:M$5000,2,FALSE),\"\")","v":""},{"$f":"IF(COUNTIF(data!A$6:A$5000,B305)>0,VLOOKUP(B305,data!A$6:M$5000,4,FALSE),\"\")","v":""},{"$f":"IF(COUNTIF(data!A$6:A$5000,B305)>0,VLOOKUP(B305,data!A$6:M$5000,11,FALSE),\"\")","v":""},{"$f":"IF(COUNTIF(data!A$6:A$5000,B305)>0,VLOOKUP(B305,data!A$6:M$5000,12,FALSE),\"\")","v":""},{"$f":"IF(COUNTIF(data!A$6:A$5000,B305)>0,VLOOKUP(B305,data!A$6:M$5000,13,FALSE),\"\")","v":""},{"$f":"IF(B305>0,SUM(F$10:F305)-SUM(G$10:G305),\"\")","v":""}]
[null,null,{"$f":"IF(COUNTIF(data!A$6:A$5000,B306)>0,VLOOKUP(B306,data!A$6:M$5000,2,FALSE),\"\")","v":""},{"$f":"IF(COUNTIF(data!A$6:A$5000,B306)>0,VLOOKUP(B306,data!A$6:M$5000,4,FALSE),\"\")","v":""},{"$f":"IF(COUNTIF(data!A$6:A$5000,B306)>0,VLOOKUP(B306,data!A$6:M$5000,11,FALSE),\"\")","v":""},{"$f":"IF(COUNTIF(data!A$6:A$5000,B306)>0,VLOOKUP(B306,data!A$6:M$5000,12,FALSE),\"\")","v":""},{"$f":"IF(COUNTIF(data!A$6:A$5000,B306)>0,VLOOKUP(B306,data!A$6:M$5000,13,FALSE),\"\")","v":""},{"$f":"IF(B306>0,SUM(F$10:F306)-SUM(G$10:G306),\"\")","v":""}]
[null,null,{"$f":"IF(COUNTIF(data!A$6:A$5000,B307)>0,VLOOKUP(B307,data!A$6:M$5000,2,FALSE),\"\")","v":""},{"$f":"IF(COUNTIF(data!A$6:A$5000,B307)>0,VLOOKUP(B307,data!A$6:M$5000,4,FALSE),\"\")","v":""},{"$f":"IF(COUNTIF(data!A$6:A$5000,B307)>0,VLOOKUP(B307,data!A$6:M$5000,11,FALSE),\"\")","v":""},{"$f":"IF(COUNTIF(data!A$6:A$5000,B307)>0,VLOOKUP(B307,data!A$6:M$5000,12,FALSE),\"\")","v":""},{"$f":"IF(COUNTIF(data!A$6:A$5000,B307)>0,VLOOKUP(B307,data!A$6:M$5000,13,FALSE),\"\")","v":""},{"$f":"IF(B307>0,SUM(F$10:F307)-SUM(G$10:G307),\"\")","v":""}]
[null,null,{"$f":"IF(COUNTIF(data!A$6:A$5000,B308)>0,VLOOKUP(B308,data!A$6:M$5000,2,FALSE),\"\")","v":""},{"$f":"IF(COUNTIF(data!A$6:A$5000,B308)>0,VLOOKUP(B308,data!A$6:M$5000,4,FALSE),\"\")","v":""},{"$f":"IF(COUNTIF(data!A$6:A$5000,B308)>0,VLOOKUP(B308,data!A$6:M$5000,11,FALSE),\"\")","v":""},{"$f":"IF(COUNTIF(data!A$6:A$5000,B308)>0,VLOOKUP(B308,data!A$6:M$5000,12,FALSE),\"\")","v":""},{"$f":"IF(COUNTIF(data!A$6:A$5000,B308)>0,VLOOKUP(B308,data!A$6:M$5000,13,FALSE),\"\")","v":""},{"$f":"IF(B308>0,SUM(F$10:F308)-SUM(G$10:G308),\"\")","v":""}]
[null,null,{"$f":"IF(COUNTIF(data!A$6:A$5000,B309)>0,VLOOKUP(B309,data!A$6:M$5000,2,FALSE),\"\")","v":""},{"$f":"IF(COUNTIF(data!A$6:A$5000,B309)>0,VLOOKUP(B309,data!A$6:M$5000,4,FALSE),\"\")","v":""},{"$f":"IF(COUNTIF(data!A$6:A$5000,B309)>0,VLOOKUP(B309,data!A$6:M$5000,11,FALSE),\"\")","v":""},{"$f":"IF(COUNTIF(data!A$6:A$5000,B309)>0,VLOOKUP(B309,data!A$6:M$5000,12,FALSE),\"\")","v":""},{"$f":"IF(COUNTIF(data!A$6:A$5000,B309)>0,VLOOKUP(B309,data!A$6:M$5000,13,FALSE),\"\")","v":""},{"$f":"IF(B309>0,SUM(F$10:F309)-SUM(G$10:G309),\"\")","v":""}]
[null,null,{"$f":"IF(COUNTIF(data!A$6:A$5000,B310)>0,VLOOKUP(B310,data!A$6:M$5000,2,FALSE),\"\")","v":""},{"$f":"IF(COUNTIF(data!A$6:A$5000,B310)>0,VLOOKUP(B310,data!A$6:M$5000,4,FALSE),\"\")","v":""},{"$f":"IF(COUNTIF(data!A$6:A$5000,B310)>0,VLOOKUP(B310,data!A$6:M$5000,11,FALSE),\"\")","v":""},{"$f":"IF(COUNTIF(data!A$6:A$5000,B310)>0,VLOOKUP(B310,data!A$6:M$5000,12,FALSE),\"\")","v":""},{"$f":"IF(COUNTIF(data!A$6:A$5000,B310)>0,VLOOKUP(B310,data!A$6:M$5000,13,FALSE),\"\")","v":""},{"$f":"IF(B310>0,SUM(F$10:F310)-SUM(G$10:G310),\"\")","v":""}]
[null,null,{"$f":"IF(COUNTIF(data!A$6:A$5000,B311)>0,VLOOKUP(B311,data!A$6:M$5000,2,FALSE),\"\")","v":""},{"$f":"IF(COUNTIF(data!A$6:A$5000,B311)>0,VLOOKUP(B311,data!A$6:M$5000,4,FALSE),\"\")","v":""},{"$f":"IF(COUNTIF(data!A$6:A$5000,B311)>0,VLOOKUP(B311,data!A$6:M$5000,11,FALSE),\"\")","v":""},{"$f":"IF(COUNTIF(data!A$6:A$5000,B311)>0,VLOOKUP(B311,data!A$6:M$5000,12,FALSE),\"\")","v":""},{"$f":"IF(COUNTIF(data!A$6:A$5000,B311)>0,VLOOKUP(B311,data!A$6:M$5000,13,FALSE),\"\")","v":""},{"$f":"IF(B311>0,SUM(F$10:F311)-SUM(G$10:G311),\"\")","v":""}]
[null,null,{"$f":"IF(COUNTIF(data!A$6:A$5000,B312)>0,VLOOKUP(B312,data!A$6:M$5000,2,FALSE),\"\")","v":""},{"$f":"IF(COUNTIF(data!A$6:A$5000,B312)>0,VLOOKUP(B312,data!A$6:M$5000,4,FALSE),\"\")","v":""},{"$f":"IF(COUNTIF(data!A$6:A$5000,B312)>0,VLOOKUP(B312,data!A$6:M$5000,11,FALSE),\"\")","v":""},{"$f":"IF(COUNTIF(data!A$6:A$5000,B312)>0,VLOOKUP(B312,data!A$6:M$5000,12,FALSE),\"\")","v":""},{"$f":"IF(COUNTIF(data!A$6:A$5000,B312)>0,VLOOKUP(B312,data!A$6:M$5000,13,FALSE),\"\")","v":""},{"$f":"IF(B312>0,SUM(F$10:F312)-SUM(G$10:G312),\"\")","v":""}]
[null,null,{"$f":"IF(COUNTIF(data!A$6:A$5000,B313)>0,VLOOKUP(B313,data!A$6:M$5000,2,FALSE),\"\")","v":""},{"$f":"IF(COUNTIF(data!A$6:A$5000,B313)>0,VLOOKUP(B313,data!A$6:M$5000,4,FALSE),\"\")","v":""},{"$f":"IF(COUNTIF(data!A$6:A$5000,B313)>0,VLOOKUP(B313,data!A$6:M$5000,11,FALSE),\"\")","v":""},{"$f":"IF(COUNTIF(data!A$6:A$5000,B313)>0,VLOOKUP(B313,data!A$6:M$5000,12,FALSE),\"\")","v":""},{"$f":"IF(COUNTIF(data!A$6:A$5000,B313)>0,VLOOKUP(B313,data!A$6:M$5000,13,FALSE),\"\")","v":""},{"$f":"IF(B313>0,SUM(F$10:F313)-SUM(G$10:G313),\"\")","v":""}]
[null,null,{"$f":"IF(COUNTIF(data!A$6:A$5000,B314)>0,VLOOKUP(B314,data!A$6:M$5000,2,FALSE),\"\")","v":""},{"$f":"IF(COUNTIF(data!A$6:A$5000,B314)>0,VLOOKUP(B314,data!A$6:M$5000,4,FALSE),\"\")","v":""},{"$f":"IF(COUNTIF(data!A$6:A$5000,B314)>0,VLOOKUP(B314,data!A$6:M$5000,11,FALSE),\"\")","v":""},{"$f":"IF(COUNTIF(data!A$6:A$5000,B314)>0,VLOOKUP(B314,data!A$6:M$5000,12,FALSE),\"\")","v":""},{"$f":"IF(COUNTIF(data!A$6:A$5000,B314)>0,VLOOKUP(B314,data!A$6:M$5000,13,FALSE),\"\")","v":""},{"$f":"IF(B314>0,SUM(F$10:F314)-SUM(G$10:G314),\"\")","v":""}]
[null,null,{"$f":"IF(COUNTIF(data!A$6:A$5000,B315)>0,VLOOKUP(B315,data!A$6:M$5000,2,FALSE),\"\")","v":""},{"$f":"IF(COUNTIF(data!A$6:A$5000,B315)>0,VLOOKUP(B315,data!A$6:M$5000,4,FALSE),\"\")","v":""},{"$f":"IF(COUNTIF(data!A$6:A$5000,B315)>0,VLOOKUP(B315,data!A$6:M$5000,11,FALSE),\"\")","v":""},{"$f":"IF(COUNTIF(data!A$6:A$5000,B315)>0,VLOOKUP(B315,data!A$6:M$5000,12,FALSE),\"\")","v":""},{"$f":"IF(COUNTIF(data!A$6:A$5000,B315)>0,VLOOKUP(B315,data!A$6:M$5000,13,FALSE),\"\")","v":""},{"$f":"IF(B315>0,SUM(F$10:F315)-SUM(G$10:G315),\"\")","v":""}]
[null,null,{"$f":"IF(COUNTIF(data!A$6:A$5000,B316)>0,VLOOKUP(B316,data!A$6:M$5000,2,FALSE),\"\")","v":""},{"$f":"IF(COUNTIF(data!A$6:A$5000,B316)>0,VLOOKUP(B316,data!A$6:M$5000,4,FALSE),\"\")","v":""},{"$f":"IF(COUNTIF(data!A$6:A$5000,B316)>0,VLOOKUP(B316,data!A$6:M$5000,11,FALSE),\"\")","v":""},{"$f":"IF(COUNTIF(data!A$6:A$5000,B316)>0,VLOOKUP(B316,data!A$6:M$5000,12,FALSE),\"\")","v":""},{"$f":"IF(COUNTIF(data!A$6:A$5000,B316)>0,VLOOKUP(B316,data!A$6:M$5000,13,FALSE),\"\")","v":""},{"$f":"IF(B316>0,SUM(F$10:F316)-SUM(G$10:G316),\"\")","v":""}]
[null,null,{"$f":"IF(COUNTIF(data!A$6:A$5000,B317)>0,VLOOKUP(B317,data!A$6:M$5000,2,FALSE),\"\")","v":""},{"$f":"IF(COUNTIF(data!A$6:A$5000,B317)>0,VLOOKUP(B317,data!A$6:M$5000,4,FALSE),\"\")","v":""},{"$f":"IF(COUNTIF(data!A$6:A$5000,B317)>0,VLOOKUP(B317,data!A$6:M$5000,11,FALSE),\"\")","v":""},{"$f":"IF(COUNTIF(data!A$6:A$5000,B317)>0,VLOOKUP(B317,data!A$6:M$5000,12,FALSE),\"\")","v":""},{"$f":"IF(COUNTIF(data!A$6:A$5000,B317)>0,VLOOKUP(B317,data!A$6:M$5000,13,FALSE),\"\")","v":""},{"$f":"IF(B317>0,SUM(F$10:F317)-SUM(G$10:G317),\"\")","v":""}]
[null,null,{"$f":"IF(COUNTIF(data!A$6:A$5000,B318)>0,VLOOKUP(B318,data!A$6:M$5000,2,FALSE),\"\")","v":""},{"$f":"IF(COUNTIF(data!A$6:A$5000,B318)>0,VLOOKUP(B318,data!A$6:M$5000,4,FALSE),\"\")","v":""},{"$f":"IF(COUNTIF(data!A$6:A$5000,B318)>0,VLOOKUP(B318,data!A$6:M$5000,11,FALSE),\"\")","v":""},{"$f":"IF(COUNTIF(data!A$6:A$5000,B318)>0,VLOOKUP(B318,data!A$6:M$5000,12,FALSE),\"\")","v":""},{"$f":"IF(COUNTIF(data!A$6:A$5000,B318)>0,VLOOKUP(B318,data!A$6:M$5000,13,FALSE),\"\")","v":""},{"$f":"IF(B318>0,SUM(F$10:F318)-SUM(G$10:G318),\"\")","v":""}]
[null,null,{"$f":"IF(COUNTIF(data!A$6:A$5000,B319)>0,VLOOKUP(B319,data!A$6:M$5000,2,FALSE),\"\")","v":""},{"$f":"IF(COUNTIF(data!A$6:A$5000,B319)>0,VLOOKUP(B319,data!A$6:M$5000,4,FALSE),\"\")","v":""},{"$f":"IF(COUNTIF(data!A$6:A$5000,B319)>0,VLOOKUP(B319,data!A$6:M$5000,11,FALSE),\"\")","v":""},{"$f":"IF(COUNTIF(data!A$6:A$5000,B319)>0,VLOOKUP(B319,data!A$6:M$5000,12,FALSE),\"\")","v":""},{"$f":"IF(COUNTIF(data!A$6:A$5000,B319)>0,VLOOKUP(B319,data!A$6:M$5000,13,FALSE),\"\")","v":""},{"$f":"IF(B319>0,SUM(F$10:F319)-SUM(G$10:G319),\"\")","v":""}]
[null,null,{"$f":"IF(COUNTIF(data!A$6:A$5000,B320)>0,VLOOKUP(B320,data!A$6:M$5000,2,FALSE),\"\")","v":""},{"$f":"IF(COUNTIF(data!A$6:A$5000,B320)>0,VLOOKUP(B320,data!A$6:M$5000,4,FALSE),\"\")","v":""},{"$f":"IF(COUNTIF(data!A$6:A$5000,B320)>0,VLOOKUP(B320,data!A$6:M$5000,11,FALSE),\"\")","v":""},{"$f":"IF(COUNTIF(data!A$6:A$5000,B320)>0,VLOOKUP(B320,data!A$6:M$5000,12,FALSE),\"\")","v":""},{"$f":"IF(COUNTIF(data!A$6:A$5000,B320)>0,VLOOKUP(B320,data!A$6:M$5000,13,FALSE),\"\")","v":""},{"$f":"IF(B320>0,SUM(F$10:F320)-SUM(G$10:G320),\"\")","v":""}]
[null,null,{"$f":"IF(COUNTIF(data!A$6:A$5000,B321)>0,VLOOKUP(B321,data!A$6:M$5000,2,FALSE),\"\")","v":""},{"$f":"IF(COUNTIF(data!A$6:A$5000,B321)>0,VLOOKUP(B321,data!A$6:M$5000,4,FALSE),\"\")","v":""},{"$f":"IF(COUNTIF(data!A$6:A$5000,B321)>0,VLOOKUP(B321,data!A$6:M$5000,11,FALSE),\"\")","v":""},{"$f":"IF(COUNTIF(data!A$6:A$5000,B321)>0,VLOOKUP(B321,data!A$6:M$5000,12,FALSE),\"\")","v":""},{"$f":"IF(COUNTIF(data!A$6:A$5000,B321)>0,VLOOKUP(B321,data!A$6:M$5000,13,FALSE),\"\")","v":""},{"$f":"IF(B321>0,SUM(F$10:F321)-SUM(G$10:G321),\"\")","v":""}]
[null,null,{"$f":"IF(COUNTIF(data!A$6:A$5000,B322)>0,VLOOKUP(B322,data!A$6:M$5000,2,FALSE),\"\")","v":""},{"$f":"IF(COUNTIF(data!A$6:A$5000,B322)>0,VLOOKUP(B322,data!A$6:M$5000,4,FALSE),\"\")","v":""},{"$f":"IF(COUNTIF(data!A$6:A$5000,B322)>0,VLOOKUP(B322,data!A$6:M$5000,11,FALSE),\"\")","v":""},{"$f":"IF(COUNTIF(data!A$6:A$5000,B322)>0,VLOOKUP(B322,data!A$6:M$5000,12,FALSE),\"\")","v":""},{"$f":"IF(COUNTIF(data!A$6:A$5000,B322)>0,VLOOKUP(B322,data!A$6:M$5000,13,FALSE),\"\")","v":""},{"$f":"IF(B322>0,SUM(F$10:F322)-SUM(G$10:G322),\"\")","v":""}]
[null,null,{"$f":"IF(COUNTIF(data!A$6:A$5000,B323)>0,VLOOKUP(B323,data!A$6:M$5000,2,FALSE),\"\")","v":""},{"$f":"IF(COUNTIF(data!A$6:A$5000,B323)>0,VLOOKUP(B323,data!A$6:M$5000,4,FALSE),\"\")","v":""},{"$f":"IF(COUNTIF(data!A$6:A$5000,B323)>0,VLOOKUP(B323,data!A$6:M$5000,11,FALSE),\"\")","v":""},{"$f":"IF(COUNTIF(data!A$6:A$5000,B323)>0,VLOOKUP(B323,data!A$6:M$5000,12,FALSE),\"\")","v":""},{"$f":"IF(COUNTIF(data!A$6:A$5000,B323)>0,VLOOKUP(B323,data!A$6:M$5000,13,FALSE),\"\")","v":""},{"$f":"IF(B323>0,SUM(F$10:F323)-SUM(G$10:G323),\"\")","v":""}]
[null,null,{"$f":"IF(COUNTIF(data!A$6:A$5000,B324)>0,VLOOKUP(B324,data!A$6:M$5000,2,FALSE),\"\")","v":""},{"$f":"IF(COUNTIF(data!A$6:A$5000,B324)>0,VLOOKUP(B324,data!A$6:M$5000,4,FALSE),\"\")","v":""},{"$f":"IF(COUNTIF(data!A$6:A$5000,B324)>0,VLOOKUP(B324,data!A$6:M$5000,11,FALSE),\"\")","v":""},{"$f":"IF(COUNTIF(data!A$6:A$5000,B324)>0,VLOOKUP(B324,data!A$6:M$5000,12,FALSE),\"\")","v":""},{"$f":"IF(COUNTIF(data!A$6:A$5000,B324)>0,VLOOKUP(B324,data!A$6:M$5000,13,FALSE),\"\")","v":""},{"$f":"IF(B324>0,SUM(F$10:F324)-SUM(G$10:G324),\"\")","v":""}]
[null,null,{"$f":"IF(COUNTIF(data!A$6:A$5000,B325)>0,VLOOKUP(B325,data!A$6:M$5000,2,FALSE),\"\")","v":""},{"$f":"IF(COUNTIF(data!A$6:A$5000,B325)>0,VLOOKUP(B325,data!A$6:M$5000,4,FALSE),\"\")","v":""},{"$f":"IF(COUNTIF(data!A$6:A$5000,B325)>0,VLOOKUP(B325,data!A$6:M$5000,11,FALSE),\"\")","v":""},{"$f":"IF(COUNTIF(data!A$6:A$5000,B325)>0,VLOOKUP(B325,data!A$6:M$5000,12,FALSE),\"\")","v":""},{"$f":"IF(COUNTIF(data!A$6:A$5000,B325)>0,VLOOKUP(B325,data!A$6:M$5000,13,FALSE),\"\")","v":""},{"$f":"IF(B325>0,SUM(F$10:F325)-SUM(G$10:G325),\"\")","v":""}]
[null,null,{"$f":"IF(COUNTIF(data!A$6:A$5000,B326)>0,VLOOKUP(B326,data!A$6:M$5000,2,FALSE),\"\")","v":""},{"$f":"IF(COUNTIF(data!A$6:A$5000,B326)>0,VLOOKUP(B326,data!A$6:M$5000,4,FALSE),\"\")","v":""},{"$f":"IF(COUNTIF(data!A$6:A$5000,B326)>0,VLOOKUP(B326,data!A$6:M$5000,11,FALSE),\"\")","v":""},{"$f":"IF(COUNTIF(data!A$6:A$5000,B326)>0,VLOOKUP(B326,data!A$6:M$5000,12,FALSE),\"\")","v":""},{"$f":"IF(COUNTIF(data!A$6:A$5000,B326)>0,VLOOKUP(B326,data!A$6:M$5000,13,FALSE),\"\")","v":""},{"$f":"IF(B326>0,SUM(F$10:F326)-SUM(G$10:G326),\"\")","v":""}]
[null,null,{"$f":"IF(COUNTIF(data!A$6:A$5000,B327)>0,VLOOKUP(B327,data!A$6:M$5000,2,FALSE),\"\")","v":""},{"$f":"IF(COUNTIF(data!A$6:A$5000,B327)>0,VLOOKUP(B327,data!A$6:M$5000,4,FALSE),\"\")","v":""},{"$f":"IF(COUNTIF(data!A$6:A$5000,B327)>0,VLOOKUP(B327,data!A$6:M$5000,11,FALSE),\"\")","v":""},{"$f":"IF(COUNTIF(data!A$6:A$5000,B327)>0,VLOOKUP(B327,data!A$6:M$5000,12,FALSE),\"\")","v":""},{"$f":"IF(COUNTIF(data!A$6:A$5000,B327)>0,VLOOKUP(B327,data!A$6:M$5000,13,FALSE),\"\")","v":""},{"$f":"IF(B327>0,SUM(F$10:F327)-SUM(G$10:G327),\"\")","v":""}]
[null,null,{"$f":"IF(COUNTIF(data!A$6:A$5000,B328)>0,VLOOKUP(B328,data!A$6:M$5000,2,FALSE),\"\")","v":""},{"$f":"IF(COUNTIF(data!A$6:A$5000,B328)>0,VLOOKUP(B328,data!A$6:M$5000,4,FALSE),\"\")","v":""},{"$f":"IF(COUNTIF(data!A$6:A$5000,B328)>0,VLOOKUP(B328,data!A$6:M$5000,11,FALSE),\"\")","v":""},{"$f":"IF(COUNTIF(data!A$6:A$5000,B328)>0,VLOOKUP(B328,data!A$6:M$5000,12,FALSE),\"\")","v":""},{"$f":"IF(COUNTIF(data!A$6:A$5000,B328)>0,VLOOKUP(B328,data!A$6:M$5000,13,FALSE),\"\")","v":""},{"$f":"IF(B328>0,SUM(F$10:F328)-SUM(G$10:G328),\"\")","v":""}]
[null,null,{"$f":"IF(COUNTIF(data!A$6:A$5000,B329)>0,VLOOKUP(B329,data!A$6:M$5000,2,FALSE),\"\")","v":""},{"$f":"IF(COUNTIF(data!A$6:A$5000,B329)>0,VLOOKUP(B329,data!A$6:M$5000,4,FALSE),\"\")","v":""},{"$f":"IF(COUNTIF(data!A$6:A$5000,B329)>0,VLOOKUP(B329,data!A$6:M$5000,11,FALSE),\"\")","v":""},{"$f":"IF(COUNTIF(data!A$6:A$5000,B329)>0,VLOOKUP(B329,data!A$6:M$5000,12,FALSE),\"\")","v":""},{"$f":"IF(COUNTIF(data!A$6:A$5000,B329)>0,VLOOKUP(B329,data!A$6:M$5000,13,FALSE),\"\")","v":""},{"$f":"IF(B329>0,SUM(F$10:F329)-SUM(G$10:G329),\"\")","v":""}]
[null,null,{"$f":"IF(COUNTIF(data!A$6:A$5000,B330)>0,VLOOKUP(B330,data!A$6:M$5000,2,FALSE),\"\")","v":""},{"$f":"IF(COUNTIF(data!A$6:A$5000,B330)>0,VLOOKUP(B330,data!A$6:M$5000,4,FALSE),\"\")","v":""},{"$f":"IF(COUNTIF(data!A$6:A$5000,B330)>0,VLOOKUP(B330,data!A$6:M$5000,11,FALSE),\"\")","v":""},{"$f":"IF(COUNTIF(data!A$6:A$5000,B330)>0,VLOOKUP(B330,data!A$6:M$5000,12,FALSE),\"\")","v":""},{"$f":"IF(COUNTIF(data!A$6:A$5000,B330)>0,VLOOKUP(B330,data!A$6:M$5000,13,FALSE),\"\")","v":""},{"$f":"IF(B330>0,SUM(F$10:F330)-SUM(G$10:G330),\"\")","v":""}]
[null,null,{"$f":"IF(COUNTIF(data!A$6:A$5000,B331)>0,VLOOKUP(B331,data!A$6:M$5000,2,FALSE),\"\")","v":""},{"$f":"IF(COUNTIF(data!A$6:A$5000,B331)>0,VLOOKUP(B331,data!A$6:M$5000,4,FALSE),\"\")","v":""},{"$f":"IF(COUNTIF(data!A$6:A$5000,B331)>0,VLOOKUP(B331,data!A$6:M$5000,11,FALSE),\"\")","v":""},{"$f":"IF(COUNTIF(data!A$6:A$5000,B331)>0,VLOOKUP(B331,data!A$6:M$5000,12,FALSE),\"\")","v":""},{"$f":"IF(COUNTIF(data!A$6:A$5000,B331)>0,VLOOKUP(B331,data!A$6:M$5000,13,FALSE),\"\")","v":""},{"$f":"IF(B331>0,SUM(F$10:F331)-SUM(G$10:G331),\"\")","v":""}]
[null,null,{"$f":"IF(COUNTIF(data!A$6:A$5000,B332)>0,VLOOKUP(B332,data!A$6:M$5000,2,FALSE),\"\")","v":""},{"$f":"IF(COUNTIF(data!A$6:A$5000,B332)>0,VLOOKUP(B332,data!A$6:M$5000,4,FALSE),\"\")","v":""},{"$f":"IF(COUNTIF(data!A$6:A$5000,B332)>0,VLOOKUP(B332,data!A$6:M$5000,11,FALSE),\"\")","v":""},{"$f":"IF(COUNTIF(data!A$6:A$5000,B332)>0,VLOOKUP(B332,data!A$6:M$5000,12,FALSE),\"\")","v":""},{"$f":"IF(COUNTIF(data!A$6:A$5000,B332)>0,VLOOKUP(B332,data!A$6:M$5000,13,FALSE),\"\")","v":""},{"$f":"IF(B332>0,SUM(F$10:F332)-SUM(G$10:G332),\"\")","v":""}]
[null,null,{"$f":"IF(COUNTIF(data!A$6:A$5000,B333)>0,VLOOKUP(B333,data!A$6:M$5000,2,FALSE),\"\")","v":""},{"$f":"IF(COUNTIF(data!A$6:A$5000,B333)>0,VLOOKUP(B333,data!A$6:M$5000,4,FALSE),\"\")","v":""},{"$f":"IF(COUNTIF(data!A$6:A$5000,B333)>0,VLOOKUP(B333,data!A$6:M$5000,11,FALSE),\"\")","v":""},{"$f":"IF(COUNTIF(data!A$6:A$5000,B333)>0,VLOOKUP(B333,data!A$6:M$5000,12,FALSE),\"\")","v":""},{"$f":"IF(COUNTIF(data!A$6:A$5000,B333)>0,VLOOKUP(B333,data!A$6:M$5000,13,FALSE),\"\")","v":""},{"$f":"IF(B333>0,SUM(F$10:F333)-SUM(G$10:G333),\"\")","v":""}]
[null,null,{"$f":"IF(COUNTIF(data!A$6:A$5000,B334)>0,VLOOKUP(B334,data!A$6:M$5000,2,FALSE),\"\")","v":""},{"$f":"IF(COUNTIF(data!A$6:A$5000,B334)>0,VLOOKUP(B334,data!A$6:M$5000,4,FALSE),\"\")","v":""},{"$f":"IF(COUNTIF(data!A$6:A$5000,B334)>0,VLOOKUP(B334,data!A$6:M$5000,11,FALSE),\"\")","v":""},{"$f":"IF(COUNTIF(data!A$6:A$5000,B334)>0,VLOOKUP(B334,data!A$6:M$5000,12,FALSE),\"\")","v":""},{"$f":"IF(COUNTIF(data!A$6:A$5000,B334)>0,VLOOKUP(B334,data!A$6:M$5000,13,FALSE),\"\")","v":""},{"$f":"IF(B334>0,SUM(F$10:F334)-SUM(G$10:G334),\"\")","v":""}]
[null,null,{"$f":"IF(COUNTIF(data!A$6:A$5000,B335)>0,VLOOKUP(B335,data!A$6:M$5000,2,FALSE),\"\")","v":""},{"$f":"IF(COUNTIF(data!A$6:A$5000,B335)>0,VLOOKUP(B335,data!A$6:M$5000,4,FALSE),\"\")","v":""},{"$f":"IF(COUNTIF(data!A$6:A$5000,B335)>0,VLOOKUP(B335,data!A$6:M$5000,11,FALSE),\"\")","v":""},{"$f":"IF(COUNTIF(data!A$6:A$5000,B335)>0,VLOOKUP(B335,data!A$6:M$5000,12,FALSE),\"\")","v":""},{"$f":"IF(COUNTIF(data!A$6:A$5000,B335)>0,VLOOKUP(B335,data!A$6:M$5000,13,FALSE),\"\")","v":""},{"$f":"IF(B335>0,SUM(F$10:F335)-SUM(G$10:G335),\"\")","v":""}]
[null,null,{"$f":"IF(COUNTIF(data!A$6:A$5000,B336)>0,VLOOKUP(B336,data!A$6:M$5000,2,FALSE),\"\")","v":""},{"$f":"IF(COUNTIF(data!A$6:A$5000,B336)>0,VLOOKUP(B336,data!A$6:M$5000,4,FALSE),\"\")","v":""},{"$f":"IF(COUNTIF(data!A$6:A$5000,B336)>0,VLOOKUP(B336,data!A$6:M$5000,11,FALSE),\"\")","v":""},{"$f":"IF(COUNTIF(data!A$6:A$5000,B336)>0,VLOOKUP(B336,data!A$6:M$5000,12,FALSE),\"\")","v":""},{"$f":"IF(COUNTIF(data!A$6:A$5000,B336)>0,VLOOKUP(B336,data!A$6:M$5000,13,FALSE),\"\")","v":""},{"$f":"IF(B336>0,SUM(F$10:F336)-SUM(G$10:G336),\"\")","v":""}]
[null,null,{"$f":"IF(COUNTIF(data!A$6:A$5000,B337)>0,VLOOKUP(B337,data!A$6:M$5000,2,FALSE),\"\")","v":""},{"$f":"IF(COUNTIF(data!A$6:A$5000,B337)>0,VLOOKUP(B337,data!A$6:M$5000,4,FALSE),\"\")","v":""},{"$f":"IF(COUNTIF(data!A$6:A$5000,B337)>0,VLOOKUP(B337,data!A$6:M$5000,11,FALSE),\"\")","v":""},{"$f":"IF(COUNTIF(data!A$6:A$5000,B337)>0,VLOOKUP(B337,data!A$6:M$5000,12,FALSE),\"\")","v":""},{"$f":"IF(COUNTIF(data!A$6:A$5000,B337)>0,VLOOKUP(B337,data!A$6:M$5000,13,FALSE),\"\")","v":""},{"$f":"IF(B337>0,SUM(F$10:F337)-SUM(G$10:G337),\"\")","v":""}]
[null,null,{"$f":"IF(COUNTIF(data!A$6:A$5000,B338)>0,VLOOKUP(B338,data!A$6:M$5000,2,FALSE),\"\")","v":""},{"$f":"IF(COUNTIF(data!A$6:A$5000,B338)>0,VLOOKUP(B338,data!A$6:M$5000,4,FALSE),\"\")","v":""},{"$f":"IF(COUNTIF(data!A$6:A$5000,B338)>0,VLOOKUP(B338,data!A$6:M$5000,11,FALSE),\"\")","v":""},{"$f":"IF(COUNTIF(data!A$6:A$5000,B338)>0,VLOOKUP(B338,data!A$6:M$5000,12,FALSE),\"\")","v":""},{"$f":"IF(COUNTIF(data!A$6:A$5000,B338)>0,VLOOKUP(B338,data!A$6:M$5000,13,FALSE),\"\")","v":""},{"$f":"IF(B338>0,SUM(F$10:F338)-SUM(G$10:G338),\"\")","v":""}]
[null,null,{"$f":"IF(COUNTIF(data!A$6:A$5000,B339)>0,VLOOKUP(B339,data!A$6:M$5000,2,FALSE),\"\")","v":""},{"$f":"IF(COUNTIF(data!A$6:A$5000,B339)>0,VLOOKUP(B339,data!A$6:M$5000,4,FALSE),\"\")","v":""},{"$f":"IF(COUNTIF(data!A$6:A$5000,B339)>0,VLOOKUP(B339,data!A$6:M$5000,11,FALSE),\"\")","v":""},{"$f":"IF(COUNTIF(data!A$6:A$5000,B339)>0,VLOOKUP(B339,data!A$6:M$5000,12,FALSE),\"\")","v":""},{"$f":"IF(COUNTIF(data!A$6:A$5000,B339)>0,VLOOKUP(B339,data!A$6:M$5000,13,FALSE),\"\")","v":""},{"$f":"IF(B339>0,SUM(F$10:F339)-SUM(G$10:G339),\"\")","v":""}]
[null,null,{"$f":"IF(COUNTIF(data!A$6:A$5000,B340)>0,VLOOKUP(B340,data!A$6:M$5000,2,FALSE),\"\")","v":""},{"$f":"IF(COUNTIF(data!A$6:A$5000,B340)>0,VLOOKUP(B340,data!A$6:M$5000,4,FALSE),\"\")","v":""},{"$f":"IF(COUNTIF(data!A$6:A$5000,B340)>0,VLOOKUP(B340,data!A$6:M$5000,11,FALSE),\"\")","v":""},{"$f":"IF(COUNTIF(data!A$6:A$5000,B340)>0,VLOOKUP(B340,data!A$6:M$5000,12,FALSE),\"\")","v":""},{"$f":"IF(COUNTIF(data!A$6:A$5000,B340)>0,VLOOKUP(B340,data!A$6:M$5000,13,FALSE),\"\")","v":""},{"$f":"IF(B340>0,SUM(F$10:F340)-SUM(G$10:G340),\"\")","v":""}]
[null,null,{"$f":"IF(COUNTIF(data!A$6:A$5000,B341)>0,VLOOKUP(B341,data!A$6:M$5000,2,FALSE),\"\")","v":""},{"$f":"IF(COUNTIF(data!A$6:A$5000,B341)>0,VLOOKUP(B341,data!A$6:M$5000,4,FALSE),\"\")","v":""},{"$f":"IF(COUNTIF(data!A$6:A$5000,B341)>0,VLOOKUP(B341,data!A$6:M$5000,11,FALSE),\"\")","v":""},{"$f":"IF(COUNTIF(data!A$6:A$5000,B341)>0,VLOOKUP(B341,data!A$6:M$5000,12,FALSE),\"\")","v":""},{"$f":"IF(COUNTIF(data!A$6:A$5000,B341)>0,VLOOKUP(B341,data!A$6:M$5000,13,FALSE),\"\")","v":""},{"$f":"IF(B341>0,SUM(F$10:F341)-SUM(G$10:G341),\"\")","v":""}]
[null,null,{"$f":"IF(COUNTIF(data!A$6:A$5000,B342)>0,VLOOKUP(B342,data!A$6:M$5000,2,FALSE),\"\")","v":""},{"$f":"IF(COUNTIF(data!A$6:A$5000,B342)>0,VLOOKUP(B342,data!A$6:M$5000,4,FALSE),\"\")","v":""},{"$f":"IF(COUNTIF(data!A$6:A$5000,B342)>0,VLOOKUP(B342,data!A$6:M$5000,11,FALSE),\"\")","v":""},{"$f":"IF(COUNTIF(data!A$6:A$5000,B342)>0,VLOOKUP(B342,data!A$6:M$5000,12,FALSE),\"\")","v":""},{"$f":"IF(COUNTIF(data!A$6:A$5000,B342)>0,VLOOKUP(B342,data!A$6:M$5000,13,FALSE),\"\")","v":""},{"$f":"IF(B342>0,SUM(F$10:F342)-SUM(G$10:G342),\"\")","v":""}]
[null,null,{"$f":"IF(COUNTIF(data!A$6:A$5000,B343)>0,VLOOKUP(B343,data!A$6:M$5000,2,FALSE),\"\")","v":""},{"$f":"IF(COUNTIF(data!A$6:A$5000,B343)>0,VLOOKUP(B343,data!A$6:M$5000,4,FALSE),\"\")","v":""},{"$f":"IF(COUNTIF(data!A$6:A$5000,B343)>0,VLOOKUP(B343,data!A$6:M$5000,11,FALSE),\"\")","v":""},{"$f":"IF(COUNTIF(data!A$6:A$5000,B343)>0,VLOOKUP(B343,data!A$6:M$5000,12,FALSE),\"\")","v":""},{"$f":"IF(COUNTIF(data!A$6:A$5000,B343)>0,VLOOKUP(B343,data!A$6:M$5000,13,FALSE),\"\")","v":""},{"$f":"IF(B343>0,SUM(F$10:F343)-SUM(G$10:G343),\"\")","v":""}]
[null,null,{"$f":"IF(COUNTIF(data!A$6:A$5000,B344)>0,VLOOKUP(B344,data!A$6:M$5000,2,FALSE),\"\")","v":""},{"$f":"IF(COUNTIF(data!A$6:A$5000,B344)>0,VLOOKUP(B344,data!A$6:M$5000,4,FALSE),\"\")","v":""},{"$f":"IF(COUNTIF(data!A$6:A$5000,B344)>0,VLOOKUP(B344,data!A$6:M$5000,11,FALSE),\"\")","v":""},{"$f":"IF(COUNTIF(data!A$6:A$5000,B344)>0,VLOOKUP(B344,data!A$6:M$5000,12,FALSE),\"\")","v":""},{"$f":"IF(COUNTIF(data!A$6:A$5000,B344)>0,VLOOKUP(B344,data!A$6:M$5000,13,FALSE),\"\")","v":""},{"$f":"IF(B344>0,SUM(F$10:F344)-SUM(G$10:G344),\"\")","v":""}]
[null,null,{"$f":"IF(COUNTIF(data!A$6:A$5000,B345)>0,VLOOKUP(B345,data!A$6:M$5000,2,FALSE),\"\")","v":""},{"$f":"IF(COUNTIF(data!A$6:A$5000,B345)>0,VLOOKUP(B345,data!A$6:M$5000,4,FALSE),\"\")","v":""},{"$f":"IF(COUNTIF(data!A$6:A$5000,B345)>0,VLOOKUP(B345,data!A$6:M$5000,11,FALSE),\"\")","v":""},{"$f":"IF(COUNTIF(data!A$6:A$5000,B345)>0,VLOOKUP(B345,data!A$6:M$5000,12,FALSE),\"\")","v":""},{"$f":"IF(COUNTIF(data!A$6:A$5000,B345)>0,VLOOKUP(B345,data!A$6:M$5000,13,FALSE),\"\")","v":""},{"$f":"IF(B345>0,SUM(F$10:F345)-SUM(G$10:G345),\"\")","v":""}]
[null,null,{"$f":"IF(COUNTIF(data!A$6:A$5000,B346)>0,VLOOKUP(B346,data!A$6:M$5000,2,FALSE),\"\")","v":""},{"$f":"IF(COUNTIF(data!A$6:A$5000,B346)>0,VLOOKUP(B346,data!A$6:M$5000,4,FALSE),\"\")","v":""},{"$f":"IF(COUNTIF(data!A$6:A$5000,B346)>0,VLOOKUP(B346,data!A$6:M$5000,11,FALSE),\"\")","v":""},{"$f":"IF(COUNTIF(data!A$6:A$5000,B346)>0,VLOOKUP(B346,data!A$6:M$5000,12,FALSE),\"\")","v":""},{"$f":"IF(COUNTIF(data!A$6:A$5000,B346)>0,VLOOKUP(B346,data!A$6:M$5000,13,FALSE),\"\")","v":""},{"$f":"IF(B346>0,SUM(F$10:F346)-SUM(G$10:G346),\"\")","v":""}]
[null,null,{"$f":"IF(COUNTIF(data!A$6:A$5000,B347)>0,VLOOKUP(B347,data!A$6:M$5000,2,FALSE),\"\")","v":""},{"$f":"IF(COUNTIF(data!A$6:A$5000,B347)>0,VLOOKUP(B347,data!A$6:M$5000,4,FALSE),\"\")","v":""},{"$f":"IF(COUNTIF(data!A$6:A$5000,B347)>0,VLOOKUP(B347,data!A$6:M$5000,11,FALSE),\"\")","v":""},{"$f":"IF(COUNTIF(data!A$6:A$5000,B347)>0,VLOOKUP(B347,data!A$6:M$5000,12,FALSE),\"\")","v":""},{"$f":"IF(COUNTIF(data!A$6:A$5000,B347)>0,VLOOKUP(B347,data!A$6:M$5000,13,FALSE),\"\")","v":""},{"$f":"IF(B347>0,SUM(F$10:F347)-SUM(G$10:G347),\"\")","v":""}]
[null,null,{"$f":"IF(COUNTIF(data!A$6:A$5000,B348)>0,VLOOKUP(B348,data!A$6:M$5000,2,FALSE),\"\")","v":""},{"$f":"IF(COUNTIF(data!A$6:A$5000,B348)>0,VLOOKUP(B348,data!A$6:M$5000,4,FALSE),\"\")","v":""},{"$f":"IF(COUNTIF(data!A$6:A$5000,B348)>0,VLOOKUP(B348,data!A$6:M$5000,11,FALSE),\"\")","v":""},{"$f":"IF(COUNTIF(data!A$6:A$5000,B348)>0,VLOOKUP(B348,data!A$6:M$5000,12,FALSE),\"\")","v":""},{"$f":"IF(COUNTIF(data!A$6:A$5000,B348)>0,VLOOKUP(B348,data!A$6:M$5000,13,FALSE),\"\")","v":""},{"$f":"IF(B348>0,SUM(F$10:F348)-SUM(G$10:G348),\"\")","v":""}]
[null,null,{"$f":"IF(COUNTIF(data!A$6:A$5000,B349)>0,VLOOKUP(B349,data!A$6:M$5000,2,FALSE),\"\")","v":""},{"$f":"IF(COUNTIF(data!A$6:A$5000,B349)>0,VLOOKUP(B349,data!A$6:M$5000,4,FALSE),\"\")","v":""},{"$f":"IF(COUNTIF(data!A$6:A$5000,B349)>0,VLOOKUP(B349,data!A$6:M$5000,11,FALSE),\"\")","v":""},{"$f":"IF(COUNTIF(data!A$6:A$5000,B349)>0,VLOOKUP(B349,data!A$6:M$5000,12,FALSE),\"\")","v":""},{"$f":"IF(COUNTIF(data!A$6:A$5000,B349)>0,VLOOKUP(B349,data!A$6:M$5000,13,FALSE),\"\")","v":""},{"$f":"IF(B349>0,SUM(F$10:F349)-SUM(G$10:G349),\"\")","v":""}]
[null,null,{"$f":"IF(COUNTIF(data!A$6:A$5000,B350)>0,VLOOKUP(B350,data!A$6:M$5000,2,FALSE),\"\")","v":""},{"$f":"IF(COUNTIF(data!A$6:A$5000,B350)>0,VLOOKUP(B350,data!A$6:M$5000,4,FALSE),\"\")","v":""},{"$f":"IF(COUNTIF(data!A$6:A$5000,B350)>0,VLOOKUP(B350,data!A$6:M$5000,11,FALSE),\"\")","v":""},{"$f":"IF(COUNTIF(data!A$6:A$5000,B350)>0,VLOOKUP(B350,data!A$6:M$5000,12,FALSE),\"\")","v":""},{"$f":"IF(COUNTIF(data!A$6:A$5000,B350)>0,VLOOKUP(B350,data!A$6:M$5000,13,FALSE),\"\")","v":""},{"$f":"IF(B350>0,SUM(F$10:F350)-SUM(G$10:G350),\"\")","v":""}]
[null,null,{"$f":"IF(COUNTIF(data!A$6:A$5000,B351)>0,VLOOKUP(B351,data!A$6:M$5000,2,FALSE),\"\")","v":""},{"$f":"IF(COUNTIF(data!A$6:A$5000,B351)>0,VLOOKUP(B351,data!A$6:M$5000,4,FALSE),\"\")","v":""},{"$f":"IF(COUNTIF(data!A$6:A$5000,B351)>0,VLOOKUP(B351,data!A$6:M$5000,11,FALSE),\"\")","v":""},{"$f":"IF(COUNTIF(data!A$6:A$5000,B351)>0,VLOOKUP(B351,data!A$6:M$5000,12,FALSE),\"\")","v":""},{"$f":"IF(COUNTIF(data!A$6:A$5000,B351)>0,VLOOKUP(B351,data!A$6:M$5000,13,FALSE),\"\")","v":""},{"$f":"IF(B351>0,SUM(F$10:F351)-SUM(G$10:G351),\"\")","v":""}]
[null,null,{"$f":"IF(COUNTIF(data!A$6:A$5000,B352)>0,VLOOKUP(B352,data!A$6:M$5000,2,FALSE),\"\")","v":""},{"$f":"IF(COUNTIF(data!A$6:A$5000,B352)>0,VLOOKUP(B352,data!A$6:M$5000,4,FALSE),\"\")","v":""},{"$f":"IF(COUNTIF(data!A$6:A$5000,B352)>0,VLOOKUP(B352,data!A$6:M$5000,11,FALSE),\"\")","v":""},{"$f":"IF(COUNTIF(data!A$6:A$5000,B352)>0,VLOOKUP(B352,data!A$6:M$5000,12,FALSE),\"\")","v":""},{"$f":"IF(COUNTIF(data!A$6:A$5000,B352)>0,VLOOKUP(B352,data!A$6:M$5000,13,FALSE),\"\")","v":""},{"$f":"IF(B352>0,SUM(F$10:F352)-SUM(G$10:G352),\"\")","v":""}]
[null,null,{"$f":"IF(COUNTIF(data!A$6:A$5000,B353)>0,VLOOKUP(B353,data!A$6:M$5000,2,FALSE),\"\")","v":""},{"$f":"IF(COUNTIF(data!A$6:A$5000,B353)>0,VLOOKUP(B353,data!A$6:M$5000,4,FALSE),\"\")","v":""},{"$f":"IF(COUNTIF(data!A$6:A$5000,B353)>0,VLOOKUP(B353,data!A$6:M$5000,11,FALSE),\"\")","v":""},{"$f":"IF(COUNTIF(data!A$6:A$5000,B353)>0,VLOOKUP(B353,data!A$6:M$5000,12,FALSE),\"\")","v":""},{"$f":"IF(COUNTIF(data!A$6:A$5000,B353)>0,VLOOKUP(B353,data!A$6:M$5000,13,FALSE),\"\")","v":""},{"$f":"IF(B353>0,SUM(F$10:F353)-SUM(G$10:G353),\"\")","v":""}]
[null,null,{"$f":"IF(COUNTIF(data!A$6:A$5000,B354)>0,VLOOKUP(B354,data!A$6:M$5000,2,FALSE),\"\")","v":""},{"$f":"IF(COUNTIF(data!A$6:A$5000,B354)>0,VLOOKUP(B354,data!A$6:M$5000,4,FALSE),\"\")","v":""},{"$f":"IF(COUNTIF(data!A$6:A$5000,B354)>0,VLOOKUP(B354,data!A$6:M$5000,11,FALSE),\"\")","v":""},{"$f":"IF(COUNTIF(data!A$6:A$5000,B354)>0,VLOOKUP(B354,data!A$6:M$5000,12,FALSE),\"\")","v":""},{"$f":"IF(COUNTIF(data!A$6:A$5000,B354)>0,VLOOKUP(B354,data!A$6:M$5000,13,FALSE),\"\")","v":""},{"$f":"IF(B354>0,SUM(F$10:F354)-SUM(G$10:G354),\"\")","v":""}]
[null,null,{"$f":"IF(COUNTIF(data!A$6:A$5000,B355)>0,VLOOKUP(B355,data!A$6:M$5000,2,FALSE),\"\")","v":""},{"$f":"IF(COUNTIF(data!A$6:A$5000,B355)>0,VLOOKUP(B355,data!A$6:M$5000,4,FALSE),\"\")","v":""},{"$f":"IF(COUNTIF(data!A$6:A$5000,B355)>0,VLOOKUP(B355,data!A$6:M$5000,11,FALSE),\"\")","v":""},{"$f":"IF(COUNTIF(data!A$6:A$5000,B355)>0,VLOOKUP(B355,data!A$6:M$5000,12,FALSE),\"\")","v":""},{"$f":"IF(COUNTIF(data!A$6:A$5000,B355)>0,VLOOKUP(B355,data!A$6:M$5000,13,FALSE),\"\")","v":""},{"$f":"IF(B355>0,SUM(F$10:F355)-SUM(G$10:G355),\"\")","v":""}]
[null,null,{"$f":"IF(COUNTIF(data!A$6:A$5000,B356)>0,VLOOKUP(B356,data!A$6:M$5000,2,FALSE),\"\")","v":""},{"$f":"IF(COUNTIF(data!A$6:A$5000,B356)>0,VLOOKUP(B356,data!A$6:M$5000,4,FALSE),\"\")","v":""},{"$f":"IF(COUNTIF(data!A$6:A$5000,B356)>0,VLOOKUP(B356,data!A$6:M$5000,11,FALSE),\"\")","v":""},{"$f":"IF(COUNTIF(data!A$6:A$5000,B356)>0,VLOOKUP(B356,data!A$6:M$5000,12,FALSE),\"\")","v":""},{"$f":"IF(COUNTIF(data!A$6:A$5000,B356)>0,VLOOKUP(B356,data!A$6:M$5000,13,FALSE),\"\")","v":""},{"$f":"IF(B356>0,SUM(F$10:F356)-SUM(G$10:G356),\"\")","v":""}]
[null,null,{"$f":"IF(COUNTIF(data!A$6:A$5000,B357)>0,VLOOKUP(B357,data!A$6:M$5000,2,FALSE),\"\")","v":""},{"$f":"IF(COUNTIF(data!A$6:A$5000,B357)>0,VLOOKUP(B357,data!A$6:M$5000,4,FALSE),\"\")","v":""},{"$f":"IF(COUNTIF(data!A$6:A$5000,B357)>0,VLOOKUP(B357,data!A$6:M$5000,11,FALSE),\"\")","v":""},{"$f":"IF(COUNTIF(data!A$6:A$5000,B357)>0,VLOOKUP(B357,data!A$6:M$5000,12,FALSE),\"\")","v":""},{"$f":"IF(COUNTIF(data!A$6:A$5000,B357)>0,VLOOKUP(B357,data!A$6:M$5000,13,FALSE),\"\")","v":""},{"$f":"IF(B357>0,SUM(F$10:F357)-SUM(G$10:G357),\"\")","v":""}]
[null,null,{"$f":"IF(COUNTIF(data!A$6:A$5000,B358)>0,VLOOKUP(B358,data!A$6:M$5000,2,FALSE),\"\")","v":""},{"$f":"IF(COUNTIF(data!A$6:A$5000,B358)>0,VLOOKUP(B358,data!A$6:M$5000,4,FALSE),\"\")","v":""},{"$f":"IF(COUNTIF(data!A$6:A$5000,B358)>0,VLOOKUP(B358,data!A$6:M$5000,11,FALSE),\"\")","v":""},{"$f":"IF(COUNTIF(data!A$6:A$5000,B358)>0,VLOOKUP(B358,data!A$6:M$5000,12,FALSE),\"\")","v":""},{"$f":"IF(COUNTIF(data!A$6:A$5000,B358)>0,VLOOKUP(B358,data!A$6:M$5000,13,FALSE),\"\")","v":""},{"$f":"IF(B358>0,SUM(F$10:F358)-SUM(G$10:G358),\"\")","v":""}]
[null,null,{"$f":"IF(COUNTIF(data!A$6:A$5000,B359)>0,VLOOKUP(B359,data!A$6:M$5000,2,FALSE),\"\")","v":""},{"$f":"IF(COUNTIF(data!A$6:A$5000,B359)>0,VLOOKUP(B359,data!A$6:M$5000,4,FALSE),\"\")","v":""},{"$f":"IF(COUNTIF(data!A$6:A$5000,B359)>0,VLOOKUP(B359,data!A$6:M$5000,11,FALSE),\"\")","v":""},{"$f":"IF(COUNTIF(data!A$6:A$5000,B359)>0,VLOOKUP(B359,data!A$6:M$5000,12,FALSE),\"\")","v":""},{"$f":"IF(COUNTIF(data!A$6:A$5000,B359)>0,VLOOKUP(B359,data!A$6:M$5000,13,FALSE),\"\")","v":""},{"$f":"IF(B359>0,SUM(F$10:F359)-SUM(G$10:G359),\"\")","v":""}]
[null,null,{"$f":"IF(COUNTIF(data!A$6:A$5000,B360)>0,VLOOKUP(B360,data!A$6:M$5000,2,FALSE),\"\")","v":""},{"$f":"IF(COUNTIF(data!A$6:A$5000,B360)>0,VLOOKUP(B360,data!A$6:M$5000,4,FALSE),\"\")","v":""},{"$f":"IF(COUNTIF(data!A$6:A$5000,B360)>0,VLOOKUP(B360,data!A$6:M$5000,11,FALSE),\"\")","v":""},{"$f":"IF(COUNTIF(data!A$6:A$5000,B360)>0,VLOOKUP(B360,data!A$6:M$5000,12,FALSE),\"\")","v":""},{"$f":"IF(COUNTIF(data!A$6:A$5000,B360)>0,VLOOKUP(B360,data!A$6:M$5000,13,FALSE),\"\")","v":""},{"$f":"IF(B360>0,SUM(F$10:F360)-SUM(G$10:G360),\"\")","v":""}]
[null,null,{"$f":"IF(COUNTIF(data!A$6:A$5000,B361)>0,VLOOKUP(B361,data!A$6:M$5000,2,FALSE),\"\")","v":""},{"$f":"IF(COUNTIF(data!A$6:A$5000,B361)>0,VLOOKUP(B361,data!A$6:M$5000,4,FALSE),\"\")","v":""},{"$f":"IF(COUNTIF(data!A$6:A$5000,B361)>0,VLOOKUP(B361,data!A$6:M$5000,11,FALSE),\"\")","v":""},{"$f":"IF(COUNTIF(data!A$6:A$5000,B361)>0,VLOOKUP(B361,data!A$6:M$5000,12,FALSE),\"\")","v":""},{"$f":"IF(COUNTIF(data!A$6:A$5000,B361)>0,VLOOKUP(B361,data!A$6:M$5000,13,FALSE),\"\")","v":""},{"$f":"IF(B361>0,SUM(F$10:F361)-SUM(G$10:G361),\"\")","v":""}]
[null,null,{"$f":"IF(COUNTIF(data!A$6:A$5000,B362)>0,VLOOKUP(B362,data!A$6:M$5000,2,FALSE),\"\")","v":""},{"$f":"IF(COUNTIF(data!A$6:A$5000,B362)>0,VLOOKUP(B362,data!A$6:M$5000,4,FALSE),\"\")","v":""},{"$f":"IF(COUNTIF(data!A$6:A$5000,B362)>0,VLOOKUP(B362,data!A$6:M$5000,11,FALSE),\"\")","v":""},{"$f":"IF(COUNTIF(data!A$6:A$5000,B362)>0,VLOOKUP(B362,data!A$6:M$5000,12,FALSE),\"\")","v":""},{"$f":"IF(COUNTIF(data!A$6:A$5000,B362)>0,VLOOKUP(B362,data!A$6:M$5000,13,FALSE),\"\")","v":""},{"$f":"IF(B362>0,SUM(F$10:F362)-SUM(G$10:G362),\"\")","v":""}]
[null,null,{"$f":"IF(COUNTIF(data!A$6:A$5000,B363)>0,VLOOKUP(B363,data!A$6:M$5000,2,FALSE),\"\")","v":""},{"$f":"IF(COUNTIF(data!A$6:A$5000,B363)>0,VLOOKUP(B363,data!A$6:M$5000,4,FALSE),\"\")","v":""},{"$f":"IF(COUNTIF(data!A$6:A$5000,B363)>0,VLOOKUP(B363,data!A$6:M$5000,11,FALSE),\"\")","v":""},{"$f":"IF(COUNTIF(data!A$6:A$5000,B363)>0,VLOOKUP(B363,data!A$6:M$5000,12,FALSE),\"\")","v":""},{"$f":"IF(COUNTIF(data!A$6:A$5000,B363)>0,VLOOKUP(B363,data!A$6:M$5000,13,FALSE),\"\")","v":""},{"$f":"IF(B363>0,SUM(F$10:F363)-SUM(G$10:G363),\"\")","v":""}]
[null,null,{"$f":"IF(COUNTIF(data!A$6:A$5000,B364)>0,VLOOKUP(B364,data!A$6:M$5000,2,FALSE),\"\")","v":""},{"$f":"IF(COUNTIF(data!A$6:A$5000,B364)>0,VLOOKUP(B364,data!A$6:M$5000,4,FALSE),\"\")","v":""},{"$f":"IF(COUNTIF(data!A$6:A$5000,B364)>0,VLOOKUP(B364,data!A$6:M$5000,11,FALSE),\"\")","v":""},{"$f":"IF(COUNTIF(data!A$6:A$5000,B364)>0,VLOOKUP(B364,data!A$6:M$5000,12,FALSE),\"\")","v":""},{"$f":"IF(COUNTIF(data!A$6:A$5000,B364)>0,VLOOKUP(B364,data!A$6:M$5000,13,FALSE),\"\")","v":""},{"$f":"IF(B364>0,SUM(F$10:F364)-SUM(G$10:G364),\"\")","v":""}]
[null,null,{"$f":"IF(COUNTIF(data!A$6:A$5000,B365)>0,VLOOKUP(B365,data!A$6:M$5000,2,FALSE),\"\")","v":""},{"$f":"IF(COUNTIF(data!A$6:A$5000,B365)>0,VLOOKUP(B365,data!A$6:M$5000,4,FALSE),\"\")","v":""},{"$f":"IF(COUNTIF(data!A$6:A$5000,B365)>0,VLOOKUP(B365,data!A$6:M$5000,11,FALSE),\"\")","v":""},{"$f":"IF(COUNTIF(data!A$6:A$5000,B365)>0,VLOOKUP(B365,data!A$6:M$5000,12,FALSE),\"\")","v":""},{"$f":"IF(COUNTIF(data!A$6:A$5000,B365)>0,VLOOKUP(B365,data!A$6:M$5000,13,FALSE),\"\")","v":""},{"$f":"IF(B365>0,SUM(F$10:F365)-SUM(G$10:G365),\"\")","v":""}]
[null,null,{"$f":"IF(COUNTIF(data!A$6:A$5000,B366)>0,VLOOKUP(B366,data!A$6:M$5000,2,FALSE),\"\")","v":""},{"$f":"IF(COUNTIF(data!A$6:A$5000,B366)>0,VLOOKUP(B366,data!A$6:M$5000,4,FALSE),\"\")","v":""},{"$f":"IF(COUNTIF(data!A$6:A$5000,B366)>0,VLOOKUP(B366,data!A$6:M$5000,11,FALSE),\"\")","v":""},{"$f":"IF(COUNTIF(data!A$6:A$5000,B366)>0,VLOOKUP(B366,data!A$6:M$5000,12,FALSE),\"\")","v":""},{"$f":"IF(COUNTIF(data!A$6:A$5000,B366)>0,VLOOKUP(B366,data!A$6:M$5000,13,FALSE),\"\")","v":""},{"$f":"IF(B366>0,SUM(F$10:F366)-SUM(G$10:G366),\"\")","v":""}]
[null,null,{"$f":"IF(COUNTIF(data!A$6:A$5000,B367)>0,VLOOKUP(B367,data!A$6:M$5000,2,FALSE),\"\")","v":""},{"$f":"IF(COUNTIF(data!A$6:A$5000,B367)>0,VLOOKUP(B367,data!A$6:M$5000,4,FALSE),\"\")","v":""},{"$f":"IF(COUNTIF(data!A$6:A$5000,B367)>0,VLOOKUP(B367,data!A$6:M$5000,11,FALSE),\"\")","v":""},{"$f":"IF(COUNTIF(data!A$6:A$5000,B367)>0,VLOOKUP(B367,data!A$6:M$5000,12,FALSE),\"\")","v":""},{"$f":"IF(COUNTIF(data!A$6:A$5000,B367)>0,VLOOKUP(B367,data!A$6:M$5000,13,FALSE),\"\")","v":""},{"$f":"IF(B367>0,SUM(F$10:F367)-SUM(G$10:G367),\"\")","v":""}]
[null,null,{"$f":"IF(COUNTIF(data!A$6:A$5000,B368)>0,VLOOKUP(B368,data!A$6:M$5000,2,FALSE),\"\")","v":""},{"$f":"IF(COUNTIF(data!A$6:A$5000,B368)>0,VLOOKUP(B368,data!A$6:M$5000,4,FALSE),\"\")","v":""},{"$f":"IF(COUNTIF(data!A$6:A$5000,B368)>0,VLOOKUP(B368,data!A$6:M$5000,11,FALSE),\"\")","v":""},{"$f":"IF(COUNTIF(data!A$6:A$5000,B368)>0,VLOOKUP(B368,data!A$6:M$5000,12,FALSE),\"\")","v":""},{"$f":"IF(COUNTIF(data!A$6:A$5000,B368)>0,VLOOKUP(B368,data!A$6:M$5000,13,FALSE),\"\")","v":""},{"$f":"IF(B368>0,SUM(F$10:F368)-SUM(G$10:G368),\"\")","v":""}]
[null,null,{"$f":"IF(COUNTIF(data!A$6:A$5000,B369)>0,VLOOKUP(B369,data!A$6:M$5000,2,FALSE),\"\")","v":""},{"$f":"IF(COUNTIF(data!A$6:A$5000,B369)>0,VLOOKUP(B369,data!A$6:M$5000,4,FALSE),\"\")","v":""},{"$f":"IF(COUNTIF(data!A$6:A$5000,B369)>0,VLOOKUP(B369,data!A$6:M$5000,11,FALSE),\"\")","v":""},{"$f":"IF(COUNTIF(data!A$6:A$5000,B369)>0,VLOOKUP(B369,data!A$6:M$5000,12,FALSE),\"\")","v":""},{"$f":"IF(COUNTIF(data!A$6:A$5000,B369)>0,VLOOKUP(B369,data!A$6:M$5000,13,FALSE),\"\")","v":""},{"$f":"IF(B369>0,SUM(F$10:F369)-SUM(G$10:G369),\"\")","v":""}]
[null,null,{"$f":"IF(COUNTIF(data!A$6:A$5000,B370)>0,VLOOKUP(B370,data!A$6:M$5000,2,FALSE),\"\")","v":""},{"$f":"IF(COUNTIF(data!A$6:A$5000,B370)>0,VLOOKUP(B370,data!A$6:M$5000,4,FALSE),\"\")","v":""},{"$f":"IF(COUNTIF(data!A$6:A$5000,B370)>0,VLOOKUP(B370,data!A$6:M$5000,11,FALSE),\"\")","v":""},{"$f":"IF(COUNTIF(data!A$6:A$5000,B370)>0,VLOOKUP(B370,data!A$6:M$5000,12,FALSE),\"\")","v":""},{"$f":"IF(COUNTIF(data!A$6:A$5000,B370)>0,VLOOKUP(B370,data!A$6:M$5000,13,FALSE),\"\")","v":""},{"$f":"IF(B370>0,SUM(F$10:F370)-SUM(G$10:G370),\"\")","v":""}]
[null,null,{"$f":"IF(COUNTIF(data!A$6:A$5000,B371)>0,VLOOKUP(B371,data!A$6:M$5000,2,FALSE),\"\")","v":""},{"$f":"IF(COUNTIF(data!A$6:A$5000,B371)>0,VLOOKUP(B371,data!A$6:M$5000,4,FALSE),\"\")","v":""},{"$f":"IF(COUNTIF(data!A$6:A$5000,B371)>0,VLOOKUP(B371,data!A$6:M$5000,11,FALSE),\"\")","v":""},{"$f":"IF(COUNTIF(data!A$6:A$5000,B371)>0,VLOOKUP(B371,data!A$6:M$5000,12,FALSE),\"\")","v":""},{"$f":"IF(COUNTIF(data!A$6:A$5000,B371)>0,VLOOKUP(B371,data!A$6:M$5000,13,FALSE),\"\")","v":""},{"$f":"IF(B371>0,SUM(F$10:F371)-SUM(G$10:G371),\"\")","v":""}]
[null,null,{"$f":"IF(COUNTIF(data!A$6:A$5000,B372)>0,VLOOKUP(B372,data!A$6:M$5000,2,FALSE),\"\")","v":""},{"$f":"IF(COUNTIF(data!A$6:A$5000,B372)>0,VLOOKUP(B372,data!A$6:M$5000,4,FALSE),\"\")","v":""},{"$f":"IF(COUNTIF(data!A$6:A$5000,B372)>0,VLOOKUP(B372,data!A$6:M$5000,11,FALSE),\"\")","v":""},{"$f":"IF(COUNTIF(data!A$6:A$5000,B372)>0,VLOOKUP(B372,data!A$6:M$5000,12,FALSE),\"\")","v":""},{"$f":"IF(COUNTIF(data!A$6:A$5000,B372)>0,VLOOKUP(B372,data!A$6:M$5000,13,FALSE),\"\")","v":""},{"$f":"IF(B372>0,SUM(F$10:F372)-SUM(G$10:G372),\"\")","v":""}]
[null,null,{"$f":"IF(COUNTIF(data!A$6:A$5000,B373)>0,VLOOKUP(B373,data!A$6:M$5000,2,FALSE),\"\")","v":""},{"$f":"IF(COUNTIF(data!A$6:A$5000,B373)>0,VLOOKUP(B373,data!A$6:M$5000,4,FALSE),\"\")","v":""},{"$f":"IF(COUNTIF(data!A$6:A$5000,B373)>0,VLOOKUP(B373,data!A$6:M$5000,11,FALSE),\"\")","v":""},{"$f":"IF(COUNTIF(data!A$6:A$5000,B373)>0,VLOOKUP(B373,data!A$6:M$5000,12,FALSE),\"\")","v":""},{"$f":"IF(COUNTIF(data!A$6:A$5000,B373)>0,VLOOKUP(B373,data!A$6:M$5000,13,FALSE),\"\")","v":""},{"$f":"IF(B373>0,SUM(F$10:F373)-SUM(G$10:G373),\"\")","v":""}]
[null,null,{"$f":"IF(COUNTIF(data!A$6:A$5000,B374)>0,VLOOKUP(B374,data!A$6:M$5000,2,FALSE),\"\")","v":""},{"$f":"IF(COUNTIF(data!A$6:A$5000,B374)>0,VLOOKUP(B374,data!A$6:M$5000,4,FALSE),\"\")","v":""},{"$f":"IF(COUNTIF(data!A$6:A$5000,B374)>0,VLOOKUP(B374,data!A$6:M$5000,11,FALSE),\"\")","v":""},{"$f":"IF(COUNTIF(data!A$6:A$5000,B374)>0,VLOOKUP(B374,data!A$6:M$5000,12,FALSE),\"\")","v":""},{"$f":"IF(COUNTIF(data!A$6:A$5000,B374)>0,VLOOKUP(B374,data!A$6:M$5000,13,FALSE),\"\")","v":""},{"$f":"IF(B374>0,SUM(F$10:F374)-SUM(G$10:G374),\"\")","v":""}]
[null,null,{"$f":"IF(COUNTIF(data!A$6:A$5000,B375)>0,VLOOKUP(B375,data!A$6:M$5000,2,FALSE),\"\")","v":""},{"$f":"IF(COUNTIF(data!A$6:A$5000,B375)>0,VLOOKUP(B375,data!A$6:M$5000,4,FALSE),\"\")","v":""},{"$f":"IF(COUNTIF(data!A$6:A$5000,B375)>0,VLOOKUP(B375,data!A$6:M$5000,11,FALSE),\"\")","v":""},{"$f":"IF(COUNTIF(data!A$6:A$5000,B375)>0,VLOOKUP(B375,data!A$6:M$5000,12,FALSE),\"\")","v":""},{"$f":"IF(COUNTIF(data!A$6:A$5000,B375)>0,VLOOKUP(B375,data!A$6:M$5000,13,FALSE),\"\")","v":""},{"$f":"IF(B375>0,SUM(F$10:F375)-SUM(G$10:G375),\"\")","v":""}]
[null,null,{"$f":"IF(COUNTIF(data!A$6:A$5000,B376)>0,VLOOKUP(B376,data!A$6:M$5000,2,FALSE),\"\")","v":""},{"$f":"IF(COUNTIF(data!A$6:A$5000,B376)>0,VLOOKUP(B376,data!A$6:M$5000,4,FALSE),\"\")","v":""},{"$f":"IF(COUNTIF(data!A$6:A$5000,B376)>0,VLOOKUP(B376,data!A$6:M$5000,11,FALSE),\"\")","v":""},{"$f":"IF(COUNTIF(data!A$6:A$5000,B376)>0,VLOOKUP(B376,data!A$6:M$5000,12,FALSE),\"\")","v":""},{"$f":"IF(COUNTIF(data!A$6:A$5000,B376)>0,VLOOKUP(B376,data!A$6:M$5000,13,FALSE),\"\")","v":""},{"$f":"IF(B376>0,SUM(F$10:F376)-SUM(G$10:G376),\"\")","v":""}]
[null,null,{"$f":"IF(COUNTIF(data!A$6:A$5000,B377)>0,VLOOKUP(B377,data!A$6:M$5000,2,FALSE),\"\")","v":""},{"$f":"IF(COUNTIF(data!A$6:A$5000,B377)>0,VLOOKUP(B377,data!A$6:M$5000,4,FALSE),\"\")","v":""},{"$f":"IF(COUNTIF(data!A$6:A$5000,B377)>0,VLOOKUP(B377,data!A$6:M$5000,11,FALSE),\"\")","v":""},{"$f":"IF(COUNTIF(data!A$6:A$5000,B377)>0,VLOOKUP(B377,data!A$6:M$5000,12,FALSE),\"\")","v":""},{"$f":"IF(COUNTIF(data!A$6:A$5000,B377)>0,VLOOKUP(B377,data!A$6:M$5000,13,FALSE),\"\")","v":""},{"$f":"IF(B377>0,SUM(F$10:F377)-SUM(G$10:G377),\"\")","v":""}]
[null,null,{"$f":"IF(COUNTIF(data!A$6:A$5000,B378)>0,VLOOKUP(B378,data!A$6:M$5000,2,FALSE),\"\")","v":""},{"$f":"IF(COUNTIF(data!A$6:A$5000,B378)>0,VLOOKUP(B378,data!A$6:M$5000,4,FALSE),\"\")","v":""},{"$f":"IF(COUNTIF(data!A$6:A$5000,B378)>0,VLOOKUP(B378,data!A$6:M$5000,11,FALSE),\"\")","v":""},{"$f":"IF(COUNTIF(data!A$6:A$5000,B378)>0,VLOOKUP(B378,data!A$6:M$5000,12,FALSE),\"\")","v":""},{"$f":"IF(COUNTIF(data!A$6:A$5000,B378)>0,VLOOKUP(B378,data!A$6:M$5000,13,FALSE),\"\")","v":""},{"$f":"IF(B378>0,SUM(F$10:F378)-SUM(G$10:G378),\"\")","v":""}]
[null,null,{"$f":"IF(COUNTIF(data!A$6:A$5000,B379)>0,VLOOKUP(B379,data!A$6:M$5000,2,FALSE),\"\")","v":""},{"$f":"IF(COUNTIF(data!A$6:A$5000,B379)>0,VLOOKUP(B379,data!A$6:M$5000,4,FALSE),\"\")","v":""},{"$f":"IF(COUNTIF(data!A$6:A$5000,B379)>0,VLOOKUP(B379,data!A$6:M$5000,11,FALSE),\"\")","v":""},{"$f":"IF(COUNTIF(data!A$6:A$5000,B379)>0,VLOOKUP(B379,data!A$6:M$5000,12,FALSE),\"\")","v":""},{"$f":"IF(COUNTIF(data!A$6:A$5000,B379)>0,VLOOKUP(B379,data!A$6:M$5000,13,FALSE),\"\")","v":""},{"$f":"IF(B379>0,SUM(F$10:F379)-SUM(G$10:G379),\"\")","v":""}]
[null,null,{"$f":"IF(COUNTIF(data!A$6:A$5000,B380)>0,VLOOKUP(B380,data!A$6:M$5000,2,FALSE),\"\")","v":""},{"$f":"IF(COUNTIF(data!A$6:A$5000,B380)>0,VLOOKUP(B380,data!A$6:M$5000,4,FALSE),\"\")","v":""},{"$f":"IF(COUNTIF(data!A$6:A$5000,B380)>0,VLOOKUP(B380,data!A$6:M$5000,11,FALSE),\"\")","v":""},{"$f":"IF(COUNTIF(data!A$6:A$5000,B380)>0,VLOOKUP(B380,data!A$6:M$5000,12,FALSE),\"\")","v":""},{"$f":"IF(COUNTIF(data!A$6:A$5000,B380)>0,VLOOKUP(B380,data!A$6:M$5000,13,FALSE),\"\")","v":""},{"$f":"IF(B380>0,SUM(F$10:F380)-SUM(G$10:G380),\"\")","v":""}]
[null,null,{"$f":"IF(COUNTIF(data!A$6:A$5000,B381)>0,VLOOKUP(B381,data!A$6:M$5000,2,FALSE),\"\")","v":""},{"$f":"IF(COUNTIF(data!A$6:A$5000,B381)>0,VLOOKUP(B381,data!A$6:M$5000,4,FALSE),\"\")","v":""},{"$f":"IF(COUNTIF(data!A$6:A$5000,B381)>0,VLOOKUP(B381,data!A$6:M$5000,11,FALSE),\"\")","v":""},{"$f":"IF(COUNTIF(data!A$6:A$5000,B381)>0,VLOOKUP(B381,data!A$6:M$5000,12,FALSE),\"\")","v":""},{"$f":"IF(COUNTIF(data!A$6:A$5000,B381)>0,VLOOKUP(B381,data!A$6:M$5000,13,FALSE),\"\")","v":""},{"$f":"IF(B381>0,SUM(F$10:F381)-SUM(G$10:G381),\"\")","v":""}]
[null,null,{"$f":"IF(COUNTIF(data!A$6:A$5000,B382)>0,VLOOKUP(B382,data!A$6:M$5000,2,FALSE),\"\")","v":""},{"$f":"IF(COUNTIF(data!A$6:A$5000,B382)>0,VLOOKUP(B382,data!A$6:M$5000,4,FALSE),\"\")","v":""},{"$f":"IF(COUNTIF(data!A$6:A$5000,B382)>0,VLOOKUP(B382,data!A$6:M$5000,11,FALSE),\"\")","v":""},{"$f":"IF(COUNTIF(data!A$6:A$5000,B382)>0,VLOOKUP(B382,data!A$6:M$5000,12,FALSE),\"\")","v":""},{"$f":"IF(COUNTIF(data!A$6:A$5000,B382)>0,VLOOKUP(B382,data!A$6:M$5000,13,FALSE),\"\")","v":""},{"$f":"IF(B382>0,SUM(F$10:F382)-SUM(G$10:G382),\"\")","v":""}]
[null,null,{"$f":"IF(COUNTIF(data!A$6:A$5000,B383)>0,VLOOKUP(B383,data!A$6:M$5000,2,FALSE),\"\")","v":""},{"$f":"IF(COUNTIF(data!A$6:A$5000,B383)>0,VLOOKUP(B383,data!A$6:M$5000,4,FALSE),\"\")","v":""},{"$f":"IF(COUNTIF(data!A$6:A$5000,B383)>0,VLOOKUP(B383,data!A$6:M$5000,11,FALSE),\"\")","v":""},{"$f":"IF(COUNTIF(data!A$6:A$5000,B383)>0,VLOOKUP(B383,data!A$6:M$5000,12,FALSE),\"\")","v":""},{"$f":"IF(COUNTIF(data!A$6:A$5000,B383)>0,VLOOKUP(B383,data!A$6:M$5000,13,FALSE),\"\")","v":""},{"$f":"IF(B383>0,SUM(F$10:F383)-SUM(G$10:G383),\"\")","v":""}]
[null,null,{"$f":"IF(COUNTIF(data!A$6:A$5000,B384)>0,VLOOKUP(B384,data!A$6:M$5000,2,FALSE),\"\")","v":""},{"$f":"IF(COUNTIF(data!A$6:A$5000,B384)>0,VLOOKUP(B384,data!A$6:M$5000,4,FALSE),\"\")","v":""},{"$f":"IF(COUNTIF(data!A$6:A$5000,B384)>0,VLOOKUP(B384,data!A$6:M$5000,11,FALSE),\"\")","v":""},{"$f":"IF(COUNTIF(data!A$6:A$5000,B384)>0,VLOOKUP(B384,data!A$6:M$5000,12,FALSE),\"\")","v":""},{"$f":"IF(COUNTIF(data!A$6:A$5000,B384)>0,VLOOKUP(B384,data!A$6:M$5000,13,FALSE),\"\")","v":""},{"$f":"IF(B384>0,SUM(F$10:F384)-SUM(G$10:G384),\"\")","v":""}]
[null,null,{"$f":"IF(COUNTIF(data!A$6:A$5000,B385)>0,VLOOKUP(B385,data!A$6:M$5000,2,FALSE),\"\")","v":""},{"$f":"IF(COUNTIF(data!A$6:A$5000,B385)>0,VLOOKUP(B385,data!A$6:M$5000,4,FALSE),\"\")","v":""},{"$f":"IF(COUNTIF(data!A$6:A$5000,B385)>0,VLOOKUP(B385,data!A$6:M$5000,11,FALSE),\"\")","v":""},{"$f":"IF(COUNTIF(data!A$6:A$5000,B385)>0,VLOOKUP(B385,data!A$6:M$5000,12,FALSE),\"\")","v":""},{"$f":"IF(COUNTIF(data!A$6:A$5000,B385)>0,VLOOKUP(B385,data!A$6:M$5000,13,FALSE),\"\")","v":""},{"$f":"IF(B385>0,SUM(F$10:F385)-SUM(G$10:G385),\"\")","v":""}]
[null,null,{"$f":"IF(COUNTIF(data!A$6:A$5000,B386)>0,VLOOKUP(B386,data!A$6:M$5000,2,FALSE),\"\")","v":""},{"$f":"IF(COUNTIF(data!A$6:A$5000,B386)>0,VLOOKUP(B386,data!A$6:M$5000,4,FALSE),\"\")","v":""},{"$f":"IF(COUNTIF(data!A$6:A$5000,B386)>0,VLOOKUP(B386,data!A$6:M$5000,11,FALSE),\"\")","v":""},{"$f":"IF(COUNTIF(data!A$6:A$5000,B386)>0,VLOOKUP(B386,data!A$6:M$5000,12,FALSE),\"\")","v":""},{"$f":"IF(COUNTIF(data!A$6:A$5000,B386)>0,VLOOKUP(B386,data!A$6:M$5000,13,FALSE),\"\")","v":""},{"$f":"IF(B386>0,SUM(F$10:F386)-SUM(G$10:G386),\"\")","v":""}]
[null,null,{"$f":"IF(COUNTIF(data!A$6:A$5000,B387)>0,VLOOKUP(B387,data!A$6:M$5000,2,FALSE),\"\")","v":""},{"$f":"IF(COUNTIF(data!A$6:A$5000,B387)>0,VLOOKUP(B387,data!A$6:M$5000,4,FALSE),\"\")","v":""},{"$f":"IF(COUNTIF(data!A$6:A$5000,B387)>0,VLOOKUP(B387,data!A$6:M$5000,11,FALSE),\"\")","v":""},{"$f":"IF(COUNTIF(data!A$6:A$5000,B387)>0,VLOOKUP(B387,data!A$6:M$5000,12,FALSE),\"\")","v":""},{"$f":"IF(COUNTIF(data!A$6:A$5000,B387)>0,VLOOKUP(B387,data!A$6:M$5000,13,FALSE),\"\")","v":""},{"$f":"IF(B387>0,SUM(F$10:F387)-SUM(G$10:G387),\"\")","v":""}]
[null,null,{"$f":"IF(COUNTIF(data!A$6:A$5000,B388)>0,VLOOKUP(B388,data!A$6:M$5000,2,FALSE),\"\")","v":""},{"$f":"IF(COUNTIF(data!A$6:A$5000,B388)>0,VLOOKUP(B388,data!A$6:M$5000,4,FALSE),\"\")","v":""},{"$f":"IF(COUNTIF(data!A$6:A$5000,B388)>0,VLOOKUP(B388,data!A$6:M$5000,11,FALSE),\"\")","v":""},{"$f":"IF(COUNTIF(data!A$6:A$5000,B388)>0,VLOOKUP(B388,data!A$6:M$5000,12,FALSE),\"\")","v":""},{"$f":"IF(COUNTIF(data!A$6:A$5000,B388)>0,VLOOKUP(B388,data!A$6:M$5000,13,FALSE),\"\")","v":""},{"$f":"IF(B388>0,SUM(F$10:F388)-SUM(G$10:G388),\"\")","v":""}]
[null,null,{"$f":"IF(COUNTIF(data!A$6:A$5000,B389)>0,VLOOKUP(B389,data!A$6:M$5000,2,FALSE),\"\")","v":""},{"$f":"IF(COUNTIF(data!A$6:A$5000,B389)>0,VLOOKUP(B389,data!A$6:M$5000,4,FALSE),\"\")","v":""},{"$f":"IF(COUNTIF(data!A$6:A$5000,B389)>0,VLOOKUP(B389,data!A$6:M$5000,11,FALSE),\"\")","v":""},{"$f":"IF(COUNTIF(data!A$6:A$5000,B389)>0,VLOOKUP(B389,data!A$6:M$5000,12,FALSE),\"\")","v":""},{"$f":"IF(COUNTIF(data!A$6:A$5000,B389)>0,VLOOKUP(B389,data!A$6:M$5000,13,FALSE),\"\")","v":""},{"$f":"IF(B389>0,SUM(F$10:F389)-SUM(G$10:G389),\"\")","v":""}]
[null,null,{"$f":"IF(COUNTIF(data!A$6:A$5000,B390)>0,VLOOKUP(B390,data!A$6:M$5000,2,FALSE),\"\")","v":""},{"$f":"IF(COUNTIF(data!A$6:A$5000,B390)>0,VLOOKUP(B390,data!A$6:M$5000,4,FALSE),\"\")","v":""},{"$f":"IF(COUNTIF(data!A$6:A$5000,B390)>0,VLOOKUP(B390,data!A$6:M$5000,11,FALSE),\"\")","v":""},{"$f":"IF(COUNTIF(data!A$6:A$5000,B390)>0,VLOOKUP(B390,data!A$6:M$5000,12,FALSE),\"\")","v":""},{"$f":"IF(COUNTIF(data!A$6:A$5000,B390)>0,VLOOKUP(B390,data!A$6:M$5000,13,FALSE),\"\")","v":""},{"$f":"IF(B390>0,SUM(F$10:F390)-SUM(G$10:G390),\"\")","v":""}]
[null,null,{"$f":"IF(COUNTIF(data!A$6:A$5000,B391)>0,VLOOKUP(B391,data!A$6:M$5000,2,FALSE),\"\")","v":""},{"$f":"IF(COUNTIF(data!A$6:A$5000,B391)>0,VLOOKUP(B391,data!A$6:M$5000,4,FALSE),\"\")","v":""},{"$f":"IF(COUNTIF(data!A$6:A$5000,B391)>0,VLOOKUP(B391,data!A$6:M$5000,11,FALSE),\"\")","v":""},{"$f":"IF(COUNTIF(data!A$6:A$5000,B391)>0,VLOOKUP(B391,data!A$6:M$5000,12,FALSE),\"\")","v":""},{"$f":"IF(COUNTIF(data!A$6:A$5000,B391)>0,VLOOKUP(B391,data!A$6:M$5000,13,FALSE),\"\")","v":""},{"$f":"IF(B391>0,SUM(F$10:F391)-SUM(G$10:G391),\"\")","v":""}]
[null,null,{"$f":"IF(COUNTIF(data!A$6:A$5000,B392)>0,VLOOKUP(B392,data!A$6:M$5000,2,FALSE),\"\")","v":""},{"$f":"IF(COUNTIF(data!A$6:A$5000,B392)>0,VLOOKUP(B392,data!A$6:M$5000,4,FALSE),\"\")","v":""},{"$f":"IF(COUNTIF(data!A$6:A$5000,B392)>0,VLOOKUP(B392,data!A$6:M$5000,11,FALSE),\"\")","v":""},{"$f":"IF(COUNTIF(data!A$6:A$5000,B392)>0,VLOOKUP(B392,data!A$6:M$5000,12,FALSE),\"\")","v":""},{"$f":"IF(COUNTIF(data!A$6:A$5000,B392)>0,VLOOKUP(B392,data!A$6:M$5000,13,FALSE),\"\")","v":""},{"$f":"IF(B392>0,SUM(F$10:F392)-SUM(G$10:G392),\"\")","v":""}]
[null,null,{"$f":"IF(COUNTIF(data!A$6:A$5000,B393)>0,VLOOKUP(B393,data!A$6:M$5000,2,FALSE),\"\")","v":""},{"$f":"IF(COUNTIF(data!A$6:A$5000,B393)>0,VLOOKUP(B393,data!A$6:M$5000,4,FALSE),\"\")","v":""},{"$f":"IF(COUNTIF(data!A$6:A$5000,B393)>0,VLOOKUP(B393,data!A$6:M$5000,11,FALSE),\"\")","v":""},{"$f":"IF(COUNTIF(data!A$6:A$5000,B393)>0,VLOOKUP(B393,data!A$6:M$5000,12,FALSE),\"\")","v":""},{"$f":"IF(COUNTIF(data!A$6:A$5000,B393)>0,VLOOKUP(B393,data!A$6:M$5000,13,FALSE),\"\")","v":""},{"$f":"IF(B393>0,SUM(F$10:F393)-SUM(G$10:G393),\"\")","v":""}]
[null,null,{"$f":"IF(COUNTIF(data!A$6:A$5000,B394)>0,VLOOKUP(B394,data!A$6:M$5000,2,FALSE),\"\")","v":""},{"$f":"IF(COUNTIF(data!A$6:A$5000,B394)>0,VLOOKUP(B394,data!A$6:M$5000,4,FALSE),\"\")","v":""},{"$f":"IF(COUNTIF(data!A$6:A$5000,B394)>0,VLOOKUP(B394,data!A$6:M$5000,11,FALSE),\"\")","v":""},{"$f":"IF(COUNTIF(data!A$6:A$5000,B394)>0,VLOOKUP(B394,data!A$6:M$5000,12,FALSE),\"\")","v":""},{"$f":"IF(COUNTIF(data!A$6:A$5000,B394)>0,VLOOKUP(B394,data!A$6:M$5000,13,FALSE),\"\")","v":""},{"$f":"IF(B394>0,SUM(F$10:F394)-SUM(G$10:G394),\"\")","v":""}]
[null,null,{"$f":"IF(COUNTIF(data!A$6:A$5000,B395)>0,VLOOKUP(B395,data!A$6:M$5000,2,FALSE),\"\")","v":""},{"$f":"IF(COUNTIF(data!A$6:A$5000,B395)>0,VLOOKUP(B395,data!A$6:M$5000,4,FALSE),\"\")","v":""},{"$f":"IF(COUNTIF(data!A$6:A$5000,B395)>0,VLOOKUP(B395,data!A$6:M$5000,11,FALSE),\"\")","v":""},{"$f":"IF(COUNTIF(data!A$6:A$5000,B395)>0,VLOOKUP(B395,data!A$6:M$5000,12,FALSE),\"\")","v":""},{"$f":"IF(COUNTIF(data!A$6:A$5000,B395)>0,VLOOKUP(B395,data!A$6:M$5000,13,FALSE),\"\")","v":""},{"$f":"IF(B395>0,SUM(F$10:F395)-SUM(G$10:G395),\"\")","v":""}]
[null,null,{"$f":"IF(COUNTIF(data!A$6:A$5000,B396)>0,VLOOKUP(B396,data!A$6:M$5000,2,FALSE),\"\")","v":""},{"$f":"IF(COUNTIF(data!A$6:A$5000,B396)>0,VLOOKUP(B396,data!A$6:M$5000,4,FALSE),\"\")","v":""},{"$f":"IF(COUNTIF(data!A$6:A$5000,B396)>0,VLOOKUP(B396,data!A$6:M$5000,11,FALSE),\"\")","v":""},{"$f":"IF(COUNTIF(data!A$6:A$5000,B396)>0,VLOOKUP(B396,data!A$6:M$5000,12,FALSE),\"\")","v":""},{"$f":"IF(COUNTIF(data!A$6:A$5000,B396)>0,VLOOKUP(B396,data!A$6:M$5000,13,FALSE),\"\")","v":""},{"$f":"IF(B396>0,SUM(F$10:F396)-SUM(G$10:G396),\"\")","v":""}]
[null,null,{"$f":"IF(COUNTIF(data!A$6:A$5000,B397)>0,VLOOKUP(B397,data!A$6:M$5000,2,FALSE),\"\")","v":""},{"$f":"IF(COUNTIF(data!A$6:A$5000,B397)>0,VLOOKUP(B397,data!A$6:M$5000,4,FALSE),\"\")","v":""},{"$f":"IF(COUNTIF(data!A$6:A$5000,B397)>0,VLOOKUP(B397,data!A$6:M$5000,11,FALSE),\"\")","v":""},{"$f":"IF(COUNTIF(data!A$6:A$5000,B397)>0,VLOOKUP(B397,data!A$6:M$5000,12,FALSE),\"\")","v":""},{"$f":"IF(COUNTIF(data!A$6:A$5000,B397)>0,VLOOKUP(B397,data!A$6:M$5000,13,FALSE),\"\")","v":""},{"$f":"IF(B397>0,SUM(F$10:F397)-SUM(G$10:G397),\"\")","v":""}]
[null,null,{"$f":"IF(COUNTIF(data!A$6:A$5000,B398)>0,VLOOKUP(B398,data!A$6:M$5000,2,FALSE),\"\")","v":""},{"$f":"IF(COUNTIF(data!A$6:A$5000,B398)>0,VLOOKUP(B398,data!A$6:M$5000,4,FALSE),\"\")","v":""},{"$f":"IF(COUNTIF(data!A$6:A$5000,B398)>0,VLOOKUP(B398,data!A$6:M$5000,11,FALSE),\"\")","v":""},{"$f":"IF(COUNTIF(data!A$6:A$5000,B398)>0,VLOOKUP(B398,data!A$6:M$5000,12,FALSE),\"\")","v":""},{"$f":"IF(COUNTIF(data!A$6:A$5000,B398)>0,VLOOKUP(B398,data!A$6:M$5000,13,FALSE),\"\")","v":""},{"$f":"IF(B398>0,SUM(F$10:F398)-SUM(G$10:G398),\"\")","v":""}]
[null,null,{"$f":"IF(COUNTIF(data!A$6:A$5000,B399)>0,VLOOKUP(B399,data!A$6:M$5000,2,FALSE),\"\")","v":""},{"$f":"IF(COUNTIF(data!A$6:A$5000,B399)>0,VLOOKUP(B399,data!A$6:M$5000,4,FALSE),\"\")","v":""},{"$f":"IF(COUNTIF(data!A$6:A$5000,B399)>0,VLOOKUP(B399,data!A$6:M$5000,11,FALSE),\"\")","v":""},{"$f":"IF(COUNTIF(data!A$6:A$5000,B399)>0,VLOOKUP(B399,data!A$6:M$5000,12,FALSE),\"\")","v":""},{"$f":"IF(COUNTIF(data!A$6:A$5000,B399)>0,VLOOKUP(B399,data!A$6:M$5000,13,FALSE),\"\")","v":""},{"$f":"IF(B399>0,SUM(F$10:F399)-SUM(G$10:G399),\"\")","v":""}]
[null,null,{"$f":"IF(COUNTIF(data!A$6:A$5000,B400)>0,VLOOKUP(B400,data!A$6:M$5000,2,FALSE),\"\")","v":""},{"$f":"IF(COUNTIF(data!A$6:A$5000,B400)>0,VLOOKUP(B400,data!A$6:M$5000,4,FALSE),\"\")","v":""},{"$f":"IF(COUNTIF(data!A$6:A$5000,B400)>0,VLOOKUP(B400,data!A$6:M$5000,11,FALSE),\"\")","v":""},{"$f":"IF(COUNTIF(data!A$6:A$5000,B400)>0,VLOOKUP(B400,data!A$6:M$5000,12,FALSE),\"\")","v":""},{"$f":"IF(COUNTIF(data!A$6:A$5000,B400)>0,VLOOKUP(B400,data!A$6:M$5000,13,FALSE),\"\")","v":""},{"$f":"IF(B400>0,SUM(F$10:F400)-SUM(G$10:G400),\"\")","v":""}]
[null,null,{"$f":"IF(COUNTIF(data!A$6:A$5000,B401)>0,VLOOKUP(B401,data!A$6:M$5000,2,FALSE),\"\")","v":""},{"$f":"IF(COUNTIF(data!A$6:A$5000,B401)>0,VLOOKUP(B401,data!A$6:M$5000,4,FALSE),\"\")","v":""},{"$f":"IF(COUNTIF(data!A$6:A$5000,B401)>0,VLOOKUP(B401,data!A$6:M$5000,11,FALSE),\"\")","v":""},{"$f":"IF(COUNTIF(data!A$6:A$5000,B401)>0,VLOOKUP(B401,data!A$6:M$5000,12,FALSE),\"\")","v":""},{"$f":"IF(COUNTIF(data!A$6:A$5000,B401)>0,VLOOKUP(B401,data!A$6:M$5000,13,FALSE),\"\")","v":""},{"$f":"IF(B401>0,SUM(F$10:F401)-SUM(G$10:G401),\"\")","v":""}]
[null,null,{"$f":"IF(COUNTIF(data!A$6:A$5000,B402)>0,VLOOKUP(B402,data!A$6:M$5000,2,FALSE),\"\")","v":""},{"$f":"IF(COUNTIF(data!A$6:A$5000,B402)>0,VLOOKUP(B402,data!A$6:M$5000,4,FALSE),\"\")","v":""},{"$f":"IF(COUNTIF(data!A$6:A$5000,B402)>0,VLOOKUP(B402,data!A$6:M$5000,11,FALSE),\"\")","v":""},{"$f":"IF(COUNTIF(data!A$6:A$5000,B402)>0,VLOOKUP(B402,data!A$6:M$5000,12,FALSE),\"\")","v":""},{"$f":"IF(COUNTIF(data!A$6:A$5000,B402)>0,VLOOKUP(B402,data!A$6:M$5000,13,FALSE),\"\")","v":""},{"$f":"IF(B402>0,SUM(F$10:F402)-SUM(G$10:G402),\"\")","v":""}]
[null,null,{"$f":"IF(COUNTIF(data!A$6:A$5000,B403)>0,VLOOKUP(B403,data!A$6:M$5000,2,FALSE),\"\")","v":""},{"$f":"IF(COUNTIF(data!A$6:A$5000,B403)>0,VLOOKUP(B403,data!A$6:M$5000,4,FALSE),\"\")","v":""},{"$f":"IF(COUNTIF(data!A$6:A$5000,B403)>0,VLOOKUP(B403,data!A$6:M$5000,11,FALSE),\"\")","v":""},{"$f":"IF(COUNTIF(data!A$6:A$5000,B403)>0,VLOOKUP(B403,data!A$6:M$5000,12,FALSE),\"\")","v":""},{"$f":"IF(COUNTIF(data!A$6:A$5000,B403)>0,VLOOKUP(B403,data!A$6:M$5000,13,FALSE),\"\")","v":""},{"$f":"IF(B403>0,SUM(F$10:F403)-SUM(G$10:G403),\"\")","v":""}]
[null,null,{"$f":"IF(COUNTIF(data!A$6:A$5000,B404)>0,VLOOKUP(B404,data!A$6:M$5000,2,FALSE),\"\")","v":""},{"$f":"IF(COUNTIF(data!A$6:A$5000,B404)>0,VLOOKUP(B404,data!A$6:M$5000,4,FALSE),\"\")","v":""},{"$f":"IF(COUNTIF(data!A$6:A$5000,B404)>0,VLOOKUP(B404,data!A$6:M$5000,11,FALSE),\"\")","v":""},{"$f":"IF(COUNTIF(data!A$6:A$5000,B404)>0,VLOOKUP(B404,data!A$6:M$5000,12,FALSE),\"\")","v":""},{"$f":"IF(COUNTIF(data!A$6:A$5000,B404)>0,VLOOKUP(B404,data!A$6:M$5000,13,FALSE),\"\")","v":""},{"$f":"IF(B404>0,SUM(F$10:F404)-SUM(G$10:G404),\"\")","v":""}]
[null,null,{"$f":"IF(COUNTIF(data!A$6:A$5000,B405)>0,VLOOKUP(B405,data!A$6:M$5000,2,FALSE),\"\")","v":""},{"$f":"IF(COUNTIF(data!A$6:A$5000,B405)>0,VLOOKUP(B405,data!A$6:M$5000,4,FALSE),\"\")","v":""},{"$f":"IF(COUNTIF(data!A$6:A$5000,B405)>0,VLOOKUP(B405,data!A$6:M$5000,11,FALSE),\"\")","v":""},{"$f":"IF(COUNTIF(data!A$6:A$5000,B405)>0,VLOOKUP(B405,data!A$6:M$5000,12,FALSE),\"\")","v":""},{"$f":"IF(COUNTIF(data!A$6:A$5000,B405)>0,VLOOKUP(B405,data!A$6:M$5000,13,FALSE),\"\")","v":""},{"$f":"IF(B405>0,SUM(F$10:F405)-SUM(G$10:G405),\"\")","v":""}]
[null,null,{"$f":"IF(COUNTIF(data!A$6:A$5000,B406)>0,VLOOKUP(B406,data!A$6:M$5000,2,FALSE),\"\")","v":""},{"$f":"IF(COUNTIF(data!A$6:A$5000,B406)>0,VLOOKUP(B406,data!A$6:M$5000,4,FALSE),\"\")","v":""},{"$f":"IF(COUNTIF(data!A$6:A$5000,B406)>0,VLOOKUP(B406,data!A$6:M$5000,11,FALSE),\"\")","v":""},{"$f":"IF(COUNTIF(data!A$6:A$5000,B406)>0,VLOOKUP(B406,data!A$6:M$5000,12,FALSE),\"\")","v":""},{"$f":"IF(COUNTIF(data!A$6:A$5000,B406)>0,VLOOKUP(B406,data!A$6:M$5000,13,FALSE),\"\")","v":""},{"$f":"IF(B406>0,SUM(F$10:F406)-SUM(G$10:G406),\"\")","v":""}]
[null,null,{"$f":"IF(COUNTIF(data!A$6:A$5000,B407)>0,VLOOKUP(B407,data!A$6:M$5000,2,FALSE),\"\")","v":""},{"$f":"IF(COUNTIF(data!A$6:A$5000,B407)>0,VLOOKUP(B407,data!A$6:M$5000,4,FALSE),\"\")","v":""},{"$f":"IF(COUNTIF(data!A$6:A$5000,B407)>0,VLOOKUP(B407,data!A$6:M$5000,11,FALSE),\"\")","v":""},{"$f":"IF(COUNTIF(data!A$6:A$5000,B407)>0,VLOOKUP(B407,data!A$6:M$5000,12,FALSE),\"\")","v":""},{"$f":"IF(COUNTIF(data!A$6:A$5000,B407)>0,VLOOKUP(B407,data!A$6:M$5000,13,FALSE),\"\")","v":""},{"$f":"IF(B407>0,SUM(F$10:F407)-SUM(G$10:G407),\"\")","v":""}]
[null,null,{"$f":"IF(COUNTIF(data!A$6:A$5000,B408)>0,VLOOKUP(B408,data!A$6:M$5000,2,FALSE),\"\")","v":""},{"$f":"IF(COUNTIF(data!A$6:A$5000,B408)>0,VLOOKUP(B408,data!A$6:M$5000,4,FALSE),\"\")","v":""},{"$f":"IF(COUNTIF(data!A$6:A$5000,B408)>0,VLOOKUP(B408,data!A$6:M$5000,11,FALSE),\"\")","v":""},{"$f":"IF(COUNTIF(data!A$6:A$5000,B408)>0,VLOOKUP(B408,data!A$6:M$5000,12,FALSE),\"\")","v":""},{"$f":"IF(COUNTIF(data!A$6:A$5000,B408)>0,VLOOKUP(B408,data!A$6:M$5000,13,FALSE),\"\")","v":""},{"$f":"IF(B408>0,SUM(F$10:F408)-SUM(G$10:G408),\"\")","v":""}]
[null,null,{"$f":"IF(COUNTIF(data!A$6:A$5000,B409)>0,VLOOKUP(B409,data!A$6:M$5000,2,FALSE),\"\")","v":""},{"$f":"IF(COUNTIF(data!A$6:A$5000,B409)>0,VLOOKUP(B409,data!A$6:M$5000,4,FALSE),\"\")","v":""},{"$f":"IF(COUNTIF(data!A$6:A$5000,B409)>0,VLOOKUP(B409,data!A$6:M$5000,11,FALSE),\"\")","v":""},{"$f":"IF(COUNTIF(data!A$6:A$5000,B409)>0,VLOOKUP(B409,data!A$6:M$5000,12,FALSE),\"\")","v":""},{"$f":"IF(COUNTIF(data!A$6:A$5000,B409)>0,VLOOKUP(B409,data!A$6:M$5000,13,FALSE),\"\")","v":""},{"$f":"IF(B409>0,SUM(F$10:F409)-SUM(G$10:G409),\"\")","v":""}]
[null,null,{"$f":"IF(COUNTIF(data!A$6:A$5000,B410)>0,VLOOKUP(B410,data!A$6:M$5000,2,FALSE),\"\")","v":""},{"$f":"IF(COUNTIF(data!A$6:A$5000,B410)>0,VLOOKUP(B410,data!A$6:M$5000,4,FALSE),\"\")","v":""},{"$f":"IF(COUNTIF(data!A$6:A$5000,B410)>0,VLOOKUP(B410,data!A$6:M$5000,11,FALSE),\"\")","v":""},{"$f":"IF(COUNTIF(data!A$6:A$5000,B410)>0,VLOOKUP(B410,data!A$6:M$5000,12,FALSE),\"\")","v":""},{"$f":"IF(COUNTIF(data!A$6:A$5000,B410)>0,VLOOKUP(B410,data!A$6:M$5000,13,FALSE),\"\")","v":""},{"$f":"IF(B410>0,SUM(F$10:F410)-SUM(G$10:G410),\"\")","v":""}]
[null,null,{"$f":"IF(COUNTIF(data!A$6:A$5000,B411)>0,VLOOKUP(B411,data!A$6:M$5000,2,FALSE),\"\")","v":""},{"$f":"IF(COUNTIF(data!A$6:A$5000,B411)>0,VLOOKUP(B411,data!A$6:M$5000,4,FALSE),\"\")","v":""},{"$f":"IF(COUNTIF(data!A$6:A$5000,B411)>0,VLOOKUP(B411,data!A$6:M$5000,11,FALSE),\"\")","v":""},{"$f":"IF(COUNTIF(data!A$6:A$5000,B411)>0,VLOOKUP(B411,data!A$6:M$5000,12,FALSE),\"\")","v":""},{"$f":"IF(COUNTIF(data!A$6:A$5000,B411)>0,VLOOKUP(B411,data!A$6:M$5000,13,FALSE),\"\")","v":""},{"$f":"IF(B411>0,SUM(F$10:F411)-SUM(G$10:G411),\"\")","v":""}]
[null,null,{"$f":"IF(COUNTIF(data!A$6:A$5000,B412)>0,VLOOKUP(B412,data!A$6:M$5000,2,FALSE),\"\")","v":""},{"$f":"IF(COUNTIF(data!A$6:A$5000,B412)>0,VLOOKUP(B412,data!A$6:M$5000,4,FALSE),\"\")","v":""},{"$f":"IF(COUNTIF(data!A$6:A$5000,B412)>0,VLOOKUP(B412,data!A$6:M$5000,11,FALSE),\"\")","v":""},{"$f":"IF(COUNTIF(data!A$6:A$5000,B412)>0,VLOOKUP(B412,data!A$6:M$5000,12,FALSE),\"\")","v":""},{"$f":"IF(COUNTIF(data!A$6:A$5000,B412)>0,VLOOKUP(B412,data!A$6:M$5000,13,FALSE),\"\")","v":""},{"$f":"IF(B412>0,SUM(F$10:F412)-SUM(G$10:G412),\"\")","v":""}]
[null,null,{"$f":"IF(COUNTIF(data!A$6:A$5000,B413)>0,VLOOKUP(B413,data!A$6:M$5000,2,FALSE),\"\")","v":""},{"$f":"IF(COUNTIF(data!A$6:A$5000,B413)>0,VLOOKUP(B413,data!A$6:M$5000,4,FALSE),\"\")","v":""},{"$f":"IF(COUNTIF(data!A$6:A$5000,B413)>0,VLOOKUP(B413,data!A$6:M$5000,11,FALSE),\"\")","v":""},{"$f":"IF(COUNTIF(data!A$6:A$5000,B413)>0,VLOOKUP(B413,data!A$6:M$5000,12,FALSE),\"\")","v":""},{"$f":"IF(COUNTIF(data!A$6:A$5000,B413)>0,VLOOKUP(B413,data!A$6:M$5000,13,FALSE),\"\")","v":""},{"$f":"IF(B413>0,SUM(F$10:F413)-SUM(G$10:G413),\"\")","v":""}]
[null,null,{"$f":"IF(COUNTIF(data!A$6:A$5000,B414)>0,VLOOKUP(B414,data!A$6:M$5000,2,FALSE),\"\")","v":""},{"$f":"IF(COUNTIF(data!A$6:A$5000,B414)>0,VLOOKUP(B414,data!A$6:M$5000,4,FALSE),\"\")","v":""},{"$f":"IF(COUNTIF(data!A$6:A$5000,B414)>0,VLOOKUP(B414,data!A$6:M$5000,11,FALSE),\"\")","v":""},{"$f":"IF(COUNTIF(data!A$6:A$5000,B414)>0,VLOOKUP(B414,data!A$6:M$5000,12,FALSE),\"\")","v":""},{"$f":"IF(COUNTIF(data!A$6:A$5000,B414)>0,VLOOKUP(B414,data!A$6:M$5000,13,FALSE),\"\")","v":""},{"$f":"IF(B414>0,SUM(F$10:F414)-SUM(G$10:G414),\"\")","v":""}]
[null,null,{"$f":"IF(COUNTIF(data!A$6:A$5000,B415)>0,VLOOKUP(B415,data!A$6:M$5000,2,FALSE),\"\")","v":""},{"$f":"IF(COUNTIF(data!A$6:A$5000,B415)>0,VLOOKUP(B415,data!A$6:M$5000,4,FALSE),\"\")","v":""},{"$f":"IF(COUNTIF(data!A$6:A$5000,B415)>0,VLOOKUP(B415,data!A$6:M$5000,11,FALSE),\"\")","v":""},{"$f":"IF(COUNTIF(data!A$6:A$5000,B415)>0,VLOOKUP(B415,data!A$6:M$5000,12,FALSE),\"\")","v":""},{"$f":"IF(COUNTIF(data!A$6:A$5000,B415)>0,VLOOKUP(B415,data!A$6:M$5000,13,FALSE),\"\")","v":""},{"$f":"IF(B415>0,SUM(F$10:F415)-SUM(G$10:G415),\"\")","v":""}]
[null,null,{"$f":"IF(COUNTIF(data!A$6:A$5000,B416)>0,VLOOKUP(B416,data!A$6:M$5000,2,FALSE),\"\")","v":""},{"$f":"IF(COUNTIF(data!A$6:A$5000,B416)>0,VLOOKUP(B416,data!A$6:M$5000,4,FALSE),\"\")","v":""},{"$f":"IF(COUNTIF(data!A$6:A$5000,B416)>0,VLOOKUP(B416,data!A$6:M$5000,11,FALSE),\"\")","v":""},{"$f":"IF(COUNTIF(data!A$6:A$5000,B416)>0,VLOOKUP(B416,data!A$6:M$5000,12,FALSE),\"\")","v":""},{"$f":"IF(COUNTIF(data!A$6:A$5000,B416)>0,VLOOKUP(B416,data!A$6:M$5000,13,FALSE),\"\")","v":""},{"$f":"IF(B416>0,SUM(F$10:F416)-SUM(G$10:G416),\"\")","v":""}]
[null,null,{"$f":"IF(COUNTIF(data!A$6:A$5000,B417)>0,VLOOKUP(B417,data!A$6:M$5000,2,FALSE),\"\")","v":""},{"$f":"IF(COUNTIF(data!A$6:A$5000,B417)>0,VLOOKUP(B417,data!A$6:M$5000,4,FALSE),\"\")","v":""},{"$f":"IF(COUNTIF(data!A$6:A$5000,B417)>0,VLOOKUP(B417,data!A$6:M$5000,11,FALSE),\"\")","v":""},{"$f":"IF(COUNTIF(data!A$6:A$5000,B417)>0,VLOOKUP(B417,data!A$6:M$5000,12,FALSE),\"\")","v":""},{"$f":"IF(COUNTIF(data!A$6:A$5000,B417)>0,VLOOKUP(B417,data!A$6:M$5000,13,FALSE),\"\")","v":""},{"$f":"IF(B417>0,SUM(F$10:F417)-SUM(G$10:G417),\"\")","v":""}]
[null,null,{"$f":"IF(COUNTIF(data!A$6:A$5000,B418)>0,VLOOKUP(B418,data!A$6:M$5000,2,FALSE),\"\")","v":""},{"$f":"IF(COUNTIF(data!A$6:A$5000,B418)>0,VLOOKUP(B418,data!A$6:M$5000,4,FALSE),\"\")","v":""},{"$f":"IF(COUNTIF(data!A$6:A$5000,B418)>0,VLOOKUP(B418,data!A$6:M$5000,11,FALSE),\"\")","v":""},{"$f":"IF(COUNTIF(data!A$6:A$5000,B418)>0,VLOOKUP(B418,data!A$6:M$5000,12,FALSE),\"\")","v":""},{"$f":"IF(COUNTIF(data!A$6:A$5000,B418)>0,VLOOKUP(B418,data!A$6:M$5000,13,FALSE),\"\")","v":""},{"$f":"IF(B418>0,SUM(F$10:F418)-SUM(G$10:G418),\"\")","v":""}]
[null,null,{"$f":"IF(COUNTIF(data!A$6:A$5000,B419)>0,VLOOKUP(B419,data!A$6:M$5000,2,FALSE),\"\")","v":""},{"$f":"IF(COUNTIF(data!A$6:A$5000,B419)>0,VLOOKUP(B419,data!A$6:M$5000,4,FALSE),\"\")","v":""},{"$f":"IF(COUNTIF(data!A$6:A$5000,B419)>0,VLOOKUP(B419,data!A$6:M$5000,11,FALSE),\"\")","v":""},{"$f":"IF(COUNTIF(data!A$6:A$5000,B419)>0,VLOOKUP(B419,data!A$6:M$5000,12,FALSE),\"\")","v":""},{"$f":"IF(COUNTIF(data!A$6:A$5000,B419)>0,VLOOKUP(B419,data!A$6:M$5000,13,FALSE),\"\")","v":""},{"$f":"IF(B419>0,SUM(F$10:F419)-SUM(G$10:G419),\"\")","v":""}]
[null,null,{"$f":"IF(COUNTIF(data!A$6:A$5000,B420)>0,VLOOKUP(B420,data!A$6:M$5000,2,FALSE),\"\")","v":""},{"$f":"IF(COUNTIF(data!A$6:A$5000,B420)>0,VLOOKUP(B420,data!A$6:M$5000,4,FALSE),\"\")","v":""},{"$f":"IF(COUNTIF(data!A$6:A$5000,B420)>0,VLOOKUP(B420,data!A$6:M$5000,11,FALSE),\"\")","v":""},{"$f":"IF(COUNTIF(data!A$6:A$5000,B420)>0,VLOOKUP(B420,data!A$6:M$5000,12,FALSE),\"\")","v":""},{"$f":"IF(COUNTIF(data!A$6:A$5000,B420)>0,VLOOKUP(B420,data!A$6:M$5000,13,FALSE),\"\")","v":""},{"$f":"IF(B420>0,SUM(F$10:F420)-SUM(G$10:G420),\"\")","v":""}]
[null,null,{"$f":"IF(COUNTIF(data!A$6:A$5000,B421)>0,VLOOKUP(B421,data!A$6:M$5000,2,FALSE),\"\")","v":""},{"$f":"IF(COUNTIF(data!A$6:A$5000,B421)>0,VLOOKUP(B421,data!A$6:M$5000,4,FALSE),\"\")","v":""},{"$f":"IF(COUNTIF(data!A$6:A$5000,B421)>0,VLOOKUP(B421,data!A$6:M$5000,11,FALSE),\"\")","v":""},{"$f":"IF(COUNTIF(data!A$6:A$5000,B421)>0,VLOOKUP(B421,data!A$6:M$5000,12,FALSE),\"\")","v":""},{"$f":"IF(COUNTIF(data!A$6:A$5000,B421)>0,VLOOKUP(B421,data!A$6:M$5000,13,FALSE),\"\")","v":""},{"$f":"IF(B421>0,SUM(F$10:F421)-SUM(G$10:G421),\"\")","v":""}]
[null,null,{"$f":"IF(COUNTIF(data!A$6:A$5000,B422)>0,VLOOKUP(B422,data!A$6:M$5000,2,FALSE),\"\")","v":""},{"$f":"IF(COUNTIF(data!A$6:A$5000,B422)>0,VLOOKUP(B422,data!A$6:M$5000,4,FALSE),\"\")","v":""},{"$f":"IF(COUNTIF(data!A$6:A$5000,B422)>0,VLOOKUP(B422,data!A$6:M$5000,11,FALSE),\"\")","v":""},{"$f":"IF(COUNTIF(data!A$6:A$5000,B422)>0,VLOOKUP(B422,data!A$6:M$5000,12,FALSE),\"\")","v":""},{"$f":"IF(COUNTIF(data!A$6:A$5000,B422)>0,VLOOKUP(B422,data!A$6:M$5000,13,FALSE),\"\")","v":""},{"$f":"IF(B422>0,SUM(F$10:F422)-SUM(G$10:G422),\"\")","v":""}]
[null,null,{"$f":"IF(COUNTIF(data!A$6:A$5000,B423)>0,VLOOKUP(B423,data!A$6:M$5000,2,FALSE),\"\")","v":""},{"$f":"IF(COUNTIF(data!A$6:A$5000,B423)>0,VLOOKUP(B423,data!A$6:M$5000,4,FALSE),\"\")","v":""},{"$f":"IF(COUNTIF(data!A$6:A$5000,B423)>0,VLOOKUP(B423,data!A$6:M$5000,11,FALSE),\"\")","v":""},{"$f":"IF(COUNTIF(data!A$6:A$5000,B423)>0,VLOOKUP(B423,data!A$6:M$5000,12,FALSE),\"\")","v":""},{"$f":"IF(COUNTIF(data!A$6:A$5000,B423)>0,VLOOKUP(B423,data!A$6:M$5000,13,FALSE),\"\")","v":""},{"$f":"IF(B423>0,SUM(F$10:F423)-SUM(G$10:G423),\"\")","v":""}]
[null,null,{"$f":"IF(COUNTIF(data!A$6:A$5000,B424)>0,VLOOKUP(B424,data!A$6:M$5000,2,FALSE),\"\")","v":""},{"$f":"IF(COUNTIF(data!A$6:A$5000,B424)>0,VLOOKUP(B424,data!A$6:M$5000,4,FALSE),\"\")","v":""},{"$f":"IF(COUNTIF(data!A$6:A$5000,B424)>0,VLOOKUP(B424,data!A$6:M$5000,11,FALSE),\"\")","v":""},{"$f":"IF(COUNTIF(data!A$6:A$5000,B424)>0,VLOOKUP(B424,data!A$6:M$5000,12,FALSE),\"\")","v":""},{"$f":"IF(COUNTIF(data!A$6:A$5000,B424)>0,VLOOKUP(B424,data!A$6:M$5000,13,FALSE),\"\")","v":""},{"$f":"IF(B424>0,SUM(F$10:F424)-SUM(G$10:G424),\"\")","v":""}]
[null,null,{"$f":"IF(COUNTIF(data!A$6:A$5000,B425)>0,VLOOKUP(B425,data!A$6:M$5000,2,FALSE),\"\")","v":""},{"$f":"IF(COUNTIF(data!A$6:A$5000,B425)>0,VLOOKUP(B425,data!A$6:M$5000,4,FALSE),\"\")","v":""},{"$f":"IF(COUNTIF(data!A$6:A$5000,B425)>0,VLOOKUP(B425,data!A$6:M$5000,11,FALSE),\"\")","v":""},{"$f":"IF(COUNTIF(data!A$6:A$5000,B425)>0,VLOOKUP(B425,data!A$6:M$5000,12,FALSE),\"\")","v":""},{"$f":"IF(COUNTIF(data!A$6:A$5000,B425)>0,VLOOKUP(B425,data!A$6:M$5000,13,FALSE),\"\")","v":""},{"$f":"IF(B425>0,SUM(F$10:F425)-SUM(G$10:G425),\"\")","v":""}]
[null,null,{"$f":"IF(COUNTIF(data!A$6:A$5000,B426)>0,VLOOKUP(B426,data!A$6:M$5000,2,FALSE),\"\")","v":""},{"$f":"IF(COUNTIF(data!A$6:A$5000,B426)>0,VLOOKUP(B426,data!A$6:M$5000,4,FALSE),\"\")","v":""},{"$f":"IF(COUNTIF(data!A$6:A$5000,B426)>0,VLOOKUP(B426,data!A$6:M$5000,11,FALSE),\"\")","v":""},{"$f":"IF(COUNTIF(data!A$6:A$5000,B426)>0,VLOOKUP(B426,data!A$6:M$5000,12,FALSE),\"\")","v":""},{"$f":"IF(COUNTIF(data!A$6:A$5000,B426)>0,VLOOKUP(B426,data!A$6:M$5000,13,FALSE),\"\")","v":""},{"$f":"IF(B426>0,SUM(F$10:F426)-SUM(G$10:G426),\"\")","v":""}]
[null,null,{"$f":"IF(COUNTIF(data!A$6:A$5000,B427)>0,VLOOKUP(B427,data!A$6:M$5000,2,FALSE),\"\")","v":""},{"$f":"IF(COUNTIF(data!A$6:A$5000,B427)>0,VLOOKUP(B427,data!A$6:M$5000,4,FALSE),\"\")","v":""},{"$f":"IF(COUNTIF(data!A$6:A$5000,B427)>0,VLOOKUP(B427,data!A$6:M$5000,11,FALSE),\"\")","v":""},{"$f":"IF(COUNTIF(data!A$6:A$5000,B427)>0,VLOOKUP(B427,data!A$6:M$5000,12,FALSE),\"\")","v":""},{"$f":"IF(COUNTIF(data!A$6:A$5000,B427)>0,VLOOKUP(B427,data!A$6:M$5000,13,FALSE),\"\")","v":""},{"$f":"IF(B427>0,SUM(F$10:F427)-SUM(G$10:G427),\"\")","v":""}]
[null,null,{"$f":"IF(COUNTIF(data!A$6:A$5000,B428)>0,VLOOKUP(B428,data!A$6:M$5000,2,FALSE),\"\")","v":""},{"$f":"IF(COUNTIF(data!A$6:A$5000,B428)>0,VLOOKUP(B428,data!A$6:M$5000,4,FALSE),\"\")","v":""},{"$f":"IF(COUNTIF(data!A$6:A$5000,B428)>0,VLOOKUP(B428,data!A$6:M$5000,11,FALSE),\"\")","v":""},{"$f":"IF(COUNTIF(data!A$6:A$5000,B428)>0,VLOOKUP(B428,data!A$6:M$5000,12,FALSE),\"\")","v":""},{"$f":"IF(COUNTIF(data!A$6:A$5000,B428)>0,VLOOKUP(B428,data!A$6:M$5000,13,FALSE),\"\")","v":""},{"$f":"IF(B428>0,SUM(F$10:F428)-SUM(G$10:G428),\"\")","v":""}]
[null,null,{"$f":"IF(COUNTIF(data!A$6:A$5000,B429)>0,VLOOKUP(B429,data!A$6:M$5000,2,FALSE),\"\")","v":""},{"$f":"IF(COUNTIF(data!A$6:A$5000,B429)>0,VLOOKUP(B429,data!A$6:M$5000,4,FALSE),\"\")","v":""},{"$f":"IF(COUNTIF(data!A$6:A$5000,B429)>0,VLOOKUP(B429,data!A$6:M$5000,11,FALSE),\"\")","v":""},{"$f":"IF(COUNTIF(data!A$6:A$5000,B429)>0,VLOOKUP(B429,data!A$6:M$5000,12,FALSE),\"\")","v":""},{"$f":"IF(COUNTIF(data!A$6:A$5000,B429)>0,VLOOKUP(B429,data!A$6:M$5000,13,FALSE),\"\")","v":""},{"$f":"IF(B429>0,SUM(F$10:F429)-SUM(G$10:G429),\"\")","v":""}]
[null,null,{"$f":"IF(COUNTIF(data!A$6:A$5000,B430)>0,VLOOKUP(B430,data!A$6:M$5000,2,FALSE),\"\")","v":""},{"$f":"IF(COUNTIF(data!A$6:A$5000,B430)>0,VLOOKUP(B430,data!A$6:M$5000,4,FALSE),\"\")","v":""},{"$f":"IF(COUNTIF(data!A$6:A$5000,B430)>0,VLOOKUP(B430,data!A$6:M$5000,11,FALSE),\"\")","v":""},{"$f":"IF(COUNTIF(data!A$6:A$5000,B430)>0,VLOOKUP(B430,data!A$6:M$5000,12,FALSE),\"\")","v":""},{"$f":"IF(COUNTIF(data!A$6:A$5000,B430)>0,VLOOKUP(B430,data!A$6:M$5000,13,FALSE),\"\")","v":""},{"$f":"IF(B430>0,SUM(F$10:F430)-SUM(G$10:G430),\"\")","v":""}]
[null,null,{"$f":"IF(COUNTIF(data!A$6:A$5000,B431)>0,VLOOKUP(B431,data!A$6:M$5000,2,FALSE),\"\")","v":""},{"$f":"IF(COUNTIF(data!A$6:A$5000,B431)>0,VLOOKUP(B431,data!A$6:M$5000,4,FALSE),\"\")","v":""},{"$f":"IF(COUNTIF(data!A$6:A$5000,B431)>0,VLOOKUP(B431,data!A$6:M$5000,11,FALSE),\"\")","v":""},{"$f":"IF(COUNTIF(data!A$6:A$5000,B431)>0,VLOOKUP(B431,data!A$6:M$5000,12,FALSE),\"\")","v":""},{"$f":"IF(COUNTIF(data!A$6:A$5000,B431)>0,VLOOKUP(B431,data!A$6:M$5000,13,FALSE),\"\")","v":""},{"$f":"IF(B431>0,SUM(F$10:F431)-SUM(G$10:G431),\"\")","v":""}]
[null,null,{"$f":"IF(COUNTIF(data!A$6:A$5000,B432)>0,VLOOKUP(B432,data!A$6:M$5000,2,FALSE),\"\")","v":""},{"$f":"IF(COUNTIF(data!A$6:A$5000,B432)>0,VLOOKUP(B432,data!A$6:M$5000,4,FALSE),\"\")","v":""},{"$f":"IF(COUNTIF(data!A$6:A$5000,B432)>0,VLOOKUP(B432,data!A$6:M$5000,11,FALSE),\"\")","v":""},{"$f":"IF(COUNTIF(data!A$6:A$5000,B432)>0,VLOOKUP(B432,data!A$6:M$5000,12,FALSE),\"\")","v":""},{"$f":"IF(COUNTIF(data!A$6:A$5000,B432)>0,VLOOKUP(B432,data!A$6:M$5000,13,FALSE),\"\")","v":""},{"$f":"IF(B432>0,SUM(F$10:F432)-SUM(G$10:G432),\"\")","v":""}]
[null,null,{"$f":"IF(COUNTIF(data!A$6:A$5000,B433)>0,VLOOKUP(B433,data!A$6:M$5000,2,FALSE),\"\")","v":""},{"$f":"IF(COUNTIF(data!A$6:A$5000,B433)>0,VLOOKUP(B433,data!A$6:M$5000,4,FALSE),\"\")","v":""},{"$f":"IF(COUNTIF(data!A$6:A$5000,B433)>0,VLOOKUP(B433,data!A$6:M$5000,11,FALSE),\"\")","v":""},{"$f":"IF(COUNTIF(data!A$6:A$5000,B433)>0,VLOOKUP(B433,data!A$6:M$5000,12,FALSE),\"\")","v":""},{"$f":"IF(COUNTIF(data!A$6:A$5000,B433)>0,VLOOKUP(B433,data!A$6:M$5000,13,FALSE),\"\")","v":""},{"$f":"IF(B433>0,SUM(F$10:F433)-SUM(G$10:G433),\"\")","v":""}]
[null,null,{"$f":"IF(COUNTIF(data!A$6:A$5000,B434)>0,VLOOKUP(B434,data!A$6:M$5000,2,FALSE),\"\")","v":""},{"$f":"IF(COUNTIF(data!A$6:A$5000,B434)>0,VLOOKUP(B434,data!A$6:M$5000,4,FALSE),\"\")","v":""},{"$f":"IF(COUNTIF(data!A$6:A$5000,B434)>0,VLOOKUP(B434,data!A$6:M$5000,11,FALSE),\"\")","v":""},{"$f":"IF(COUNTIF(data!A$6:A$5000,B434)>0,VLOOKUP(B434,data!A$6:M$5000,12,FALSE),\"\")","v":""},{"$f":"IF(COUNTIF(data!A$6:A$5000,B434)>0,VLOOKUP(B434,data!A$6:M$5000,13,FALSE),\"\")","v":""},{"$f":"IF(B434>0,SUM(F$10:F434)-SUM(G$10:G434),\"\")","v":""}]
[null,null,{"$f":"IF(COUNTIF(data!A$6:A$5000,B435)>0,VLOOKUP(B435,data!A$6:M$5000,2,FALSE),\"\")","v":""},{"$f":"IF(COUNTIF(data!A$6:A$5000,B435)>0,VLOOKUP(B435,data!A$6:M$5000,4,FALSE),\"\")","v":""},{"$f":"IF(COUNTIF(data!A$6:A$5000,B435)>0,VLOOKUP(B435,data!A$6:M$5000,11,FALSE),\"\")","v":""},{"$f":"IF(COUNTIF(data!A$6:A$5000,B435)>0,VLOOKUP(B435,data!A$6:M$5000,12,FALSE),\"\")","v":""},{"$f":"IF(COUNTIF(data!A$6:A$5000,B435)>0,VLOOKUP(B435,data!A$6:M$5000,13,FALSE),\"\")","v":""},{"$f":"IF(B435>0,SUM(F$10:F435)-SUM(G$10:G435),\"\")","v":""}]
[null,null,{"$f":"IF(COUNTIF(data!A$6:A$5000,B436)>0,VLOOKUP(B436,data!A$6:M$5000,2,FALSE),\"\")","v":""},{"$f":"IF(COUNTIF(data!A$6:A$5000,B436)>0,VLOOKUP(B436,data!A$6:M$5000,4,FALSE),\"\")","v":""},{"$f":"IF(COUNTIF(data!A$6:A$5000,B436)>0,VLOOKUP(B436,data!A$6:M$5000,11,FALSE),\"\")","v":""},{"$f":"IF(COUNTIF(data!A$6:A$5000,B436)>0,VLOOKUP(B436,data!A$6:M$5000,12,FALSE),\"\")","v":""},{"$f":"IF(COUNTIF(data!A$6:A$5000,B436)>0,VLOOKUP(B436,data!A$6:M$5000,13,FALSE),\"\")","v":""},{"$f":"IF(B436>0,SUM(F$10:F436)-SUM(G$10:G436),\"\")","v":""}]
[null,null,{"$f":"IF(COUNTIF(data!A$6:A$5000,B437)>0,VLOOKUP(B437,data!A$6:M$5000,2,FALSE),\"\")","v":""},{"$f":"IF(COUNTIF(data!A$6:A$5000,B437)>0,VLOOKUP(B437,data!A$6:M$5000,4,FALSE),\"\")","v":""},{"$f":"IF(COUNTIF(data!A$6:A$5000,B437)>0,VLOOKUP(B437,data!A$6:M$5000,11,FALSE),\"\")","v":""},{"$f":"IF(COUNTIF(data!A$6:A$5000,B437)>0,VLOOKUP(B437,data!A$6:M$5000,12,FALSE),\"\")","v":""},{"$f":"IF(COUNTIF(data!A$6:A$5000,B437)>0,VLOOKUP(B437,data!A$6:M$5000,13,FALSE),\"\")","v":""},{"$f":"IF(B437>0,SUM(F$10:F437)-SUM(G$10:G437),\"\")","v":""}]
[null,null,{"$f":"IF(COUNTIF(data!A$6:A$5000,B438)>0,VLOOKUP(B438,data!A$6:M$5000,2,FALSE),\"\")","v":""},{"$f":"IF(COUNTIF(data!A$6:A$5000,B438)>0,VLOOKUP(B438,data!A$6:M$5000,4,FALSE),\"\")","v":""},{"$f":"IF(COUNTIF(data!A$6:A$5000,B438)>0,VLOOKUP(B438,data!A$6:M$5000,11,FALSE),\"\")","v":""},{"$f":"IF(COUNTIF(data!A$6:A$5000,B438)>0,VLOOKUP(B438,data!A$6:M$5000,12,FALSE),\"\")","v":""},{"$f":"IF(COUNTIF(data!A$6:A$5000,B438)>0,VLOOKUP(B438,data!A$6:M$5000,13,FALSE),\"\")","v":""},{"$f":"IF(B438>0,SUM(F$10:F438)-SUM(G$10:G438),\"\")","v":""}]
[null,null,{"$f":"IF(COUNTIF(data!A$6:A$5000,B439)>0,VLOOKUP(B439,data!A$6:M$5000,2,FALSE),\"\")","v":""},{"$f":"IF(COUNTIF(data!A$6:A$5000,B439)>0,VLOOKUP(B439,data!A$6:M$5000,4,FALSE),\"\")","v":""},{"$f":"IF(COUNTIF(data!A$6:A$5000,B439)>0,VLOOKUP(B439,data!A$6:M$5000,11,FALSE),\"\")","v":""},{"$f":"IF(COUNTIF(data!A$6:A$5000,B439)>0,VLOOKUP(B439,data!A$6:M$5000,12,FALSE),\"\")","v":""},{"$f":"IF(COUNTIF(data!A$6:A$5000,B439)>0,VLOOKUP(B439,data!A$6:M$5000,13,FALSE),\"\")","v":""},{"$f":"IF(B439>0,SUM(F$10:F439)-SUM(G$10:G439),\"\")","v":""}]
[null,null,{"$f":"IF(COUNTIF(data!A$6:A$5000,B440)>0,VLOOKUP(B440,data!A$6:M$5000,2,FALSE),\"\")","v":""},{"$f":"IF(COUNTIF(data!A$6:A$5000,B440)>0,VLOOKUP(B440,data!A$6:M$5000,4,FALSE),\"\")","v":""},{"$f":"IF(COUNTIF(data!A$6:A$5000,B440)>0,VLOOKUP(B440,data!A$6:M$5000,11,FALSE),\"\")","v":""},{"$f":"IF(COUNTIF(data!A$6:A$5000,B440)>0,VLOOKUP(B440,data!A$6:M$5000,12,FALSE),\"\")","v":""},{"$f":"IF(COUNTIF(data!A$6:A$5000,B440)>0,VLOOKUP(B440,data!A$6:M$5000,13,FALSE),\"\")","v":""},{"$f":"IF(B440>0,SUM(F$10:F440)-SUM(G$10:G440),\"\")","v":""}]
[null,null,{"$f":"IF(COUNTIF(data!A$6:A$5000,B441)>0,VLOOKUP(B441,data!A$6:M$5000,2,FALSE),\"\")","v":""},{"$f":"IF(COUNTIF(data!A$6:A$5000,B441)>0,VLOOKUP(B441,data!A$6:M$5000,4,FALSE),\"\")","v":""},{"$f":"IF(COUNTIF(data!A$6:A$5000,B441)>0,VLOOKUP(B441,data!A$6:M$5000,11,FALSE),\"\")","v":""},{"$f":"IF(COUNTIF(data!A$6:A$5000,B441)>0,VLOOKUP(B441,data!A$6:M$5000,12,FALSE),\"\")","v":""},{"$f":"IF(COUNTIF(data!A$6:A$5000,B441)>0,VLOOKUP(B441,data!A$6:M$5000,13,FALSE),\"\")","v":""},{"$f":"IF(B441>0,SUM(F$10:F441)-SUM(G$10:G441),\"\")","v":""}]
[null,null,{"$f":"IF(COUNTIF(data!A$6:A$5000,B442)>0,VLOOKUP(B442,data!A$6:M$5000,2,FALSE),\"\")","v":""},{"$f":"IF(COUNTIF(data!A$6:A$5000,B442)>0,VLOOKUP(B442,data!A$6:M$5000,4,FALSE),\"\")","v":""},{"$f":"IF(COUNTIF(data!A$6:A$5000,B442)>0,VLOOKUP(B442,data!A$6:M$5000,11,FALSE),\"\")","v":""},{"$f":"IF(COUNTIF(data!A$6:A$5000,B442)>0,VLOOKUP(B442,data!A$6:M$5000,12,FALSE),\"\")","v":""},{"$f":"IF(COUNTIF(data!A$6:A$5000,B442)>0,VLOOKUP(B442,data!A$6:M$5000,13,FALSE),\"\")","v":""},{"$f":"IF(B442>0,SUM(F$10:F442)-SUM(G$10:G442),\"\")","v":""}]
[null,null,{"$f":"IF(COUNTIF(data!A$6:A$5000,B443)>0,VLOOKUP(B443,data!A$6:M$5000,2,FALSE),\"\")","v":""},{"$f":"IF(COUNTIF(data!A$6:A$5000,B443)>0,VLOOKUP(B443,data!A$6:M$5000,4,FALSE),\"\")","v":""},{"$f":"IF(COUNTIF(data!A$6:A$5000,B443)>0,VLOOKUP(B443,data!A$6:M$5000,11,FALSE),\"\")","v":""},{"$f":"IF(COUNTIF(data!A$6:A$5000,B443)>0,VLOOKUP(B443,data!A$6:M$5000,12,FALSE),\"\")","v":""},{"$f":"IF(COUNTIF(data!A$6:A$5000,B443)>0,VLOOKUP(B443,data!A$6:M$5000,13,FALSE),\"\")","v":""},{"$f":"IF(B443>0,SUM(F$10:F443)-SUM(G$10:G443),\"\")","v":""}]
[null,null,{"$f":"IF(COUNTIF(data!A$6:A$5000,B444)>0,VLOOKUP(B444,data!A$6:M$5000,2,FALSE),\"\")","v":""},{"$f":"IF(COUNTIF(data!A$6:A$5000,B444)>0,VLOOKUP(B444,data!A$6:M$5000,4,FALSE),\"\")","v":""},{"$f":"IF(COUNTIF(data!A$6:A$5000,B444)>0,VLOOKUP(B444,data!A$6:M$5000,11,FALSE),\"\")","v":""},{"$f":"IF(COUNTIF(data!A$6:A$5000,B444)>0,VLOOKUP(B444,data!A$6:M$5000,12,FALSE),\"\")","v":""},{"$f":"IF(COUNTIF(data!A$6:A$5000,B444)>0,VLOOKUP(B444,data!A$6:M$5000,13,FALSE),\"\")","v":""},{"$f":"IF(B444>0,SUM(F$10:F444)-SUM(G$10:G444),\"\")","v":""}]
[null,null,{"$f":"IF(COUNTIF(data!A$6:A$5000,B445)>0,VLOOKUP(B445,data!A$6:M$5000,2,FALSE),\"\")","v":""},{"$f":"IF(COUNTIF(data!A$6:A$5000,B445)>0,VLOOKUP(B445,data!A$6:M$5000,4,FALSE),\"\")","v":""},{"$f":"IF(COUNTIF(data!A$6:A$5000,B445)>0,VLOOKUP(B445,data!A$6:M$5000,11,FALSE),\"\")","v":""},{"$f":"IF(COUNTIF(data!A$6:A$5000,B445)>0,VLOOKUP(B445,data!A$6:M$5000,12,FALSE),\"\")","v":""},{"$f":"IF(COUNTIF(data!A$6:A$5000,B445)>0,VLOOKUP(B445,data!A$6:M$5000,13,FALSE),\"\")","v":""},{"$f":"IF(B445>0,SUM(F$10:F445)-SUM(G$10:G445),\"\")","v":""}]
[null,null,{"$f":"IF(COUNTIF(data!A$6:A$5000,B446)>0,VLOOKUP(B446,data!A$6:M$5000,2,FALSE),\"\")","v":""},{"$f":"IF(COUNTIF(data!A$6:A$5000,B446)>0,VLOOKUP(B446,data!A$6:M$5000,4,FALSE),\"\")","v":""},{"$f":"IF(COUNTIF(data!A$6:A$5000,B446)>0,VLOOKUP(B446,data!A$6:M$5000,11,FALSE),\"\")","v":""},{"$f":"IF(COUNTIF(data!A$6:A$5000,B446)>0,VLOOKUP(B446,data!A$6:M$5000,12,FALSE),\"\")","v":""},{"$f":"IF(COUNTIF(data!A$6:A$5000,B446)>0,VLOOKUP(B446,data!A$6:M$5000,13,FALSE),\"\")","v":""},{"$f":"IF(B446>0,SUM(F$10:F446)-SUM(G$10:G446),\"\")","v":""}]
[null,null,{"$f":"IF(COUNTIF(data!A$6:A$5000,B447)>0,VLOOKUP(B447,data!A$6:M$5000,2,FALSE),\"\")","v":""},{"$f":"IF(COUNTIF(data!A$6:A$5000,B447)>0,VLOOKUP(B447,data!A$6:M$5000,4,FALSE),\"\")","v":""},{"$f":"IF(COUNTIF(data!A$6:A$5000,B447)>0,VLOOKUP(B447,data!A$6:M$5000,11,FALSE),\"\")","v":""},{"$f":"IF(COUNTIF(data!A$6:A$5000,B447)>0,VLOOKUP(B447,data!A$6:M$5000,12,FALSE),\"\")","v":""},{"$f":"IF(COUNTIF(data!A$6:A$5000,B447)>0,VLOOKUP(B447,data!A$6:M$5000,13,FALSE),\"\")","v":""},{"$f":"IF(B447>0,SUM(F$10:F447)-SUM(G$10:G447),\"\")","v":""}]
[null,null,{"$f":"IF(COUNTIF(data!A$6:A$5000,B448)>0,VLOOKUP(B448,data!A$6:M$5000,2,FALSE),\"\")","v":""},{"$f":"IF(COUNTIF(data!A$6:A$5000,B448)>0,VLOOKUP(B448,data!A$6:M$5000,4,FALSE),\"\")","v":""},{"$f":"IF(COUNTIF(data!A$6:A$5000,B448)>0,VLOOKUP(B448,data!A$6:M$5000,11,FALSE),\"\")","v":""},{"$f":"IF(COUNTIF(data!A$6:A$5000,B448)>0,VLOOKUP(B448,data!A$6:M$5000,12,FALSE),\"\")","v":""},{"$f":"IF(COUNTIF(data!A$6:A$5000,B448)>0,VLOOKUP(B448,data!A$6:M$5000,13,FALSE),\"\")","v":""},{"$f":"IF(B448>0,SUM(F$10:F448)-SUM(G$10:G448),\"\")","v":""}]
[null,null,{"$f":"IF(COUNTIF(data!A$6:A$5000,B449)>0,VLOOKUP(B449,data!A$6:M$5000,2,FALSE),\"\")","v":""},{"$f":"IF(COUNTIF(data!A$6:A$5000,B449)>0,VLOOKUP(B449,data!A$6:M$5000,4,FALSE),\"\")","v":""},{"$f":"IF(COUNTIF(data!A$6:A$5000,B449)>0,VLOOKUP(B449,data!A$6:M$5000,11,FALSE),\"\")","v":""},{"$f":"IF(COUNTIF(data!A$6:A$5000,B449)>0,VLOOKUP(B449,data!A$6:M$5000,12,FALSE),\"\")","v":""},{"$f":"IF(COUNTIF(data!A$6:A$5000,B449)>0,VLOOKUP(B449,data!A$6:M$5000,13,FALSE),\"\")","v":""},{"$f":"IF(B449>0,SUM(F$10:F449)-SUM(G$10:G449),\"\")","v":""}]
[null,null,{"$f":"IF(COUNTIF(data!A$6:A$5000,B450)>0,VLOOKUP(B450,data!A$6:M$5000,2,FALSE),\"\")","v":""},{"$f":"IF(COUNTIF(data!A$6:A$5000,B450)>0,VLOOKUP(B450,data!A$6:M$5000,4,FALSE),\"\")","v":""},{"$f":"IF(COUNTIF(data!A$6:A$5000,B450)>0,VLOOKUP(B450,data!A$6:M$5000,11,FALSE),\"\")","v":""},{"$f":"IF(COUNTIF(data!A$6:A$5000,B450)>0,VLOOKUP(B450,data!A$6:M$5000,12,FALSE),\"\")","v":""},{"$f":"IF(COUNTIF(data!A$6:A$5000,B450)>0,VLOOKUP(B450,data!A$6:M$5000,13,FALSE),\"\")","v":""},{"$f":"IF(B450>0,SUM(F$10:F450)-SUM(G$10:G450),\"\")","v":""}]
[null,null,{"$f":"IF(COUNTIF(data!A$6:A$5000,B451)>0,VLOOKUP(B451,data!A$6:M$5000,2,FALSE),\"\")","v":""},{"$f":"IF(COUNTIF(data!A$6:A$5000,B451)>0,VLOOKUP(B451,data!A$6:M$5000,4,FALSE),\"\")","v":""},{"$f":"IF(COUNTIF(data!A$6:A$5000,B451)>0,VLOOKUP(B451,data!A$6:M$5000,11,FALSE),\"\")","v":""},{"$f":"IF(COUNTIF(data!A$6:A$5000,B451)>0,VLOOKUP(B451,data!A$6:M$5000,12,FALSE),\"\")","v":""},{"$f":"IF(COUNTIF(data!A$6:A$5000,B451)>0,VLOOKUP(B451,data!A$6:M$5000,13,FALSE),\"\")","v":""},{"$f":"IF(B451>0,SUM(F$10:F451)-SUM(G$10:G451),\"\")","v":""}]
[null,null,{"$f":"IF(COUNTIF(data!A$6:A$5000,B452)>0,VLOOKUP(B452,data!A$6:M$5000,2,FALSE),\"\")","v":""},{"$f":"IF(COUNTIF(data!A$6:A$5000,B452)>0,VLOOKUP(B452,data!A$6:M$5000,4,FALSE),\"\")","v":""},{"$f":"IF(COUNTIF(data!A$6:A$5000,B452)>0,VLOOKUP(B452,data!A$6:M$5000,11,FALSE),\"\")","v":""},{"$f":"IF(COUNTIF(data!A$6:A$5000,B452)>0,VLOOKUP(B452,data!A$6:M$5000,12,FALSE),\"\")","v":""},{"$f":"IF(COUNTIF(data!A$6:A$5000,B452)>0,VLOOKUP(B452,data!A$6:M$5000,13,FALSE),\"\")","v":""},{"$f":"IF(B452>0,SUM(F$10:F452)-SUM(G$10:G452),\"\")","v":""}]
[null,null,{"$f":"IF(COUNTIF(data!A$6:A$5000,B453)>0,VLOOKUP(B453,data!A$6:M$5000,2,FALSE),\"\")","v":""},{"$f":"IF(COUNTIF(data!A$6:A$5000,B453)>0,VLOOKUP(B453,data!A$6:M$5000,4,FALSE),\"\")","v":""},{"$f":"IF(COUNTIF(data!A$6:A$5000,B453)>0,VLOOKUP(B453,data!A$6:M$5000,11,FALSE),\"\")","v":""},{"$f":"IF(COUNTIF(data!A$6:A$5000,B453)>0,VLOOKUP(B453,data!A$6:M$5000,12,FALSE),\"\")","v":""},{"$f":"IF(COUNTIF(data!A$6:A$5000,B453)>0,VLOOKUP(B453,data!A$6:M$5000,13,FALSE),\"\")","v":""},{"$f":"IF(B453>0,SUM(F$10:F453)-SUM(G$10:G453),\"\")","v":""}]
[null,null,{"$f":"IF(COUNTIF(data!A$6:A$5000,B454)>0,VLOOKUP(B454,data!A$6:M$5000,2,FALSE),\"\")","v":""},{"$f":"IF(COUNTIF(data!A$6:A$5000,B454)>0,VLOOKUP(B454,data!A$6:M$5000,4,FALSE),\"\")","v":""},{"$f":"IF(COUNTIF(data!A$6:A$5000,B454)>0,VLOOKUP(B454,data!A$6:M$5000,11,FALSE),\"\")","v":""},{"$f":"IF(COUNTIF(data!A$6:A$5000,B454)>0,VLOOKUP(B454,data!A$6:M$5000,12,FALSE),\"\")","v":""},{"$f":"IF(COUNTIF(data!A$6:A$5000,B454)>0,VLOOKUP(B454,data!A$6:M$5000,13,FALSE),\"\")","v":""},{"$f":"IF(B454>0,SUM(F$10:F454)-SUM(G$10:G454),\"\")","v":""}]
[null,null,{"$f":"IF(COUNTIF(data!A$6:A$5000,B455)>0,VLOOKUP(B455,data!A$6:M$5000,2,FALSE),\"\")","v":""},{"$f":"IF(COUNTIF(data!A$6:A$5000,B455)>0,VLOOKUP(B455,data!A$6:M$5000,4,FALSE),\"\")","v":""},{"$f":"IF(COUNTIF(data!A$6:A$5000,B455)>0,VLOOKUP(B455,data!A$6:M$5000,11,FALSE),\"\")","v":""},{"$f":"IF(COUNTIF(data!A$6:A$5000,B455)>0,VLOOKUP(B455,data!A$6:M$5000,12,FALSE),\"\")","v":""},{"$f":"IF(COUNTIF(data!A$6:A$5000,B455)>0,VLOOKUP(B455,data!A$6:M$5000,13,FALSE),\"\")","v":""},{"$f":"IF(B455>0,SUM(F$10:F455)-SUM(G$10:G455),\"\")","v":""}]
[null,null,{"$f":"IF(COUNTIF(data!A$6:A$5000,B456)>0,VLOOKUP(B456,data!A$6:M$5000,2,FALSE),\"\")","v":""},{"$f":"IF(COUNTIF(data!A$6:A$5000,B456)>0,VLOOKUP(B456,data!A$6:M$5000,4,FALSE),\"\")","v":""},{"$f":"IF(COUNTIF(data!A$6:A$5000,B456)>0,VLOOKUP(B456,data!A$6:M$5000,11,FALSE),\"\")","v":""},{"$f":"IF(COUNTIF(data!A$6:A$5000,B456)>0,VLOOKUP(B456,data!A$6:M$5000,12,FALSE),\"\")","v":""},{"$f":"IF(COUNTIF(data!A$6:A$5000,B456)>0,VLOOKUP(B456,data!A$6:M$5000,13,FALSE),\"\")","v":""},{"$f":"IF(B456>0,SUM(F$10:F456)-SUM(G$10:G456),\"\")","v":""}]
[null,null,{"$f":"IF(COUNTIF(data!A$6:A$5000,B457)>0,VLOOKUP(B457,data!A$6:M$5000,2,FALSE),\"\")","v":""},{"$f":"IF(COUNTIF(data!A$6:A$5000,B457)>0,VLOOKUP(B457,data!A$6:M$5000,4,FALSE),\"\")","v":""},{"$f":"IF(COUNTIF(data!A$6:A$5000,B457)>0,VLOOKUP(B457,data!A$6:M$5000,11,FALSE),\"\")","v":""},{"$f":"IF(COUNTIF(data!A$6:A$5000,B457)>0,VLOOKUP(B457,data!A$6:M$5000,12,FALSE),\"\")","v":""},{"$f":"IF(COUNTIF(data!A$6:A$5000,B457)>0,VLOOKUP(B457,data!A$6:M$5000,13,FALSE),\"\")","v":""},{"$f":"IF(B457>0,SUM(F$10:F457)-SUM(G$10:G457),\"\")","v":""}]
[null,null,{"$f":"IF(COUNTIF(data!A$6:A$5000,B458)>0,VLOOKUP(B458,data!A$6:M$5000,2,FALSE),\"\")","v":""},{"$f":"IF(COUNTIF(data!A$6:A$5000,B458)>0,VLOOKUP(B458,data!A$6:M$5000,4,FALSE),\"\")","v":""},{"$f":"IF(COUNTIF(data!A$6:A$5000,B458)>0,VLOOKUP(B458,data!A$6:M$5000,11,FALSE),\"\")","v":""},{"$f":"IF(COUNTIF(data!A$6:A$5000,B458)>0,VLOOKUP(B458,data!A$6:M$5000,12,FALSE),\"\")","v":""},{"$f":"IF(COUNTIF(data!A$6:A$5000,B458)>0,VLOOKUP(B458,data!A$6:M$5000,13,FALSE),\"\")","v":""},{"$f":"IF(B458>0,SUM(F$10:F458)-SUM(G$10:G458),\"\")","v":""}]
[null,null,{"$f":"IF(COUNTIF(data!A$6:A$5000,B459)>0,VLOOKUP(B459,data!A$6:M$5000,2,FALSE),\"\")","v":""},{"$f":"IF(COUNTIF(data!A$6:A$5000,B459)>0,VLOOKUP(B459,data!A$6:M$5000,4,FALSE),\"\")","v":""},{"$f":"IF(COUNTIF(data!A$6:A$5000,B459)>0,VLOOKUP(B459,data!A$6:M$5000,11,FALSE),\"\")","v":""},{"$f":"IF(COUNTIF(data!A$6:A$5000,B459)>0,VLOOKUP(B459,data!A$6:M$5000,12,FALSE),\"\")","v":""},{"$f":"IF(COUNTIF(data!A$6:A$5000,B459)>0,VLOOKUP(B459,data!A$6:M$5000,13,FALSE),\"\")","v":""},{"$f":"IF(B459>0,SUM(F$10:F459)-SUM(G$10:G459),\"\")","v":""}]
[null,null,{"$f":"IF(COUNTIF(data!A$6:A$5000,B460)>0,VLOOKUP(B460,data!A$6:M$5000,2,FALSE),\"\")","v":""},{"$f":"IF(COUNTIF(data!A$6:A$5000,B460)>0,VLOOKUP(B460,data!A$6:M$5000,4,FALSE),\"\")","v":""},{"$f":"IF(COUNTIF(data!A$6:A$5000,B460)>0,VLOOKUP(B460,data!A$6:M$5000,11,FALSE),\"\")","v":""},{"$f":"IF(COUNTIF(data!A$6:A$5000,B460)>0,VLOOKUP(B460,data!A$6:M$5000,12,FALSE),\"\")","v":""},{"$f":"IF(COUNTIF(data!A$6:A$5000,B460)>0,VLOOKUP(B460,data!A$6:M$5000,13,FALSE),\"\")","v":""},{"$f":"IF(B460>0,SUM(F$10:F460)-SUM(G$10:G460),\"\")","v":""}]
[null,null,{"$f":"IF(COUNTIF(data!A$6:A$5000,B461)>0,VLOOKUP(B461,data!A$6:M$5000,2,FALSE),\"\")","v":""},{"$f":"IF(COUNTIF(data!A$6:A$5000,B461)>0,VLOOKUP(B461,data!A$6:M$5000,4,FALSE),\"\")","v":""},{"$f":"IF(COUNTIF(data!A$6:A$5000,B461)>0,VLOOKUP(B461,data!A$6:M$5000,11,FALSE),\"\")","v":""},{"$f":"IF(COUNTIF(data!A$6:A$5000,B461)>0,VLOOKUP(B461,data!A$6:M$5000,12,FALSE),\"\")","v":""},{"$f":"IF(COUNTIF(data!A$6:A$5000,B461)>0,VLOOKUP(B461,data!A$6:M$5000,13,FALSE),\"\")","v":""},{"$f":"IF(B461>0,SUM(F$10:F461)-SUM(G$10:G461),\"\")","v":""}]
[null,null,{"$f":"IF(COUNTIF(data!A$6:A$5000,B462)>0,VLOOKUP(B462,data!A$6:M$5000,2,FALSE),\"\")","v":""},{"$f":"IF(COUNTIF(data!A$6:A$5000,B462)>0,VLOOKUP(B462,data!A$6:M$5000,4,FALSE),\"\")","v":""},{"$f":"IF(COUNTIF(data!A$6:A$5000,B462)>0,VLOOKUP(B462,data!A$6:M$5000,11,FALSE),\"\")","v":""},{"$f":"IF(COUNTIF(data!A$6:A$5000,B462)>0,VLOOKUP(B462,data!A$6:M$5000,12,FALSE),\"\")","v":""},{"$f":"IF(COUNTIF(data!A$6:A$5000,B462)>0,VLOOKUP(B462,data!A$6:M$5000,13,FALSE),\"\")","v":""},{"$f":"IF(B462>0,SUM(F$10:F462)-SUM(G$10:G462),\"\")","v":""}]
[null,null,{"$f":"IF(COUNTIF(data!A$6:A$5000,B463)>0,VLOOKUP(B463,data!A$6:M$5000,2,FALSE),\"\")","v":""},{"$f":"IF(COUNTIF(data!A$6:A$5000,B463)>0,VLOOKUP(B463,data!A$6:M$5000,4,FALSE),\"\")","v":""},{"$f":"IF(COUNTIF(data!A$6:A$5000,B463)>0,VLOOKUP(B463,data!A$6:M$5000,11,FALSE),\"\")","v":""},{"$f":"IF(COUNTIF(data!A$6:A$5000,B463)>0,VLOOKUP(B463,data!A$6:M$5000,12,FALSE),\"\")","v":""},{"$f":"IF(COUNTIF(data!A$6:A$5000,B463)>0,VLOOKUP(B463,data!A$6:M$5000,13,FALSE),\"\")","v":""},{"$f":"IF(B463>0,SUM(F$10:F463)-SUM(G$10:G463),\"\")","v":""}]
[null,null,{"$f":"IF(COUNTIF(data!A$6:A$5000,B464)>0,VLOOKUP(B464,data!A$6:M$5000,2,FALSE),\"\")","v":""},{"$f":"IF(COUNTIF(data!A$6:A$5000,B464)>0,VLOOKUP(B464,data!A$6:M$5000,4,FALSE),\"\")","v":""},{"$f":"IF(COUNTIF(data!A$6:A$5000,B464)>0,VLOOKUP(B464,data!A$6:M$5000,11,FALSE),\"\")","v":""},{"$f":"IF(COUNTIF(data!A$6:A$5000,B464)>0,VLOOKUP(B464,data!A$6:M$5000,12,FALSE),\"\")","v":""},{"$f":"IF(COUNTIF(data!A$6:A$5000,B464)>0,VLOOKUP(B464,data!A$6:M$5000,13,FALSE),\"\")","v":""},{"$f":"IF(B464>0,SUM(F$10:F464)-SUM(G$10:G464),\"\")","v":""}]
[null,null,{"$f":"IF(COUNTIF(data!A$6:A$5000,B465)>0,VLOOKUP(B465,data!A$6:M$5000,2,FALSE),\"\")","v":""},{"$f":"IF(COUNTIF(data!A$6:A$5000,B465)>0,VLOOKUP(B465,data!A$6:M$5000,4,FALSE),\"\")","v":""},{"$f":"IF(COUNTIF(data!A$6:A$5000,B465)>0,VLOOKUP(B465,data!A$6:M$5000,11,FALSE),\"\")","v":""},{"$f":"IF(COUNTIF(data!A$6:A$5000,B465)>0,VLOOKUP(B465,data!A$6:M$5000,12,FALSE),\"\")","v":""},{"$f":"IF(COUNTIF(data!A$6:A$5000,B465)>0,VLOOKUP(B465,data!A$6:M$5000,13,FALSE),\"\")","v":""},{"$f":"IF(B465>0,SUM(F$10:F465)-SUM(G$10:G465),\"\")","v":""}]
[null,null,{"$f":"IF(COUNTIF(data!A$6:A$5000,B466)>0,VLOOKUP(B466,data!A$6:M$5000,2,FALSE),\"\")","v":""},{"$f":"IF(COUNTIF(data!A$6:A$5000,B466)>0,VLOOKUP(B466,data!A$6:M$5000,4,FALSE),\"\")","v":""},{"$f":"IF(COUNTIF(data!A$6:A$5000,B466)>0,VLOOKUP(B466,data!A$6:M$5000,11,FALSE),\"\")","v":""},{"$f":"IF(COUNTIF(data!A$6:A$5000,B466)>0,VLOOKUP(B466,data!A$6:M$5000,12,FALSE),\"\")","v":""},{"$f":"IF(COUNTIF(data!A$6:A$5000,B466)>0,VLOOKUP(B466,data!A$6:M$5000,13,FALSE),\"\")","v":""},{"$f":"IF(B466>0,SUM(F$10:F466)-SUM(G$10:G466),\"\")","v":""}]
[null,null,{"$f":"IF(COUNTIF(data!A$6:A$5000,B467)>0,VLOOKUP(B467,data!A$6:M$5000,2,FALSE),\"\")","v":""},{"$f":"IF(COUNTIF(data!A$6:A$5000,B467)>0,VLOOKUP(B467,data!A$6:M$5000,4,FALSE),\"\")","v":""},{"$f":"IF(COUNTIF(data!A$6:A$5000,B467)>0,VLOOKUP(B467,data!A$6:M$5000,11,FALSE),\"\")","v":""},{"$f":"IF(COUNTIF(data!A$6:A$5000,B467)>0,VLOOKUP(B467,data!A$6:M$5000,12,FALSE),\"\")","v":""},{"$f":"IF(COUNTIF(data!A$6:A$5000,B467)>0,VLOOKUP(B467,data!A$6:M$5000,13,FALSE),\"\")","v":""},{"$f":"IF(B467>0,SUM(F$10:F467)-SUM(G$10:G467),\"\")","v":""}]
[null,null,{"$f":"IF(COUNTIF(data!A$6:A$5000,B468)>0,VLOOKUP(B468,data!A$6:M$5000,2,FALSE),\"\")","v":""},{"$f":"IF(COUNTIF(data!A$6:A$5000,B468)>0,VLOOKUP(B468,data!A$6:M$5000,4,FALSE),\"\")","v":""},{"$f":"IF(COUNTIF(data!A$6:A$5000,B468)>0,VLOOKUP(B468,data!A$6:M$5000,11,FALSE),\"\")","v":""},{"$f":"IF(COUNTIF(data!A$6:A$5000,B468)>0,VLOOKUP(B468,data!A$6:M$5000,12,FALSE),\"\")","v":""},{"$f":"IF(COUNTIF(data!A$6:A$5000,B468)>0,VLOOKUP(B468,data!A$6:M$5000,13,FALSE),\"\")","v":""},{"$f":"IF(B468>0,SUM(F$10:F468)-SUM(G$10:G468),\"\")","v":""}]
[null,null,{"$f":"IF(COUNTIF(data!A$6:A$5000,B469)>0,VLOOKUP(B469,data!A$6:M$5000,2,FALSE),\"\")","v":""},{"$f":"IF(COUNTIF(data!A$6:A$5000,B469)>0,VLOOKUP(B469,data!A$6:M$5000,4,FALSE),\"\")","v":""},{"$f":"IF(COUNTIF(data!A$6:A$5000,B469)>0,VLOOKUP(B469,data!A$6:M$5000,11,FALSE),\"\")","v":""},{"$f":"IF(COUNTIF(data!A$6:A$5000,B469)>0,VLOOKUP(B469,data!A$6:M$5000,12,FALSE),\"\")","v":""},{"$f":"IF(COUNTIF(data!A$6:A$5000,B469)>0,VLOOKUP(B469,data!A$6:M$5000,13,FALSE),\"\")","v":""},{"$f":"IF(B469>0,SUM(F$10:F469)-SUM(G$10:G469),\"\")","v":""}]
[null,null,{"$f":"IF(COUNTIF(data!A$6:A$5000,B470)>0,VLOOKUP(B470,data!A$6:M$5000,2,FALSE),\"\")","v":""},{"$f":"IF(COUNTIF(data!A$6:A$5000,B470)>0,VLOOKUP(B470,data!A$6:M$5000,4,FALSE),\"\")","v":""},{"$f":"IF(COUNTIF(data!A$6:A$5000,B470)>0,VLOOKUP(B470,data!A$6:M$5000,11,FALSE),\"\")","v":""},{"$f":"IF(COUNTIF(data!A$6:A$5000,B470)>0,VLOOKUP(B470,data!A$6:M$5000,12,FALSE),\"\")","v":""},{"$f":"IF(COUNTIF(data!A$6:A$5000,B470)>0,VLOOKUP(B470,data!A$6:M$5000,13,FALSE),\"\")","v":""},{"$f":"IF(B470>0,SUM(F$10:F470)-SUM(G$10:G470),\"\")","v":""}]
[null,null,{"$f":"IF(COUNTIF(data!A$6:A$5000,B471)>0,VLOOKUP(B471,data!A$6:M$5000,2,FALSE),\"\")","v":""},{"$f":"IF(COUNTIF(data!A$6:A$5000,B471)>0,VLOOKUP(B471,data!A$6:M$5000,4,FALSE),\"\")","v":""},{"$f":"IF(COUNTIF(data!A$6:A$5000,B471)>0,VLOOKUP(B471,data!A$6:M$5000,11,FALSE),\"\")","v":""},{"$f":"IF(COUNTIF(data!A$6:A$5000,B471)>0,VLOOKUP(B471,data!A$6:M$5000,12,FALSE),\"\")","v":""},{"$f":"IF(COUNTIF(data!A$6:A$5000,B471)>0,VLOOKUP(B471,data!A$6:M$5000,13,FALSE),\"\")","v":""},{"$f":"IF(B471>0,SUM(F$10:F471)-SUM(G$10:G471),\"\")","v":""}]
[null,null,{"$f":"IF(COUNTIF(data!A$6:A$5000,B472)>0,VLOOKUP(B472,data!A$6:M$5000,2,FALSE),\"\")","v":""},{"$f":"IF(COUNTIF(data!A$6:A$5000,B472)>0,VLOOKUP(B472,data!A$6:M$5000,4,FALSE),\"\")","v":""},{"$f":"IF(COUNTIF(data!A$6:A$5000,B472)>0,VLOOKUP(B472,data!A$6:M$5000,11,FALSE),\"\")","v":""},{"$f":"IF(COUNTIF(data!A$6:A$5000,B472)>0,VLOOKUP(B472,data!A$6:M$5000,12,FALSE),\"\")","v":""},{"$f":"IF(COUNTIF(data!A$6:A$5000,B472)>0,VLOOKUP(B472,data!A$6:M$5000,13,FALSE),\"\")","v":""},{"$f":"IF(B472>0,SUM(F$10:F472)-SUM(G$10:G472),\"\")","v":""}]
[null,null,{"$f":"IF(COUNTIF(data!A$6:A$5000,B473)>0,VLOOKUP(B473,data!A$6:M$5000,2,FALSE),\"\")","v":""},{"$f":"IF(COUNTIF(data!A$6:A$5000,B473)>0,VLOOKUP(B473,data!A$6:M$5000,4,FALSE),\"\")","v":""},{"$f":"IF(COUNTIF(data!A$6:A$5000,B473)>0,VLOOKUP(B473,data!A$6:M$5000,11,FALSE),\"\")","v":""},{"$f":"IF(COUNTIF(data!A$6:A$5000,B473)>0,VLOOKUP(B473,data!A$6:M$5000,12,FALSE),\"\")","v":""},{"$f":"IF(COUNTIF(data!A$6:A$5000,B473)>0,VLOOKUP(B473,data!A$6:M$5000,13,FALSE),\"\")","v":""},{"$f":"IF(B473>0,SUM(F$10:F473)-SUM(G$10:G473),\"\")","v":""}]
[null,null,{"$f":"IF(COUNTIF(data!A$6:A$5000,B474)>0,VLOOKUP(B474,data!A$6:M$5000,2,FALSE),\"\")","v":""},{"$f":"IF(COUNTIF(data!A$6:A$5000,B474)>0,VLOOKUP(B474,data!A$6:M$5000,4,FALSE),\"\")","v":""},{"$f":"IF(COUNTIF(data!A$6:A$5000,B474)>0,VLOOKUP(B474,data!A$6:M$5000,11,FALSE),\"\")","v":""},{"$f":"IF(COUNTIF(data!A$6:A$5000,B474)>0,VLOOKUP(B474,data!A$6:M$5000,12,FALSE),\"\")","v":""},{"$f":"IF(COUNTIF(data!A$6:A$5000,B474)>0,VLOOKUP(B474,data!A$6:M$5000,13,FALSE),\"\")","v":""},{"$f":"IF(B474>0,SUM(F$10:F474)-SUM(G$10:G474),\"\")","v":""}]
[null,null,{"$f":"IF(COUNTIF(data!A$6:A$5000,B475)>0,VLOOKUP(B475,data!A$6:M$5000,2,FALSE),\"\")","v":""},{"$f":"IF(COUNTIF(data!A$6:A$5000,B475)>0,VLOOKUP(B475,data!A$6:M$5000,4,FALSE),\"\")","v":""},{"$f":"IF(COUNTIF(data!A$6:A$5000,B475)>0,VLOOKUP(B475,data!A$6:M$5000,11,FALSE),\"\")","v":""},{"$f":"IF(COUNTIF(data!A$6:A$5000,B475)>0,VLOOKUP(B475,data!A$6:M$5000,12,FALSE),\"\")","v":""},{"$f":"IF(COUNTIF(data!A$6:A$5000,B475)>0,VLOOKUP(B475,data!A$6:M$5000,13,FALSE),\"\")","v":""},{"$f":"IF(B475>0,SUM(F$10:F475)-SUM(G$10:G475),\"\")","v":""}]
[null,null,{"$f":"IF(COUNTIF(data!A$6:A$5000,B476)>0,VLOOKUP(B476,data!A$6:M$5000,2,FALSE),\"\")","v":""},{"$f":"IF(COUNTIF(data!A$6:A$5000,B476)>0,VLOOKUP(B476,data!A$6:M$5000,4,FALSE),\"\")","v":""},{"$f":"IF(COUNTIF(data!A$6:A$5000,B476)>0,VLOOKUP(B476,data!A$6:M$5000,11,FALSE),\"\")","v":""},{"$f":"IF(COUNTIF(data!A$6:A$5000,B476)>0,VLOOKUP(B476,data!A$6:M$5000,12,FALSE),\"\")","v":""},{"$f":"IF(COUNTIF(data!A$6:A$5000,B476)>0,VLOOKUP(B476,data!A$6:M$5000,13,FALSE),\"\")","v":""},{"$f":"IF(B476>0,SUM(F$10:F476)-SUM(G$10:G476),\"\")","v":""}]
[null,null,{"$f":"IF(COUNTIF(data!A$6:A$5000,B477)>0,VLOOKUP(B477,data!A$6:M$5000,2,FALSE),\"\")","v":""},{"$f":"IF(COUNTIF(data!A$6:A$5000,B477)>0,VLOOKUP(B477,data!A$6:M$5000,4,FALSE),\"\")","v":""},{"$f":"IF(COUNTIF(data!A$6:A$5000,B477)>0,VLOOKUP(B477,data!A$6:M$5000,11,FALSE),\"\")","v":""},{"$f":"IF(COUNTIF(data!A$6:A$5000,B477)>0,VLOOKUP(B477,data!A$6:M$5000,12,FALSE),\"\")","v":""},{"$f":"IF(COUNTIF(data!A$6:A$5000,B477)>0,VLOOKUP(B477,data!A$6:M$5000,13,FALSE),\"\")","v":""},{"$f":"IF(B477>0,SUM(F$10:F477)-SUM(G$10:G477),\"\")","v":""}]
[null,null,{"$f":"IF(COUNTIF(data!A$6:A$5000,B478)>0,VLOOKUP(B478,data!A$6:M$5000,2,FALSE),\"\")","v":""},{"$f":"IF(COUNTIF(data!A$6:A$5000,B478)>0,VLOOKUP(B478,data!A$6:M$5000,4,FALSE),\"\")","v":""},{"$f":"IF(COUNTIF(data!A$6:A$5000,B478)>0,VLOOKUP(B478,data!A$6:M$5000,11,FALSE),\"\")","v":""},{"$f":"IF(COUNTIF(data!A$6:A$5000,B478)>0,VLOOKUP(B478,data!A$6:M$5000,12,FALSE),\"\")","v":""},{"$f":"IF(COUNTIF(data!A$6:A$5000,B478)>0,VLOOKUP(B478,data!A$6:M$5000,13,FALSE),\"\")","v":""},{"$f":"IF(B478>0,SUM(F$10:F478)-SUM(G$10:G478),\"\")","v":""}]
[null,null,{"$f":"IF(COUNTIF(data!A$6:A$5000,B479)>0,VLOOKUP(B479,data!A$6:M$5000,2,FALSE),\"\")","v":""},{"$f":"IF(COUNTIF(data!A$6:A$5000,B479)>0,VLOOKUP(B479,data!A$6:M$5000,4,FALSE),\"\")","v":""},{"$f":"IF(COUNTIF(data!A$6:A$5000,B479)>0,VLOOKUP(B479,data!A$6:M$5000,11,FALSE),\"\")","v":""},{"$f":"IF(COUNTIF(data!A$6:A$5000,B479)>0,VLOOKUP(B479,data!A$6:M$5000,12,FALSE),\"\")","v":""},{"$f":"IF(COUNTIF(data!A$6:A$5000,B479)>0,VLOOKUP(B479,data!A$6:M$5000,13,FALSE),\"\")","v":""},{"$f":"IF(B479>0,SUM(F$10:F479)-SUM(G$10:G479),\"\")","v":""}]
[null,null,{"$f":"IF(COUNTIF(data!A$6:A$5000,B480)>0,VLOOKUP(B480,data!A$6:M$5000,2,FALSE),\"\")","v":""},{"$f":"IF(COUNTIF(data!A$6:A$5000,B480)>0,VLOOKUP(B480,data!A$6:M$5000,4,FALSE),\"\")","v":""},{"$f":"IF(COUNTIF(data!A$6:A$5000,B480)>0,VLOOKUP(B480,data!A$6:M$5000,11,FALSE),\"\")","v":""},{"$f":"IF(COUNTIF(data!A$6:A$5000,B480)>0,VLOOKUP(B480,data!A$6:M$5000,12,FALSE),\"\")","v":""},{"$f":"IF(COUNTIF(data!A$6:A$5000,B480)>0,VLOOKUP(B480,data!A$6:M$5000,13,FALSE),\"\")","v":""},{"$f":"IF(B480>0,SUM(F$10:F480)-SUM(G$10:G480),\"\")","v":""}]
[null,null,{"$f":"IF(COUNTIF(data!A$6:A$5000,B481)>0,VLOOKUP(B481,data!A$6:M$5000,2,FALSE),\"\")","v":""},{"$f":"IF(COUNTIF(data!A$6:A$5000,B481)>0,VLOOKUP(B481,data!A$6:M$5000,4,FALSE),\"\")","v":""},{"$f":"IF(COUNTIF(data!A$6:A$5000,B481)>0,VLOOKUP(B481,data!A$6:M$5000,11,FALSE),\"\")","v":""},{"$f":"IF(COUNTIF(data!A$6:A$5000,B481)>0,VLOOKUP(B481,data!A$6:M$5000,12,FALSE),\"\")","v":""},{"$f":"IF(COUNTIF(data!A$6:A$5000,B481)>0,VLOOKUP(B481,data!A$6:M$5000,13,FALSE),\"\")","v":""},{"$f":"IF(B481>0,SUM(F$10:F481)-SUM(G$10:G481),\"\")","v":""}]
[null,null,{"$f":"IF(COUNTIF(data!A$6:A$5000,B482)>0,VLOOKUP(B482,data!A$6:M$5000,2,FALSE),\"\")","v":""},{"$f":"IF(COUNTIF(data!A$6:A$5000,B482)>0,VLOOKUP(B482,data!A$6:M$5000,4,FALSE),\"\")","v":""},{"$f":"IF(COUNTIF(data!A$6:A$5000,B482)>0,VLOOKUP(B482,data!A$6:M$5000,11,FALSE),\"\")","v":""},{"$f":"IF(COUNTIF(data!A$6:A$5000,B482)>0,VLOOKUP(B482,data!A$6:M$5000,12,FALSE),\"\")","v":""},{"$f":"IF(COUNTIF(data!A$6:A$5000,B482)>0,VLOOKUP(B482,data!A$6:M$5000,13,FALSE),\"\")","v":""},{"$f":"IF(B482>0,SUM(F$10:F482)-SUM(G$10:G482),\"\")","v":""}]
[null,null,{"$f":"IF(COUNTIF(data!A$6:A$5000,B483)>0,VLOOKUP(B483,data!A$6:M$5000,2,FALSE),\"\")","v":""},{"$f":"IF(COUNTIF(data!A$6:A$5000,B483)>0,VLOOKUP(B483,data!A$6:M$5000,4,FALSE),\"\")","v":""},{"$f":"IF(COUNTIF(data!A$6:A$5000,B483)>0,VLOOKUP(B483,data!A$6:M$5000,11,FALSE),\"\")","v":""},{"$f":"IF(COUNTIF(data!A$6:A$5000,B483)>0,VLOOKUP(B483,data!A$6:M$5000,12,FALSE),\"\")","v":""},{"$f":"IF(COUNTIF(data!A$6:A$5000,B483)>0,VLOOKUP(B483,data!A$6:M$5000,13,FALSE),\"\")","v":""},{"$f":"IF(B483>0,SUM(F$10:F483)-SUM(G$10:G483),\"\")","v":""}]
[null,null,{"$f":"IF(COUNTIF(data!A$6:A$5000,B484)>0,VLOOKUP(B484,data!A$6:M$5000,2,FALSE),\"\")","v":""},{"$f":"IF(COUNTIF(data!A$6:A$5000,B484)>0,VLOOKUP(B484,data!A$6:M$5000,4,FALSE),\"\")","v":""},{"$f":"IF(COUNTIF(data!A$6:A$5000,B484)>0,VLOOKUP(B484,data!A$6:M$5000,11,FALSE),\"\")","v":""},{"$f":"IF(COUNTIF(data!A$6:A$5000,B484)>0,VLOOKUP(B484,data!A$6:M$5000,12,FALSE),\"\")","v":""},{"$f":"IF(COUNTIF(data!A$6:A$5000,B484)>0,VLOOKUP(B484,data!A$6:M$5000,13,FALSE),\"\")","v":""},{"$f":"IF(B484>0,SUM(F$10:F484)-SUM(G$10:G484),\"\")","v":""}]
[null,null,{"$f":"IF(COUNTIF(data!A$6:A$5000,B485)>0,VLOOKUP(B485,data!A$6:M$5000,2,FALSE),\"\")","v":""},{"$f":"IF(COUNTIF(data!A$6:A$5000,B485)>0,VLOOKUP(B485,data!A$6:M$5000,4,FALSE),\"\")","v":""},{"$f":"IF(COUNTIF(data!A$6:A$5000,B485)>0,VLOOKUP(B485,data!A$6:M$5000,11,FALSE),\"\")","v":""},{"$f":"IF(COUNTIF(data!A$6:A$5000,B485)>0,VLOOKUP(B485,data!A$6:M$5000,12,FALSE),\"\")","v":""},{"$f":"IF(COUNTIF(data!A$6:A$5000,B485)>0,VLOOKUP(B485,data!A$6:M$5000,13,FALSE),\"\")","v":""},{"$f":"IF(B485>0,SUM(F$10:F485)-SUM(G$10:G485),\"\")","v":""}]
[null,null,{"$f":"IF(COUNTIF(data!A$6:A$5000,B486)>0,VLOOKUP(B486,data!A$6:M$5000,2,FALSE),\"\")","v":""},{"$f":"IF(COUNTIF(data!A$6:A$5000,B486)>0,VLOOKUP(B486,data!A$6:M$5000,4,FALSE),\"\")","v":""},{"$f":"IF(COUNTIF(data!A$6:A$5000,B486)>0,VLOOKUP(B486,data!A$6:M$5000,11,FALSE),\"\")","v":""},{"$f":"IF(COUNTIF(data!A$6:A$5000,B486)>0,VLOOKUP(B486,data!A$6:M$5000,12,FALSE),\"\")","v":""},{"$f":"IF(COUNTIF(data!A$6:A$5000,B486)>0,VLOOKUP(B486,data!A$6:M$5000,13,FALSE),\"\")","v":""},{"$f":"IF(B486>0,SUM(F$10:F486)-SUM(G$10:G486),\"\")","v":""}]
[null,null,{"$f":"IF(COUNTIF(data!A$6:A$5000,B487)>0,VLOOKUP(B487,data!A$6:M$5000,2,FALSE),\"\")","v":""},{"$f":"IF(COUNTIF(data!A$6:A$5000,B487)>0,VLOOKUP(B487,data!A$6:M$5000,4,FALSE),\"\")","v":""},{"$f":"IF(COUNTIF(data!A$6:A$5000,B487)>0,VLOOKUP(B487,data!A$6:M$5000,11,FALSE),\"\")","v":""},{"$f":"IF(COUNTIF(data!A$6:A$5000,B487)>0,VLOOKUP(B487,data!A$6:M$5000,12,FALSE),\"\")","v":""},{"$f":"IF(COUNTIF(data!A$6:A$5000,B487)>0,VLOOKUP(B487,data!A$6:M$5000,13,FALSE),\"\")","v":""},{"$f":"IF(B487>0,SUM(F$10:F487)-SUM(G$10:G487),\"\")","v":""}]
[null,null,{"$f":"IF(COUNTIF(data!A$6:A$5000,B488)>0,VLOOKUP(B488,data!A$6:M$5000,2,FALSE),\"\")","v":""},{"$f":"IF(COUNTIF(data!A$6:A$5000,B488)>0,VLOOKUP(B488,data!A$6:M$5000,4,FALSE),\"\")","v":""},{"$f":"IF(COUNTIF(data!A$6:A$5000,B488)>0,VLOOKUP(B488,data!A$6:M$5000,11,FALSE),\"\")","v":""},{"$f":"IF(COUNTIF(data!A$6:A$5000,B488)>0,VLOOKUP(B488,data!A$6:M$5000,12,FALSE),\"\")","v":""},{"$f":"IF(COUNTIF(data!A$6:A$5000,B488)>0,VLOOKUP(B488,data!A$6:M$5000,13,FALSE),\"\")","v":""},{"$f":"IF(B488>0,SUM(F$10:F488)-SUM(G$10:G488),\"\")","v":""}]
[null,null,{"$f":"IF(COUNTIF(data!A$6:A$5000,B489)>0,VLOOKUP(B489,data!A$6:M$5000,2,FALSE),\"\")","v":""},{"$f":"IF(COUNTIF(data!A$6:A$5000,B489)>0,VLOOKUP(B489,data!A$6:M$5000,4,FALSE),\"\")","v":""},{"$f":"IF(COUNTIF(data!A$6:A$5000,B489)>0,VLOOKUP(B489,data!A$6:M$5000,11,FALSE),\"\")","v":""},{"$f":"IF(COUNTIF(data!A$6:A$5000,B489)>0,VLOOKUP(B489,data!A$6:M$5000,12,FALSE),\"\")","v":""},{"$f":"IF(COUNTIF(data!A$6:A$5000,B489)>0,VLOOKUP(B489,data!A$6:M$5000,13,FALSE),\"\")","v":""},{"$f":"IF(B489>0,SUM(F$10:F489)-SUM(G$10:G489),\"\")","v":""}]
[null,null,{"$f":"IF(COUNTIF(data!A$6:A$5000,B490)>0,VLOOKUP(B490,data!A$6:M$5000,2,FALSE),\"\")","v":""},{"$f":"IF(COUNTIF(data!A$6:A$5000,B490)>0,VLOOKUP(B490,data!A$6:M$5000,4,FALSE),\"\")","v":""},{"$f":"IF(COUNTIF(data!A$6:A$5000,B490)>0,VLOOKUP(B490,data!A$6:M$5000,11,FALSE),\"\")","v":""},{"$f":"IF(COUNTIF(data!A$6:A$5000,B490)>0,VLOOKUP(B490,data!A$6:M$5000,12,FALSE),\"\")","v":""},{"$f":"IF(COUNTIF(data!A$6:A$5000,B490)>0,VLOOKUP(B490,data!A$6:M$5000,13,FALSE),\"\")","v":""},{"$f":"IF(B490>0,SUM(F$10:F490)-SUM(G$10:G490),\"\")","v":""}]
[null,null,{"$f":"IF(COUNTIF(data!A$6:A$5000,B491)>0,VLOOKUP(B491,data!A$6:M$5000,2,FALSE),\"\")","v":""},{"$f":"IF(COUNTIF(data!A$6:A$5000,B491)>0,VLOOKUP(B491,data!A$6:M$5000,4,FALSE),\"\")","v":""},{"$f":"IF(COUNTIF(data!A$6:A$5000,B491)>0,VLOOKUP(B491,data!A$6:M$5000,11,FALSE),\"\")","v":""},{"$f":"IF(COUNTIF(data!A$6:A$5000,B491)>0,VLOOKUP(B491,data!A$6:M$5000,12,FALSE),\"\")","v":""},{"$f":"IF(COUNTIF(data!A$6:A$5000,B491)>0,VLOOKUP(B491,data!A$6:M$5000,13,FALSE),\"\")","v":""},{"$f":"IF(B491>0,SUM(F$10:F491)-SUM(G$10:G491),\"\")","v":""}]
[null,null,{"$f":"IF(COUNTIF(data!A$6:A$5000,B492)>0,VLOOKUP(B492,data!A$6:M$5000,2,FALSE),\"\")","v":""},{"$f":"IF(COUNTIF(data!A$6:A$5000,B492)>0,VLOOKUP(B492,data!A$6:M$5000,4,FALSE),\"\")","v":""},{"$f":"IF(COUNTIF(data!A$6:A$5000,B492)>0,VLOOKUP(B492,data!A$6:M$5000,11,FALSE),\"\")","v":""},{"$f":"IF(COUNTIF(data!A$6:A$5000,B492)>0,VLOOKUP(B492,data!A$6:M$5000,12,FALSE),\"\")","v":""},{"$f":"IF(COUNTIF(data!A$6:A$5000,B492)>0,VLOOKUP(B492,data!A$6:M$5000,13,FALSE),\"\")","v":""},{"$f":"IF(B492>0,SUM(F$10:F492)-SUM(G$10:G492),\"\")","v":""}]
[null,null,{"$f":"IF(COUNTIF(data!A$6:A$5000,B493)>0,VLOOKUP(B493,data!A$6:M$5000,2,FALSE),\"\")","v":""},{"$f":"IF(COUNTIF(data!A$6:A$5000,B493)>0,VLOOKUP(B493,data!A$6:M$5000,4,FALSE),\"\")","v":""},{"$f":"IF(COUNTIF(data!A$6:A$5000,B493)>0,VLOOKUP(B493,data!A$6:M$5000,11,FALSE),\"\")","v":""},{"$f":"IF(COUNTIF(data!A$6:A$5000,B493)>0,VLOOKUP(B493,data!A$6:M$5000,12,FALSE),\"\")","v":""},{"$f":"IF(COUNTIF(data!A$6:A$5000,B493)>0,VLOOKUP(B493,data!A$6:M$5000,13,FALSE),\"\")","v":""},{"$f":"IF(B493>0,SUM(F$10:F493)-SUM(G$10:G493),\"\")","v":""}]
[null,null,{"$f":"IF(COUNTIF(data!A$6:A$5000,B494)>0,VLOOKUP(B494,data!A$6:M$5000,2,FALSE),\"\")","v":""},{"$f":"IF(COUNTIF(data!A$6:A$5000,B494)>0,VLOOKUP(B494,data!A$6:M$5000,4,FALSE),\"\")","v":""},{"$f":"IF(COUNTIF(data!A$6:A$5000,B494)>0,VLOOKUP(B494,data!A$6:M$5000,11,FALSE),\"\")","v":""},{"$f":"IF(COUNTIF(data!A$6:A$5000,B494)>0,VLOOKUP(B494,data!A$6:M$5000,12,FALSE),\"\")","v":""},{"$f":"IF(COUNTIF(data!A$6:A$5000,B494)>0,VLOOKUP(B494,data!A$6:M$5000,13,FALSE),\"\")","v":""},{"$f":"IF(B494>0,SUM(F$10:F494)-SUM(G$10:G494),\"\")","v":""}]
[null,null,{"$f":"IF(COUNTIF(data!A$6:A$5000,B495)>0,VLOOKUP(B495,data!A$6:M$5000,2,FALSE),\"\")","v":""},{"$f":"IF(COUNTIF(data!A$6:A$5000,B495)>0,VLOOKUP(B495,data!A$6:M$5000,4,FALSE),\"\")","v":""},{"$f":"IF(COUNTIF(data!A$6:A$5000,B495)>0,VLOOKUP(B495,data!A$6:M$5000,11,FALSE),\"\")","v":""},{"$f":"IF(COUNTIF(data!A$6:A$5000,B495)>0,VLOOKUP(B495,data!A$6:M$5000,12,FALSE),\"\")","v":""},{"$f":"IF(COUNTIF(data!A$6:A$5000,B495)>0,VLOOKUP(B495,data!A$6:M$5000,13,FALSE),\"\")","v":""},{"$f":"IF(B495>0,SUM(F$10:F495)-SUM(G$10:G495),\"\")","v":""}]
[null,null,{"$f":"IF(COUNTIF(data!A$6:A$5000,B496)>0,VLOOKUP(B496,data!A$6:M$5000,2,FALSE),\"\")","v":""},{"$f":"IF(COUNTIF(data!A$6:A$5000,B496)>0,VLOOKUP(B496,data!A$6:M$5000,4,FALSE),\"\")","v":""},{"$f":"IF(COUNTIF(data!A$6:A$5000,B496)>0,VLOOKUP(B496,data!A$6:M$5000,11,FALSE),\"\")","v":""},{"$f":"IF(COUNTIF(data!A$6:A$5000,B496)>0,VLOOKUP(B496,data!A$6:M$5000,12,FALSE),\"\")","v":""},{"$f":"IF(COUNTIF(data!A$6:A$5000,B496)>0,VLOOKUP(B496,data!A$6:M$5000,13,FALSE),\"\")","v":""},{"$f":"IF(B496>0,SUM(F$10:F496)-SUM(G$10:G496),\"\")","v":""}]
[null,null,{"$f":"IF(COUNTIF(data!A$6:A$5000,B497)>0,VLOOKUP(B497,data!A$6:M$5000,2,FALSE),\"\")","v":""},{"$f":"IF(COUNTIF(data!A$6:A$5000,B497)>0,VLOOKUP(B497,data!A$6:M$5000,4,FALSE),\"\")","v":""},{"$f":"IF(COUNTIF(data!A$6:A$5000,B497)>0,VLOOKUP(B497,data!A$6:M$5000,11,FALSE),\"\")","v":""},{"$f":"IF(COUNTIF(data!A$6:A$5000,B497)>0,VLOOKUP(B497,data!A$6:M$5000,12,FALSE),\"\")","v":""},{"$f":"IF(COUNTIF(data!A$6:A$5000,B497)>0,VLOOKUP(B497,data!A$6:M$5000,13,FALSE),\"\")","v":""},{"$f":"IF(B497>0,SUM(F$10:F497)-SUM(G$10:G497),\"\")","v":""}]
[null,null,{"$f":"IF(COUNTIF(data!A$6:A$5000,B498)>0,VLOOKUP(B498,data!A$6:M$5000,2,FALSE),\"\")","v":""},{"$f":"IF(COUNTIF(data!A$6:A$5000,B498)>0,VLOOKUP(B498,data!A$6:M$5000,4,FALSE),\"\")","v":""},{"$f":"IF(COUNTIF(data!A$6:A$5000,B498)>0,VLOOKUP(B498,data!A$6:M$5000,11,FALSE),\"\")","v":""},{"$f":"IF(COUNTIF(data!A$6:A$5000,B498)>0,VLOOKUP(B498,data!A$6:M$5000,12,FALSE),\"\")","v":""},{"$f":"IF(COUNTIF(data!A$6:A$5000,B498)>0,VLOOKUP(B498,data!A$6:M$5000,13,FALSE),\"\")","v":""},{"$f":"IF(B498>0,SUM(F$10:F498)-SUM(G$10:G498),\"\")","v":""}]
[null,null,{"$f":"IF(COUNTIF(data!A$6:A$5000,B499)>0,VLOOKUP(B499,data!A$6:M$5000,2,FALSE),\"\")","v":""},{"$f":"IF(COUNTIF(data!A$6:A$5000,B499)>0,VLOOKUP(B499,data!A$6:M$5000,4,FALSE),\"\")","v":""},{"$f":"IF(COUNTIF(data!A$6:A$5000,B499)>0,VLOOKUP(B499,data!A$6:M$5000,11,FALSE),\"\")","v":""},{"$f":"IF(COUNTIF(data!A$6:A$5000,B499)>0,VLOOKUP(B499,data!A$6:M$5000,12,FALSE),\"\")","v":""},{"$f":"IF(COUNTIF(data!A$6:A$5000,B499)>0,VLOOKUP(B499,data!A$6:M$5000,13,FALSE),\"\")","v":""},{"$f":"IF(B499>0,SUM(F$10:F499)-SUM(G$10:G499),\"\")","v":""}]
[null,null,{"$f":"IF(COUNTIF(data!A$6:A$5000,B500)>0,VLOOKUP(B500,data!A$6:M$5000,2,FALSE),\"\")","v":""},{"$f":"IF(COUNTIF(data!A$6:A$5000,B500)>0,VLOOKUP(B500,data!A$6:M$5000,4,FALSE),\"\")","v":""},{"$f":"IF(COUNTIF(data!A$6:A$5000,B500)>0,VLOOKUP(B500,data!A$6:M$5000,11,FALSE),\"\")","v":""},{"$f":"IF(COUNTIF(data!A$6:A$5000,B500)>0,VLOOKUP(B500,data!A$6:M$5000,12,FALSE),\"\")","v":""},{"$f":"IF(COUNTIF(data!A$6:A$5000,B500)>0,VLOOKUP(B500,data!A$6:M$5000,13,FALSE),\"\")","v":""},{"$f":"IF(B500>0,SUM(F$10:F500)-SUM(G$10:G500),\"\")","v":""}]
[null,null,{"$f":"IF(COUNTIF(data!A$6:A$5000,B501)>0,VLOOKUP(B501,data!A$6:M$5000,2,FALSE),\"\")","v":""},{"$f":"IF(COUNTIF(data!A$6:A$5000,B501)>0,VLOOKUP(B501,data!A$6:M$5000,4,FALSE),\"\")","v":""},{"$f":"IF(COUNTIF(data!A$6:A$5000,B501)>0,VLOOKUP(B501,data!A$6:M$5000,11,FALSE),\"\")","v":""},{"$f":"IF(COUNTIF(data!A$6:A$5000,B501)>0,VLOOKUP(B501,data!A$6:M$5000,12,FALSE),\"\")","v":""},{"$f":"IF(COUNTIF(data!A$6:A$5000,B501)>0,VLOOKUP(B501,data!A$6:M$5000,13,FALSE),\"\")","v":""},{"$f":"IF(B501>0,SUM(F$10:F501)-SUM(G$10:G501),\"\")","v":""}]
[null,null,{"$f":"IF(COUNTIF(data!A$6:A$5000,B502)>0,VLOOKUP(B502,data!A$6:M$5000,2,FALSE),\"\")","v":""},{"$f":"IF(COUNTIF(data!A$6:A$5000,B502)>0,VLOOKUP(B502,data!A$6:M$5000,4,FALSE),\"\")","v":""},{"$f":"IF(COUNTIF(data!A$6:A$5000,B502)>0,VLOOKUP(B502,data!A$6:M$5000,11,FALSE),\"\")","v":""},{"$f":"IF(COUNTIF(data!A$6:A$5000,B502)>0,VLOOKUP(B502,data!A$6:M$5000,12,FALSE),\"\")","v":""},{"$f":"IF(COUNTIF(data!A$6:A$5000,B502)>0,VLOOKUP(B502,data!A$6:M$5000,13,FALSE),\"\")","v":""},{"$f":"IF(B502>0,SUM(F$10:F502)-SUM(G$10:G502),\"\")","v":""}]
[null,null,{"$f":"IF(COUNTIF(data!A$6:A$5000,B503)>0,VLOOKUP(B503,data!A$6:M$5000,2,FALSE),\"\")","v":""},{"$f":"IF(COUNTIF(data!A$6:A$5000,B503)>0,VLOOKUP(B503,data!A$6:M$5000,4,FALSE),\"\")","v":""},{"$f":"IF(COUNTIF(data!A$6:A$5000,B503)>0,VLOOKUP(B503,data!A$6:M$5000,11,FALSE),\"\")","v":""},{"$f":"IF(COUNTIF(data!A$6:A$5000,B503)>0,VLOOKUP(B503,data!A$6:M$5000,12,FALSE),\"\")","v":""},{"$f":"IF(COUNTIF(data!A$6:A$5000,B503)>0,VLOOKUP(B503,data!A$6:M$5000,13,FALSE),\"\")","v":""},{"$f":"IF(B503>0,SUM(F$10:F503)-SUM(G$10:G503),\"\")","v":""}]
[null,null,{"$f":"IF(COUNTIF(data!A$6:A$5000,B504)>0,VLOOKUP(B504,data!A$6:M$5000,2,FALSE),\"\")","v":""},{"$f":"IF(COUNTIF(data!A$6:A$5000,B504)>0,VLOOKUP(B504,data!A$6:M$5000,4,FALSE),\"\")","v":""},{"$f":"IF(COUNTIF(data!A$6:A$5000,B504)>0,VLOOKUP(B504,data!A$6:M$5000,11,FALSE),\"\")","v":""},{"$f":"IF(COUNTIF(data!A$6:A$5000,B504)>0,VLOOKUP(B504,data!A$6:M$5000,12,FALSE),\"\")","v":""},{"$f":"IF(COUNTIF(data!A$6:A$5000,B504)>0,VLOOKUP(B504,data!A$6:M$5000,13,FALSE),\"\")","v":""},{"$f":"IF(B504>0,SUM(F$10:F504)-SUM(G$10:G504),\"\")","v":""}]
[null,null,{"$f":"IF(COUNTIF(data!A$6:A$5000,B505)>0,VLOOKUP(B505,data!A$6:M$5000,2,FALSE),\"\")","v":""},{"$f":"IF(COUNTIF(data!A$6:A$5000,B505)>0,VLOOKUP(B505,data!A$6:M$5000,4,FALSE),\"\")","v":""},{"$f":"IF(COUNTIF(data!A$6:A$5000,B505)>0,VLOOKUP(B505,data!A$6:M$5000,11,FALSE),\"\")","v":""},{"$f":"IF(COUNTIF(data!A$6:A$5000,B505)>0,VLOOKUP(B505,data!A$6:M$5000,12,FALSE),\"\")","v":""},{"$f":"IF(COUNTIF(data!A$6:A$5000,B505)>0,VLOOKUP(B505,data!A$6:M$5000,13,FALSE),\"\")","v":""},{"$f":"IF(B505>0,SUM(F$10:F505)-SUM(G$10:G505),\"\")","v":""}]
[null,null,{"$f":"IF(COUNTIF(data!A$6:A$5000,B506)>0,VLOOKUP(B506,data!A$6:M$5000,2,FALSE),\"\")","v":""},{"$f":"IF(COUNTIF(data!A$6:A$5000,B506)>0,VLOOKUP(B506,data!A$6:M$5000,4,FALSE),\"\")","v":""},{"$f":"IF(COUNTIF(data!A$6:A$5000,B506)>0,VLOOKUP(B506,data!A$6:M$5000,11,FALSE),\"\")","v":""},{"$f":"IF(COUNTIF(data!A$6:A$5000,B506)>0,VLOOKUP(B506,data!A$6:M$5000,12,FALSE),\"\")","v":""},{"$f":"IF(COUNTIF(data!A$6:A$5000,B506)>0,VLOOKUP(B506,data!A$6:M$5000,13,FALSE),\"\")","v":""},{"$f":"IF(B506>0,SUM(F$10:F506)-SUM(G$10:G506),\"\")","v":""}]
[null,null,{"$f":"IF(COUNTIF(data!A$6:A$5000,B507)>0,VLOOKUP(B507,data!A$6:M$5000,2,FALSE),\"\")","v":""},{"$f":"IF(COUNTIF(data!A$6:A$5000,B507)>0,VLOOKUP(B507,data!A$6:M$5000,4,FALSE),\"\")","v":""},{"$f":"IF(COUNTIF(data!A$6:A$5000,B507)>0,VLOOKUP(B507,data!A$6:M$5000,11,FALSE),\"\")","v":""},{"$f":"IF(COUNTIF(data!A$6:A$5000,B507)>0,VLOOKUP(B507,data!A$6:M$5000,12,FALSE),\"\")","v":""},{"$f":"IF(COUNTIF(data!A$6:A$5000,B507)>0,VLOOKUP(B507,data!A$6:M$5000,13,FALSE),\"\")","v":""},{"$f":"IF(B507>0,SUM(F$10:F507)-SUM(G$10:G507),\"\")","v":""}]
[null,null,{"$f":"IF(COUNTIF(data!A$6:A$5000,B508)>0,VLOOKUP(B508,data!A$6:M$5000,2,FALSE),\"\")","v":""},{"$f":"IF(COUNTIF(data!A$6:A$5000,B508)>0,VLOOKUP(B508,data!A$6:M$5000,4,FALSE),\"\")","v":""},{"$f":"IF(COUNTIF(data!A$6:A$5000,B508)>0,VLOOKUP(B508,data!A$6:M$5000,11,FALSE),\"\")","v":""},{"$f":"IF(COUNTIF(data!A$6:A$5000,B508)>0,VLOOKUP(B508,data!A$6:M$5000,12,FALSE),\"\")","v":""},{"$f":"IF(COUNTIF(data!A$6:A$5000,B508)>0,VLOOKUP(B508,data!A$6:M$5000,13,FALSE),\"\")","v":""},{"$f":"IF(B508>0,SUM(F$10:F508)-SUM(G$10:G508),\"\")","v":""}]
[null,null,{"$f":"IF(COUNTIF(data!A$6:A$5000,B509)>0,VLOOKUP(B509,data!A$6:M$5000,2,FALSE),\"\")","v":""},{"$f":"IF(COUNTIF(data!A$6:A$5000,B509)>0,VLOOKUP(B509,data!A$6:M$5000,4,FALSE),\"\")","v":""},{"$f":"IF(COUNTIF(data!A$6:A$5000,B509)>0,VLOOKUP(B509,data!A$6:M$5000,11,FALSE),\"\")","v":""},{"$f":"IF(COUNTIF(data!A$6:A$5000,B509)>0,VLOOKUP(B509,data!A$6:M$5000,12,FALSE),\"\")","v":""},{"$f":"IF(COUNTIF(data!A$6:A$5000,B509)>0,VLOOKUP(B509,data!A$6:M$5000,13,FALSE),\"\")","v":""},{"$f":"IF(B509>0,SUM(F$10:F509)-SUM(G$10:G509),\"\")","v":""}]
[null,null,{"$f":"IF(COUNTIF(data!A$6:A$5000,B510)>0,VLOOKUP(B510,data!A$6:M$5000,2,FALSE),\"\")","v":""},{"$f":"IF(COUNTIF(data!A$6:A$5000,B510)>0,VLOOKUP(B510,data!A$6:M$5000,4,FALSE),\"\")","v":""},{"$f":"IF(COUNTIF(data!A$6:A$5000,B510)>0,VLOOKUP(B510,data!A$6:M$5000,11,FALSE),\"\")","v":""},{"$f":"IF(COUNTIF(data!A$6:A$5000,B510)>0,VLOOKUP(B510,data!A$6:M$5000,12,FALSE),\"\")","v":""},{"$f":"IF(COUNTIF(data!A$6:A$5000,B510)>0,VLOOKUP(B510,data!A$6:M$5000,13,FALSE),\"\")","v":""},{"$f":"IF(B510>0,SUM(F$10:F510)-SUM(G$10:G510),\"\")","v":""}]
[null,null,{"$f":"IF(COUNTIF(data!A$6:A$5000,B511)>0,VLOOKUP(B511,data!A$6:M$5000,2,FALSE),\"\")","v":""},{"$f":"IF(COUNTIF(data!A$6:A$5000,B511)>0,VLOOKUP(B511,data!A$6:M$5000,4,FALSE),\"\")","v":""},{"$f":"IF(COUNTIF(data!A$6:A$5000,B511)>0,VLOOKUP(B511,data!A$6:M$5000,11,FALSE),\"\")","v":""},{"$f":"IF(COUNTIF(data!A$6:A$5000,B511)>0,VLOOKUP(B511,data!A$6:M$5000,12,FALSE),\"\")","v":""},{"$f":"IF(COUNTIF(data!A$6:A$5000,B511)>0,VLOOKUP(B511,data!A$6:M$5000,13,FALSE),\"\")","v":""},{"$f":"IF(B511>0,SUM(F$10:F511)-SUM(G$10:G511),\"\")","v":""}]